{"text_format":"1","workbook":"xlsx","n_sheets":3,"sheets":["A","Interroga","StampaCarico"],"not_rendered":{"charts":0,"images":0,"macros":1,"external_links":0,"defined_names":3,"comments":0,"pivot_tables":0},"unopened":[],"bounds":{"document_bytes":16777216,"sheet_cells":100000,"rows_first":2000,"rows_last":500,"rows_between":2000,"halvings":0,"cell_chars":16384,"cell_head_chars":4096},"cells_cut":0,"cells_raw":0,"read":"whole","date_system":"1900"}

{"sheet":"A","index":0,"n_rows":2418,"n_cols":155,"rows_kept":1125,"cut":true,"hidden":false,"merged":[[4,47,4,48],[5,47,5,48],[3,47,3,48],[3,49,3,50],[4,49,4,50],[5,49,5,50],[61,112,63,151],[0,154,3,154],[4,154,7,154],[2,108,4,111],[2,112,4,151],[61,108,63,111],[2361,61,2364,78],[2364,6,2364,45],[2364,2,2364,5],[2362,4,2363,5],[2362,2,2363,3],[2071,74,2072,79],[2071,85,2071,86],[2071,83,2071,84],[2066,61,2069,78],[2069,6,2069,45],[2125,61,2128,78],[2128,6,2128,45],[2128,2,2128,5],[2126,4,2127,5],[2126,2,2127,3],[2083,14,2122,14],[2076,8,2115,8],[2097,15,2098,54],[2087,84,2088,86],[2087,79,2088,83],[2371,2,2373,2],[2371,74,2372,79],[2369,85,2369,86],[2369,83,2369,84],[2369,2,2369,5],[2368,85,2368,86],[2368,83,2368,84],[2367,85,2367,86],[2367,83,2367,84],[2366,74,2367,79],[2366,85,2366,86],[2366,83,2366,84],[2007,61,2010,78],[2010,6,2010,45],[2010,2,2010,5],[2008,4,2009,5],[2008,2,2009,3],[2069,2,2069,5],[2067,4,2068,5],[2067,2,2068,3],[2019,9,2019,48],[2017,2,2019,2],[2017,74,2018,79],[2015,85,2015,86],[2015,83,2015,84],[2015,2,2015,5],[2014,85,2014,86],[2014,83,2014,84],[2073,85,2073,86],[2073,83,2073,84],[2072,85,2072,86],[2072,83,2072,84],[2378,14,2417,14],[2371,8,2410,8],[2392,15,2393,54],[2382,84,2383,86],[2382,79,2383,83],[2380,84,2381,86],[2380,79,2381,83],[2380,15,2380,54],[2374,83,2377,86],[2366,81,2377,82],[2376,74,2377,79],[2376,9,2376,12],[2370,83,2373,86],[2373,9,2373,48],[2013,85,2013,86],[2013,83,2013,84],[2012,74,2013,79],[2012,85,2012,86],[2012,83,2012,84],[2024,14,2063,14],[2017,8,2056,8],[2038,15,2039,54],[2028,84,2029,86],[2028,79,2029,83],[2026,84,2027,86],[2026,79,2027,83],[2026,15,2026,54],[2020,83,2023,86],[2012,81,2023,82],[2022,74,2023,79],[2022,9,2022,12],[2016,83,2019,86],[2085,84,2086,86],[2085,79,2086,83],[2085,15,2085,54],[2079,83,2082,86],[2071,81,2082,82],[2081,74,2082,79],[2081,9,2081,12],[2075,83,2078,86],[2078,9,2078,48],[2076,2,2078,2],[2076,74,2077,79],[2074,85,2074,86],[2074,83,2074,84],[2074,2,2074,5],[2135,2,2137,2],[2135,74,2136,79],[2133,85,2133,86],[2133,83,2133,84],[2133,2,2133,5],[2132,85,2132,86],[2132,83,2132,84],[2131,85,2131,86],[2131,83,2131,84],[2130,74,2131,79],[2130,85,2130,86],[2130,83,2130,84],[2142,14,2181,14],[2135,8,2174,8],[2156,15,2157,54],[2146,84,2147,86],[2146,79,2147,83],[2144,84,2145,86],[2144,79,2145,83],[2144,15,2144,54],[2138,83,2141,86],[2130,81,2141,82],[2140,74,2141,79],[2140,9,2140,12],[2134,83,2137,86],[2137,9,2137,48],[2190,85,2190,86],[2190,83,2190,84],[2189,74,2190,79],[2189,85,2189,86],[2189,83,2189,84],[2184,61,2187,78],[2187,6,2187,45],[2187,2,2187,5],[2185,4,2186,5],[2185,2,2186,3],[2246,2,2246,5],[2244,4,2245,5],[2244,2,2245,3],[2201,14,2240,14],[2194,8,2233,8],[2215,15,2216,54],[2205,84,2206,86],[2205,79,2206,83],[2203,84,2204,86],[2203,79,2204,83],[2203,15,2203,54],[2197,83,2200,86],[2189,81,2200,82],[2199,74,2200,79],[2199,9,2199,12],[2193,83,2196,86],[2196,9,2196,48],[2194,2,2196,2],[2194,74,2195,79],[2192,85,2192,86],[2192,83,2192,84],[2192,2,2192,5],[2191,85,2191,86],[2191,83,2191,84],[2250,85,2250,86],[2250,83,2250,84],[2249,85,2249,86],[2249,83,2249,84],[2248,74,2249,79],[2248,85,2248,86],[2248,83,2248,84],[2243,61,2246,78],[2246,6,2246,45],[2302,61,2305,78],[2305,6,2305,45],[2305,2,2305,5],[2303,4,2304,5],[2303,2,2304,3],[2260,14,2299,14],[2253,8,2292,8],[2274,15,2275,54],[2264,84,2265,86],[2264,79,2265,83],[2262,84,2263,86],[2262,79,2263,83],[2262,15,2262,54],[2256,83,2259,86],[2248,81,2259,82],[2258,74,2259,79],[2258,9,2258,12],[2252,83,2255,86],[2255,9,2255,48],[2253,2,2255,2],[2253,74,2254,79],[2251,85,2251,86],[2251,83,2251,84],[2251,2,2251,5],[2312,2,2314,2],[2312,74,2313,79],[2310,85,2310,86],[2310,83,2310,84],[2310,2,2310,5],[2309,85,2309,86],[2309,83,2309,84],[2308,85,2308,86],[2308,83,2308,84],[2307,74,2308,79],[2307,85,2307,86],[2307,83,2307,84],[2319,14,2358,14],[2312,8,2351,8],[2333,15,2334,54],[2323,84,2324,86],[2323,79,2324,83],[2321,84,2322,86],[2321,79,2322,83],[2321,15,2321,54],[2315,83,2318,86],[2307,81,2318,82],[2317,74,2318,79],[2317,9,2317,12],[2311,83,2314,86],[2314,9,2314,48],[1659,85,1659,86],[1659,83,1659,84],[1658,74,1659,79],[1658,85,1658,86],[1658,83,1658,84],[1653,61,1656,78],[1656,6,1656,45],[1656,2,1656,5],[1654,4,1655,5],[1654,2,1655,3],[1715,2,1715,5],[1713,4,1714,5],[1713,2,1714,3],[1670,14,1709,14],[1663,8,1702,8],[1684,15,1685,54],[1674,84,1675,86],[1674,79,1675,83],[1672,84,1673,86],[1672,79,1673,83],[1672,15,1672,54],[1666,83,1669,86],[1658,81,1669,82],[1668,74,1669,79],[1668,9,1668,12],[1662,83,1665,86],[1665,9,1665,48],[1663,2,1665,2],[1663,74,1664,79],[1661,85,1661,86],[1661,83,1661,84],[1661,2,1661,5],[1660,85,1660,86],[1660,83,1660,84],[1719,85,1719,86],[1719,83,1719,84],[1718,85,1718,86],[1718,83,1718,84],[1717,74,1718,79],[1717,85,1717,86],[1717,83,1717,84],[1712,61,1715,78],[1715,6,1715,45],[1771,61,1774,78],[1774,6,1774,45],[1774,2,1774,5],[1772,4,1773,5],[1772,2,1773,3],[1729,14,1768,14],[1722,8,1761,8],[1743,15,1744,54],[1733,84,1734,86],[1733,79,1734,83],[1731,84,1732,86],[1731,79,1732,83],[1731,15,1731,54],[1725,83,1728,86],[1717,81,1728,82],[1727,74,1728,79],[1727,9,1727,12],[1721,83,1724,86],[1724,9,1724,48],[1722,2,1724,2],[1722,74,1723,79],[1720,85,1720,86],[1720,83,1720,84],[1720,2,1720,5],[1781,2,1783,2],[1781,74,1782,79],[1779,85,1779,86],[1779,83,1779,84],[1779,2,1779,5],[1778,85,1778,86],[1778,83,1778,84],[1777,85,1777,86],[1777,83,1777,84],[1776,74,1777,79],[1776,85,1776,86],[1776,83,1776,84],[1788,14,1827,14],[1781,8,1820,8],[1802,15,1803,54],[1792,84,1793,86],[1792,79,1793,83],[1790,84,1791,86],[1790,79,1791,83],[1790,15,1790,54],[1784,83,1787,86],[1776,81,1787,82],[1786,74,1787,79],[1786,9,1786,12],[1780,83,1783,86],[1783,9,1783,48],[1836,85,1836,86],[1836,83,1836,84],[1835,74,1836,79],[1835,85,1835,86],[1835,83,1835,84],[1830,61,1833,78],[1833,6,1833,45],[1833,2,1833,5],[1831,4,1832,5],[1831,2,1832,3],[1892,2,1892,5],[1890,4,1891,5],[1890,2,1891,3],[1847,14,1886,14],[1840,8,1879,8],[1861,15,1862,54],[1851,84,1852,86],[1851,79,1852,83],[1849,84,1850,86],[1849,79,1850,83],[1849,15,1849,54],[1843,83,1846,86],[1835,81,1846,82],[1845,74,1846,79],[1845,9,1845,12],[1839,83,1842,86],[1842,9,1842,48],[1840,2,1842,2],[1840,74,1841,79],[1838,85,1838,86],[1838,83,1838,84],[1838,2,1838,5],[1837,85,1837,86],[1837,83,1837,84],[1896,85,1896,86],[1896,83,1896,84],[1895,85,1895,86],[1895,83,1895,84],[1894,74,1895,79],[1894,85,1894,86],[1894,83,1894,84],[1889,61,1892,78],[1892,6,1892,45],[1948,61,1951,78],[1951,6,1951,45],[1951,2,1951,5],[1949,4,1950,5],[1949,2,1950,3],[1906,14,1945,14],[1899,8,1938,8],[1920,15,1921,54],[1910,84,1911,86],[1910,79,1911,83],[1908,84,1909,86],[1908,79,1909,83],[1908,15,1908,54],[1902,83,1905,86],[1894,81,1905,82],[1904,74,1905,79],[1904,9,1904,12],[1898,83,1901,86],[1901,9,1901,48],[1899,2,1901,2],[1899,74,1900,79],[1897,85,1897,86],[1897,83,1897,84],[1897,2,1897,5],[1958,2,1960,2],[1958,74,1959,79],[1956,85,1956,86],[1956,83,1956,84],[1956,2,1956,5],[1955,85,1955,86],[1955,83,1955,84],[1954,85,1954,86],[1954,83,1954,84],[1953,74,1954,79],[1953,85,1953,86],[1953,83,1953,84],[1965,14,2004,14],[1958,8,1997,8],[1979,15,1980,54],[1969,84,1970,86],[1969,79,1970,83],[1967,84,1968,86],[1967,79,1968,83],[1967,15,1967,54],[1961,83,1964,86],[1953,81,1964,82],[1963,74,1964,79],[1963,9,1963,12],[1957,83,1960,86],[1960,9,1960,48],[1305,85,1305,86],[1305,83,1305,84],[1304,74,1305,79],[1304,85,1304,86],[1304,83,1304,84],[1299,61,1302,78],[1302,6,1302,45],[1302,2,1302,5],[1300,4,1301,5],[1300,2,1301,3],[1361,2,1361,5],[1359,4,1360,5],[1359,2,1360,3],[1316,14,1355,14],[1309,8,1348,8],[1330,15,1331,54],[1320,84,1321,86],[1320,79,1321,83],[1318,84,1319,86],[1318,79,1319,83],[1318,15,1318,54],[1312,83,1315,86],[1304,81,1315,82],[1314,74,1315,79],[1314,9,1314,12],[1308,83,1311,86],[1311,9,1311,48],[1309,2,1311,2],[1309,74,1310,79],[1307,85,1307,86],[1307,83,1307,84],[1307,2,1307,5],[1306,85,1306,86],[1306,83,1306,84],[1365,85,1365,86],[1365,83,1365,84],[1364,85,1364,86],[1364,83,1364,84],[1363,74,1364,79],[1363,85,1363,86],[1363,83,1363,84],[1358,61,1361,78],[1361,6,1361,45],[1417,61,1420,78],[1420,6,1420,45],[1420,2,1420,5],[1418,4,1419,5],[1418,2,1419,3],[1375,14,1414,14],[1368,8,1407,8],[1389,15,1390,54],[1379,84,1380,86],[1379,79,1380,83],[1377,84,1378,86],[1377,79,1378,83],[1377,15,1377,54],[1371,83,1374,86],[1363,81,1374,82],[1373,74,1374,79],[1373,9,1373,12],[1367,83,1370,86],[1370,9,1370,48],[1368,2,1370,2],[1368,74,1369,79],[1366,85,1366,86],[1366,83,1366,84],[1366,2,1366,5],[1427,2,1429,2],[1427,74,1428,79],[1425,85,1425,86],[1425,83,1425,84],[1425,2,1425,5],[1424,85,1424,86],[1424,83,1424,84],[1423,85,1423,86],[1423,83,1423,84],[1422,74,1423,79],[1422,85,1422,86],[1422,83,1422,84],[1434,14,1473,14],[1427,8,1466,8],[1448,15,1449,54],[1438,84,1439,86],[1438,79,1439,83],[1436,84,1437,86],[1436,79,1437,83],[1436,15,1436,54],[1430,83,1433,86],[1422,81,1433,82],[1432,74,1433,79],[1432,9,1432,12],[1426,83,1429,86],[1429,9,1429,48],[1482,85,1482,86],[1482,83,1482,84],[1481,74,1482,79],[1481,85,1481,86],[1481,83,1481,84],[1476,61,1479,78],[1479,6,1479,45],[1479,2,1479,5],[1477,4,1478,5],[1477,2,1478,3],[1538,2,1538,5],[1536,4,1537,5],[1536,2,1537,3],[1493,14,1532,14],[1486,8,1525,8],[1507,15,1508,54],[1497,84,1498,86],[1497,79,1498,83],[1495,84,1496,86],[1495,79,1496,83],[1495,15,1495,54],[1489,83,1492,86],[1481,81,1492,82],[1491,74,1492,79],[1491,9,1491,12],[1485,83,1488,86],[1488,9,1488,48],[1486,2,1488,2],[1486,74,1487,79],[1484,85,1484,86],[1484,83,1484,84],[1484,2,1484,5],[1483,85,1483,86],[1483,83,1483,84],[1542,85,1542,86],[1542,83,1542,84],[1541,85,1541,86],[1541,83,1541,84],[1540,74,1541,79],[1540,85,1540,86],[1540,83,1540,84],[1535,61,1538,78],[1538,6,1538,45],[1594,61,1597,78],[1597,6,1597,45],[1597,2,1597,5],[1595,4,1596,5],[1595,2,1596,3],[1552,14,1591,14],[1545,8,1584,8],[1566,15,1567,54],[1556,84,1557,86],[1556,79,1557,83],[1554,84,1555,86],[1554,79,1555,83],[1554,15,1554,54],[1548,83,1551,86],[1540,81,1551,82],[1550,74,1551,79],[1550,9,1550,12],[1544,83,1547,86],[1547,9,1547,48],[1545,2,1547,2],[1545,74,1546,79],[1543,85,1543,86],[1543,83,1543,84],[1543,2,1543,5],[1604,2,1606,2],[1604,74,1605,79],[1602,85,1602,86],[1602,83,1602,84],[1602,2,1602,5],[1601,85,1601,86],[1601,83,1601,84],[1600,85,1600,86],[1600,83,1600,84],[1599,74,1600,79],[1599,85,1599,86],[1599,83,1599,84],[1611,14,1650,14],[1604,8,1643,8],[1625,15,1626,54],[1615,84,1616,86],[1615,79,1616,83],[1613,84,1614,86],[1613,79,1614,83],[1613,15,1613,54],[1607,83,1610,86],[1599,81,1610,82],[1609,74,1610,79],[1609,9,1609,12],[1603,83,1606,86],[1606,9,1606,48],[951,85,951,86],[951,83,951,84],[950,74,951,79],[950,85,950,86],[950,83,950,84],[945,61,948,78],[948,6,948,45],[946,4,947,5],[946,2,947,3],[1007,2,1007,5],[1005,4,1006,5],[1005,2,1006,3],[962,14,1001,14],[955,8,994,8],[976,15,977,54],[966,84,967,86],[966,79,967,83],[964,84,965,86],[964,79,965,83],[964,15,964,54],[958,83,961,86],[950,81,961,82],[960,74,961,79],[960,9,960,12],[954,83,957,86],[957,9,957,48],[955,2,957,2],[955,74,956,79],[953,85,953,86],[953,83,953,84],[953,2,953,5],[952,85,952,86],[952,83,952,84],[1014,2,1016,2],[1014,74,1015,79],[1012,85,1012,86],[1012,83,1012,84],[1012,2,1012,5],[1011,85,1011,86],[1011,83,1011,84],[1010,85,1010,86],[1010,83,1010,84],[1009,74,1010,79],[1009,85,1009,86],[1009,83,1009,84],[1014,8,1053,8],[1035,15,1036,54],[1025,84,1026,86],[1025,79,1026,83],[1023,84,1024,86],[1023,79,1024,83],[1023,15,1023,54],[1017,83,1020,86],[1009,81,1020,82],[1019,74,1020,79],[1019,9,1019,12],[1013,83,1016,86],[1016,9,1016,48],[1084,84,1085,86],[1084,79,1085,83],[1082,84,1083,86],[1082,79,1083,83],[1082,15,1082,54],[1076,83,1079,86],[1068,81,1079,82],[1078,74,1079,79],[1078,9,1078,12],[1072,83,1075,86],[1075,9,1075,48],[1073,74,1074,79],[1071,85,1071,86],[1071,83,1071,84],[1070,85,1070,86],[1070,83,1070,84],[1069,85,1069,86],[1069,83,1069,84],[1068,74,1069,79],[1068,85,1068,86],[1068,83,1068,84],[1129,85,1129,86],[1129,83,1129,84],[1128,85,1128,86],[1128,83,1128,84],[1127,74,1128,79],[1127,85,1127,86],[1127,83,1127,84],[1122,61,1125,78],[1125,6,1125,45],[1181,61,1184,78],[1184,6,1184,45],[1184,2,1184,5],[1182,4,1183,5],[1182,2,1183,3],[1139,14,1178,14],[1132,8,1171,8],[1153,15,1154,54],[1143,84,1144,86],[1143,79,1144,83],[1141,84,1142,86],[1141,79,1142,83],[1141,15,1141,54],[1135,83,1138,86],[1127,81,1138,82],[1137,74,1138,79],[1137,9,1137,12],[1131,83,1134,86],[1134,9,1134,48],[1132,2,1134,2],[1132,74,1133,79],[1130,85,1130,86],[1130,83,1130,84],[1130,2,1130,5],[1191,2,1193,2],[1191,74,1192,79],[1189,85,1189,86],[1189,83,1189,84],[1189,2,1189,5],[1188,85,1188,86],[1188,83,1188,84],[1187,85,1187,86],[1187,83,1187,84],[1186,74,1187,79],[1186,85,1186,86],[1186,83,1186,84],[1198,14,1237,14],[1191,8,1230,8],[1212,15,1213,54],[1202,84,1203,86],[1202,79,1203,83],[1200,84,1201,86],[1200,79,1201,83],[1200,15,1200,54],[1194,83,1197,86],[1186,81,1197,82],[1196,74,1197,79],[1196,9,1196,12],[1190,83,1193,86],[1193,9,1193,48],[1246,85,1246,86],[1246,83,1246,84],[1245,74,1246,79],[1245,85,1245,86],[1245,83,1245,84],[1240,61,1243,78],[1243,6,1243,45],[1243,2,1243,5],[1241,4,1242,5],[1241,2,1242,3],[594,2,594,5],[592,4,593,5],[592,2,593,3],[1257,14,1296,14],[1250,8,1289,8],[1271,15,1272,54],[1261,84,1262,86],[1261,79,1262,83],[1259,84,1260,86],[1259,79,1260,83],[1259,15,1259,54],[1253,83,1256,86],[1245,81,1256,82],[1255,74,1256,79],[1255,9,1255,12],[1249,83,1252,86],[1252,9,1252,48],[1250,2,1252,2],[1250,74,1251,79],[1248,85,1248,86],[1248,83,1248,84],[1248,2,1248,5],[1247,85,1247,86],[1247,83,1247,84],[612,84,613,86],[612,79,613,83],[610,84,611,86],[610,79,611,83],[610,15,610,54],[604,83,607,86],[596,81,607,82],[606,74,607,79],[606,9,606,12],[600,83,603,86],[603,9,603,48],[601,74,602,79],[599,85,599,86],[599,83,599,84],[598,85,598,86],[598,83,598,84],[597,85,597,86],[597,83,597,84],[596,74,597,79],[596,85,596,86],[596,83,596,84],[671,84,672,86],[671,79,672,83],[669,84,670,86],[669,79,670,83],[669,15,669,54],[663,83,666,86],[655,81,666,82],[665,74,666,79],[665,9,665,12],[659,83,662,86],[662,9,662,48],[660,74,661,79],[658,85,658,86],[658,83,658,84],[657,85,657,86],[657,83,657,84],[656,85,656,86],[656,83,656,84],[655,74,656,79],[655,85,655,86],[655,83,655,84],[730,84,731,86],[730,79,731,83],[728,84,729,86],[728,79,729,83],[728,15,728,54],[722,83,725,86],[714,81,725,82],[724,74,725,79],[724,9,724,12],[718,83,721,86],[721,9,721,48],[719,74,720,79],[717,85,717,86],[717,83,717,84],[716,85,716,86],[716,83,716,84],[715,85,715,86],[715,83,715,84],[714,74,715,79],[714,85,714,86],[714,83,714,84],[789,84,790,86],[789,79,790,83],[787,84,788,86],[787,79,788,83],[787,15,787,54],[781,83,784,86],[773,81,784,82],[783,74,784,79],[783,9,783,12],[777,83,780,86],[780,9,780,48],[778,74,779,79],[776,85,776,86],[776,83,776,84],[775,85,775,86],[775,83,775,84],[774,85,774,86],[774,83,774,84],[773,74,774,79],[773,85,773,86],[773,83,773,84],[726,14,765,14],[848,84,849,86],[848,79,849,83],[846,84,847,86],[846,79,847,83],[846,15,846,54],[840,83,843,86],[832,81,843,82],[842,74,843,79],[842,9,842,12],[836,83,839,86],[839,9,839,48],[837,74,838,79],[835,85,835,86],[835,83,835,84],[834,85,834,86],[834,83,834,84],[833,85,833,86],[833,83,833,84],[832,74,833,79],[832,85,832,86],[832,83,832,84],[844,14,883,14],[893,85,893,86],[893,83,893,84],[892,85,892,86],[892,83,892,84],[891,74,892,79],[891,85,891,86],[891,83,891,84],[886,61,889,78],[889,6,889,45],[889,2,889,5],[887,4,888,5],[887,2,888,3],[907,84,908,86],[907,79,908,83],[905,84,906,86],[905,79,906,83],[905,15,905,54],[899,83,902,86],[891,81,902,82],[901,74,902,79],[901,9,901,12],[895,83,898,86],[898,9,898,48],[896,74,897,79],[894,85,894,86],[894,83,894,84],[903,14,942,14],[896,8,935,8],[917,15,918,54],[896,2,898,2],[553,84,554,86],[553,79,554,83],[551,84,552,86],[551,79,552,83],[551,15,551,54],[545,83,548,86],[537,81,548,82],[547,74,548,79],[547,9,547,12],[541,83,544,86],[544,9,544,48],[542,74,543,79],[540,85,540,86],[540,83,540,84],[539,85,539,86],[539,83,539,84],[538,85,538,86],[538,83,538,84],[537,74,538,79],[537,85,537,86],[537,83,537,84],[494,84,495,86],[494,79,495,83],[492,84,493,86],[492,79,493,83],[492,15,492,54],[486,83,489,86],[478,81,489,82],[488,74,489,79],[488,9,488,12],[482,83,485,86],[485,9,485,48],[483,74,484,79],[481,85,481,86],[481,83,481,84],[480,85,480,86],[480,83,480,84],[479,85,479,86],[479,83,479,84],[478,74,479,79],[478,85,478,86],[478,83,478,84],[355,61,358,78],[358,6,358,45],[358,2,358,5],[356,4,357,5],[356,2,357,3],[431,14,470,14],[424,8,463,8],[445,15,446,54],[435,84,436,86],[435,79,436,83],[433,84,434,86],[433,79,434,83],[433,15,433,54],[427,83,430,86],[419,81,430,82],[429,74,430,79],[429,9,429,12],[423,83,426,86],[426,9,426,48],[424,2,426,2],[424,74,425,79],[422,85,422,86],[422,83,422,84],[422,2,422,5],[365,2,367,2],[365,74,366,79],[363,85,363,86],[363,83,363,84],[363,2,363,5],[362,85,362,86],[362,83,362,84],[361,85,361,86],[361,83,361,84],[360,74,361,79],[360,85,360,86],[360,83,360,84],[376,84,377,86],[376,79,377,83],[374,84,375,86],[374,79,375,83],[374,15,374,54],[368,83,371,86],[360,81,371,82],[370,74,371,79],[370,9,370,12],[364,83,367,86],[367,9,367,48],[421,85,421,86]],"bounds":{"rows_first":500,"rows_last":125,"rows_between":500,"halvings":2},"merged_total":1264,"flags":["merged_cut"]}
[]
[null,null,null,null,null,null,null,null,null,null,null,null,null,null,null,null,null,null,null,null,null,null,null,null,null,null,null,null,null,null,null,null,null,null,null,null,null,null,null,null,null,null,null,null,null,null,null,null,null,null,null,null,null,null,null,null,null,null,null,null,null,"BLOCCHI CHE SUPERANO IL PESO MASSIMO CONSENTITO NEL TRASPORTO DEVONO ESSERE TAGLIATI",null,null,null,null,null,null,null,null,null,null,null,null,null,null,null,null,null,null,null,null,null,null,null,null,null,null,null,null,null,null,null,null,null,null,null,null,null,null,null,null,null,null,null,null,null,1]
[null,null,null,null,null,"max Portata TIR",null,null,{"$f":"Interroga!J4","v":200},null,{"$f":"Interroga!K4","v":0},"% più carico accettata",null,null,null,{"$f":"I3*K3+I3","v":200},null,null,null,null,null,null,null,null,null,null,null,null,null,null,null,null,null,null,null,null,null,null,null,null,null,null,null,null,null,null,null,null,null,null,null,null,null,null,null,null,null,null,null,null,null,null,null,null,null,null,null,null,null,null,null,null,null,null,null,null,null,null,null,null,null,null,null,null,null,null,null,null,null,null,null,null,null,null,null,null,null,null,null,null,null,null,null,null,null,null,null,2,"PESO BLOCCO",null,null,null,"CONTROLLO PER EVITARE CHE VI SIANO BLOCCHI CON LO STESSO CON LO STESSO PESO"]
[null,null,null,null,null,null,1,2,3,4,5,6,7,8,9,10,11,12,13,14,15,16,17,18,19,20,21,22,23,24,25,26,27,28,29,30,31,32,33,34,35,36,37,38,39,40,null,"peso",null,"peso",null,null,null,null,null,null,null,null,null,null,null,null,null,null,null,null,null,null,null,null,null,null,null,null,null,null,null,null,null,null,null,null,null,null,null,null,null,null,null,null,null,null,null,null,null,null,null,null,null,null,null,null,null,null,null,null,null,3]
[null,null,null,null,null,null,{"$f":"IF(Interroga!H7=\"\",\"\",Interroga!H7)","v":"1"},{"$f":"IF(Interroga!I7=\"\",\"\",Interroga!I7)","v":"2"},{"$f":"IF(Interroga!J7=\"\",\"\",Interroga!J7)","v":"3"},{"$f":"IF(Interroga!K7=\"\",\"\",Interroga!K7)","v":"4"},{"$f":"IF(Interroga!L7=\"\",\"\",Interroga!L7)","v":"5"},{"$f":"IF(Interroga!M7=\"\",\"\",Interroga!M7)","v":""},{"$f":"IF(Interroga!N7=\"\",\"\",Interroga!N7)","v":""},{"$f":"IF(Interroga!O7=\"\",\"\",Interroga!O7)","v":""},{"$f":"IF(Interroga!P7=\"\",\"\",Interroga!P7)","v":""},{"$f":"IF(Interroga!Q7=\"\",\"\",Interroga!Q7)","v":""},{"$f":"IF(Interroga!R7=\"\",\"\",Interroga!R7)","v":""},{"$f":"IF(Interroga!S7=\"\",\"\",Interroga!S7)","v":""},{"$f":"IF(Interroga!T7=\"\",\"\",Interroga!T7)","v":""},{"$f":"IF(Interroga!U7=\"\",\"\",Interroga!U7)","v":""},{"$f":"IF(Interroga!V7=\"\",\"\",Interroga!V7)","v":""},{"$f":"IF(Interroga!W7=\"\",\"\",Interroga!W7)","v":""},{"$f":"IF(Interroga!X7=\"\",\"\",Interroga!X7)","v":""},{"$f":"IF(Interroga!Y7=\"\",\"\",Interroga!Y7)","v":""},{"$f":"IF(Interroga!Z7=\"\",\"\",Interroga!Z7)","v":""},{"$f":"IF(Interroga!AA7=\"\",\"\",Interroga!AA7)","v":""},{"$f":"IF(Interroga!H11=\"\",\"\",Interroga!H11)","v":""},{"$f":"IF(Interroga!I11=\"\",\"\",Interroga!I11)","v":""},{"$f":"IF(Interroga!J11=\"\",\"\",Interroga!J11)","v":""},{"$f":"IF(Interroga!K11=\"\",\"\",Interroga!K11)","v":""},{"$f":"IF(Interroga!L11=\"\",\"\",Interroga!L11)","v":""},{"$f":"IF(Interroga!M11=\"\",\"\",Interroga!M11)","v":""},{"$f":"IF(Interroga!N11=\"\",\"\",Interroga!N11)","v":""},{"$f":"IF(Interroga!O11=\"\",\"\",Interroga!O11)","v":""},{"$f":"IF(Interroga!P11=\"\",\"\",Interroga!P11)","v":""},{"$f":"IF(Interroga!Q11=\"\",\"\",Interroga!Q11)","v":""},{"$f":"IF(Interroga!R11=\"\",\"\",Interroga!R11)","v":""},{"$f":"IF(Interroga!S11=\"\",\"\",Interroga!S11)","v":""},{"$f":"IF(Interroga!T11=\"\",\"\",Interroga!T11)","v":""},{"$f":"IF(Interroga!U11=\"\",\"\",Interroga!U11)","v":""},{"$f":"IF(Interroga!V11=\"\",\"\",Interroga!V11)","v":""},{"$f":"IF(Interroga!W11=\"\",\"\",Interroga!W11)","v":""},{"$f":"IF(Interroga!X11=\"\",\"\",Interroga!X11)","v":""},{"$f":"IF(Interroga!Y11=\"\",\"\",Interroga!Y11)","v":""},{"$f":"IF(Interroga!Z11=\"\",\"\",Interroga!Z11)","v":""},{"$f":"IF(Interroga!AA11=\"\",\"\",Interroga!AA11)","v":""},null,"min",null,"max",null,null,null,null,null,null,null,null,null,null,null,null,null,null,null,null,null,null,null,null,null,null,null,null,null,null,null,null,null,null,null,null,null,null,null,null,null,null,null,null,null,null,null,null,null,null,null,null,null,null,null,null,null,null,null,null,null,4,null,null,null,null,null,null,null,null,null,null,null,null,null,null,null,null,null,null,null,null,null,null,null,null,null,null,null,null,null,null,null,null,null,null,null,null,null,null,null,null,null,null,null,null,null,null,"CIRENAICA            MANTOVANO2"]
[null,null,null,null,null,null,{"$f":"IF(Interroga!H8=\"\",\"\",Interroga!H8)","v":100},{"$f":"IF(Interroga!I8=\"\",\"\",Interroga!I8)","v":70},{"$f":"IF(Interroga!J8=\"\",\"\",Interroga!J8)","v":20.100000000000001},{"$f":"IF(Interroga!K8=\"\",\"\",Interroga!K8)","v":220},{"$f":"IF(Interroga!L8=\"\",\"\",Interroga!L8)","v":20},{"$f":"IF(Interroga!M8=\"\",\"\",Interroga!M8)","v":""},{"$f":"IF(Interroga!N8=\"\",\"\",Interroga!N8)","v":""},{"$f":"IF(Interroga!O8=\"\",\"\",Interroga!O8)","v":""},{"$f":"IF(Interroga!P8=\"\",\"\",Interroga!P8)","v":""},{"$f":"IF(Interroga!Q8=\"\",\"\",Interroga!Q8)","v":""},{"$f":"IF(Interroga!R8=\"\",\"\",Interroga!R8)","v":""},{"$f":"IF(Interroga!S8=\"\",\"\",Interroga!S8)","v":""},{"$f":"IF(Interroga!T8=\"\",\"\",Interroga!T8)","v":""},{"$f":"IF(Interroga!U8=\"\",\"\",Interroga!U8)","v":""},{"$f":"IF(Interroga!V8=\"\",\"\",Interroga!V8)","v":""},{"$f":"IF(Interroga!W8=\"\",\"\",Interroga!W8)","v":""},{"$f":"IF(Interroga!X8=\"\",\"\",Interroga!X8)","v":""},{"$f":"IF(Interroga!Y8=\"\",\"\",Interroga!Y8)","v":""},{"$f":"IF(Interroga!Z8=\"\",\"\",Interroga!Z8)","v":""},{"$f":"IF(Interroga!AA8=\"\",\"\",Interroga!AA8)","v":""},{"$f":"IF(Interroga!H12=\"\",\"\",Interroga!H12)","v":""},{"$f":"IF(Interroga!I12=\"\",\"\",Interroga!I12)","v":""},{"$f":"IF(Interroga!J12=\"\",\"\",Interroga!J12)","v":""},{"$f":"IF(Interroga!K12=\"\",\"\",Interroga!K12)","v":""},{"$f":"IF(Interroga!L12=\"\",\"\",Interroga!L12)","v":""},{"$f":"IF(Interroga!M12=\"\",\"\",Interroga!M12)","v":""},{"$f":"IF(Interroga!N12=\"\",\"\",Interroga!N12)","v":""},{"$f":"IF(Interroga!O12=\"\",\"\",Interroga!O12)","v":""},{"$f":"IF(Interroga!P12=\"\",\"\",Interroga!P12)","v":""},{"$f":"IF(Interroga!Q12=\"\",\"\",Interroga!Q12)","v":""},{"$f":"IF(Interroga!R12=\"\",\"\",Interroga!R12)","v":""},{"$f":"IF(Interroga!S12=\"\",\"\",Interroga!S12)","v":""},{"$f":"IF(Interroga!T12=\"\",\"\",Interroga!T12)","v":""},{"$f":"IF(Interroga!U12=\"\",\"\",Interroga!U12)","v":""},{"$f":"IF(Interroga!V12=\"\",\"\",Interroga!V12)","v":""},{"$f":"IF(Interroga!W12=\"\",\"\",Interroga!W12)","v":""},{"$f":"IF(Interroga!X12=\"\",\"\",Interroga!X12)","v":""},{"$f":"IF(Interroga!Y12=\"\",\"\",Interroga!Y12)","v":""},{"$f":"IF(Interroga!Z12=\"\",\"\",Interroga!Z12)","v":""},{"$f":"IF(Interroga!AA12=\"\",\"\",Interroga!AA12)","v":""},null,{"$f":"MIN(G6:AT6)","v":20},null,{"$f":"MAX(G6:AT6)","v":220},null,null,null,null,null,null,null,null,null,null,null,null,null,null,null,null,null,null,null,null,null,null,null,null,null,null,null,null,null,null,null,null,null,null,null,null,null,null,null,null,null,null,null,null,null,null,null,null,null,null,null,null,null,null,null,null,null,5,null,null,null,null,{"$f":"G4","v":1},{"$f":"H4","v":2},3,4,5,6,7,8,9,10,11,12,13,14,15,16,{"$f":"W4","v":17},{"$f":"X4","v":18},19,{"$f":"Z4","v":20},21,22,23,24,25,26,27,28,29,{"$f":"AJ4","v":30},31,32,33,34,35,36,37,38,39,{"$f":"AT4","v":40}]
[null,null,null,null,null,null,null,null,null,null,null,1,2,3,4,5,6,7,8,9,10,11,12,13,14,15,16,17,18,19,20,21,22,23,24,25,26,27,28,29,30,31,32,33,34,35,36,37,38,39,40,null,null,null,null,null,null,null,null,null,null,{"$f":"L8","v":220},{"$f":"M8","v":0},0,0,{"$f":"P8","v":0},{"$f":"Q8","v":0},{"$f":"R8","v":0},{"$f":"S8","v":0},{"$f":"T8","v":0},{"$f":"U8","v":0},{"$f":"V8","v":0},{"$f":"W8","v":0},0,{"$f":"Y8","v":0},{"$f":"Z8","v":0},{"$f":"AA8","v":0},{"$f":"AB8","v":0},{"$f":"AC8","v":0},{"$f":"AD8","v":0},0,{"$f":"AF8","v":0},{"$f":"AG8","v":0},{"$f":"AH8","v":0},{"$f":"AI8","v":0},{"$f":"AJ8","v":0},{"$f":"AK8","v":0},{"$f":"AL8","v":0},{"$f":"AM8","v":0},{"$f":"AN8","v":0},{"$f":"AO8","v":0},{"$f":"AP8","v":0},{"$f":"AQ8","v":0},{"$f":"AR8","v":0},{"$f":"AS8","v":0},{"$f":"AT8","v":0},{"$f":"AU8","v":0},{"$f":"AV8","v":0},{"$f":"AW8","v":0},{"$f":"AX8","v":0},{"$f":"AY8","v":0},1,"BLOCCHI DA TAGLIARE",null,null,null,null,6,null,null,null,null,{"$f":"G5","v":"1"},{"$f":"H5","v":"2"},"3","4","5","","","","","","","","","","","",{"$f":"W5","v":""},{"$f":"X5","v":""},{"$f":"Y5","v":""},"","","","","","","","","","","","","","","","","","","","",""]
[null,null,null,null,null,null,null,null,null,null,null,{"$f":"MAX(K9:K48)","v":220},{"$f":"MAX(L9:L48)","v":0},0,0,0,0,0,0,0,0,0,0,0,0,0,0,0,0,0,0,0,0,0,0,0,0,0,0,0,0,0,0,0,0,0,0,0,0,0,0,null,null,null,null,null,null,null,null,null,null,{"$f":"BJ9&BJ10&BJ11&BJ12&BJ13&BJ14&BJ15&BJ16&BJ17&BJ18&BJ19&BJ20&BJ21&BJ22&BJ23&BJ24&BJ25&BJ26&BJ27&BJ28&BJ29&BJ30&BJ31&BJ32&BJ33&BJ34&BJ35&BJ36&BJ37&BJ38&BJ39&BJ40&BJ41&BJ42&BJ43&BJ44&BJ45&BJ46&BJ47&BJ48","v":"4"},{"$f":"BK9&BK10&BK11&BK12&BK13&BK14&BK15&BK16&BK17&BK18&BK19&BK20&BK21&BK22&BK23&BK24&BK25&BK26&BK27&BK28&BK29&BK30&BK31&BK32&BK33&BK34&BK35&BK36&BK37&BK38&BK39&BK40&BK41&BK42&BK43&BK44&BK45&BK46&BK47&BK48","v":""},"","","","","","","","","","","","","","","","","","","","","","","","","","","","","","","","","","","","","",{"$f":"CW9&CW10&CW11&CW12&CW13&CW14&CW15&CW16&CW17&CW18&CW19&CW20&CW21&CW22&CW23&CW24&CW25&CW26&CW27&CW28&CW29&CW30&CW31&CW32&CW33&CW34&CW35&CW36&CW37&CW38&CW39&CW40&CW41&CW42&CW43&CW44&CW45&CW46&CW47&CW48","v":""},2,"Quintali","N° Blocco",null,null,null,7,null,"PESO",null,null,{"$f":"G6","v":100},70,20.100000000000001,220,20,"","","","","","","","","","","",{"$f":"W6","v":""},{"$f":"X6","v":""},{"$f":"Y6","v":""},"","","","","","","","","","","","","","","","","","","","",""]
[null,null,"Portata                Max.               TIR",1,null,null,{"$f":"G6","v":100},{"$f":"IF(G9>$P$3,\"X\",\"\")","v":""},{"$f":"G5","v":"1"},{"$f":"IF(H9=\"\",I9,\"\")","v":"1"},{"$f":"IF(H9=\"x\",G9,\"\")","v":""},{"$f":"IF(K9=L$8,\"\",K9)","v":""},{"$f":"IF(L9=M$8,\"\",L9)","v":""},{"$f":"IF(M9=N$8,\"\",M9)","v":""},{"$f":"IF(N9=O$8,\"\",N9)","v":""},{"$f":"IF(O9=P$8,\"\",O9)","v":""},"","","","","",{"$f":"IF(U9=V$8,\"\",U9)","v":""},{"$f":"IF(V9=W$8,\"\",V9)","v":""},{"$f":"IF(W9=X$8,\"\",W9)","v":""},{"$f":"IF(X9=Y$8,\"\",X9)","v":""},{"$f":"IF(Y9=Z$8,\"\",Y9)","v":""},{"$f":"IF(Z9=AA$8,\"\",Z9)","v":""},{"$f":"IF(AA9=AB$8,\"\",AA9)","v":""},{"$f":"IF(AB9=AC$8,\"\",AB9)","v":""},{"$f":"IF(AC9=AD$8,\"\",AC9)","v":""},{"$f":"IF(AD9=AE$8,\"\",AD9)","v":""},{"$f":"IF(AE9=AF$8,\"\",AE9)","v":""},{"$f":"IF(AF9=AG$8,\"\",AF9)","v":""},{"$f":"IF(AG9=AH$8,\"\",AG9)","v":""},{"$f":"IF(AH9=AI$8,\"\",AH9)","v":""},{"$f":"IF(AI9=AJ$8,\"\",AI9)","v":""},{"$f":"IF(AJ9=AK$8,\"\",AJ9)","v":""},{"$f":"IF(AK9=AL$8,\"\",AK9)","v":""},{"$f":"IF(AL9=AM$8,\"\",AL9)","v":""},{"$f":"IF(AM9=AN$8,\"\",AM9)","v":""},{"$f":"IF(AN9=AO$8,\"\",AN9)","v":""},{"$f":"IF(AO9=AP$8,\"\",AO9)","v":""},{"$f":"IF(AP9=AQ$8,\"\",AP9)","v":""},{"$f":"IF(AQ9=AR$8,\"\",AQ9)","v":""},{"$f":"IF(AR9=AS$8,\"\",AR9)","v":""},{"$f":"IF(AS9=AT$8,\"\",AS9)","v":""},{"$f":"IF(AT9=AU$8,\"\",AT9)","v":""},{"$f":"IF(AU9=AV$8,\"\",AU9)","v":""},{"$f":"IF(AV9=AW$8,\"\",AV9)","v":""},{"$f":"IF(AW9=AX$8,\"\",AW9)","v":""},{"$f":"IF(AX9=AY$8,\"\",AX9)","v":""},null,null,null,null,null,null,null,null,null,null,{"$f":"IF(K9=BJ$7,$I9,\"\")","v":""},{"$f":"IF(L9=BK$7,$I9,\"\")","v":""},{"$f":"IF(M9=BL$7,$I9,\"\")","v":""},{"$f":"IF(N9=BM$7,$I9,\"\")","v":""},{"$f":"IF(O9=BN$7,$I9,\"\")","v":""},{"$f":"IF(P9=BO$7,$I9,\"\")","v":""},{"$f":"IF(Q9=BP$7,$I9,\"\")","v":""},{"$f":"IF(R9=BQ$7,$I9,\"\")","v":""},{"$f":"IF(S9=BR$7,$I9,\"\")","v":""},{"$f":"IF(T9=BS$7,$I9,\"\")","v":""},{"$f":"IF(U9=BT$7,$I9,\"\")","v":""},{"$f":"IF(V9=BU$7,$I9,\"\")","v":""},{"$f":"IF(W9=BV$7,$I9,\"\")","v":""},{"$f":"IF(X9=BW$7,$I9,\"\")","v":""},{"$f":"IF(Y9=BX$7,$I9,\"\")","v":""},{"$f":"IF(Z9=BY$7,$I9,\"\")","v":""},{"$f":"IF(AA9=BZ$7,$I9,\"\")","v":""},{"$f":"IF(AB9=CA$7,$I9,\"\")","v":""},{"$f":"IF(AC9=CB$7,$I9,\"\")","v":""},{"$f":"IF(AD9=CC$7,$I9,\"\")","v":""},{"$f":"IF(AE9=CD$7,$I9,\"\")","v":""},{"$f":"IF(AF9=CE$7,$I9,\"\")","v":""},{"$f":"IF(AG9=CF$7,$I9,\"\")","v":""},{"$f":"IF(AH9=CG$7,$I9,\"\")","v":""},{"$f":"IF(AI9=CH$7,$I9,\"\")","v":""},{"$f":"IF(AJ9=CI$7,$I9,\"\")","v":""},{"$f":"IF(AK9=CJ$7,$I9,\"\")","v":""},{"$f":"IF(AL9=CK$7,$I9,\"\")","v":""},{"$f":"IF(AM9=CL$7,$I9,\"\")","v":""},{"$f":"IF(AN9=CM$7,$I9,\"\")","v":""},{"$f":"IF(AO9=CN$7,$I9,\"\")","v":""},{"$f":"IF(AP9=CO$7,$I9,\"\")","v":""},{"$f":"IF(AQ9=CP$7,$I9,\"\")","v":""},{"$f":"IF(AR9=CQ$7,$I9,\"\")","v":""},{"$f":"IF(AS9=CR$7,$I9,\"\")","v":""},{"$f":"IF(AT9=CS$7,$I9,\"\")","v":""},{"$f":"IF(AU9=CT$7,$I9,\"\")","v":""},{"$f":"IF(AV9=CU$7,$I9,\"\")","v":""},{"$f":"IF(AW9=CV$7,$I9,\"\")","v":""},{"$f":"IF(AX9=CW$7,$I9,\"\")","v":""},3,{"$f":"L8","v":220},{"$f":"BJ8","v":"4"},"Taglio",null,null,8]
[null,null,null,2,null,null,{"$f":"H6","v":70},{"$f":"IF(G10>$P$3,\"X\",\"\")","v":""},{"$f":"H5","v":"2"},{"$f":"IF(H10=\"\",I10,\"\")","v":"2"},"",{"$f":"IF(K10=L$8,\"\",K10)","v":""},"","","","","","","","","","","","","","","","","","","","","","","","","","","","","","","","","","","","","","","",null,null,null,null,null,null,null,null,null,null,"","","","","","","","","","","","","","","","","","","","","","","","","","","","","","","","","","","","","","","","",4,{"$f":"M8","v":0},{"$f":"BK8","v":""},"Taglio",null,null,9,1,{"$f":"DI8","v":100},null,null,{"$f":"IF($DF10=DI$8,1,\"\")","v":1},"",{"$f":"IF($DF10=DK$8,1,\"\")","v":""},"","","","","","","","","","","","","","","","","",{"$f":"IF($DF10=EC$8,1,\"\")","v":""},"","","","","","","","","","","","","","","","","","",""]
[null,null,null,3,null,null,{"$f":"I6","v":20.100000000000001},"",{"$f":"I5","v":"3"},"3","","","","","","","","","","","","","","","","","","","","","","","","","","","","","","","","","","","","","","","","","",null,null,null,null,null,null,null,null,null,null,"","","","","","","","","","","","","","","","","","","","","","","","","","","","","","","","","","","","","","","","",5,{"$f":"N8","v":0},{"$f":"BL8","v":""},"Taglio",null,null,10,2,{"$f":"DJ8","v":70},null,null,"",1,"","","","","","","","","","","","","","","","","","","","","","","","","","","","","","","","","","","","","",""]
[null,null,{"$f":"$P$3","v":200},4,null,null,{"$f":"J6","v":220},"X",{"$f":"J5","v":"4"},"",220,"","","","","","","","","","","","","","","","","","","","","","","","","","","","","","","","","","","","","","","","",null,null,null,null,null,null,null,null,null,null,"4","","","","","","","","","","","","","","","","","","","","","","","","","","","","","","","","","","","","","","","",6,{"$f":"O8","v":0},{"$f":"BM8","v":""},"Taglio",null,null,11,3,{"$f":"DK8","v":20.100000000000001},null,null,"","",1,"","","","","","","","","","","","","","","","","","","","","","","","","","","","","","","","","","","","",""]
[null,null,null,5,null,null,{"$f":"K6","v":20},"",{"$f":"K5","v":"5"},"5","","","","","","","","","","","","","","","","","","","","","","","","","","","","","","","","","","","","","","","","","",null,null,null,null,null,null,null,null,null,null,"","","","","","","","","","","","","","","","","","","","","","","","","","","","","","","","","","","","","","","","",7,{"$f":"P8","v":0},{"$f":"BN8","v":""},"Taglio",null,null,12,4,{"$f":"DL8","v":220},null,null,"","","",1,"","","","","","","","","","","","","","","","","","","","","","","","","","","","","","","","","","","",""]
[null,null,null,6,null,null,{"$f":"L6","v":""},"X",{"$f":"L5","v":""},"","","","","","","","","","","","","","","","","","","","","","","","","","","","","","","","","","","","","","","","","","",null,null,null,null,null,null,null,null,null,null,"","","","","","","","","","","","","","","","","","","","","","","","","","","","","","","","","","","","","","","","",8,{"$f":"Q8","v":0},{"$f":"BO8","v":""},"Taglio",null,null,13,5,{"$f":"DM8","v":20},null,null,"","","","",1,"","","","","","","","","","","","","","","","","","","","","","","","","","","","","","","","","","",""]
[null,null,null,7,null,null,{"$f":"M6","v":""},"X",{"$f":"M5","v":""},{"$f":"IF(H15=\"\",I15,\"\")","v":""},"",{"$f":"IF(K15=L$8,\"\",K15)","v":""},{"$f":"IF(L15=M$8,\"\",L15)","v":""},{"$f":"IF(M15=N$8,\"\",M15)","v":""},{"$f":"IF(N15=O$8,\"\",N15)","v":""},{"$f":"IF(O15=P$8,\"\",O15)","v":""},{"$f":"IF(P15=Q$8,\"\",P15)","v":""},{"$f":"IF(Q15=R$8,\"\",Q15)","v":""},{"$f":"IF(R15=S$8,\"\",R15)","v":""},{"$f":"IF(S15=T$8,\"\",S15)","v":""},{"$f":"IF(T15=U$8,\"\",T15)","v":""},"","","","","","","","","","","","","","","","","","","","","","","","","","","","","","",null,null,null,null,null,null,null,null,null,null,"","","","","","","","","","","","","","","","","","","","","","","","","","","","","","","","","","","","","","","","",9,{"$f":"R8","v":0},{"$f":"BP8","v":""},"Taglio",null,null,14,6,{"$f":"DN8","v":""},null,null,"","","","","",1,1,1,1,1,1,1,1,1,1,1,1,1,1,1,1,1,1,1,1,1,1,1,1,1,1,1,1,1,1,1,1,1,1,1]
[null,null,null,8,null,null,{"$f":"N6","v":""},"X",{"$f":"N5","v":""},"","","","","","","","","","","","","","","","","","","","","","","","","","","","","","","","","","","","","","","","","","",null,null,null,null,null,null,null,null,null,null,"","","","","","","","","","","","","","","","","","","","","","","","","","","","","","","","","","","","","","","","",10,{"$f":"S8","v":0},{"$f":"BQ8","v":""},"Taglio",null,null,15,7,{"$f":"DO8","v":""},null,null,"","","","","",1,1,1,1,1,1,1,1,1,1,1,1,1,1,1,1,1,1,1,1,1,1,1,1,1,1,1,1,1,1,1,1,1,1,1]
[null,null,null,9,null,null,{"$f":"O6","v":""},"X",{"$f":"O5","v":""},"","","","","","","","","","","","","","","","","","","","","","","","","","","","","","","","","","","","","","","","","","",null,null,null,null,null,null,null,null,null,null,"","","","","","","","","","","","","","","","","","","","","","","","","","","","","","","","","","","","","","","","",11,{"$f":"T8","v":0},{"$f":"BR8","v":""},"Taglio",null,null,16,8,{"$f":"DP8","v":""},null,null,"","","","","",1,1,1,1,1,1,1,1,1,1,1,1,1,1,1,1,1,1,1,1,1,1,1,1,1,1,1,1,1,1,1,1,1,1,1]
[null,null,null,10,null,null,{"$f":"P6","v":""},"X",{"$f":"P5","v":""},"","","","","","","","","","","","","","","","","","","","","","","","","","","","","","","","","","","","","","","","","","",null,null,null,null,null,null,null,null,null,null,"","","","","","","","","","","","","","","","","","","","","","","","","","","","","","","","","","","","","","","","",12,{"$f":"U8","v":0},{"$f":"BS8","v":""},"Taglio",null,null,17,9,{"$f":"DQ8","v":""},null,null,"","","","","",1,1,1,1,1,1,1,1,1,1,1,1,1,1,1,1,1,1,1,1,1,1,1,1,1,1,1,1,1,1,1,1,1,1,1]
[null,null,null,11,null,null,{"$f":"Q6","v":""},"X",{"$f":"Q5","v":""},"","","","","","","","","","","","","","","","","","","","","","","","","","","","","","","","","","","","","","","","","","",null,null,null,null,null,null,null,null,null,null,"","","","","","","","","","","","","","","","","","","","","","","","","","","","","","","","","","","","","","","","",13,{"$f":"V8","v":0},{"$f":"BT8","v":""},"Taglio",null,null,18,10,{"$f":"DR8","v":""},null,null,"","","","","",1,1,1,1,1,1,1,1,1,1,1,1,1,1,1,1,1,1,1,1,1,1,1,1,1,1,1,1,1,1,1,1,1,1,1]
[null,null,null,12,null,null,{"$f":"R6","v":""},"X",{"$f":"R5","v":""},"","","","","","","","","","","","","","","","","","","","","","","","","","","","","","","","","","","","","","","","","","",null,null,null,null,null,null,null,null,null,null,"","","","","","","","","","","","","","","","","","","","","","","","","","","","","","","","","","","","","","","","",14,{"$f":"W8","v":0},{"$f":"BU8","v":""},"Taglio",null,null,19,11,{"$f":"DS8","v":""},null,null,"","","","","",1,1,1,1,1,1,1,1,1,1,1,1,1,1,1,1,1,1,1,1,1,1,1,1,1,1,1,1,1,1,1,1,1,1,1]
[null,null,null,13,null,null,{"$f":"S6","v":""},"X",{"$f":"S5","v":""},"","","","","","","","","","","","","","","","","","","","","","","","","","","","","","","","","","","","","","","","","","",null,null,null,null,null,null,null,null,null,null,"","","","","","","","","","","","","","","","","","","","","","","","","","","","","","","","","","","","","","","","",15,{"$f":"X8","v":0},{"$f":"BV8","v":""},"Taglio",null,null,20,12,{"$f":"DT8","v":""},null,null,"","","","","",1,1,1,1,1,1,1,1,1,1,1,1,1,1,1,1,1,1,1,1,1,1,1,1,1,1,1,1,1,1,1,1,1,1,1]
[null,null,null,14,null,null,{"$f":"T6","v":""},"X",{"$f":"T5","v":""},"","","","","","","","","","","","","","","","","","","","","","","","","","","","","","","","","","","","","","","","","","",null,null,null,null,null,null,null,null,null,null,"","","","","","","","","","","","","","","","","","","","","","","","","","","","","","","","","","","","","","","","",16,{"$f":"Y8","v":0},{"$f":"BW8","v":""},"Taglio",null,null,21,13,{"$f":"DU8","v":""},null,null,"","","","","",1,1,1,1,1,1,1,1,1,1,1,1,1,1,1,1,1,1,1,1,1,1,1,1,1,1,1,1,1,1,{"$f":"IF($DF22=ER$8,1,\"\")","v":1},1,1,1,1]
[null,null,null,15,null,null,{"$f":"U6","v":""},"X",{"$f":"U5","v":""},"","","","","","","","","","","","","","","","","","","","","","","","","","","","","","","","","","","","","","","","","","",null,null,null,null,null,null,null,null,null,null,"","","","","","","","","","","","","","","","","","","","","","","","","","","","","","","","","","","","","","","","",17,{"$f":"Z8","v":0},{"$f":"BX8","v":""},"Taglio",null,null,22,14,{"$f":"DV8","v":""},null,null,"","","","","",1,1,1,1,1,1,1,1,1,1,1,1,1,1,1,{"$f":"IF($DF23=EC$8,1,\"\")","v":1},1,1,1,1,1,1,1,1,1,1,1,1,1,1,1,1,1,1,1]
[null,null,null,16,null,null,{"$f":"V6","v":""},"X",{"$f":"V5","v":""},"","","","","","","","","","","","","","","","","","","","","","","","","","","","","","","","","","","","","","","","","","",null,null,null,null,null,null,null,null,null,null,"","","","","","","","","","","","","","","","","","","","","","","","","","","","","","","","","","","","","","","","",18,{"$f":"AA8","v":0},{"$f":"BY8","v":""},"Taglio",null,null,23,15,{"$f":"DW8","v":""},null,null,"","","","","",{"$f":"IF($DF24=DN$8,1,\"\")","v":1},1,1,1,1,1,1,1,1,1,1,1,1,1,1,1,1,1,1,1,1,1,1,1,1,1,1,1,1,1,1,1,1,1,1]
[null,null,null,17,null,null,{"$f":"W6","v":""},"X",{"$f":"W5","v":""},"","","","","","","","","","","","","","","","","","","","","","","","","","","","","","","","","","","","","","","","","","",null,null,null,null,null,null,null,null,null,null,"","","","","","","","","","","","","","","","","","","","","","","","","","","","","","","","","","","","","","","","",19,{"$f":"AB8","v":0},{"$f":"BZ8","v":""},"Taglio",null,null,24,16,{"$f":"DX8","v":""},null,null,"","",{"$f":"IF($DF25=DK$8,1,\"\")","v":""},"","",1,1,1,1,1,1,1,1,1,1,1,1,1,1,1,1,1,1,1,1,1,1,1,1,1,1,1,1,1,1,1,1,1,1,1]
[null,null,null,18,null,null,{"$f":"X6","v":""},"X",{"$f":"X5","v":""},"","","","","","","","","","","","","","","","","","","","","","","","","","","","","","","","","","","","","","","","","","",null,null,null,null,null,null,null,null,null,null,"","","","","","","","","","","","","","","","","","","","","","","","","","","","","","","","","","","","","","","","",20,{"$f":"AC8","v":0},{"$f":"CA8","v":""},"Taglio",null,null,25,17,{"$f":"DY8","v":""},null,null,"","","","","",1,1,1,1,1,1,1,1,1,1,1,1,1,1,1,1,1,1,1,1,1,1,1,1,1,1,1,1,1,1,1,1,1,1,1]
[null,null,null,19,null,null,{"$f":"Y6","v":""},"X",{"$f":"Y5","v":""},"","","","","","","","","","","","","","","","","","","","","","","","","","","","","","","","","","","","","","","","","","",null,null,null,null,null,null,null,null,null,null,"","","","","","","","","","","","","","","","","","","","","","","","","","","","","","","","","","","","","","","","",21,{"$f":"AD8","v":0},{"$f":"CB8","v":""},"Taglio",null,null,26,18,{"$f":"DZ8","v":""},null,null,"","","","","",1,1,1,1,1,1,1,1,1,1,1,1,1,1,1,1,1,1,1,1,1,1,1,1,1,1,1,1,1,1,1,1,1,1,1]
[null,null,null,20,null,null,{"$f":"Z6","v":""},"X",{"$f":"Z5","v":""},"","","","","","","","","","","","","","","","","","","","","","","","","","","","","","","","","","","","","","","","","","",null,null,null,null,null,null,null,null,null,null,"","","","","","","","","","","","","","","","","","","","","","","","","","","","","","","","","","","","","","","","",22,{"$f":"AE8","v":0},{"$f":"CC8","v":""},"Taglio",null,null,27,19,{"$f":"EA8","v":""},null,null,"","","","","",1,1,1,1,1,1,1,1,1,1,1,1,1,1,1,1,1,1,1,1,1,1,1,1,1,1,1,1,1,1,1,1,1,1,1]
[null,null,null,21,null,null,{"$f":"AA6","v":""},"X",{"$f":"AA5","v":""},"","","",{"$f":"IF(L29=M$8,\"\",L29)","v":""},{"$f":"IF(M29=N$8,\"\",M29)","v":""},{"$f":"IF(N29=O$8,\"\",N29)","v":""},{"$f":"IF(O29=P$8,\"\",O29)","v":""},{"$f":"IF(P29=Q$8,\"\",P29)","v":""},{"$f":"IF(Q29=R$8,\"\",Q29)","v":""},{"$f":"IF(R29=S$8,\"\",R29)","v":""},{"$f":"IF(S29=T$8,\"\",S29)","v":""},{"$f":"IF(T29=U$8,\"\",T29)","v":""},{"$f":"IF(U29=V$8,\"\",U29)","v":""},{"$f":"IF(V29=W$8,\"\",V29)","v":""},{"$f":"IF(W29=X$8,\"\",W29)","v":""},{"$f":"IF(X29=Y$8,\"\",X29)","v":""},{"$f":"IF(Y29=Z$8,\"\",Y29)","v":""},{"$f":"IF(Z29=AA$8,\"\",Z29)","v":""},{"$f":"IF(AA29=AB$8,\"\",AA29)","v":""},{"$f":"IF(AB29=AC$8,\"\",AB29)","v":""},{"$f":"IF(AC29=AD$8,\"\",AC29)","v":""},{"$f":"IF(AD29=AE$8,\"\",AD29)","v":""},{"$f":"IF(AE29=AF$8,\"\",AE29)","v":""},{"$f":"IF(AF29=AG$8,\"\",AF29)","v":""},{"$f":"IF(AG29=AH$8,\"\",AG29)","v":""},{"$f":"IF(AH29=AI$8,\"\",AH29)","v":""},"",{"$f":"IF(AJ29=AK$8,\"\",AJ29)","v":""},{"$f":"IF(AK29=AL$8,\"\",AK29)","v":""},{"$f":"IF(AL29=AM$8,\"\",AL29)","v":""},{"$f":"IF(AM29=AN$8,\"\",AM29)","v":""},{"$f":"IF(AN29=AO$8,\"\",AN29)","v":""},{"$f":"IF(AO29=AP$8,\"\",AO29)","v":""},{"$f":"IF(AP29=AQ$8,\"\",AP29)","v":""},{"$f":"IF(AQ29=AR$8,\"\",AQ29)","v":""},{"$f":"IF(AR29=AS$8,\"\",AR29)","v":""},{"$f":"IF(AS29=AT$8,\"\",AS29)","v":""},{"$f":"IF(AT29=AU$8,\"\",AT29)","v":""},{"$f":"IF(AU29=AV$8,\"\",AU29)","v":""},{"$f":"IF(AV29=AW$8,\"\",AV29)","v":""},{"$f":"IF(AW29=AX$8,\"\",AW29)","v":""},{"$f":"IF(AX29=AY$8,\"\",AX29)","v":""},null,null,null,null,null,null,null,null,null,null,"","","","","","","","","","","","","","","","","","","","","","","","","","","","","","","","","","","","","","","","",23,{"$f":"AF8","v":0},{"$f":"CD8","v":""},"Taglio",null,null,28,20,{"$f":"EB8","v":""},null,null,"","","","","",1,1,1,1,1,1,1,1,1,1,1,1,1,1,1,1,1,1,1,1,1,1,1,1,1,1,1,1,1,1,1,1,1,1,1]
[null,null,null,22,null,null,{"$f":"AB6","v":""},"X",{"$f":"AB5","v":""},"","",{"$f":"IF(K30=L$8,\"\",K30)","v":""},"","","","","","","","","","","","","","","","","","","","","","","","","","","","","","","","","","","","","","","",null,null,null,null,null,null,null,null,null,null,"","","","","","","","","","","","","","","","","","","","","","","","","","","","","","","","","","","","","","","","",24,{"$f":"AG8","v":0},{"$f":"CE8","v":""},"Taglio",null,null,29,21,{"$f":"EC8","v":""},null,null,{"$f":"IF($DF30=DI$8,1,\"\")","v":""},"","","","",1,1,1,1,1,1,1,1,1,1,1,{"$f":"IF($DF30=DY$8,1,\"\")","v":1},1,1,1,1,1,1,1,1,1,1,1,1,1,1,1,1,1,1,1,1,1,1,1]
[null,null,null,23,null,null,{"$f":"AC6","v":""},"X",{"$f":"AC5","v":""},"","","","","","","","","","","","","","","","","","","","","","","","","","","","","","","","","","","","","","","","","","",null,null,null,null,null,null,null,null,null,null,"","","","","","","","","","","","","","","","","","","","","","","","","","","","","","","","","","","","","","","","",25,{"$f":"AH8","v":0},{"$f":"CF8","v":""},"Taglio",null,null,30,22,{"$f":"ED8","v":""},null,null,"","","","","",1,1,1,1,1,1,1,1,1,1,1,1,1,1,1,1,1,1,1,1,1,1,1,1,1,1,1,1,1,1,1,1,1,1,1]
[null,null,null,24,null,null,{"$f":"AD6","v":""},"X",{"$f":"AD5","v":""},"","","","","","","","","","","","","","","","","","","","","","","","","","","","","","","","","","","","","","","","","","",null,null,null,null,null,null,null,null,null,null,"","","","","","","","","","","","","","","","","","","","","","","","","","","","","","","","","","","","","","","","",26,{"$f":"AI8","v":0},{"$f":"CG8","v":""},"Taglio",null,null,31,23,{"$f":"EE8","v":""},null,null,"","","","","",1,1,1,1,1,1,1,1,1,1,1,1,1,1,1,1,1,1,1,1,1,1,1,1,1,1,1,1,1,1,1,1,1,1,1]
[null,null,null,25,null,null,{"$f":"AE6","v":""},"X",{"$f":"AE5","v":""},"","","","","","","","","","","","","","","","","","","","","","","","","","","","","","","","","","","","","","","","","","",null,null,null,null,null,null,null,null,null,null,"","","","","","","","","","","","","","","","","","","","","","","","","","","","","","","","","","","","","","","","",27,{"$f":"AJ8","v":0},{"$f":"CH8","v":""},"Taglio",null,null,32,24,{"$f":"EF8","v":""},null,null,"","","","","",1,1,1,1,1,1,1,1,1,1,1,1,1,1,1,1,1,1,1,1,1,1,1,1,1,1,1,1,1,1,1,1,1,1,1]
[null,null,null,26,null,null,{"$f":"AF6","v":""},"X",{"$f":"AF5","v":""},"","","","","","","","","","","","","","","","","","","","","","","","","","","","","","","","","","","","","","","","","","",null,null,null,null,null,null,null,null,null,null,"","","","","","","","","","","","","","","","","","","","","","","","","","","","","","","","","","","","","","","","",28,{"$f":"AK8","v":0},{"$f":"CI8","v":""},"Taglio",null,null,33,25,{"$f":"EG8","v":""},null,null,"","","","","",1,1,1,1,1,1,1,1,1,1,1,1,1,1,1,1,1,1,1,1,1,1,1,1,1,1,1,1,1,1,1,1,1,1,1]
[null,null,null,27,null,null,{"$f":"AG6","v":""},"X",{"$f":"AG5","v":""},"","","","","","","","","","","","","","","","","","","","","","","","","","","","","","","","","","","","","","","","","","",null,null,null,null,null,null,null,null,null,null,"","","","","","","","","","","","","","","","","","","","","","","","","","","","","","","","","","","","","","","","",29,{"$f":"AL8","v":0},{"$f":"CJ8","v":""},"Taglio",null,null,34,26,{"$f":"EH8","v":""},null,null,"","","","","",1,1,1,1,1,1,1,1,1,1,1,1,1,1,1,1,1,1,1,1,1,1,1,1,1,1,1,1,1,1,1,1,1,1,1]
[null,null,null,28,null,null,{"$f":"AH6","v":""},"X",{"$f":"AH5","v":""},"","","","","","","","","","","","","","","","","","","","","","","","","","","","","","","","","","","","","","","","","","",null,null,null,null,null,null,null,null,null,null,"","","","","","","","","","","","","","","","","","","","","","","","","","","","","","","","","","","","","","","","",30,{"$f":"AM8","v":0},{"$f":"CK8","v":""},"Taglio",null,null,35,27,{"$f":"EI8","v":""},null,null,"","","","","",1,1,1,1,1,1,1,1,1,1,1,1,1,1,1,1,1,1,1,1,1,1,1,1,1,1,1,1,1,1,1,1,1,1,1]
[null,null,null,29,null,null,{"$f":"AI6","v":""},"X",{"$f":"AI5","v":""},"","","","","","","","","","","","","","","","","","","","","","","","","","","","","","","","","","","","","","","","","","",null,null,null,null,null,null,null,null,null,null,"","","","","","","","","","","","","","","","","","","","","","","","","","","","","","","","","","","","","","","","",31,{"$f":"AN8","v":0},{"$f":"CL8","v":""},"Taglio",null,null,36,28,{"$f":"EJ8","v":""},null,null,"","","","","",1,1,1,1,1,1,1,1,1,1,1,1,1,1,1,1,1,1,1,1,1,1,1,1,1,1,1,1,1,1,1,1,1,1,1]
[null,null,null,30,null,null,{"$f":"AJ6","v":""},"X",{"$f":"AJ5","v":""},"","","","","","","","","","","","","","","","","","","","","","","","","","","","","","","","","","","","","","","","","","",null,null,null,null,null,null,null,null,null,null,"","","","","","","","","","","","","","","","","","","","","","","","","","","","","","","","","","","","","","","","",32,{"$f":"AO8","v":0},{"$f":"CM8","v":""},"Taglio",null,null,37,29,{"$f":"EK8","v":""},null,null,"","","","","",1,1,1,1,1,1,1,1,1,1,1,1,1,1,1,1,1,1,1,1,1,1,1,1,1,1,1,1,1,1,{"$f":"IF($DF38=ER$8,1,\"\")","v":1},1,1,1,1]
[null,null,null,31,null,null,{"$f":"AK6","v":""},"X",{"$f":"AK5","v":""},"","","","","","","","","","","","","","","","","","","","","","","","","","","","","","","","","","","","","","","","","","",null,null,null,null,null,null,null,null,null,null,"","","","","","","","","","","","","","","","","","","","","","","","","","","","","","","","","","","","","","","","",33,{"$f":"AP8","v":0},{"$f":"CN8","v":""},"Taglio",null,null,38,30,{"$f":"EL8","v":""},null,null,"","","","","",1,1,1,1,1,1,1,1,1,1,1,1,1,1,1,1,1,1,1,1,1,1,1,1,1,1,1,{"$f":"IF($DF39=EO$8,1,\"\")","v":1},1,1,1,1,1,1,1]
[null,null,null,32,null,null,{"$f":"AL6","v":""},"X",{"$f":"AL5","v":""},"","","","","","","","","","","","","","","","","","","","","","","","","","","","","","","","","","","","","","","","","","",null,null,null,null,null,null,null,null,null,null,"","","","","","","","","","","","","","","","","","","","","","","","","","","","","","","","","","","","","","","","",34,{"$f":"AQ8","v":0},{"$f":"CO8","v":""},"Taglio",null,null,39,31,{"$f":"EM8","v":""},null,null,"","","","","",1,1,1,1,1,1,1,1,1,1,1,1,1,1,1,1,1,1,1,1,1,1,1,1,1,1,1,1,1,1,1,1,1,1,1]
[null,null,null,33,null,null,{"$f":"AM6","v":""},"X",{"$f":"AM5","v":""},"","","","","","","","","","","","","","","","","","","","","","","","","","","","","","","","","","","","","","","","","","",null,null,null,null,null,null,null,null,null,null,"","","","","","","","","","","","","","","","","","","","","","","","","","","","","","","","","","","","","","","","",35,{"$f":"AR8","v":0},{"$f":"CP8","v":""},"Taglio",null,null,40,32,{"$f":"EN8","v":""},null,null,"","","","","",1,1,1,1,1,1,1,1,1,1,1,1,1,1,1,1,1,1,1,1,1,1,1,1,1,1,1,1,1,1,1,1,1,1,1]
[null,null,null,34,null,null,{"$f":"AN6","v":""},"X",{"$f":"AN5","v":""},"","","","","","","","","","","","","","","","","","","","","","","","","","","","","","","","","","","","","","","","","","",null,null,null,null,null,null,null,null,null,null,"","","","","","","","","","","","","","","","","","","","","","","","","","","","","","","","","","","","","","","","",36,{"$f":"AS8","v":0},{"$f":"CQ8","v":""},"Taglio",null,null,41,33,{"$f":"EO8","v":""},null,null,"","","","","",1,1,1,1,1,1,1,1,1,1,1,1,1,1,1,1,1,1,1,1,1,1,1,1,1,1,1,1,1,1,1,1,1,1,1]
[null,null,null,35,null,null,{"$f":"AO6","v":""},"X",{"$f":"AO5","v":""},"","","","","","","","","","","","","","","","","","","","","","","","","","","","","","","","","","","","","","","","","","",null,null,null,null,null,null,null,null,null,null,"","","","","","","","","","","","","","","","","","","","","","","","","","","","","","","","","","","","","","","","",37,{"$f":"AT8","v":0},{"$f":"CR8","v":""},"Taglio",null,null,42,34,{"$f":"EP8","v":""},null,null,"","","","","",1,1,1,1,1,1,1,1,1,1,1,1,1,1,1,1,1,1,1,1,1,1,1,1,1,1,1,1,1,1,1,1,1,1,1]
[null,null,null,36,null,null,{"$f":"AP6","v":""},"X",{"$f":"AP5","v":""},"","","","","","","","","","","","","","","","","","","","","","","","","","","","","","","","","","","","","","","","","","",null,null,null,null,null,null,null,null,null,null,"","","","","","","","","","","","","","","","","","","","","","","","","","","","","","","","","","","","","","","","",38,{"$f":"AU8","v":0},{"$f":"CS8","v":""},"Taglio",null,null,43,35,{"$f":"EQ8","v":""},null,null,"","","","","",1,1,1,1,1,1,1,1,1,1,1,1,1,1,1,1,1,1,1,1,1,1,1,1,1,1,1,1,1,1,1,1,1,1,1]
[null,null,null,37,null,null,{"$f":"AQ6","v":""},"X",{"$f":"AQ5","v":""},"","","","","","","","","","","","","","","","","","","","","","","","","","","","","","","","","","","","","","","","","","",null,null,null,null,null,null,null,null,null,null,"","","","","","","","","","","","","","","","","","","","","","","","","","","","","","","","","","","","","","","","",39,{"$f":"AV8","v":0},{"$f":"CT8","v":""},"Taglio",null,null,44,36,{"$f":"ER8","v":""},null,null,"","","","","",1,1,1,1,1,1,1,1,1,1,{"$f":"IF($DF45=DX$8,1,\"\")","v":1},1,1,1,1,1,1,1,1,1,1,1,1,1,1,1,1,1,1,1,1,1,1,1,1]
[null,null,null,38,null,null,{"$f":"AR6","v":""},"X",{"$f":"AR5","v":""},"","","","","","","","","","","","","","","","","","","","","","","","","","","","","","","","","","","","","","","","","","",null,null,null,null,null,null,null,null,null,null,"","","","","","","","","","","","","","","","","","","","","","","","","","","","","","","","","","","","","","","","",40,{"$f":"AW8","v":0},{"$f":"CU8","v":""},"Taglio",null,null,45,37,{"$f":"ES8","v":""},null,null,{"$f":"IF($DF46=DI$8,1,\"\")","v":""},"","","","",1,1,1,1,1,1,1,1,1,1,1,1,1,1,1,1,1,1,1,1,1,1,1,1,1,1,1,1,1,1,1,1,1,1,1]
[null,null,null,39,null,null,{"$f":"AS6","v":""},"X",{"$f":"AS5","v":""},"","","","","","","","","","","","","","","","","","","","","","","","","","","","","","","","","","","","","","","","","","",null,null,null,null,null,null,null,null,null,null,"","","","","","","","","","","","","","","","","","","","","","","","","","","","","","","","","","","","","","","","",41,{"$f":"AX8","v":0},{"$f":"CV8","v":""},"Taglio",null,null,46,38,{"$f":"ET8","v":""},null,null,"","","","","",1,1,1,1,1,1,1,1,1,1,1,1,1,1,1,1,1,1,1,1,1,1,1,1,1,1,1,1,1,1,1,1,1,1,1]
[null,null,null,40,null,null,{"$f":"AT6","v":""},"X",{"$f":"AT5","v":""},"","","","","","","","","","","","","","","","","","","","","","","","","","","","","","","","","","","","","","","","","","",null,null,null,null,null,null,null,null,null,null,"","","","","","","","","","","","","","","","","","","","","","","","","","","","","","","","","","","","","","","","",42,{"$f":"AY8","v":0},{"$f":"CW8","v":""},"Taglio",null,null,47,39,{"$f":"EU8","v":""},null,null,"","","","","",1,1,1,1,1,1,1,1,1,1,1,1,1,1,1,1,1,1,1,1,1,1,1,1,1,1,1,1,1,1,1,1,1,1,1]
[null,null,null,null,null,null,null,null,null,null,null,null,null,null,null,null,null,null,null,null,null,null,null,null,null,null,null,null,null,null,null,null,null,null,null,null,null,null,null,null,null,null,null,null,null,null,null,null,null,null,null,null,null,null,null,null,null,null,null,null,null,null,null,null,null,null,null,null,null,null,null,null,null,null,null,null,null,null,null,null,null,null,null,null,null,null,null,null,null,null,null,null,null,null,null,null,null,null,null,null,null,null,null,null,null,null,null,48,40,{"$f":"EV8","v":""},null,null,"","","","","",1,1,1,1,1,1,1,1,1,1,1,1,1,1,1,1,1,1,1,1,1,1,1,1,1,1,1,1,1,1,1,1,1,1,1]
[null,null,null,null,null,null,null,null,null,null,null,null,null,null,null,null,null,null,null,null,null,null,null,null,null,null,null,null,null,null,null,null,null,null,null,null,null,null,null,null,null,null,null,null,null,null,null,null,null,null,null,null,null,null,null,null,null,null,null,null,null,null,null,null,null,null,null,null,null,null,null,null,null,null,null,null,null,null,null,null,null,null,null,null,null,null,null,null,null,null,null,null,null,null,null,null,null,null,null,null,null,null,null,null,null,null,null,49]
[null,null,null,null,null,null,null,null,null,null,null,null,null,null,null,null,null,null,null,null,null,null,null,null,null,null,null,null,null,null,null,null,null,null,null,null,null,null,null,null,null,null,null,null,null,null,null,null,null,null,null,null,null,null,null,null,null,null,null,null,null,null,null,null,null,null,null,null,null,null,null,null,null,null,null,null,null,null,null,null,null,null,null,null,null,null,null,null,null,null,null,null,null,null,null,null,null,null,null,null,null,null,null,null,null,null,null,50]
[null,null,null,null,null,null,null,null,null,null,null,null,null,null,null,null,null,null,null,null,null,null,null,null,null,null,null,null,null,null,null,null,null,null,null,null,null,null,null,null,null,null,null,null,null,null,null,null,null,null,null,null,null,null,null,null,null,null,null,null,null,null,null,null,null,null,null,null,null,null,null,null,null,null,null,null,null,null,null,null,null,null,null,null,null,null,null,null,null,null,null,null,null,null,null,null,null,null,null,null,null,null,null,null,null,null,null,51,null,null,null,null,{"$f":"SUM(DI10:DI49)","v":1},{"$f":"SUM(DJ10:DJ49)","v":1},1,1,1,35,35,35,35,35,35,35,35,35,35,35,35,35,35,35,35,35,35,35,35,35,35,35,35,35,35,35,35,35,35,35,35,35,35,35]
[null,null,null,null,null,null,null,null,null,null,null,null,null,null,null,null,null,null,null,null,null,null,null,null,null,null,null,null,null,null,null,null,null,null,null,null,null,null,null,null,null,null,null,null,null,null,null,null,null,null,null,null,null,null,null,null,null,null,null,null,null,null,null,null,null,null,null,null,null,null,null,null,null,null,null,null,null,null,null,null,null,null,null,null,null,null,null,null,null,null,null,null,null,null,null,null,null,null,null,null,null,null,null,null,null,null,null,52]
[null,null,null,null,null,null,null,null,null,null,null,null,null,null,null,null,null,null,null,null,null,null,null,null,null,null,null,null,null,null,null,null,null,null,null,null,null,null,null,null,null,null,null,null,null,null,null,null,null,null,null,null,null,null,null,null,null,null,null,null,null,null,null,null,null,null,null,null,null,null,null,null,null,null,null,null,null,null,null,null,null,null,null,null,null,null,null,null,null,null,null,null,null,null,null,null,null,null,null,null,null,null,null,null,null,null,null,53,null,null,null,null,{"$f":"IF(DI52>1,DI7,\"\")","v":""},"","","","","","","","","","","","","","","","","","","","","","","","","","","","","","","","","","","","","","",""]
[null,null,null,null,null,null,null,null,null,null,null,null,null,null,null,null,null,null,null,null,null,null,null,null,null,null,null,null,null,null,null,null,null,null,null,null,null,null,null,null,null,null,null,null,null,null,null,null,null,null,null,null,null,null,null,null,null,null,null,null,null,null,null,null,null,null,null,null,null,null,null,null,null,null,null,null,null,null,null,null,null,null,null,null,null,null,null,null,null,null,null,null,null,null,null,null,null,null,null,null,null,null,null,null,null,null,null,54,null,null,{"$f":"SUM(DI55:EV55)","v":0},null,{"$f":"IF(DI52>1,DI8,\"\")","v":""},"","","","","","","","","","","","","","","","","","","","","","","","","","","","","","","","","","","","","","",""]
[null,null,null,null,null,null,null,null,null,null,null,null,null,null,null,null,null,null,null,null,null,null,null,null,null,null,null,null,null,null,null,null,null,null,null,null,null,null,null,null,null,null,null,null,null,null,null,null,null,null,null,null,null,null,null,null,null,null,null,null,null,null,null,null,null,null,null,null,null,null,null,null,null,null,null,null,null,null,null,null,null,null,null,null,null,null,null,null,null,null,null,null,null,null,null,null,null,null,null,null,null,null,null,null,null,null,null,55]
[null,null,null,null,null,null,null,null,null,null,null,null,null,null,null,null,null,null,null,null,null,null,null,null,null,null,null,null,null,null,null,null,null,null,null,null,null,null,null,null,null,null,null,null,null,null,null,null,null,null,null,null,null,null,null,null,null,null,null,null,null,null,null,null,null,null,null,null,null,null,null,null,null,null,null,null,null,null,null,null,null,null,null,null,null,null,null,null,null,null,null,null,null,null,null,null,null,null,null,null,null,null,null,null,null,null,null,56]
[null,null,null,null,null,null,null,null,null,null,null,null,null,null,null,null,null,null,null,null,null,null,null,null,null,null,null,null,null,null,null,null,null,null,null,null,null,null,null,null,null,null,null,null,null,null,null,null,null,null,null,null,null,null,null,null,null,null,null,null,null,null,null,null,null,null,null,null,null,null,null,null,null,null,null,null,null,null,null,null,null,null,null,null,null,null,null,null,null,null,null,null,null,null,null,null,null,null,null,null,null,null,null,null,null,null,null,57,"PESO",{"$f":"IF(SUM(DI55:EV55)<1,\"NESSUNO\",MAX(DI55:EV55))","v":"NESSUNO"},null,null,{"$f":"IF(DI55=$DF58,DI54,\"\")","v":""},{"$f":"IF(DJ55=$DF58,DJ54,\"\")","v":""},"","","","","","","","","","","","","","","","","","","","","","","","","","","","","","","","","","","","","",""]
[null,null,null,null,null,null,null,null,null,null,null,null,null,null,null,null,null,null,null,null,null,null,null,null,null,null,null,null,null,null,null,null,null,null,null,null,null,null,null,null,null,null,null,null,null,null,null,null,null,null,null,null,null,null,null,null,null,null,null,null,null,null,null,null,null,null,null,null,null,null,null,null,null,null,null,null,null,null,null,null,null,null,null,null,null,null,null,null,null,null,null,null,null,null,null,null,null,null,null,null,null,null,null,null,null,null,null,58]
[]
[null,null,null,null,null,null,1,2,3,4,5,6,7,8,9,10,11,12,13,14,15,16,17,18,19,20,21,22,23,24,25,26,27,28,29,30,31,32,33,34,35,36,37,38,39,40,null,null,"peso",null,"peso",null,null,null,null,null,null,null,null,null,null,"BLOCCHI CHE POSSONO ESSERE CARICATI IN COPPIA O A TRE PERCHE' IL LORO PESO COMPLESSIVO NON SUPERA IL PESO MASSIMO CONSENTITO NEL TRASPORTO",null,null,null,null,null,null,null,null,null,null,null,null,null,null,null,null,null,null,null,null,null,null,null,null,null,null,null,null,null,null,null,null,null,null,null,null,null,null,null,null,null,null,null,null,null,1]
[null,null,"TIR",null,{"$f":"CF74","v":1},null,{"$f":"J$9","v":"1"},{"$f":"J$10","v":"2"},{"$f":"J$11","v":"3"},{"$f":"J$12","v":""},{"$f":"J$13","v":"5"},{"$f":"J$14","v":""},{"$f":"J$15","v":""},{"$f":"J$16","v":""},{"$f":"J$17","v":""},{"$f":"J$18","v":""},{"$f":"J$19","v":""},{"$f":"J$20","v":""},{"$f":"J$21","v":""},{"$f":"J$22","v":""},{"$f":"J$23","v":""},{"$f":"J$24","v":""},{"$f":"J$25","v":""},{"$f":"J$26","v":""},{"$f":"J$27","v":""},{"$f":"J$28","v":""},{"$f":"J29","v":""},{"$f":"J30","v":""},{"$f":"J31","v":""},{"$f":"J32","v":""},{"$f":"J33","v":""},{"$f":"J34","v":""},{"$f":"J35","v":""},{"$f":"J36","v":""},{"$f":"J37","v":""},{"$f":"J38","v":""},{"$f":"J39","v":""},{"$f":"J40","v":""},{"$f":"J41","v":""},{"$f":"J42","v":""},{"$f":"J43","v":""},{"$f":"J44","v":""},{"$f":"J45","v":""},{"$f":"J46","v":""},{"$f":"J47","v":""},{"$f":"J48","v":""},null,null,"min",null,"max",null,null,null,null,null,null,null,null,null,null,null,null,null,null,null,null,null,null,null,null,null,null,null,null,null,null,null,null,null,null,null,null,null,null,null,null,null,null,null,null,null,null,null,null,null,null,null,null,null,null,null,null,null,null,null,null,2,"NUMERO BLOCCO",null,null,null,"CONTROLLO PER EVITARE CHE VI SIANO BLOCCHI CON LO STESSO NUMERO IDENTIFICATIVO"]
[null,null,null,null,null,null,{"$f":"IF(G62<>\"\",$G$9,\"\")","v":100},{"$f":"IF(H62<>\"\",$G$10,\"\")","v":70},{"$f":"IF(I62<>\"\",$G$11,\"\")","v":20.100000000000001},{"$f":"IF(J62<>\"\",$G$12,\"\")","v":""},{"$f":"IF(K62<>\"\",$G$13,\"\")","v":20},{"$f":"IF(L62<>\"\",$G$14,\"\")","v":""},{"$f":"IF(M62<>\"\",$G$15,\"\")","v":""},{"$f":"IF(N62<>\"\",$G$16,\"\")","v":""},{"$f":"IF(O62<>\"\",$G$17,\"\")","v":""},{"$f":"IF(P62<>\"\",$G$18,\"\")","v":""},{"$f":"IF(Q62<>\"\",$G$19,\"\")","v":""},{"$f":"IF(R62<>\"\",$G$20,\"\")","v":""},{"$f":"IF(S62<>\"\",$G$21,\"\")","v":""},{"$f":"IF(T62<>\"\",$G$22,\"\")","v":""},{"$f":"IF(U62<>\"\",$G$23,\"\")","v":""},{"$f":"IF(V62<>\"\",$G$24,\"\")","v":""},{"$f":"IF(W62<>\"\",$G$25,\"\")","v":""},{"$f":"IF(X62<>\"\",$G$26,\"\")","v":""},{"$f":"IF(Y62<>\"\",$G$27,\"\")","v":""},{"$f":"IF(Z62<>\"\",$G$28,\"\")","v":""},{"$f":"IF(AA62<>\"\",$G$29,\"\")","v":""},{"$f":"IF(AB62<>\"\",$G$30,\"\")","v":""},{"$f":"IF(AC62<>\"\",$G$31,\"\")","v":""},{"$f":"IF(AD62<>\"\",$G$32,\"\")","v":""},{"$f":"IF(AE62<>\"\",$G$33,\"\")","v":""},{"$f":"IF(AF62<>\"\",$G$34,\"\")","v":""},{"$f":"IF(AG62<>\"\",$G$35,\"\")","v":""},{"$f":"IF(AH62<>\"\",$G$36,\"\")","v":""},{"$f":"IF(AI62<>\"\",$G$37,\"\")","v":""},{"$f":"IF(AJ62<>\"\",$G$38,\"\")","v":""},{"$f":"IF(AK62<>\"\",$G$39,\"\")","v":""},{"$f":"IF(AL62<>\"\",$G$40,\"\")","v":""},{"$f":"IF(AM62<>\"\",$G$41,\"\")","v":""},{"$f":"IF(AN62<>\"\",$G$42,\"\")","v":""},{"$f":"IF(AO62<>\"\",$G$43,\"\")","v":""},{"$f":"IF(AP62<>\"\",$G$44,\"\")","v":""},{"$f":"IF(AQ62<>\"\",$G$45,\"\")","v":""},{"$f":"IF(AR62<>\"\",$G$46,\"\")","v":""},{"$f":"IF(AS62<>\"\",$G$47,\"\")","v":""},{"$f":"IF(AT62<>\"\",$G$48,\"\")","v":""},null,null,{"$f":"MIN(G63:AT63)","v":20},null,{"$f":"MAX(G63:AT63)","v":100},null,null,null,null,null,null,null,null,null,null,null,null,null,null,null,null,null,null,null,null,null,null,null,null,null,null,null,null,null,null,null,null,null,null,null,null,null,null,null,null,null,null,null,null,null,null,null,null,null,null,null,null,null,null,null,null,3]
[null,null,"MASSIMO PESO",null,null,null,{"$f":"MAX(G63:AT63)","v":100},null,null,null,null,null,null,null,null,null,null,null,null,null,null,null,null,null,null,null,null,null,null,null,null,null,null,null,null,null,null,null,null,null,null,null,null,null,null,null,null,null,null,null,null,null,null,null,null,null,null,null,null,null,null,null,null,null,null,null,null,null,null,null,null,null,null,null,null,null,null,null,null,null,null,null,null,null,null,null,null,null,null,null,null,null,null,null,null,null,null,null,null,null,null,null,null,null,null,null,null,4]
[null,null,null,null,null,null,{"$f":"IF(G63=$G64,G62,\"\")","v":"1"},{"$f":"IF(H63=$G64,H62,\"\")","v":""},"","","","","","","","","","","","","","","","","","","","","","","","","","","","","","","","","","","","","","",null,null,null,null,null,null,null,null,null,null,null,null,null,null,null,null,null,null,null,null,null,null,null,null,null,null,null,null,null,null,null,null,null,null,null,null,null,null,null,null,null,null,null,null,null,null,null,null,null,null,null,null,null,null,null,null,null,null,null,null,null,5,null,null,null,null,{"$f":"G4","v":1},{"$f":"H4","v":2},3,4,5,6,7,8,9,10,11,12,13,14,15,16,17,18,19,20,21,22,23,24,25,26,27,28,29,30,31,32,33,34,35,36,37,38,39,40]
[null,null,null,null,null,null,{"$f":"G65&H65&I65&J65&K65&L65&M65&N65&O65&P65&Q65&R65&S65&T65&U65&V65&W65&X65&Y65&Z65&AA65&AB65&AC65&AD65&AE65&AF65&AG65&AH65&AI65&AJ65&AK65&AL65&AM65&AN65&AO65&AP65&AQ65&AR65&AS65&AT65","v":"1"},null,null,null,null,null,null,null,null,null,null,null,null,null,null,null,null,null,null,null,null,null,null,null,null,null,null,null,null,null,null,null,null,null,null,null,null,null,null,null,null,null,null,null,null,null,null,null,null,null,null,null,null,null,null,null,null,null,null,null,null,null,null,null,null,null,null,null,"Primo Blocco",null,null,null,null,null,{"$f":"G66","v":"1"},{"$f":"CC67+CC72+CC77","v":190.1},null,"Quintali",null,"N° Blocco",null,null,null,null,null,null,null,null,null,null,null,null,null,null,null,null,null,null,null,null,null,6,null,null,null,null,{"$f":"G6","v":100},{"$f":"H6","v":70},20.100000000000001,220,20,"","","","","","","","","","","","","","","","","","","","","","","","","","","","","","","","","","",""]
[null,null,null,null,null,null,{"$f":"G64","v":100},null,null,null,null,null,null,null,null,null,null,null,null,null,null,null,null,null,null,null,null,null,null,null,null,null,null,null,null,null,null,null,null,null,null,null,null,null,null,null,null,null,null,null,null,null,null,null,null,null,null,null,null,null,null,null,null,null,null,null,null,null,null,null,null,null,null,null,null,null,null,null,null,null,{"$f":"G64","v":100},null,null,{"$f":"IF(CC67=0,\"\",CC67)","v":100},null,{"$f":"IF(CF67=\"\",\"\",CC66)","v":"1"},null,null,null,null,null,null,null,null,null,null,null,null,null,null,null,null,null,null,null,null,null,7,null,null,"NUMERO",null,{"$f":"G5","v":"1"},{"$f":"H5","v":"2"},"3","4","5","","","","","","","","","","","","","","","","","","","","","","","","","","","","","","","","","","",""]
[null,null,null,null,null,null,{"$f":"IF(G69=\"\",\"\",IF(G69=G63,G62,\"\"))","v":""},{"$f":"IF(H69=\"\",\"\",IF(H69=H63,H62,\"\"))","v":"2"},"3","","5","","","","","","","","","","","","","","","",{"$f":"IF(AA69=\"\",\"\",IF(AA69=AA63,AA62,\"\"))","v":""},"","","","","","","","","","","","","","","","","","","",null,null,null,null,null,null,null,null,null,null,null,null,null,null,null,null,null,null,null,null,null,null,null,null,null,null,null,null,null,null,null,null,null,null,null,null,null,{"$f":"IF(CC72=0,\"\",CC72)","v":70},null,{"$f":"IF(CF68=\"\",\"\",CC71)","v":"2"},null,null,null,null,null,null,null,null,null,null,null,null,null,null,null,null,null,null,null,null,null,8]
[null,null,"DISPONIBILI",null,null,null,{"$f":"IF(G63=$G64,\"\",G63)","v":""},{"$f":"IF(H63=$G64,\"\",H63)","v":70},20.100000000000001,"",20,"","","","","","","","","","","","","","","",{"$f":"IF(AA63=$G64,\"\",AA63)","v":""},"","","","","","","","","","","","","","","","","","","",null,null,null,null,null,null,null,null,null,null,null,null,null,null,null,null,null,null,null,null,null,null,null,null,null,null,null,null,null,null,null,null,null,null,null,null,null,{"$f":"IF(CC77=0,\"\",CC77)","v":20.100000000000001},null,{"$f":"IF(CF69=\"\",\"\",CC76)","v":"3"},null,null,null,null,null,null,null,null,null,null,null,null,null,null,null,null,null,null,null,null,null,9,1,null,{"$f":"DI67","v":"1"},null,{"$f":"IF($DG69=DI$67,1,\"\")","v":1},{"$f":"IF($DG69=DJ$67,1,\"\")","v":""},"","","","","","","","","","","","","","","","","","","","","","","","","","","","","","","","","","","","","",""]
[null,null,null,null,null,null,null,null,null,null,null,null,null,null,null,null,null,null,null,null,null,null,null,null,null,null,null,null,null,null,null,null,null,null,null,null,null,null,null,null,null,null,null,null,null,null,null,null,null,null,null,null,null,null,null,null,null,null,null,null,null,null,null,null,null,null,null,null,null,null,null,null,null,null,null,null,null,null,null,null,null,null,null,"NUMERO TIR",null,null,null,null,null,null,null,null,null,null,null,null,null,null,null,null,null,null,null,null,null,null,null,10,2,null,{"$f":"DJ67","v":"2"},null,{"$f":"IF($DG70=DI$67,1,\"\")","v":""},1,"","","","","","","","","","","","","","","","","","","","","","","","","","","","","","","","","","","","","",""]
[null,null,"Portata                Max.               TIR",1,{"$f":"IF(F71<>\"\",F71+G$67,\"\")","v":""},{"$f":"G69","v":""},{"$f":"IF(F71=\"\",\"\",IF(E71<=$C$74,\"X\",\"\"))","v":""},{"$f":"IF(G71=\"X\",F71,\"\")","v":""},{"$f":"MAX(H71:H110)","v":70},{"$f":"IF(J72=G69,G68,\"\")","v":""},{"$f":"IF(K72=H69,H68,\"\")","v":"2"},"","","","","","","","","","","","","","","","","","",{"$f":"IF(AD72=AA69,AA68,\"\")","v":""},{"$f":"IF(AE72=AB69,AB68,\"\")","v":""},{"$f":"IF(AF72=AC69,AC68,\"\")","v":""},{"$f":"IF(AG72=AD69,AD68,\"\")","v":""},{"$f":"IF(AH72=AE69,AE68,\"\")","v":""},{"$f":"IF(AI72=AF69,AF68,\"\")","v":""},{"$f":"IF(AJ72=AG69,AG68,\"\")","v":""},{"$f":"IF(AK72=AH69,AH68,\"\")","v":""},{"$f":"IF(AL72=AI69,AI68,\"\")","v":""},{"$f":"IF(AM72=AJ69,AJ68,\"\")","v":""},{"$f":"IF(AN72=AK69,AK68,\"\")","v":""},{"$f":"IF(AO72=AL69,AL68,\"\")","v":""},{"$f":"IF(AP72=AM69,AM68,\"\")","v":""},{"$f":"IF(AQ72=AN69,AN68,\"\")","v":""},{"$f":"IF(AR72=AO69,AO68,\"\")","v":""},{"$f":"IF(AS72=AP69,AP68,\"\")","v":""},{"$f":"IF(AT72=AQ69,AQ68,\"\")","v":""},{"$f":"IF(AU72=AR69,AR68,\"\")","v":""},{"$f":"IF(AV72=AS69,AS68,\"\")","v":""},{"$f":"IF(AW72=AT69,AT68,\"\")","v":""},null,null,null,null,null,null,null,null,null,null,null,null,null,null,null,null,null,null,null,null,null,null,null,null,null,"Secondo Blocco",null,null,null,null,null,{"$f":"J71&K71&L71&M71&N71&O71&P71&Q71&R71&S71&T71&U71&V71&W71&X71&Y71&Z71&AA71&AB71&AC71&AD71&AE71&AF71&AG71&AH71&AI71&AJ71&AK71&AL71&AM71&AN71&AO71&AP71&AQ71&AR71&AS71&AT71&AU71&AV71&AW71","v":"2"},null,null,null,null,null,null,null,null,null,null,null,null,null,null,null,null,null,null,null,null,null,null,null,null,null,null,11,3,null,{"$f":"DK67","v":"3"},null,"","",1,"","","","","","","","","","","","","","","","","","","","","","","","","","","","","","","","","","","","",""]
[null,null,null,2,170,{"$f":"H69","v":70},{"$f":"IF(F72=\"\",\"\",IF(E72<=$C$74,\"X\",\"\"))","v":"X"},70,null,{"$f":"IF($J73=G69,G69,\"\")","v":""},{"$f":"IF($J73=H69,H69,\"\")","v":70},"","","","","","","","","","","","","","","","","","",{"$f":"IF($J73=AA69,AA69,\"\")","v":""},{"$f":"IF($J73=AB69,AB69,\"\")","v":""},{"$f":"IF($J73=AC69,AC69,\"\")","v":""},{"$f":"IF($J73=AD69,AD69,\"\")","v":""},{"$f":"IF($J73=AE69,AE69,\"\")","v":""},{"$f":"IF($J73=AF69,AF69,\"\")","v":""},{"$f":"IF($J73=AG69,AG69,\"\")","v":""},{"$f":"IF($J73=AH69,AH69,\"\")","v":""},{"$f":"IF($J73=AI69,AI69,\"\")","v":""},{"$f":"IF($J73=AJ69,AJ69,\"\")","v":""},{"$f":"IF($J73=AK69,AK69,\"\")","v":""},{"$f":"IF($J73=AL69,AL69,\"\")","v":""},{"$f":"IF($J73=AM69,AM69,\"\")","v":""},{"$f":"IF($J73=AN69,AN69,\"\")","v":""},{"$f":"IF($J73=AO69,AO69,\"\")","v":""},{"$f":"IF($J73=AP69,AP69,\"\")","v":""},{"$f":"IF($J73=AQ69,AQ69,\"\")","v":""},{"$f":"IF($J73=AR69,AR69,\"\")","v":""},{"$f":"IF($J73=AS69,AS69,\"\")","v":""},{"$f":"IF($J73=AT69,AT69,\"\")","v":""},null,null,null,null,null,null,null,null,null,null,null,null,null,null,null,null,null,null,null,null,null,null,null,null,null,null,null,null,null,null,null,{"$f":"J73","v":70},null,null,null,null,null,null,null,null,null,null,null,null,null,null,null,null,null,null,null,null,null,null,null,null,null,null,12,4,null,{"$f":"DL67","v":"4"},null,"","","",1,"","","","","","","","","","","","","","","","","","","","","","","","","","","","","","","","","","","",""]
[null,null,null,3,120.1,{"$f":"I69","v":20.100000000000001},"X",20.100000000000001,null,{"$f":"I71","v":70},null,null,null,null,null,null,null,null,null,null,null,null,null,null,null,null,null,null,null,null,null,null,null,null,null,null,null,null,null,null,null,null,null,null,null,null,null,null,null,null,null,null,null,null,null,null,null,null,null,null,null,null,null,null,null,null,null,null,null,null,null,null,null,null,null,null,null,null,null,null,null,null,null,null,null,null,null,null,null,null,null,null,null,null,null,null,null,null,null,null,null,null,null,null,null,null,null,13,5,null,{"$f":"DM67","v":"5"},null,"","","","",1,"","","","","","","","","","","","","","","","","","","","","","","","","","","","","","","","","","",""]
[null,null,{"$f":"$P$3","v":200},4,"",{"$f":"J69","v":""},"","",null,null,null,null,null,null,null,null,null,null,null,null,null,null,null,null,null,null,null,null,null,null,null,null,null,null,null,null,null,null,null,null,null,null,null,null,null,null,null,null,null,null,null,null,null,null,null,null,null,null,null,null,null,null,null,null,null,null,null,null,null,null,null,null,null,null,null,null,null,null,null,null,null,null,null,{"$f":"IF(CD66>0,1,\"\")","v":1},null,null,null,null,null,null,null,null,null,null,null,null,null,null,null,null,null,null,null,null,null,null,null,14,6,null,{"$f":"DN67","v":""},null,"","","","","",1,1,1,1,1,1,1,1,1,1,1,1,1,1,1,1,1,1,1,1,1,1,1,1,1,1,1,1,1,1,1,1,1,1,1]
[null,null,null,5,120,{"$f":"K69","v":20},"X",20,null,null,null,null,null,{"$f":"IF(N76=G69,G68,\"\")","v":""},{"$f":"IF(O76=H69,H68,\"\")","v":""},"3","","5","","","","","","",{"$f":"IF(Y76=R69,R68,\"\")","v":""},{"$f":"IF(Z76=S69,S68,\"\")","v":""},{"$f":"IF(AA76=T69,T68,\"\")","v":""},{"$f":"IF(AB76=U69,U68,\"\")","v":""},{"$f":"IF(AC76=V69,V68,\"\")","v":""},{"$f":"IF(AD76=W69,W68,\"\")","v":""},{"$f":"IF(AE76=X69,X68,\"\")","v":""},{"$f":"IF(AF76=Y69,Y68,\"\")","v":""},{"$f":"IF(AG76=Z69,Z68,\"\")","v":""},{"$f":"IF(AH76=AA69,AA68,\"\")","v":""},{"$f":"IF(AI76=AB69,AB68,\"\")","v":""},{"$f":"IF(AJ76=AC69,AC68,\"\")","v":""},{"$f":"IF(AK76=AD69,AD68,\"\")","v":""},{"$f":"IF(AL76=AE69,AE68,\"\")","v":""},{"$f":"IF(AM76=AF69,AF68,\"\")","v":""},{"$f":"IF(AN76=AG69,AG68,\"\")","v":""},{"$f":"IF(AO76=AH69,AH68,\"\")","v":""},{"$f":"IF(AP76=AI69,AI68,\"\")","v":""},{"$f":"IF(AQ76=AJ69,AJ68,\"\")","v":""},{"$f":"IF(AR76=AK69,AK68,\"\")","v":""},{"$f":"IF(AS76=AL69,AL68,\"\")","v":""},{"$f":"IF(AT76=AM69,AM68,\"\")","v":""},{"$f":"IF(AU76=AN69,AN68,\"\")","v":""},{"$f":"IF(AV76=AO69,AO68,\"\")","v":""},{"$f":"IF(AW76=AP69,AP68,\"\")","v":""},{"$f":"IF(AX76=AQ69,AQ68,\"\")","v":""},{"$f":"IF(AY76=AR69,AR68,\"\")","v":""},{"$f":"IF(AZ76=AS69,AS68,\"\")","v":""},{"$f":"IF(BA76=AT69,AT68,\"\")","v":""},null,null,null,null,null,null,null,null,null,null,null,null,null,null,null,null,null,null,null,null,null,null,null,null,null,null,null,null,null,null,null,null,null,null,null,null,null,null,null,null,null,null,null,null,null,null,null,null,null,null,null,null,null,null,15,7,null,{"$f":"DO67","v":""},null,"","","","","",1,1,1,1,1,1,1,1,1,1,1,1,1,1,1,1,1,{"$f":"IF($DG75=EE$67,1,\"\")","v":1},1,1,1,1,1,1,1,1,1,1,1,1,1,1,1,{"$f":"IF($DG75=EU$67,1,\"\")","v":1},1]
[null,null,null,6,"",{"$f":"L69","v":""},"","",null,"DISPONIBILI",null,null,null,{"$f":"IF(G69=\"\",\"\",IF(G69=J72,\"\",G69))","v":""},{"$f":"IF(H69=\"\",\"\",IF(H69=K72,\"\",H69))","v":""},20.100000000000001,"",20,"","","","","","",{"$f":"IF(R69=\"\",\"\",IF(R69=U72,\"\",R69))","v":""},{"$f":"IF(S69=\"\",\"\",IF(S69=V72,\"\",S69))","v":""},{"$f":"IF(T69=\"\",\"\",IF(T69=W72,\"\",T69))","v":""},{"$f":"IF(U69=\"\",\"\",IF(U69=X72,\"\",U69))","v":""},{"$f":"IF(V69=\"\",\"\",IF(V69=Y72,\"\",V69))","v":""},{"$f":"IF(W69=\"\",\"\",IF(W69=Z72,\"\",W69))","v":""},{"$f":"IF(X69=\"\",\"\",IF(X69=AA72,\"\",X69))","v":""},{"$f":"IF(Y69=\"\",\"\",IF(Y69=AB72,\"\",Y69))","v":""},{"$f":"IF(Z69=\"\",\"\",IF(Z69=AC72,\"\",Z69))","v":""},{"$f":"IF(AA69=\"\",\"\",IF(AA69=AD72,\"\",AA69))","v":""},{"$f":"IF(AB69=\"\",\"\",IF(AB69=AE72,\"\",AB69))","v":""},{"$f":"IF(AC69=\"\",\"\",IF(AC69=AF72,\"\",AC69))","v":""},{"$f":"IF(AD69=\"\",\"\",IF(AD69=AG72,\"\",AD69))","v":""},{"$f":"IF(AE69=\"\",\"\",IF(AE69=AH72,\"\",AE69))","v":""},{"$f":"IF(AF69=\"\",\"\",IF(AF69=AI72,\"\",AF69))","v":""},{"$f":"IF(AG69=\"\",\"\",IF(AG69=AJ72,\"\",AG69))","v":""},{"$f":"IF(AH69=\"\",\"\",IF(AH69=AK72,\"\",AH69))","v":""},{"$f":"IF(AI69=\"\",\"\",IF(AI69=AL72,\"\",AI69))","v":""},{"$f":"IF(AJ69=\"\",\"\",IF(AJ69=AM72,\"\",AJ69))","v":""},{"$f":"IF(AK69=\"\",\"\",IF(AK69=AN72,\"\",AK69))","v":""},{"$f":"IF(AL69=\"\",\"\",IF(AL69=AO72,\"\",AL69))","v":""},{"$f":"IF(AM69=\"\",\"\",IF(AM69=AP72,\"\",AM69))","v":""},{"$f":"IF(AN69=\"\",\"\",IF(AN69=AQ72,\"\",AN69))","v":""},{"$f":"IF(AO69=\"\",\"\",IF(AO69=AR72,\"\",AO69))","v":""},{"$f":"IF(AP69=\"\",\"\",IF(AP69=AS72,\"\",AP69))","v":""},{"$f":"IF(AQ69=\"\",\"\",IF(AQ69=AT72,\"\",AQ69))","v":""},{"$f":"IF(AR69=\"\",\"\",IF(AR69=AU72,\"\",AR69))","v":""},{"$f":"IF(AS69=\"\",\"\",IF(AS69=AV72,\"\",AS69))","v":""},{"$f":"IF(AT69=\"\",\"\",IF(AT69=AW72,\"\",AT69))","v":""},null,null,null,null,null,null,null,null,null,null,null,null,null,null,null,null,null,null,null,null,null,"Terzo Blocco",null,null,null,null,null,{"$f":"P78&Q78&R78&S78&T78&U78&V78&W78&X78&Y78&Z78&AA78&AB78&AC78&AD78&AE78&AF78&AG78&AH78&AI78&AJ78&AK78&AL78&AM78&AN78&AO78&AP78&AQ78&AR78&AS78&AT78&AU78&AV78&AW78&AX78&AY78&AZ78&BA78&BB78&BC78","v":"3"},null,null,null,null,null,null,null,null,null,null,null,null,null,null,null,null,null,null,null,null,null,null,null,null,null,null,16,8,null,{"$f":"DP67","v":""},null,"","","","","",1,1,1,1,1,1,1,1,1,1,1,{"$f":"IF($DG76=DY$67,1,\"\")","v":1},1,1,1,1,1,1,1,1,1,1,1,1,1,1,1,1,1,1,1,1,1,1,1]
[null,null,null,7,"",{"$f":"M69","v":""},"","",null,null,null,null,null,null,null,null,null,null,null,null,null,null,null,null,null,null,null,null,null,null,null,null,null,null,null,null,null,null,null,null,null,null,null,null,null,null,null,null,null,null,null,null,null,null,null,null,null,null,null,null,null,null,1,2,null,null,null,null,null,null,null,null,null,null,null,null,null,null,null,null,{"$f":"P80","v":20.100000000000001},null,null,null,null,null,null,null,null,null,null,null,null,null,null,null,null,null,null,null,null,null,null,null,null,null,null,17,9,null,{"$f":"DQ67","v":""},null,"","","","","",1,1,1,1,1,1,1,1,1,1,1,1,1,1,1,1,1,1,1,1,1,1,1,1,1,1,1,1,1,1,1,1,1,1,1]
[null,null,null,8,"",{"$f":"N69","v":""},"","",null,1,{"$f":"IF(L78<>\"\",BK78+BL78+L78,\"\")","v":""},{"$f":"N76","v":""},{"$f":"IF(L78=\"\",\"\",IF(K78<=$C$74,\"X\",\"\"))","v":""},{"$f":"IF(M78=\"X\",L78,\"\")","v":""},{"$f":"MAX(N78:N117)","v":20.100000000000001},{"$f":"IF(P79=N76,N75,\"\")","v":""},{"$f":"IF(Q79=O76,O75,\"\")","v":""},"3","","","","","","","",{"$f":"IF(Z79=X76,X75,\"\")","v":""},{"$f":"IF(AA79=Y76,Y75,\"\")","v":""},{"$f":"IF(AB79=Z76,Z75,\"\")","v":""},"","","","","","","",{"$f":"IF(AJ79=AH76,AH75,\"\")","v":""},{"$f":"IF(AK79=AI76,AI75,\"\")","v":""},{"$f":"IF(AL79=AJ76,AJ75,\"\")","v":""},{"$f":"IF(AM79=AK76,AK75,\"\")","v":""},{"$f":"IF(AN79=AL76,AL75,\"\")","v":""},{"$f":"IF(AO79=AM76,AM75,\"\")","v":""},{"$f":"IF(AP79=AN76,AN75,\"\")","v":""},{"$f":"IF(AQ79=AO76,AO75,\"\")","v":""},{"$f":"IF(AR79=AP76,AP75,\"\")","v":""},{"$f":"IF(AS79=AQ76,AQ75,\"\")","v":""},{"$f":"IF(AT79=AR76,AR75,\"\")","v":""},{"$f":"IF(AU79=AS76,AS75,\"\")","v":""},{"$f":"IF(AV79=AT76,AT75,\"\")","v":""},{"$f":"IF(AW79=AU76,AU75,\"\")","v":""},{"$f":"IF(AX79=AV76,AV75,\"\")","v":""},{"$f":"IF(AY79=AW76,AW75,\"\")","v":""},{"$f":"IF(AZ79=AX76,AX75,\"\")","v":""},{"$f":"IF(BA79=AY76,AY75,\"\")","v":""},{"$f":"IF(BB79=AZ76,AZ75,\"\")","v":""},{"$f":"IF(BC79=BA76,BA75,\"\")","v":""},null,null,null,null,null,null,1,{"$f":"CC67","v":100},{"$f":"CC72","v":70},null,null,null,null,null,null,null,null,null,null,null,null,null,null,null,null,null,null,null,null,null,null,null,null,null,null,null,null,null,null,null,null,null,null,null,null,null,null,null,null,null,null,null,18,10,null,{"$f":"DR67","v":""},null,"","","","","",1,1,1,1,1,1,1,1,1,1,1,1,1,1,1,1,1,1,1,1,1,1,1,1,1,1,1,1,1,1,1,1,1,1,1]
[null,null,null,9,"",{"$f":"O69","v":""},"","",null,2,"",{"$f":"O76","v":""},{"$f":"IF(L79=\"\",\"\",IF(K79<=$C$74,\"X\",\"\"))","v":""},{"$f":"IF(M79=\"X\",L79,\"\")","v":""},null,{"$f":"IF($P80=N76,N76,\"\")","v":""},{"$f":"IF($P80=O76,O76,\"\")","v":""},20.100000000000001,"","","","","","","","","","","","","","","","","",{"$f":"IF($P80=AH76,AH76,\"\")","v":""},{"$f":"IF($P80=AI76,AI76,\"\")","v":""},{"$f":"IF($P80=AJ76,AJ76,\"\")","v":""},{"$f":"IF($P80=AK76,AK76,\"\")","v":""},{"$f":"IF($P80=AL76,AL76,\"\")","v":""},{"$f":"IF($P80=AM76,AM76,\"\")","v":""},{"$f":"IF($P80=AN76,AN76,\"\")","v":""},{"$f":"IF($P80=AO76,AO76,\"\")","v":""},{"$f":"IF($P80=AP76,AP76,\"\")","v":""},{"$f":"IF($P80=AQ76,AQ76,\"\")","v":""},{"$f":"IF($P80=AR76,AR76,\"\")","v":""},{"$f":"IF($P80=AS76,AS76,\"\")","v":""},{"$f":"IF($P80=AT76,AT76,\"\")","v":""},{"$f":"IF($P80=AU76,AU76,\"\")","v":""},{"$f":"IF($P80=AV76,AV76,\"\")","v":""},{"$f":"IF($P80=AW76,AW76,\"\")","v":""},{"$f":"IF($P80=AX76,AX76,\"\")","v":""},{"$f":"IF($P80=AY76,AY76,\"\")","v":""},{"$f":"IF($P80=AZ76,AZ76,\"\")","v":""},{"$f":"IF($P80=BA76,BA76,\"\")","v":""},null,null,null,null,null,null,2,{"$f":"BK78","v":100},{"$f":"BL78","v":70},null,null,null,null,null,null,null,null,null,null,null,null,null,null,null,null,null,null,null,null,null,null,null,null,null,null,null,null,null,null,null,null,null,null,null,null,null,null,null,null,null,null,null,19,11,null,{"$f":"DS67","v":""},null,"","","","","",1,1,1,1,1,1,1,1,1,1,1,1,1,1,1,1,1,1,1,1,1,1,1,1,1,1,1,1,1,1,1,1,1,1,1]
[null,null,null,10,"",{"$f":"P69","v":""},"","",null,3,190.1,{"$f":"P76","v":20.100000000000001},"X",20.100000000000001,null,{"$f":"O78","v":20.100000000000001},null,null,null,null,null,null,null,null,null,null,null,null,null,null,null,null,null,null,null,null,null,null,null,null,null,null,null,null,null,null,null,null,null,null,null,null,null,null,null,null,null,null,null,null,null,3,{"$f":"BK79","v":100},{"$f":"BL79","v":70},null,null,null,null,null,null,null,null,null,null,null,null,null,null,null,"MASSIMO CARICO",null,null,null,null,{"$f":"C74","v":200},null,null,null,null,null,null,null,null,null,null,null,null,null,null,null,null,null,null,null,null,null,null,20,12,null,{"$f":"DT67","v":""},null,"","","","","",1,1,1,1,1,1,1,1,1,1,1,1,1,1,1,1,1,1,1,1,1,1,1,1,1,1,1,1,1,1,1,1,1,1,1]
[null,null,null,11,"",{"$f":"Q69","v":""},"","",null,4,"",{"$f":"Q76","v":""},"","",null,null,null,null,null,null,null,null,null,null,null,null,null,null,null,null,null,null,null,null,null,null,null,null,null,null,null,null,null,null,null,null,null,null,null,null,null,null,null,null,null,null,null,null,null,null,null,4,100,70,null,null,null,null,null,null,null,null,null,null,null,null,null,null,null,null,null,null,null,null,null,null,null,null,null,null,null,null,null,null,null,null,null,null,null,null,null,null,null,null,null,null,null,21,13,null,{"$f":"DU67","v":""},null,"","","","","",1,1,1,1,1,1,1,1,1,1,1,1,1,1,1,1,1,1,1,1,1,1,1,1,1,1,1,1,1,1,1,1,1,1,1]
[null,null,null,12,"",{"$f":"R69","v":""},"","",null,5,190,{"$f":"R76","v":20},"X",20,null,null,null,null,null,null,null,null,null,null,null,null,null,null,null,null,null,null,null,null,null,null,null,null,null,null,null,null,null,null,null,null,null,null,null,null,null,null,null,null,null,null,null,null,null,null,null,5,100,70,null,null,null,null,null,null,null,null,null,null,null,null,null,null,null,"RIMANE",null,null,null,null,{"$f":"CG80-CD66","v":9.9000000000000057},null,null,null,null,null,null,null,null,null,null,null,null,null,null,null,null,null,null,null,null,null,null,22,14,null,{"$f":"DV67","v":""},null,"","","","","",1,1,1,1,1,1,1,1,1,1,1,1,1,1,1,1,1,1,1,1,1,1,1,1,1,1,1,1,1,1,1,1,1,1,1]
[null,null,null,13,"",{"$f":"S69","v":""},"","",null,6,"",{"$f":"S76","v":""},"","",null,null,null,null,null,null,null,null,null,null,null,null,null,null,null,null,null,null,null,null,null,null,null,null,null,null,null,null,null,null,null,null,null,null,null,null,null,null,null,null,null,null,null,null,null,null,null,6,100,70,null,null,null,null,null,null,null,null,null,null,null,null,null,null,null,null,null,null,null,null,null,null,null,null,null,null,null,null,null,null,null,null,null,null,null,null,null,null,null,null,null,null,null,23,15,null,{"$f":"DW67","v":""},null,"","","","","",1,1,1,1,1,1,1,1,1,1,1,1,1,1,1,1,1,1,1,1,1,1,1,1,1,1,1,1,1,1,1,1,1,1,1]
[null,null,null,14,"",{"$f":"T69","v":""},"","",null,7,"",{"$f":"T76","v":""},"","",null,null,null,null,null,null,null,null,null,null,null,null,null,null,null,null,null,null,null,null,null,null,null,null,null,null,null,null,null,null,null,null,null,null,null,null,null,null,null,null,null,null,null,null,null,null,null,7,100,70,null,null,null,null,null,null,null,null,null,null,null,null,null,null,null,null,null,null,null,null,null,null,null,null,null,null,null,null,null,null,null,null,null,null,null,null,null,null,null,null,null,null,null,24,16,null,{"$f":"DX67","v":""},null,"","","","","",1,1,1,1,1,1,1,1,1,1,1,1,1,1,1,1,1,1,1,1,1,1,1,1,1,1,1,1,1,1,1,1,1,1,1]
[null,null,null,15,"",{"$f":"U69","v":""},"","",null,8,"",{"$f":"U76","v":""},"","",null,null,null,null,null,null,null,null,null,null,null,null,null,null,null,null,null,null,null,null,null,null,null,null,null,null,null,null,null,null,null,null,null,null,null,null,null,null,null,null,null,null,null,null,null,null,null,8,100,70,null,null,null,null,null,null,null,null,null,null,null,null,null,null,null,null,null,null,null,null,null,null,null,null,null,null,null,null,null,null,null,null,null,null,null,null,null,null,null,null,null,null,null,25,17,null,{"$f":"DY67","v":""},null,"","","","","",1,1,1,1,1,1,1,1,1,1,1,1,1,1,1,1,1,1,1,1,1,1,1,1,1,1,1,1,1,1,1,1,1,1,1]
[null,null,null,16,"",{"$f":"V69","v":""},"","",null,9,"",{"$f":"V76","v":""},"","",null,null,null,null,null,null,null,null,null,null,null,null,null,null,null,null,null,null,null,null,null,null,null,null,null,null,null,null,null,null,null,null,null,null,null,null,null,null,null,null,null,null,null,null,null,null,null,9,100,70,null,null,null,null,null,null,null,null,null,null,null,null,null,null,null,null,null,null,null,null,null,null,null,null,null,null,null,null,null,null,null,null,null,null,null,null,null,null,null,null,null,null,null,26,18,null,{"$f":"DZ67","v":""},null,"","","","","",1,1,1,1,1,1,1,1,1,1,1,1,1,1,1,1,1,1,1,1,1,1,1,1,1,1,1,1,1,1,1,1,1,1,1]
[null,null,null,17,"",{"$f":"W69","v":""},"","",null,10,"",{"$f":"W76","v":""},"","",null,null,null,null,null,null,null,null,null,null,null,null,null,null,null,null,null,null,null,null,null,null,null,null,null,null,null,null,null,null,null,null,null,null,null,null,null,null,null,null,null,null,null,null,null,null,null,10,100,70,null,null,null,null,null,null,null,null,null,null,null,null,null,null,null,null,null,null,null,null,null,null,null,null,null,null,null,null,null,null,null,null,null,null,null,null,null,null,null,null,null,null,null,27,19,null,{"$f":"EA67","v":""},null,"","","","","",1,1,1,1,1,1,1,1,1,1,1,1,1,1,1,1,1,1,1,1,1,1,1,1,1,1,1,1,1,1,1,1,1,1,1]
[null,null,null,18,"",{"$f":"X69","v":""},"","",null,11,"",{"$f":"X76","v":""},"","",null,null,null,null,null,null,null,null,null,null,null,null,null,null,null,null,null,null,null,null,null,null,null,null,null,null,null,null,null,null,null,null,null,null,null,null,null,null,null,null,null,null,null,null,null,null,null,11,100,70,null,null,null,null,null,null,null,null,null,null,null,null,null,null,null,null,null,null,null,null,null,null,null,null,null,null,null,null,null,null,null,null,null,null,null,null,null,null,null,null,null,null,null,28,20,null,{"$f":"EB67","v":""},null,"","","","","",1,1,1,1,1,1,1,1,1,1,1,1,1,1,1,1,1,1,1,1,1,1,1,1,1,1,1,1,1,1,1,1,1,1,1]
[null,null,null,19,"",{"$f":"Y69","v":""},"","",null,12,"",{"$f":"Y76","v":""},"","",null,null,null,null,null,null,null,null,null,null,null,null,null,null,null,null,null,null,null,null,null,null,null,null,null,null,null,null,null,null,null,null,null,null,null,null,null,null,null,null,null,null,null,null,null,null,null,12,100,70,null,null,null,null,null,null,null,null,null,null,null,null,null,null,null,null,null,null,null,null,null,null,null,null,null,null,null,null,null,null,null,null,null,null,null,null,null,null,null,null,null,null,null,29,21,null,{"$f":"EC67","v":""},null,"","","","","",1,1,1,1,1,1,1,1,1,1,1,1,1,1,1,1,1,1,1,1,1,1,1,1,1,1,1,1,1,1,1,1,1,1,1]
[null,null,null,20,"",{"$f":"Z69","v":""},"","",null,13,"",{"$f":"Z76","v":""},"","",null,null,null,null,null,null,null,null,null,null,null,null,null,null,null,null,null,null,null,null,null,null,null,null,null,null,null,null,null,null,null,null,null,null,null,null,null,null,null,null,null,null,null,null,null,null,null,13,100,70,null,null,null,null,null,null,null,null,null,null,null,null,null,null,null,null,null,null,null,null,null,null,null,null,null,null,null,null,null,null,null,null,null,null,null,null,null,null,null,null,null,null,null,30,22,null,{"$f":"ED67","v":""},null,"","","","","",1,1,1,1,1,1,1,1,1,1,1,1,1,1,1,1,1,1,1,1,1,1,1,1,1,1,1,1,1,1,1,1,1,1,1]
[null,null,null,21,{"$f":"IF(F91<>\"\",F91+G$67,\"\")","v":""},{"$f":"AA69","v":""},"",{"$f":"IF(G91=\"X\",F91,\"\")","v":""},null,14,"",{"$f":"AA76","v":""},"","",null,null,null,null,null,null,null,null,null,null,null,null,null,null,null,null,null,null,null,null,null,null,null,null,null,null,null,null,null,null,null,null,null,null,null,null,null,null,null,null,null,null,null,null,null,null,null,14,100,70,null,null,null,null,null,null,null,null,null,null,null,null,null,null,null,null,null,null,null,null,null,null,null,null,null,null,null,null,null,null,null,null,null,null,null,null,null,null,null,null,null,null,null,31,23,null,{"$f":"EE67","v":""},null,"","","","","",1,1,1,1,{"$f":"IF($DG91=DR$67,1,\"\")","v":1},1,1,1,1,1,1,1,1,1,1,1,1,1,1,1,1,1,1,1,1,1,1,1,1,1,1,1,1,1,1]
[null,null,null,22,"",{"$f":"AB69","v":""},"","",null,15,"",{"$f":"AB76","v":""},"","",null,"RIMASTI A DISPOSIZIONE",null,null,null,null,null,null,null,null,null,null,null,null,null,null,null,null,null,null,null,null,null,null,null,null,null,null,null,null,null,null,null,null,null,null,null,null,null,null,null,null,null,null,null,null,null,15,100,70,null,null,null,null,null,null,null,null,null,null,null,null,null,null,null,null,null,null,null,null,null,null,null,null,null,null,null,null,null,null,null,null,null,null,null,null,null,null,null,null,null,null,null,32,24,null,{"$f":"EF67","v":""},null,{"$f":"IF($DG92=DI$67,1,\"\")","v":""},"","","","",1,1,1,1,1,1,1,1,1,1,1,1,1,1,1,1,1,1,1,1,1,1,1,1,1,1,1,1,1,1,1,1,1,1,1]
[null,null,null,23,"",{"$f":"AC69","v":""},"","",null,16,"",{"$f":"AC76","v":""},"","",null,null,null,null,null,null,null,null,null,null,null,null,null,null,null,null,null,null,null,null,null,null,null,null,null,null,null,null,null,null,null,null,null,null,null,null,null,null,null,null,null,null,null,null,null,null,null,16,100,70,null,null,null,null,null,null,null,null,null,null,null,null,null,null,null,null,null,null,null,null,null,null,null,null,null,null,null,null,null,null,null,null,null,null,null,null,null,null,null,null,null,null,null,33,25,null,{"$f":"EG67","v":""},null,"","","","","",1,1,1,1,1,1,1,1,1,1,1,1,1,1,1,1,1,1,1,1,1,{"$f":"IF($DG93=EI$67,1,\"\")","v":1},1,1,1,1,1,1,1,1,1,1,1,1,1]
[null,null,null,24,"",{"$f":"AD69","v":""},"","",null,17,"",{"$f":"AD76","v":""},"","",null,1,2,3,4,5,6,7,8,9,10,11,12,13,14,15,16,17,18,19,20,21,22,23,24,25,26,27,28,29,30,31,32,33,34,35,36,37,38,39,40,null,null,null,null,null,null,17,100,70,null,null,null,null,null,null,null,null,null,null,null,null,null,null,null,null,null,null,null,null,null,null,null,null,null,null,null,null,null,null,null,null,null,null,null,null,null,null,null,null,null,null,null,34,26,null,{"$f":"EH67","v":""},null,"","","","","",1,1,1,1,1,1,1,1,1,1,1,1,1,1,1,1,1,1,1,1,{"$f":"IF($DG94=EH$67,1,\"\")","v":1},1,1,1,1,1,1,1,1,1,1,1,1,1,1]
[null,null,null,25,"",{"$f":"AE69","v":""},"","",null,18,"",{"$f":"AE76","v":""},"","",null,{"$f":"IF(P96=\"\",\"\",IF(P96=G63,G62,\"\"))","v":""},{"$f":"IF(Q96=\"\",\"\",IF(Q96=H63,H62,\"\"))","v":""},"","","5","","","","","","","","","","","","","","","",{"$f":"IF(AJ96=\"\",\"\",IF(AJ96=AA63,AA62,\"\"))","v":""},{"$f":"IF(AK96=\"\",\"\",IF(AK96=AB63,AB62,\"\"))","v":""},{"$f":"IF(AL96=\"\",\"\",IF(AL96=AC63,AC62,\"\"))","v":""},{"$f":"IF(AM96=\"\",\"\",IF(AM96=AD63,AD62,\"\"))","v":""},{"$f":"IF(AN96=\"\",\"\",IF(AN96=AE63,AE62,\"\"))","v":""},{"$f":"IF(AO96=\"\",\"\",IF(AO96=AF63,AF62,\"\"))","v":""},{"$f":"IF(AP96=\"\",\"\",IF(AP96=AG63,AG62,\"\"))","v":""},{"$f":"IF(AQ96=\"\",\"\",IF(AQ96=AH63,AH62,\"\"))","v":""},{"$f":"IF(AR96=\"\",\"\",IF(AR96=AI63,AI62,\"\"))","v":""},{"$f":"IF(AS96=\"\",\"\",IF(AS96=AJ63,AJ62,\"\"))","v":""},{"$f":"IF(AT96=\"\",\"\",IF(AT96=AK63,AK62,\"\"))","v":""},{"$f":"IF(AU96=\"\",\"\",IF(AU96=AL63,AL62,\"\"))","v":""},{"$f":"IF(AV96=\"\",\"\",IF(AV96=AM63,AM62,\"\"))","v":""},{"$f":"IF(AW96=\"\",\"\",IF(AW96=AN63,AN62,\"\"))","v":""},{"$f":"IF(AX96=\"\",\"\",IF(AX96=AO63,AO62,\"\"))","v":""},{"$f":"IF(AY96=\"\",\"\",IF(AY96=AP63,AP62,\"\"))","v":""},{"$f":"IF(AZ96=\"\",\"\",IF(AZ96=AQ63,AQ62,\"\"))","v":""},{"$f":"IF(BA96=\"\",\"\",IF(BA96=AR63,AR62,\"\"))","v":""},{"$f":"IF(BB96=\"\",\"\",IF(BB96=AS63,AS62,\"\"))","v":""},{"$f":"IF(BC96=\"\",\"\",IF(BC96=AT63,AT62,\"\"))","v":""},null,null,null,null,null,null,18,100,70,null,null,null,null,null,null,null,null,null,null,null,null,null,null,null,null,null,null,null,null,null,null,null,null,null,null,null,null,null,null,null,null,null,null,null,null,null,null,null,null,null,null,null,35,27,null,{"$f":"EI67","v":""},null,"","","","","",1,1,1,1,1,1,1,1,1,1,1,1,1,1,1,1,1,1,1,1,1,1,1,1,1,1,1,1,1,1,1,1,1,1,1]
[null,null,null,26,"",{"$f":"AF69","v":""},"","",null,19,"",{"$f":"AF76","v":""},"","",null,{"$f":"IF(G63=$P80,\"\",IF(G63=$J73,\"\",IF(G63=$G64,\"\",G63)))","v":""},{"$f":"IF(H63=$P80,\"\",IF(H63=$J73,\"\",IF(H63=$G64,\"\",H63)))","v":""},"","",20,"","","","","","","","","","","","","","","",{"$f":"IF(AA63=$P80,\"\",IF(AA63=$J73,\"\",IF(AA63=$G64,\"\",AA63)))","v":""},{"$f":"IF(AB63=$P80,\"\",IF(AB63=$J73,\"\",IF(AB63=$G64,\"\",AB63)))","v":""},{"$f":"IF(AC63=$P80,\"\",IF(AC63=$J73,\"\",IF(AC63=$G64,\"\",AC63)))","v":""},{"$f":"IF(AD63=$P80,\"\",IF(AD63=$J73,\"\",IF(AD63=$G64,\"\",AD63)))","v":""},{"$f":"IF(AE63=$P80,\"\",IF(AE63=$J73,\"\",IF(AE63=$G64,\"\",AE63)))","v":""},{"$f":"IF(AF63=$P80,\"\",IF(AF63=$J73,\"\",IF(AF63=$G64,\"\",AF63)))","v":""},{"$f":"IF(AG63=$P80,\"\",IF(AG63=$J73,\"\",IF(AG63=$G64,\"\",AG63)))","v":""},{"$f":"IF(AH63=$P80,\"\",IF(AH63=$J73,\"\",IF(AH63=$G64,\"\",AH63)))","v":""},{"$f":"IF(AI63=$P80,\"\",IF(AI63=$J73,\"\",IF(AI63=$G64,\"\",AI63)))","v":""},{"$f":"IF(AJ63=$P80,\"\",IF(AJ63=$J73,\"\",IF(AJ63=$G64,\"\",AJ63)))","v":""},{"$f":"IF(AK63=$P80,\"\",IF(AK63=$J73,\"\",IF(AK63=$G64,\"\",AK63)))","v":""},{"$f":"IF(AL63=$P80,\"\",IF(AL63=$J73,\"\",IF(AL63=$G64,\"\",AL63)))","v":""},{"$f":"IF(AM63=$P80,\"\",IF(AM63=$J73,\"\",IF(AM63=$G64,\"\",AM63)))","v":""},{"$f":"IF(AN63=$P80,\"\",IF(AN63=$J73,\"\",IF(AN63=$G64,\"\",AN63)))","v":""},{"$f":"IF(AO63=$P80,\"\",IF(AO63=$J73,\"\",IF(AO63=$G64,\"\",AO63)))","v":""},{"$f":"IF(AP63=$P80,\"\",IF(AP63=$J73,\"\",IF(AP63=$G64,\"\",AP63)))","v":""},{"$f":"IF(AQ63=$P80,\"\",IF(AQ63=$J73,\"\",IF(AQ63=$G64,\"\",AQ63)))","v":""},{"$f":"IF(AR63=$P80,\"\",IF(AR63=$J73,\"\",IF(AR63=$G64,\"\",AR63)))","v":""},{"$f":"IF(AS63=$P80,\"\",IF(AS63=$J73,\"\",IF(AS63=$G64,\"\",AS63)))","v":""},{"$f":"IF(AT63=$P80,\"\",IF(AT63=$J73,\"\",IF(AT63=$G64,\"\",AT63)))","v":""},null,null,null,null,null,null,19,100,70,null,null,null,null,null,null,null,null,null,null,null,null,null,null,null,null,null,null,null,null,null,null,null,null,null,null,null,null,null,null,null,null,null,null,null,null,null,null,null,null,null,null,null,36,28,null,{"$f":"EJ67","v":""},null,"","","","","",1,1,1,1,1,1,1,1,1,1,1,1,1,1,1,1,1,1,1,1,1,1,1,1,1,1,1,1,1,1,1,1,1,1,1]
[null,null,null,27,"",{"$f":"AG69","v":""},"","",null,20,"",{"$f":"AG76","v":""},"","",null,null,null,null,null,null,null,null,null,null,null,null,null,null,null,null,null,null,null,null,null,null,null,null,null,null,null,null,null,null,null,null,null,null,null,null,null,null,null,null,null,null,null,null,null,null,null,20,100,70,null,null,null,null,null,null,null,null,null,null,null,null,null,null,null,null,null,null,null,null,null,null,null,null,null,null,null,null,null,null,null,null,null,null,null,null,null,null,null,null,null,null,null,37,29,null,{"$f":"EK67","v":""},null,"","","","","",1,1,1,1,1,1,1,1,1,1,1,1,1,1,1,1,1,1,1,1,1,1,1,1,1,1,1,1,1,1,1,1,1,1,1]
[null,null,null,28,"",{"$f":"AH69","v":""},"","",null,21,{"$f":"IF(L98<>\"\",BK98+BL98+L98,\"\")","v":""},{"$f":"AH76","v":""},"","",null,null,null,null,null,null,null,null,null,null,null,null,null,null,null,null,null,null,null,null,null,null,null,null,null,null,null,null,null,null,null,null,null,null,null,null,null,null,null,null,null,null,null,null,null,null,null,21,100,70,null,null,null,null,null,null,null,null,null,null,null,null,null,null,null,null,null,null,null,null,null,null,null,null,null,null,null,null,null,null,null,null,null,null,null,null,null,null,null,null,null,null,null,38,30,null,{"$f":"EL67","v":""},null,"","","","","",1,1,1,1,1,1,1,1,1,1,1,1,1,1,1,1,1,1,1,1,1,1,1,1,1,1,1,1,1,1,1,1,1,1,1]
[null,null,null,29,"",{"$f":"AI69","v":""},"","",null,22,"",{"$f":"AI76","v":""},"","",null,null,null,null,null,null,null,null,null,null,null,null,null,null,null,null,null,null,null,null,null,null,null,null,null,null,null,null,null,null,null,null,null,null,null,null,null,null,null,null,null,null,null,null,null,null,null,22,100,70,null,null,null,null,null,null,null,null,null,null,null,null,null,null,null,null,null,null,null,null,null,null,null,null,null,null,null,null,null,null,null,null,null,null,null,null,null,null,null,null,null,null,null,39,31,null,{"$f":"EM67","v":""},null,"","","","","",1,1,1,1,1,1,1,1,1,1,1,1,1,1,1,1,1,1,1,1,1,1,1,1,1,1,1,1,1,1,1,1,1,1,1]
[null,null,null,30,"",{"$f":"AJ69","v":""},"","",null,23,"",{"$f":"AJ76","v":""},"","",null,null,null,null,null,null,null,null,null,null,null,null,null,null,null,null,null,null,null,null,null,null,null,null,null,null,null,null,null,null,null,null,null,null,null,null,null,null,null,null,null,null,null,null,null,null,null,23,100,70,null,null,null,null,null,null,null,null,null,null,null,null,null,null,null,null,null,null,null,null,null,null,null,null,null,null,null,null,null,null,null,null,null,null,null,null,null,null,null,null,null,null,null,40,32,null,{"$f":"EN67","v":""},null,"","","","","",1,1,1,1,1,1,1,1,1,1,1,1,1,1,1,1,1,1,1,1,1,1,1,1,1,1,1,1,1,1,1,1,1,1,1]
[null,null,null,31,"",{"$f":"AK69","v":""},"","",null,24,"",{"$f":"AK76","v":""},"","",null,null,null,null,null,null,null,null,null,null,null,null,null,null,null,null,null,null,null,null,null,null,null,null,null,null,null,null,null,null,null,null,null,null,null,null,null,null,null,null,null,null,null,null,null,null,null,24,100,70,null,null,null,null,null,null,null,null,null,null,null,null,null,null,null,null,null,null,null,null,null,null,null,null,null,null,null,null,null,null,null,null,null,null,null,null,null,null,null,null,null,null,null,41,33,null,{"$f":"EO67","v":""},null,"","","","","",1,1,1,1,1,1,1,1,1,1,1,1,1,1,1,1,1,1,1,1,1,1,1,1,1,1,1,1,1,1,1,1,1,1,1]
[null,null,null,32,"",{"$f":"AL69","v":""},"","",null,25,"",{"$f":"AL76","v":""},"","",null,null,null,null,null,null,null,null,null,null,null,null,null,null,null,null,null,null,null,null,null,null,null,null,null,null,null,null,null,null,null,null,null,null,null,null,null,null,null,null,null,null,null,null,null,null,null,25,100,70,null,null,null,null,null,null,null,null,null,null,null,null,null,null,null,null,null,null,null,null,null,null,null,null,null,null,null,null,null,null,null,null,null,null,null,null,null,null,null,null,null,null,null,42,34,null,{"$f":"EP67","v":""},null,"","","","","",1,1,1,1,1,1,1,1,1,1,1,1,1,1,1,1,1,1,1,1,1,1,1,1,1,1,1,1,1,1,1,1,1,1,1]
[null,null,null,33,"",{"$f":"AM69","v":""},"","",null,26,"",{"$f":"AM76","v":""},"","",null,null,null,null,null,null,null,null,null,null,null,null,null,null,null,null,null,null,null,null,null,null,null,null,null,null,null,null,null,null,null,null,null,null,null,null,null,null,null,null,null,null,null,null,null,null,null,26,100,70,null,null,null,null,null,null,null,null,null,null,null,null,null,null,null,null,null,null,null,null,null,null,null,null,null,null,null,null,null,null,null,null,null,null,null,null,null,null,null,null,null,null,null,43,35,null,{"$f":"EQ67","v":""},null,"","","","","",1,1,1,1,1,1,1,1,1,1,1,1,1,1,1,1,1,1,1,1,1,1,1,1,1,1,1,1,1,1,1,1,1,1,1]
[null,null,null,34,"",{"$f":"AN69","v":""},"","",null,27,"",{"$f":"AN76","v":""},"","",null,null,null,null,null,null,null,null,null,null,null,null,null,null,null,null,null,null,null,null,null,null,null,null,null,null,null,null,null,null,null,null,null,null,null,null,null,null,null,null,null,null,null,null,null,null,null,27,100,70,null,null,null,null,null,null,null,null,null,null,null,null,null,null,null,null,null,null,null,null,null,null,null,null,null,null,null,null,null,null,null,null,null,null,null,null,null,null,null,null,null,null,null,44,36,null,{"$f":"ER67","v":""},null,"","","","","",1,1,1,1,1,1,1,1,1,1,1,1,1,1,1,1,1,1,1,1,1,1,1,1,1,1,1,1,1,1,1,1,1,1,1]
[null,null,null,35,"",{"$f":"AO69","v":""},"","",null,28,"",{"$f":"AO76","v":""},"","",null,null,null,null,null,null,null,null,null,null,null,null,null,null,null,null,null,null,null,null,null,null,null,null,null,null,null,null,null,null,null,null,null,null,null,null,null,null,null,null,null,null,null,null,null,null,null,28,100,70,null,null,null,null,null,null,null,null,null,null,null,null,null,null,null,null,null,null,null,null,null,null,null,null,null,null,null,null,null,null,null,null,null,null,null,null,null,null,null,null,null,null,null,45,37,null,{"$f":"ES67","v":""},null,"","","","","",1,1,1,1,1,1,1,1,1,1,1,1,1,1,1,1,1,1,1,1,1,1,1,1,1,1,1,1,1,1,1,1,1,1,1]
[null,null,null,36,"",{"$f":"AP69","v":""},"","",null,29,"",{"$f":"AP76","v":""},"","",null,null,null,null,null,null,null,null,null,null,null,null,null,null,null,null,null,null,null,null,null,null,null,null,null,null,null,null,null,null,null,null,null,null,null,null,null,null,null,null,null,null,null,null,null,null,null,29,100,70,null,null,null,null,null,null,null,null,null,null,null,null,null,null,null,null,null,null,null,null,null,null,null,null,null,null,null,null,null,null,null,null,null,null,null,null,null,null,null,null,null,null,null,46,38,null,{"$f":"ET67","v":""},null,"","","","","",1,1,1,1,1,1,1,1,1,1,1,1,1,1,1,1,1,1,1,1,1,1,1,1,1,1,1,1,1,1,1,1,1,1,1]
[null,null,null,37,"",{"$f":"AQ69","v":""},"","",null,30,"",{"$f":"AQ76","v":""},"","",null,null,null,null,null,null,null,null,null,null,null,null,null,null,null,null,null,null,null,null,null,null,null,null,null,null,null,null,null,null,null,null,null,null,null,null,null,null,null,null,null,null,null,null,null,null,null,30,100,70,null,null,null,null,null,null,null,null,null,null,null,null,null,null,null,null,null,null,null,null,null,null,null,null,null,null,null,null,null,null,null,null,null,null,null,null,null,null,null,null,null,null,null,47,39,null,{"$f":"EU67","v":""},null,"","","","","",1,1,1,1,1,1,1,1,1,1,{"$f":"IF($DG107=DX$67,1,\"\")","v":1},1,1,1,1,1,1,1,1,1,1,1,1,1,1,1,1,1,1,1,1,1,1,1,1]
[null,null,null,38,"",{"$f":"AR69","v":""},"","",null,31,"",{"$f":"AR76","v":""},"","",null,null,null,null,null,null,null,null,null,null,null,null,null,null,null,null,null,null,null,null,null,null,null,null,null,null,null,null,null,null,null,null,null,null,null,null,null,null,null,null,null,null,null,null,null,null,null,31,100,70,null,null,null,null,null,null,null,null,null,null,null,null,null,null,null,null,null,null,null,null,null,null,null,null,null,null,null,null,null,null,null,null,null,null,null,null,null,null,null,null,null,null,null,48,40,null,{"$f":"EV67","v":""},null,{"$f":"IF($DG108=DI$67,1,\"\")","v":""},"","","","",1,1,1,1,1,1,1,1,1,1,1,1,1,1,1,1,1,1,1,1,1,1,1,1,1,1,1,1,1,1,1,1,1,1,1]
[null,null,null,39,"",{"$f":"AS69","v":""},"","",null,32,"",{"$f":"AS76","v":""},"","",null,null,null,null,null,null,null,null,null,null,null,null,null,null,null,null,null,null,null,null,null,null,null,null,null,null,null,null,null,null,null,null,null,null,null,null,null,null,null,null,null,null,null,null,null,null,null,32,100,70,null,null,null,null,null,null,null,null,null,null,null,null,null,null,null,null,null,null,null,null,null,null,null,null,null,null,null,null,null,null,null,null,null,null,null,null,null,null,null,null,null,null,null,49]
[null,null,null,40,"",{"$f":"AT69","v":""},"","",null,33,"",{"$f":"AT76","v":""},"","",null,null,null,null,null,null,null,null,null,null,null,null,null,null,null,null,null,null,null,null,null,null,null,null,null,null,null,null,null,null,null,null,null,null,null,null,null,null,null,null,null,null,null,null,null,null,null,33,100,70,null,null,null,null,null,null,null,null,null,null,null,null,null,null,null,null,null,null,null,null,null,null,null,null,null,null,null,null,null,null,null,null,null,null,null,null,null,null,null,null,null,null,null,50]
[null,null,null,null,null,null,null,null,null,34,"",{"$f":"AU76","v":""},"","",null,null,null,null,null,null,null,null,null,null,null,null,null,null,null,null,null,null,null,null,null,null,null,null,null,null,null,null,null,null,null,null,null,null,null,null,null,null,null,null,null,null,null,null,null,null,null,34,100,70,null,null,null,null,null,null,null,null,null,null,null,null,null,null,null,null,null,null,null,null,null,null,null,null,null,null,null,null,null,null,null,null,null,null,null,null,null,null,null,null,null,null,null,51,null,null,null,null,{"$f":"SUM(DI69:DI108)","v":1},{"$f":"SUM(DJ69:DJ108)","v":1},1,1,1,35,35,35,35,35,35,35,35,35,35,35,35,35,35,35,35,35,35,35,35,35,35,35,35,35,35,35,35,35,35,35,35,35,35,35]
[null,null,null,null,null,null,null,null,null,35,"",{"$f":"AV76","v":""},"","",null,null,null,null,null,null,null,null,null,null,null,null,null,null,null,null,null,null,null,null,null,null,null,null,null,null,null,null,null,null,null,null,null,null,null,null,null,null,null,null,null,null,null,null,null,null,null,35,100,70,null,null,null,null,null,null,null,null,null,null,null,null,null,null,null,null,null,null,null,null,null,null,null,null,null,null,null,null,null,null,null,null,null,null,null,null,null,null,null,null,null,null,null,52]
[null,null,null,null,null,null,null,null,null,36,"",{"$f":"AW76","v":""},"","",null,null,null,null,null,null,null,null,null,null,null,null,null,null,null,null,null,null,null,null,null,null,null,null,null,null,null,null,null,null,null,null,null,null,null,null,null,null,null,null,null,null,null,null,null,null,null,36,100,70,null,null,null,null,null,null,null,null,null,null,null,null,null,null,null,null,null,null,null,null,null,null,null,null,null,null,null,null,null,null,null,null,null,null,null,null,null,null,null,null,null,null,null,53,null,null,null,null,{"$f":"IF(DI111>1,DI66,\"\")","v":""},"","","","","","","","","","","","","","","","","","","","","","","","","","","","","","","","","","","","","","",""]
[null,null,null,null,null,null,null,null,null,37,"",{"$f":"AX76","v":""},"","",null,null,null,null,null,null,null,null,null,null,null,null,null,null,null,null,null,null,null,null,null,null,null,null,null,null,null,null,null,null,null,null,null,null,null,null,null,null,null,null,null,null,null,null,null,null,null,37,100,70,null,null,null,null,null,null,null,null,null,null,null,null,null,null,null,null,null,null,null,null,null,null,null,null,null,null,null,null,null,null,null,null,null,null,null,null,null,null,null,null,null,null,null,54,null,null,null,null,{"$f":"IF(DI111>1,DI67,\"\")","v":""},"","","","","","","","","","","","","","","","","","","","","","","","","","","","","","","","","","","","","","",""]
[null,null,null,null,null,null,null,null,null,38,"",{"$f":"AY76","v":""},"","",null,null,null,null,null,null,null,null,null,null,null,null,null,null,null,null,null,null,null,null,null,null,null,null,null,null,null,null,null,null,null,null,null,null,null,null,null,null,null,null,null,null,null,null,null,null,null,38,100,70,null,null,null,null,null,null,null,null,null,null,null,null,null,null,null,null,null,null,null,null,null,null,null,null,null,null,null,null,null,null,null,null,null,null,null,null,null,null,null,null,null,null,null,55,null,null,{"$f":"SUM(DI115:EV115)","v":0},null,{"$f":"IF(DI114=\"\",\"\",1)","v":""},{"$f":"IF(DJ114=\"\",\"\",1)","v":""},"","","","","","","","","","","","","","","","","","","","","","","","","","","","","","","","","","","","","",""]
[null,null,null,null,null,null,null,null,null,39,"",{"$f":"AZ76","v":""},"","",null,null,null,null,null,null,null,null,null,null,null,null,null,null,null,null,null,null,null,null,null,null,null,null,null,null,null,null,null,null,null,null,null,null,null,null,null,null,null,null,null,null,null,null,null,null,null,39,100,70,null,null,null,null,null,null,null,null,null,null,null,null,null,null,null,null,null,null,null,null,null,null,null,null,null,null,null,null,null,null,null,null,null,null,null,null,null,null,null,null,null,null,null,56]
[null,null,null,null,null,null,null,null,null,40,"",{"$f":"BA76","v":""},"","",null,null,null,null,null,null,null,null,null,null,null,null,null,null,null,null,null,null,null,null,null,null,null,null,null,null,null,null,null,null,null,null,null,null,null,null,null,null,null,null,null,null,null,null,null,null,null,40,100,70,null,null,null,null,null,null,null,null,null,null,null,null,null,null,null,null,null,null,null,null,null,null,null,null,null,null,null,null,null,null,null,null,null,null,null,null,null,null,null,null,null,null,null,57,"NUMERO",{"$f":"IF(DG115<1,\"NESSUNO\",0)","v":"NESSUNO"},null,null,{"$f":"IF(DI114=$DF117,DI113,\"\")","v":""},{"$f":"IF(DJ114=$DF117,DJ113,\"\")","v":""},"","","","","","","","","","","","","","","","","","","","","","","","","","","","","","","","","","","","","",""]
[null,null,null,null,null,null,null,null,null,null,null,null,null,null,null,null,null,null,null,null,null,null,null,null,null,null,null,null,null,null,null,null,null,null,null,null,null,null,null,null,null,null,null,null,null,null,null,null,null,null,null,null,null,null,null,null,null,null,null,null,null,null,null,null,null,null,null,null,null,null,null,null,null,null,null,null,null,null,null,null,null,null,null,null,null,null,null,null,null,null,null,null,null,null,null,null,null,null,null,null,null,null,null,null,null,null,null,58]
[]
[null,null,null,null,null,null,1,2,3,4,5,6,7,8,9,10,11,12,13,14,15,16,17,18,19,20,21,22,23,24,25,26,27,28,29,30,31,32,33,34,35,36,37,38,39,40,null,null,null,null,null,null,null,null,null,null,null,null,null,null,null,"BLOCCHI CHE POSSONO ESSERE CARICATI IN COPPIA O A TRE PERCHE' IL LORO PESO COMPLESSIVO NON SUPERA IL PESO MASSIMO CONSENTITO NEL TRASPORTO"]
[null,null,"TIR",null,{"$f":"E62+1","v":2},null,{"$f":"P95","v":""},{"$f":"Q95","v":""},"","","5","","","","","","","","","","","","","","","",{"$f":"AJ95","v":""},{"$f":"AK95","v":""},{"$f":"AL95","v":""},{"$f":"AM95","v":""},{"$f":"AN95","v":""},{"$f":"AO95","v":""},{"$f":"AP95","v":""},{"$f":"AQ95","v":""},{"$f":"AR95","v":""},{"$f":"AS95","v":""},{"$f":"AT95","v":""},{"$f":"AU95","v":""},{"$f":"AV95","v":""},{"$f":"AW95","v":""},{"$f":"AX95","v":""},{"$f":"AY95","v":""},{"$f":"AZ95","v":""},{"$f":"BA95","v":""},{"$f":"BB95","v":""},{"$f":"BC95","v":""}]
[null,null,null,null,null,null,{"$f":"P96","v":""},{"$f":"Q96","v":""},"","",20,"","","","","","","","","","","","","","","","","","","","","","","","","","","","","","","","","","",""]
[null,null,"MASSIMO PESO",null,null,null,{"$f":"MAX(G122:AT122)","v":20}]
[null,null,null,null,null,null,{"$f":"IF(G122=$G123,G121,\"\")","v":""},{"$f":"IF(H122=$G123,H121,\"\")","v":""},"","","5","","","","","","","","","","","","","","","","","","","","","","","","","","","","","","","","","","",""]
[null,null,null,null,null,null,{"$f":"G124&H124&I124&J124&K124&L124&M124&N124&O124&P124&Q124&R124&S124&T124&U124&V124&W124&X124&Y124&Z124&AA124&AB124&AC124&AD124&AE124&AF124&AG124&AH124&AI124&AJ124&AK124&AL124&AM124&AN124&AO124&AP124&AQ124&AR124&AS124&AT124","v":"5"},null,null,null,null,null,null,null,null,null,null,null,null,null,null,null,null,null,null,null,null,null,null,null,null,null,null,null,null,null,null,null,null,null,null,null,null,null,null,null,null,null,null,null,null,null,null,null,null,null,null,null,null,null,null,null,null,null,null,null,null,null,null,null,null,null,null,null,"Primo Blocco",null,null,null,null,null,{"$f":"G125","v":"5"},{"$f":"CC126+CC131+CC136","v":20},null,"Quintali",null,"N° Blocco"]
[null,null,null,null,null,null,{"$f":"G123","v":20},null,null,null,null,null,null,null,null,null,null,null,null,null,null,null,null,null,null,null,null,null,null,null,null,null,null,null,null,null,null,null,null,null,null,null,null,null,null,null,null,null,null,null,null,null,null,null,null,null,null,null,null,null,null,null,null,null,null,null,null,null,null,null,null,null,null,null,null,null,null,null,null,null,{"$f":"G123","v":20},null,null,{"$f":"IF(CC126=0,\"\",CC126)","v":20},null,{"$f":"IF(CF126=\"\",\"\",CC125)","v":"5"}]
[null,null,null,null,null,null,{"$f":"IF(G128=\"\",\"\",IF(G128=G122,G121,\"\"))","v":""},{"$f":"IF(H128=\"\",\"\",IF(H128=H122,H121,\"\"))","v":""},"","","","","","","","","","","","","","","","","","","","","","","","","","","","","","","","","","","","","","",null,null,null,null,null,null,null,null,null,null,null,null,null,null,null,null,null,null,null,null,null,null,null,null,null,null,null,null,null,null,null,null,null,null,null,null,null,{"$f":"IF(CC131=0,\"\",CC131)","v":""},null,{"$f":"IF(CF127=\"\",\"\",CC130)","v":""}]
[null,null,"DISPONIBILI",null,null,null,{"$f":"IF(G122=$G123,\"\",G122)","v":""},{"$f":"IF(H122=$G123,\"\",H122)","v":""},"","","","","","","","","","","","","","","","","","","","","","","","","","","","","","","","","","","","","","",null,null,null,null,null,null,null,null,null,null,null,null,null,null,null,null,null,null,null,null,null,null,null,null,null,null,null,null,null,null,null,null,null,null,null,null,null,{"$f":"IF(CC136=0,\"\",CC136)","v":""},null,{"$f":"IF(CF128=\"\",\"\",CC135)","v":""}]
[null,null,null,null,null,null,null,null,null,null,null,null,null,null,null,null,null,null,null,null,null,null,null,null,null,null,null,null,null,null,null,null,null,null,null,null,null,null,null,null,null,null,null,null,null,null,null,null,null,null,null,null,null,null,null,null,null,null,null,null,null,null,null,null,null,null,null,null,null,null,null,null,null,null,null,null,null,null,null,null,null,null,null,"NUMERO TIR"]
[null,null,"Portata                Max.               TIR",1,{"$f":"IF(F130<>\"\",F130+G$126,\"\")","v":""},{"$f":"G128","v":""},{"$f":"IF(F130=\"\",\"\",IF(E130<=$C$74,\"X\",\"\"))","v":""},{"$f":"IF(G130=\"X\",F130,\"\")","v":""},{"$f":"MAX(H130:H169)","v":0},{"$f":"IF(J131=G128,G127,\"\")","v":""},{"$f":"IF(K131=H128,H127,\"\")","v":""},{"$f":"IF(L131=I128,I127,\"\")","v":""},{"$f":"IF(M131=J128,J127,\"\")","v":""},{"$f":"IF(N131=K128,K127,\"\")","v":""},{"$f":"IF(O131=L128,L127,\"\")","v":""},{"$f":"IF(P131=M128,M127,\"\")","v":""},{"$f":"IF(Q131=N128,N127,\"\")","v":""},{"$f":"IF(R131=O128,O127,\"\")","v":""},{"$f":"IF(S131=P128,P127,\"\")","v":""},{"$f":"IF(T131=Q128,Q127,\"\")","v":""},{"$f":"IF(U131=R128,R127,\"\")","v":""},{"$f":"IF(V131=S128,S127,\"\")","v":""},{"$f":"IF(W131=T128,T127,\"\")","v":""},{"$f":"IF(X131=U128,U127,\"\")","v":""},{"$f":"IF(Y131=V128,V127,\"\")","v":""},{"$f":"IF(Z131=W128,W127,\"\")","v":""},{"$f":"IF(AA131=X128,X127,\"\")","v":""},{"$f":"IF(AB131=Y128,Y127,\"\")","v":""},{"$f":"IF(AC131=Z128,Z127,\"\")","v":""},{"$f":"IF(AD131=AA128,AA127,\"\")","v":""},{"$f":"IF(AE131=AB128,AB127,\"\")","v":""},{"$f":"IF(AF131=AC128,AC127,\"\")","v":""},{"$f":"IF(AG131=AD128,AD127,\"\")","v":""},{"$f":"IF(AH131=AE128,AE127,\"\")","v":""},{"$f":"IF(AI131=AF128,AF127,\"\")","v":""},{"$f":"IF(AJ131=AG128,AG127,\"\")","v":""},{"$f":"IF(AK131=AH128,AH127,\"\")","v":""},{"$f":"IF(AL131=AI128,AI127,\"\")","v":""},{"$f":"IF(AM131=AJ128,AJ127,\"\")","v":""},{"$f":"IF(AN131=AK128,AK127,\"\")","v":""},{"$f":"IF(AO131=AL128,AL127,\"\")","v":""},{"$f":"IF(AP131=AM128,AM127,\"\")","v":""},{"$f":"IF(AQ131=AN128,AN127,\"\")","v":""},{"$f":"IF(AR131=AO128,AO127,\"\")","v":""},{"$f":"IF(AS131=AP128,AP127,\"\")","v":""},{"$f":"IF(AT131=AQ128,AQ127,\"\")","v":""},{"$f":"IF(AU131=AR128,AR127,\"\")","v":""},{"$f":"IF(AV131=AS128,AS127,\"\")","v":""},{"$f":"IF(AW131=AT128,AT127,\"\")","v":""},null,null,null,null,null,null,null,null,null,null,null,null,null,null,null,null,null,null,null,null,null,null,null,null,null,"Secondo Blocco",null,null,null,null,null,{"$f":"J130&K130&L130&M130&N130&O130&P130&Q130&R130&S130&T130&U130&V130&W130&X130&Y130&Z130&AA130&AB130&AC130&AD130&AE130&AF130&AG130&AH130&AI130&AJ130&AK130&AL130&AM130&AN130&AO130&AP130&AQ130&AR130&AS130&AT130&AU130&AV130&AW130","v":""}]
[null,null,null,2,"",{"$f":"H128","v":""},{"$f":"IF(F131=\"\",\"\",IF(E131<=$C$74,\"X\",\"\"))","v":""},"",null,{"$f":"IF($J132=G128,G128,\"\")","v":""},{"$f":"IF($J132=H128,H128,\"\")","v":""},{"$f":"IF($J132=I128,I128,\"\")","v":""},{"$f":"IF($J132=J128,J128,\"\")","v":""},{"$f":"IF($J132=K128,K128,\"\")","v":""},{"$f":"IF($J132=L128,L128,\"\")","v":""},{"$f":"IF($J132=M128,M128,\"\")","v":""},{"$f":"IF($J132=N128,N128,\"\")","v":""},{"$f":"IF($J132=O128,O128,\"\")","v":""},{"$f":"IF($J132=P128,P128,\"\")","v":""},{"$f":"IF($J132=Q128,Q128,\"\")","v":""},{"$f":"IF($J132=R128,R128,\"\")","v":""},{"$f":"IF($J132=S128,S128,\"\")","v":""},{"$f":"IF($J132=T128,T128,\"\")","v":""},{"$f":"IF($J132=U128,U128,\"\")","v":""},{"$f":"IF($J132=V128,V128,\"\")","v":""},{"$f":"IF($J132=W128,W128,\"\")","v":""},{"$f":"IF($J132=X128,X128,\"\")","v":""},{"$f":"IF($J132=Y128,Y128,\"\")","v":""},{"$f":"IF($J132=Z128,Z128,\"\")","v":""},{"$f":"IF($J132=AA128,AA128,\"\")","v":""},{"$f":"IF($J132=AB128,AB128,\"\")","v":""},{"$f":"IF($J132=AC128,AC128,\"\")","v":""},{"$f":"IF($J132=AD128,AD128,\"\")","v":""},{"$f":"IF($J132=AE128,AE128,\"\")","v":""},{"$f":"IF($J132=AF128,AF128,\"\")","v":""},{"$f":"IF($J132=AG128,AG128,\"\")","v":""},{"$f":"IF($J132=AH128,AH128,\"\")","v":""},{"$f":"IF($J132=AI128,AI128,\"\")","v":""},{"$f":"IF($J132=AJ128,AJ128,\"\")","v":""},{"$f":"IF($J132=AK128,AK128,\"\")","v":""},{"$f":"IF($J132=AL128,AL128,\"\")","v":""},{"$f":"IF($J132=AM128,AM128,\"\")","v":""},{"$f":"IF($J132=AN128,AN128,\"\")","v":""},{"$f":"IF($J132=AO128,AO128,\"\")","v":""},{"$f":"IF($J132=AP128,AP128,\"\")","v":""},{"$f":"IF($J132=AQ128,AQ128,\"\")","v":""},{"$f":"IF($J132=AR128,AR128,\"\")","v":""},{"$f":"IF($J132=AS128,AS128,\"\")","v":""},{"$f":"IF($J132=AT128,AT128,\"\")","v":""},null,null,null,null,null,null,null,null,null,null,null,null,null,null,null,null,null,null,null,null,null,null,null,null,null,null,null,null,null,null,null,{"$f":"J132","v":0}]
[null,null,null,3,"",{"$f":"I128","v":""},"","",null,{"$f":"I130","v":0}]
[null,null,{"$f":"$P$3","v":200},4,"",{"$f":"J128","v":""},"","",null,null,null,null,null,null,null,null,null,null,null,null,null,null,null,null,null,null,null,null,null,null,null,null,null,null,null,null,null,null,null,null,null,null,null,null,null,null,null,null,null,null,null,null,null,null,null,null,null,null,null,null,null,null,null,null,null,null,null,null,null,null,null,null,null,null,null,null,null,null,null,null,null,null,null,{"$f":"IF(CD125>0,CF74+1,\"\")","v":2}]
[null,null,null,5,"",{"$f":"K128","v":""},"","",null,null,null,null,null,{"$f":"IF(N135=G128,G127,\"\")","v":""},{"$f":"IF(O135=H128,H127,\"\")","v":""},{"$f":"IF(P135=I128,I127,\"\")","v":""},{"$f":"IF(Q135=J128,J127,\"\")","v":""},{"$f":"IF(R135=K128,K127,\"\")","v":""},{"$f":"IF(S135=L128,L127,\"\")","v":""},{"$f":"IF(T135=M128,M127,\"\")","v":""},{"$f":"IF(U135=N128,N127,\"\")","v":""},{"$f":"IF(V135=O128,O127,\"\")","v":""},{"$f":"IF(W135=P128,P127,\"\")","v":""},{"$f":"IF(X135=Q128,Q127,\"\")","v":""},{"$f":"IF(Y135=R128,R127,\"\")","v":""},{"$f":"IF(Z135=S128,S127,\"\")","v":""},{"$f":"IF(AA135=T128,T127,\"\")","v":""},{"$f":"IF(AB135=U128,U127,\"\")","v":""},{"$f":"IF(AC135=V128,V127,\"\")","v":""},{"$f":"IF(AD135=W128,W127,\"\")","v":""},{"$f":"IF(AE135=X128,X127,\"\")","v":""},{"$f":"IF(AF135=Y128,Y127,\"\")","v":""},{"$f":"IF(AG135=Z128,Z127,\"\")","v":""},{"$f":"IF(AH135=AA128,AA127,\"\")","v":""},{"$f":"IF(AI135=AB128,AB127,\"\")","v":""},{"$f":"IF(AJ135=AC128,AC127,\"\")","v":""},{"$f":"IF(AK135=AD128,AD127,\"\")","v":""},{"$f":"IF(AL135=AE128,AE127,\"\")","v":""},{"$f":"IF(AM135=AF128,AF127,\"\")","v":""},{"$f":"IF(AN135=AG128,AG127,\"\")","v":""},{"$f":"IF(AO135=AH128,AH127,\"\")","v":""},{"$f":"IF(AP135=AI128,AI127,\"\")","v":""},{"$f":"IF(AQ135=AJ128,AJ127,\"\")","v":""},{"$f":"IF(AR135=AK128,AK127,\"\")","v":""},{"$f":"IF(AS135=AL128,AL127,\"\")","v":""},{"$f":"IF(AT135=AM128,AM127,\"\")","v":""},{"$f":"IF(AU135=AN128,AN127,\"\")","v":""},{"$f":"IF(AV135=AO128,AO127,\"\")","v":""},{"$f":"IF(AW135=AP128,AP127,\"\")","v":""},{"$f":"IF(AX135=AQ128,AQ127,\"\")","v":""},{"$f":"IF(AY135=AR128,AR127,\"\")","v":""},{"$f":"IF(AZ135=AS128,AS127,\"\")","v":""},{"$f":"IF(BA135=AT128,AT127,\"\")","v":""}]
[null,null,null,6,"",{"$f":"L128","v":""},"","",null,"DISPONIBILI",null,null,null,{"$f":"IF(G128=\"\",\"\",IF(G128=J131,\"\",G128))","v":""},{"$f":"IF(H128=\"\",\"\",IF(H128=K131,\"\",H128))","v":""},{"$f":"IF(I128=\"\",\"\",IF(I128=L131,\"\",I128))","v":""},{"$f":"IF(J128=\"\",\"\",IF(J128=M131,\"\",J128))","v":""},{"$f":"IF(K128=\"\",\"\",IF(K128=N131,\"\",K128))","v":""},{"$f":"IF(L128=\"\",\"\",IF(L128=O131,\"\",L128))","v":""},{"$f":"IF(M128=\"\",\"\",IF(M128=P131,\"\",M128))","v":""},{"$f":"IF(N128=\"\",\"\",IF(N128=Q131,\"\",N128))","v":""},{"$f":"IF(O128=\"\",\"\",IF(O128=R131,\"\",O128))","v":""},{"$f":"IF(P128=\"\",\"\",IF(P128=S131,\"\",P128))","v":""},{"$f":"IF(Q128=\"\",\"\",IF(Q128=T131,\"\",Q128))","v":""},{"$f":"IF(R128=\"\",\"\",IF(R128=U131,\"\",R128))","v":""},{"$f":"IF(S128=\"\",\"\",IF(S128=V131,\"\",S128))","v":""},{"$f":"IF(T128=\"\",\"\",IF(T128=W131,\"\",T128))","v":""},{"$f":"IF(U128=\"\",\"\",IF(U128=X131,\"\",U128))","v":""},{"$f":"IF(V128=\"\",\"\",IF(V128=Y131,\"\",V128))","v":""},{"$f":"IF(W128=\"\",\"\",IF(W128=Z131,\"\",W128))","v":""},{"$f":"IF(X128=\"\",\"\",IF(X128=AA131,\"\",X128))","v":""},{"$f":"IF(Y128=\"\",\"\",IF(Y128=AB131,\"\",Y128))","v":""},{"$f":"IF(Z128=\"\",\"\",IF(Z128=AC131,\"\",Z128))","v":""},{"$f":"IF(AA128=\"\",\"\",IF(AA128=AD131,\"\",AA128))","v":""},{"$f":"IF(AB128=\"\",\"\",IF(AB128=AE131,\"\",AB128))","v":""},{"$f":"IF(AC128=\"\",\"\",IF(AC128=AF131,\"\",AC128))","v":""},{"$f":"IF(AD128=\"\",\"\",IF(AD128=AG131,\"\",AD128))","v":""},{"$f":"IF(AE128=\"\",\"\",IF(AE128=AH131,\"\",AE128))","v":""},{"$f":"IF(AF128=\"\",\"\",IF(AF128=AI131,\"\",AF128))","v":""},{"$f":"IF(AG128=\"\",\"\",IF(AG128=AJ131,\"\",AG128))","v":""},{"$f":"IF(AH128=\"\",\"\",IF(AH128=AK131,\"\",AH128))","v":""},{"$f":"IF(AI128=\"\",\"\",IF(AI128=AL131,\"\",AI128))","v":""},{"$f":"IF(AJ128=\"\",\"\",IF(AJ128=AM131,\"\",AJ128))","v":""},{"$f":"IF(AK128=\"\",\"\",IF(AK128=AN131,\"\",AK128))","v":""},{"$f":"IF(AL128=\"\",\"\",IF(AL128=AO131,\"\",AL128))","v":""},{"$f":"IF(AM128=\"\",\"\",IF(AM128=AP131,\"\",AM128))","v":""},{"$f":"IF(AN128=\"\",\"\",IF(AN128=AQ131,\"\",AN128))","v":""},{"$f":"IF(AO128=\"\",\"\",IF(AO128=AR131,\"\",AO128))","v":""},{"$f":"IF(AP128=\"\",\"\",IF(AP128=AS131,\"\",AP128))","v":""},{"$f":"IF(AQ128=\"\",\"\",IF(AQ128=AT131,\"\",AQ128))","v":""},{"$f":"IF(AR128=\"\",\"\",IF(AR128=AU131,\"\",AR128))","v":""},{"$f":"IF(AS128=\"\",\"\",IF(AS128=AV131,\"\",AS128))","v":""},{"$f":"IF(AT128=\"\",\"\",IF(AT128=AW131,\"\",AT128))","v":""},null,null,null,null,null,null,null,null,null,null,null,null,null,null,null,null,null,null,null,null,null,"Terzo Blocco",null,null,null,null,null,{"$f":"P137&Q137&R137&S137&T137&U137&V137&W137&X137&Y137&Z137&AA137&AB137&AC137&AD137&AE137&AF137&AG137&AH137&AI137&AJ137&AK137&AL137&AM137&AN137&AO137&AP137&AQ137&AR137&AS137&AT137&AU137&AV137&AW137&AX137&AY137&AZ137&BA137&BB137&BC137","v":""}]
[null,null,null,7,"",{"$f":"M128","v":""},"","",null,null,null,null,null,null,null,null,null,null,null,null,null,null,null,null,null,null,null,null,null,null,null,null,null,null,null,null,null,null,null,null,null,null,null,null,null,null,null,null,null,null,null,null,null,null,null,null,null,null,null,null,null,null,1,2,null,null,null,null,null,null,null,null,null,null,null,null,null,null,null,null,{"$f":"P139","v":0}]
[null,null,null,8,"",{"$f":"N128","v":""},"","",null,1,{"$f":"IF(L137<>\"\",BK137+BL137+L137,\"\")","v":""},{"$f":"N135","v":""},{"$f":"IF(L137=\"\",\"\",IF(K137<=$C$74,\"X\",\"\"))","v":""},{"$f":"IF(M137=\"X\",L137,\"\")","v":""},{"$f":"MAX(N137:N156)","v":0},{"$f":"IF(P138=N135,N134,\"\")","v":""},{"$f":"IF(Q138=O135,O134,\"\")","v":""},{"$f":"IF(R138=P135,P134,\"\")","v":""},{"$f":"IF(S138=Q135,Q134,\"\")","v":""},{"$f":"IF(T138=R135,R134,\"\")","v":""},{"$f":"IF(U138=S135,S134,\"\")","v":""},{"$f":"IF(V138=T135,T134,\"\")","v":""},{"$f":"IF(W138=U135,U134,\"\")","v":""},{"$f":"IF(X138=V135,V134,\"\")","v":""},{"$f":"IF(Y138=W135,W134,\"\")","v":""},{"$f":"IF(Z138=X135,X134,\"\")","v":""},{"$f":"IF(AA138=Y135,Y134,\"\")","v":""},{"$f":"IF(AB138=Z135,Z134,\"\")","v":""},{"$f":"IF(AC138=AA135,AA134,\"\")","v":""},{"$f":"IF(AD138=AB135,AB134,\"\")","v":""},{"$f":"IF(AE138=AC135,AC134,\"\")","v":""},{"$f":"IF(AF138=AD135,AD134,\"\")","v":""},{"$f":"IF(AG138=AE135,AE134,\"\")","v":""},{"$f":"IF(AH138=AF135,AF134,\"\")","v":""},{"$f":"IF(AI138=AG135,AG134,\"\")","v":""},{"$f":"IF(AJ138=AH135,AH134,\"\")","v":""},{"$f":"IF(AK138=AI135,AI134,\"\")","v":""},{"$f":"IF(AL138=AJ135,AJ134,\"\")","v":""},{"$f":"IF(AM138=AK135,AK134,\"\")","v":""},{"$f":"IF(AN138=AL135,AL134,\"\")","v":""},{"$f":"IF(AO138=AM135,AM134,\"\")","v":""},{"$f":"IF(AP138=AN135,AN134,\"\")","v":""},{"$f":"IF(AQ138=AO135,AO134,\"\")","v":""},{"$f":"IF(AR138=AP135,AP134,\"\")","v":""},{"$f":"IF(AS138=AQ135,AQ134,\"\")","v":""},{"$f":"IF(AT138=AR135,AR134,\"\")","v":""},{"$f":"IF(AU138=AS135,AS134,\"\")","v":""},{"$f":"IF(AV138=AT135,AT134,\"\")","v":""},{"$f":"IF(AW138=AU135,AU134,\"\")","v":""},{"$f":"IF(AX138=AV135,AV134,\"\")","v":""},{"$f":"IF(AY138=AW135,AW134,\"\")","v":""},{"$f":"IF(AZ138=AX135,AX134,\"\")","v":""},{"$f":"IF(BA138=AY135,AY134,\"\")","v":""},{"$f":"IF(BB138=AZ135,AZ134,\"\")","v":""},{"$f":"IF(BC138=BA135,BA134,\"\")","v":""},null,null,null,null,null,null,1,{"$f":"CC126","v":20},{"$f":"CC131","v":0}]
[null,null,null,9,"",{"$f":"O128","v":""},"","",null,2,"",{"$f":"O135","v":""},{"$f":"IF(L138=\"\",\"\",IF(K138<=$C$74,\"X\",\"\"))","v":""},{"$f":"IF(M138=\"X\",L138,\"\")","v":""},null,{"$f":"IF($P139=N135,N135,\"\")","v":""},{"$f":"IF($P139=O135,O135,\"\")","v":""},{"$f":"IF($P139=P135,P135,\"\")","v":""},{"$f":"IF($P139=Q135,Q135,\"\")","v":""},{"$f":"IF($P139=R135,R135,\"\")","v":""},{"$f":"IF($P139=S135,S135,\"\")","v":""},{"$f":"IF($P139=T135,T135,\"\")","v":""},{"$f":"IF($P139=U135,U135,\"\")","v":""},{"$f":"IF($P139=V135,V135,\"\")","v":""},{"$f":"IF($P139=W135,W135,\"\")","v":""},{"$f":"IF($P139=X135,X135,\"\")","v":""},{"$f":"IF($P139=Y135,Y135,\"\")","v":""},{"$f":"IF($P139=Z135,Z135,\"\")","v":""},{"$f":"IF($P139=AA135,AA135,\"\")","v":""},{"$f":"IF($P139=AB135,AB135,\"\")","v":""},{"$f":"IF($P139=AC135,AC135,\"\")","v":""},{"$f":"IF($P139=AD135,AD135,\"\")","v":""},{"$f":"IF($P139=AE135,AE135,\"\")","v":""},{"$f":"IF($P139=AF135,AF135,\"\")","v":""},{"$f":"IF($P139=AG135,AG135,\"\")","v":""},{"$f":"IF($P139=AH135,AH135,\"\")","v":""},{"$f":"IF($P139=AI135,AI135,\"\")","v":""},{"$f":"IF($P139=AJ135,AJ135,\"\")","v":""},{"$f":"IF($P139=AK135,AK135,\"\")","v":""},{"$f":"IF($P139=AL135,AL135,\"\")","v":""},{"$f":"IF($P139=AM135,AM135,\"\")","v":""},{"$f":"IF($P139=AN135,AN135,\"\")","v":""},{"$f":"IF($P139=AO135,AO135,\"\")","v":""},{"$f":"IF($P139=AP135,AP135,\"\")","v":""},{"$f":"IF($P139=AQ135,AQ135,\"\")","v":""},{"$f":"IF($P139=AR135,AR135,\"\")","v":""},{"$f":"IF($P139=AS135,AS135,\"\")","v":""},{"$f":"IF($P139=AT135,AT135,\"\")","v":""},{"$f":"IF($P139=AU135,AU135,\"\")","v":""},{"$f":"IF($P139=AV135,AV135,\"\")","v":""},{"$f":"IF($P139=AW135,AW135,\"\")","v":""},{"$f":"IF($P139=AX135,AX135,\"\")","v":""},{"$f":"IF($P139=AY135,AY135,\"\")","v":""},{"$f":"IF($P139=AZ135,AZ135,\"\")","v":""},{"$f":"IF($P139=BA135,BA135,\"\")","v":""},null,null,null,null,null,null,2,{"$f":"BK137","v":20},{"$f":"BL137","v":0}]
[null,null,null,10,"",{"$f":"P128","v":""},"","",null,3,"",{"$f":"P135","v":""},"","",null,{"$f":"O137","v":0},null,null,null,null,null,null,null,null,null,null,null,null,null,null,null,null,null,null,null,null,null,null,null,null,null,null,null,null,null,null,null,null,null,null,null,null,null,null,null,null,null,null,null,null,null,3,{"$f":"BK138","v":20},{"$f":"BL138","v":0},null,null,null,null,null,null,null,null,null,null,null,null,null,null,null,"MASSIMO CARICO",null,null,null,null,{"$f":"C133","v":200}]
[null,null,null,11,"",{"$f":"Q128","v":""},"","",null,4,"",{"$f":"Q135","v":""},"","",null,null,null,null,null,null,null,null,null,null,null,null,null,null,null,null,null,null,null,null,null,null,null,null,null,null,null,null,null,null,null,null,null,null,null,null,null,null,null,null,null,null,null,null,null,null,null,4,20,0]
[null,null,null,12,"",{"$f":"R128","v":""},"","",null,5,"",{"$f":"R135","v":""},"","",null,null,null,null,null,null,null,null,null,null,null,null,null,null,null,null,null,null,null,null,null,null,null,null,null,null,null,null,null,null,null,null,null,null,null,null,null,null,null,null,null,null,null,null,null,null,null,5,20,0,null,null,null,null,null,null,null,null,null,null,null,null,null,null,null,"RIMANE",null,null,null,null,{"$f":"CG139-CD125","v":180}]
[null,null,null,13,"",{"$f":"S128","v":""},"","",null,6,"",{"$f":"S135","v":""},"","",null,null,null,null,null,null,null,null,null,null,null,null,null,null,null,null,null,null,null,null,null,null,null,null,null,null,null,null,null,null,null,null,null,null,null,null,null,null,null,null,null,null,null,null,null,null,null,6,20,0]
[null,null,null,14,"",{"$f":"T128","v":""},"","",null,7,"",{"$f":"T135","v":""},"","",null,null,null,null,null,null,null,null,null,null,null,null,null,null,null,null,null,null,null,null,null,null,null,null,null,null,null,null,null,null,null,null,null,null,null,null,null,null,null,null,null,null,null,null,null,null,null,7,20,0]
[null,null,null,15,"",{"$f":"U128","v":""},"",{"$f":"IF(G144=\"X\",F144,\"\")","v":""},null,8,"",{"$f":"U135","v":""},"","",null,null,null,null,null,null,null,null,null,null,null,null,null,null,null,null,null,null,null,null,null,null,null,null,null,null,null,null,null,null,null,null,null,null,null,null,null,null,null,null,null,null,null,null,null,null,null,8,20,0]
[null,null,null,16,"",{"$f":"V128","v":""},"","",null,9,"",{"$f":"V135","v":""},"","",null,null,null,null,null,null,null,null,null,null,null,null,null,null,null,null,null,null,null,null,null,null,null,null,null,null,null,null,null,null,null,null,null,null,null,null,null,null,null,null,null,null,null,null,null,null,null,9,20,0]
[null,null,null,17,"",{"$f":"W128","v":""},"","",null,10,"",{"$f":"W135","v":""},"","",null,null,null,null,null,null,null,null,null,null,null,null,null,null,null,null,null,null,null,null,null,null,null,null,null,null,null,null,null,null,null,null,null,null,null,null,null,null,null,null,null,null,null,null,null,null,null,10,20,0]
[null,null,null,18,"",{"$f":"X128","v":""},"","",null,11,"",{"$f":"X135","v":""},"","",null,null,null,null,null,null,null,null,null,null,null,null,null,null,null,null,null,null,null,null,null,null,null,null,null,null,null,null,null,null,null,null,null,null,null,null,null,null,null,null,null,null,null,null,null,null,null,11,20,0]
[null,null,null,19,"",{"$f":"Y128","v":""},"","",null,12,"",{"$f":"Y135","v":""},"","",null,null,null,null,null,null,null,null,null,null,null,null,null,null,null,null,null,null,null,null,null,null,null,null,null,null,null,null,null,null,null,null,null,null,null,null,null,null,null,null,null,null,null,null,null,null,null,12,20,0]
[null,null,null,20,"",{"$f":"Z128","v":""},"","",null,13,"",{"$f":"Z135","v":""},"","",null,null,null,null,null,null,null,null,null,null,null,null,null,null,null,null,null,null,null,null,null,null,null,null,null,null,null,null,null,null,null,null,null,null,null,null,null,null,null,null,null,null,null,null,null,null,null,13,20,0]
[null,null,null,21,{"$f":"IF(F150<>\"\",F150+G$126,\"\")","v":""},{"$f":"AA128","v":""},"","",null,14,"",{"$f":"AA135","v":""},"","",null,null,null,null,null,null,null,null,null,null,null,null,null,null,null,null,null,null,null,null,null,null,null,null,null,null,null,null,null,null,null,null,null,null,null,null,null,null,null,null,null,null,null,null,null,null,null,14,20,0]
[null,null,null,22,"",{"$f":"AB128","v":""},"","",null,15,"",{"$f":"AB135","v":""},"","",null,"RIMASTI A DISPOSIZIONE",null,null,null,null,null,null,null,null,null,null,null,null,null,null,null,null,null,null,null,null,null,null,null,null,null,null,null,null,null,null,null,null,null,null,null,null,null,null,null,null,null,null,null,null,null,15,20,0]
[null,null,null,23,"",{"$f":"AC128","v":""},"","",null,16,"",{"$f":"AC135","v":""},"","",null,null,null,null,null,null,null,null,null,null,null,null,null,null,null,null,null,null,null,null,null,null,null,null,null,null,null,null,null,null,null,null,null,null,null,null,null,null,null,null,null,null,null,null,null,null,null,16,20,0]
[null,null,null,24,"",{"$f":"AD128","v":""},"","",null,17,"",{"$f":"AD135","v":""},"","",null,1,2,3,4,5,6,7,8,9,10,11,12,13,14,15,16,17,18,19,20,21,22,23,24,25,26,27,28,29,30,31,32,33,34,35,36,37,38,39,40,null,null,null,null,null,null,17,20,0]
[null,null,null,25,"",{"$f":"AE128","v":""},"","",null,18,"",{"$f":"AE135","v":""},"","",null,{"$f":"IF(P155=\"\",\"\",IF(P155=G122,G121,\"\"))","v":""},{"$f":"IF(Q155=\"\",\"\",IF(Q155=H122,H121,\"\"))","v":""},{"$f":"IF(R155=\"\",\"\",IF(R155=I122,I121,\"\"))","v":""},{"$f":"IF(S155=\"\",\"\",IF(S155=J122,J121,\"\"))","v":""},{"$f":"IF(T155=\"\",\"\",IF(T155=K122,K121,\"\"))","v":""},{"$f":"IF(U155=\"\",\"\",IF(U155=L122,L121,\"\"))","v":""},{"$f":"IF(V155=\"\",\"\",IF(V155=M122,M121,\"\"))","v":""},{"$f":"IF(W155=\"\",\"\",IF(W155=N122,N121,\"\"))","v":""},{"$f":"IF(X155=\"\",\"\",IF(X155=O122,O121,\"\"))","v":""},{"$f":"IF(Y155=\"\",\"\",IF(Y155=P122,P121,\"\"))","v":""},{"$f":"IF(Z155=\"\",\"\",IF(Z155=Q122,Q121,\"\"))","v":""},{"$f":"IF(AA155=\"\",\"\",IF(AA155=R122,R121,\"\"))","v":""},{"$f":"IF(AB155=\"\",\"\",IF(AB155=S122,S121,\"\"))","v":""},{"$f":"IF(AC155=\"\",\"\",IF(AC155=T122,T121,\"\"))","v":""},{"$f":"IF(AD155=\"\",\"\",IF(AD155=U122,U121,\"\"))","v":""},{"$f":"IF(AE155=\"\",\"\",IF(AE155=V122,V121,\"\"))","v":""},{"$f":"IF(AF155=\"\",\"\",IF(AF155=W122,W121,\"\"))","v":""},{"$f":"IF(AG155=\"\",\"\",IF(AG155=X122,X121,\"\"))","v":""},{"$f":"IF(AH155=\"\",\"\",IF(AH155=Y122,Y121,\"\"))","v":""},{"$f":"IF(AI155=\"\",\"\",IF(AI155=Z122,Z121,\"\"))","v":""},{"$f":"IF(AJ155=\"\",\"\",IF(AJ155=AA122,AA121,\"\"))","v":""},{"$f":"IF(AK155=\"\",\"\",IF(AK155=AB122,AB121,\"\"))","v":""},{"$f":"IF(AL155=\"\",\"\",IF(AL155=AC122,AC121,\"\"))","v":""},{"$f":"IF(AM155=\"\",\"\",IF(AM155=AD122,AD121,\"\"))","v":""},{"$f":"IF(AN155=\"\",\"\",IF(AN155=AE122,AE121,\"\"))","v":""},{"$f":"IF(AO155=\"\",\"\",IF(AO155=AF122,AF121,\"\"))","v":""},{"$f":"IF(AP155=\"\",\"\",IF(AP155=AG122,AG121,\"\"))","v":""},{"$f":"IF(AQ155=\"\",\"\",IF(AQ155=AH122,AH121,\"\"))","v":""},{"$f":"IF(AR155=\"\",\"\",IF(AR155=AI122,AI121,\"\"))","v":""},{"$f":"IF(AS155=\"\",\"\",IF(AS155=AJ122,AJ121,\"\"))","v":""},{"$f":"IF(AT155=\"\",\"\",IF(AT155=AK122,AK121,\"\"))","v":""},{"$f":"IF(AU155=\"\",\"\",IF(AU155=AL122,AL121,\"\"))","v":""},{"$f":"IF(AV155=\"\",\"\",IF(AV155=AM122,AM121,\"\"))","v":""},{"$f":"IF(AW155=\"\",\"\",IF(AW155=AN122,AN121,\"\"))","v":""},{"$f":"IF(AX155=\"\",\"\",IF(AX155=AO122,AO121,\"\"))","v":""},{"$f":"IF(AY155=\"\",\"\",IF(AY155=AP122,AP121,\"\"))","v":""},{"$f":"IF(AZ155=\"\",\"\",IF(AZ155=AQ122,AQ121,\"\"))","v":""},{"$f":"IF(BA155=\"\",\"\",IF(BA155=AR122,AR121,\"\"))","v":""},{"$f":"IF(BB155=\"\",\"\",IF(BB155=AS122,AS121,\"\"))","v":""},{"$f":"IF(BC155=\"\",\"\",IF(BC155=AT122,AT121,\"\"))","v":""},null,null,null,null,null,null,18,20,0]
[null,null,null,26,"",{"$f":"AF128","v":""},"","",null,19,"",{"$f":"AF135","v":""},"","",null,{"$f":"IF(G122=$P139,\"\",IF(G122=$J132,\"\",IF(G122=$G123,\"\",G122)))","v":""},{"$f":"IF(H122=$P139,\"\",IF(H122=$J132,\"\",IF(H122=$G123,\"\",H122)))","v":""},{"$f":"IF(I122=$P139,\"\",IF(I122=$J132,\"\",IF(I122=$G123,\"\",I122)))","v":""},{"$f":"IF(J122=$P139,\"\",IF(J122=$J132,\"\",IF(J122=$G123,\"\",J122)))","v":""},{"$f":"IF(K122=$P139,\"\",IF(K122=$J132,\"\",IF(K122=$G123,\"\",K122)))","v":""},{"$f":"IF(L122=$P139,\"\",IF(L122=$J132,\"\",IF(L122=$G123,\"\",L122)))","v":""},{"$f":"IF(M122=$P139,\"\",IF(M122=$J132,\"\",IF(M122=$G123,\"\",M122)))","v":""},{"$f":"IF(N122=$P139,\"\",IF(N122=$J132,\"\",IF(N122=$G123,\"\",N122)))","v":""},{"$f":"IF(O122=$P139,\"\",IF(O122=$J132,\"\",IF(O122=$G123,\"\",O122)))","v":""},{"$f":"IF(P122=$P139,\"\",IF(P122=$J132,\"\",IF(P122=$G123,\"\",P122)))","v":""},{"$f":"IF(Q122=$P139,\"\",IF(Q122=$J132,\"\",IF(Q122=$G123,\"\",Q122)))","v":""},{"$f":"IF(R122=$P139,\"\",IF(R122=$J132,\"\",IF(R122=$G123,\"\",R122)))","v":""},{"$f":"IF(S122=$P139,\"\",IF(S122=$J132,\"\",IF(S122=$G123,\"\",S122)))","v":""},{"$f":"IF(T122=$P139,\"\",IF(T122=$J132,\"\",IF(T122=$G123,\"\",T122)))","v":""},{"$f":"IF(U122=$P139,\"\",IF(U122=$J132,\"\",IF(U122=$G123,\"\",U122)))","v":""},{"$f":"IF(V122=$P139,\"\",IF(V122=$J132,\"\",IF(V122=$G123,\"\",V122)))","v":""},{"$f":"IF(W122=$P139,\"\",IF(W122=$J132,\"\",IF(W122=$G123,\"\",W122)))","v":""},{"$f":"IF(X122=$P139,\"\",IF(X122=$J132,\"\",IF(X122=$G123,\"\",X122)))","v":""},{"$f":"IF(Y122=$P139,\"\",IF(Y122=$J132,\"\",IF(Y122=$G123,\"\",Y122)))","v":""},{"$f":"IF(Z122=$P139,\"\",IF(Z122=$J132,\"\",IF(Z122=$G123,\"\",Z122)))","v":""},{"$f":"IF(AA122=$P139,\"\",IF(AA122=$J132,\"\",IF(AA122=$G123,\"\",AA122)))","v":""},{"$f":"IF(AB122=$P139,\"\",IF(AB122=$J132,\"\",IF(AB122=$G123,\"\",AB122)))","v":""},{"$f":"IF(AC122=$P139,\"\",IF(AC122=$J132,\"\",IF(AC122=$G123,\"\",AC122)))","v":""},{"$f":"IF(AD122=$P139,\"\",IF(AD122=$J132,\"\",IF(AD122=$G123,\"\",AD122)))","v":""},{"$f":"IF(AE122=$P139,\"\",IF(AE122=$J132,\"\",IF(AE122=$G123,\"\",AE122)))","v":""},{"$f":"IF(AF122=$P139,\"\",IF(AF122=$J132,\"\",IF(AF122=$G123,\"\",AF122)))","v":""},{"$f":"IF(AG122=$P139,\"\",IF(AG122=$J132,\"\",IF(AG122=$G123,\"\",AG122)))","v":""},{"$f":"IF(AH122=$P139,\"\",IF(AH122=$J132,\"\",IF(AH122=$G123,\"\",AH122)))","v":""},{"$f":"IF(AI122=$P139,\"\",IF(AI122=$J132,\"\",IF(AI122=$G123,\"\",AI122)))","v":""},{"$f":"IF(AJ122=$P139,\"\",IF(AJ122=$J132,\"\",IF(AJ122=$G123,\"\",AJ122)))","v":""},{"$f":"IF(AK122=$P139,\"\",IF(AK122=$J132,\"\",IF(AK122=$G123,\"\",AK122)))","v":""},{"$f":"IF(AL122=$P139,\"\",IF(AL122=$J132,\"\",IF(AL122=$G123,\"\",AL122)))","v":""},{"$f":"IF(AM122=$P139,\"\",IF(AM122=$J132,\"\",IF(AM122=$G123,\"\",AM122)))","v":""},{"$f":"IF(AN122=$P139,\"\",IF(AN122=$J132,\"\",IF(AN122=$G123,\"\",AN122)))","v":""},{"$f":"IF(AO122=$P139,\"\",IF(AO122=$J132,\"\",IF(AO122=$G123,\"\",AO122)))","v":""},{"$f":"IF(AP122=$P139,\"\",IF(AP122=$J132,\"\",IF(AP122=$G123,\"\",AP122)))","v":""},{"$f":"IF(AQ122=$P139,\"\",IF(AQ122=$J132,\"\",IF(AQ122=$G123,\"\",AQ122)))","v":""},{"$f":"IF(AR122=$P139,\"\",IF(AR122=$J132,\"\",IF(AR122=$G123,\"\",AR122)))","v":""},{"$f":"IF(AS122=$P139,\"\",IF(AS122=$J132,\"\",IF(AS122=$G123,\"\",AS122)))","v":""},{"$f":"IF(AT122=$P139,\"\",IF(AT122=$J132,\"\",IF(AT122=$G123,\"\",AT122)))","v":""},null,null,null,null,null,null,19,20,0]
[null,null,null,27,"",{"$f":"AG128","v":""},"","",null,20,"",{"$f":"AG135","v":""},"","",null,null,null,null,null,null,null,null,null,null,null,null,null,null,null,null,null,null,null,null,null,null,null,null,null,null,null,null,null,null,null,null,null,null,null,null,null,null,null,null,null,null,null,null,null,null,null,20,20,0]
[null,null,null,28,"",{"$f":"AH128","v":""},"","",null,21,{"$f":"IF(L157<>\"\",BK157+BL157+L157,\"\")","v":""},{"$f":"AH135","v":""},"","",null,null,null,null,null,null,null,null,null,null,null,null,null,null,null,null,null,null,null,null,null,null,null,null,null,null,null,null,null,null,null,null,null,null,null,null,null,null,null,null,null,null,null,null,null,null,null,21,20,0]
[null,null,null,29,"",{"$f":"AI128","v":""},"","",null,22,"",{"$f":"AI135","v":""},"","",null,null,null,null,null,null,null,null,null,null,null,null,null,null,null,null,null,null,null,null,null,null,null,null,null,null,null,null,null,null,null,null,null,null,null,null,null,null,null,null,null,null,null,null,null,null,null,22,20,0]
[null,null,null,30,"",{"$f":"AJ128","v":""},"","",null,23,"",{"$f":"AJ135","v":""},"","",null,null,null,null,null,null,null,null,null,null,null,null,null,null,null,null,null,null,null,null,null,null,null,null,null,null,null,null,null,null,null,null,null,null,null,null,null,null,null,null,null,null,null,null,null,null,null,23,20,0]
[null,null,null,31,"",{"$f":"AK128","v":""},"","",null,24,"",{"$f":"AK135","v":""},"","",null,null,null,null,null,null,null,null,null,null,null,null,null,null,null,null,null,null,null,null,null,null,null,null,null,null,null,null,null,null,null,null,null,null,null,null,null,null,null,null,null,null,null,null,null,null,null,24,20,0]
[null,null,null,32,"",{"$f":"AL128","v":""},"","",null,25,"",{"$f":"AL135","v":""},"","",null,null,null,null,null,null,null,null,null,null,null,null,null,null,null,null,null,null,null,null,null,null,null,null,null,null,null,null,null,null,null,null,null,null,null,null,null,null,null,null,null,null,null,null,null,null,null,25,20,0]
[null,null,null,33,"",{"$f":"AM128","v":""},"","",null,26,"",{"$f":"AM135","v":""},"","",null,null,null,null,null,null,null,null,null,null,null,null,null,null,null,null,null,null,null,null,null,null,null,null,null,null,null,null,null,null,null,null,null,null,null,null,null,null,null,null,null,null,null,null,null,null,null,26,20,0]
[null,null,null,34,"",{"$f":"AN128","v":""},"","",null,27,"",{"$f":"AN135","v":""},"","",null,null,null,null,null,null,null,null,null,null,null,null,null,null,null,null,null,null,null,null,null,null,null,null,null,null,null,null,null,null,null,null,null,null,null,null,null,null,null,null,null,null,null,null,null,null,null,27,20,0]
[null,null,null,35,"",{"$f":"AO128","v":""},"","",null,28,"",{"$f":"AO135","v":""},"","",null,null,null,null,null,null,null,null,null,null,null,null,null,null,null,null,null,null,null,null,null,null,null,null,null,null,null,null,null,null,null,null,null,null,null,null,null,null,null,null,null,null,null,null,null,null,null,28,20,0]
[null,null,null,36,"",{"$f":"AP128","v":""},"","",null,29,"",{"$f":"AP135","v":""},"","",null,null,null,null,null,null,null,null,null,null,null,null,null,null,null,null,null,null,null,null,null,null,null,null,null,null,null,null,null,null,null,null,null,null,null,null,null,null,null,null,null,null,null,null,null,null,null,29,20,0]
[null,null,null,37,"",{"$f":"AQ128","v":""},"","",null,30,"",{"$f":"AQ135","v":""},"","",null,null,null,null,null,null,null,null,null,null,null,null,null,null,null,null,null,null,null,null,null,null,null,null,null,null,null,null,null,null,null,null,null,null,null,null,null,null,null,null,null,null,null,null,null,null,null,30,20,0]
[null,null,null,38,"",{"$f":"AR128","v":""},"","",null,31,"",{"$f":"AR135","v":""},"","",null,null,null,null,null,null,null,null,null,null,null,null,null,null,null,null,null,null,null,null,null,null,null,null,null,null,null,null,null,null,null,null,null,null,null,null,null,null,null,null,null,null,null,null,null,null,null,31,20,0]
[null,null,null,39,"",{"$f":"AS128","v":""},"","",null,32,"",{"$f":"AS135","v":""},"","",null,null,null,null,null,null,null,null,null,null,null,null,null,null,null,null,null,null,null,null,null,null,null,null,null,null,null,null,null,null,null,null,null,null,null,null,null,null,null,null,null,null,null,null,null,null,null,32,20,0]
[null,null,null,40,"",{"$f":"AT128","v":""},"","",null,33,"",{"$f":"AT135","v":""},"","",null,null,null,null,null,null,null,null,null,null,null,null,null,null,null,null,null,null,null,null,null,null,null,null,null,null,null,null,null,null,null,null,null,null,null,null,null,null,null,null,null,null,null,null,null,null,null,33,20,0]
[null,null,null,null,null,null,null,null,null,34,"",{"$f":"AU135","v":""},"","",null,null,null,null,null,null,null,null,null,null,null,null,null,null,null,null,null,null,null,null,null,null,null,null,null,null,null,null,null,null,null,null,null,null,null,null,null,null,null,null,null,null,null,null,null,null,null,34,20,0]
[null,null,null,null,null,null,null,null,null,35,"",{"$f":"AV135","v":""},"","",null,null,null,null,null,null,null,null,null,null,null,null,null,null,null,null,null,null,null,null,null,null,null,null,null,null,null,null,null,null,null,null,null,null,null,null,null,null,null,null,null,null,null,null,null,null,null,35,20,0]
[null,null,null,null,null,null,null,null,null,36,"",{"$f":"AW135","v":""},"","",null,null,null,null,null,null,null,null,null,null,null,null,null,null,null,null,null,null,null,null,null,null,null,null,null,null,null,null,null,null,null,null,null,null,null,null,null,null,null,null,null,null,null,null,null,null,null,36,20,0]
[null,null,null,null,null,null,null,null,null,37,"",{"$f":"AX135","v":""},"","",null,null,null,null,null,null,null,null,null,null,null,null,null,null,null,null,null,null,null,null,null,null,null,null,null,null,null,null,null,null,null,null,null,null,null,null,null,null,null,null,null,null,null,null,null,null,null,37,20,0]
[null,null,null,null,null,null,null,null,null,38,"",{"$f":"AY135","v":""},"","",null,null,null,null,null,null,null,null,null,null,null,null,null,null,null,null,null,null,null,null,null,null,null,null,null,null,null,null,null,null,null,null,null,null,null,null,null,null,null,null,null,null,null,null,null,null,null,38,20,0]
[null,null,null,null,null,null,null,null,null,39,"",{"$f":"AZ135","v":""},"","",null,null,null,null,null,null,null,null,null,null,null,null,null,null,null,null,null,null,null,null,null,null,null,null,null,null,null,null,null,null,null,null,null,null,null,null,null,null,null,null,null,null,null,null,null,null,null,39,20,0]
[null,null,null,null,null,null,null,null,null,40,"",{"$f":"BA135","v":""},"","",null,null,null,null,null,null,null,null,null,null,null,null,null,null,null,null,null,null,null,null,null,null,null,null,null,null,null,null,null,null,null,null,null,null,null,null,null,null,null,null,null,null,null,null,null,null,null,40,20,0]
[]
[]
[null,null,null,null,null,null,1,2,3,4,5,6,7,8,9,10,11,12,13,14,15,16,17,18,19,20,21,22,23,24,25,26,27,28,29,30,31,32,33,34,35,36,37,38,39,40,null,null,null,null,null,null,null,null,null,null,null,null,null,null,null,"BLOCCHI CHE POSSONO ESSERE CARICATI IN COPPIA O A TRE PERCHE' IL LORO PESO COMPLESSIVO NON SUPERA IL PESO MASSIMO CONSENTITO NEL TRASPORTO"]
[null,null,"TIR",null,{"$f":"E121+1","v":3},null,{"$f":"P154","v":""},{"$f":"Q154","v":""},{"$f":"R154","v":""},{"$f":"S154","v":""},{"$f":"T154","v":""},{"$f":"U154","v":""},{"$f":"V154","v":""},{"$f":"W154","v":""},{"$f":"X154","v":""},{"$f":"Y154","v":""},{"$f":"Z154","v":""},{"$f":"AA154","v":""},{"$f":"AB154","v":""},{"$f":"AC154","v":""},{"$f":"AD154","v":""},{"$f":"AE154","v":""},{"$f":"AF154","v":""},{"$f":"AG154","v":""},{"$f":"AH154","v":""},{"$f":"AI154","v":""},{"$f":"AJ154","v":""},{"$f":"AK154","v":""},{"$f":"AL154","v":""},{"$f":"AM154","v":""},{"$f":"AN154","v":""},{"$f":"AO154","v":""},{"$f":"AP154","v":""},{"$f":"AQ154","v":""},{"$f":"AR154","v":""},{"$f":"AS154","v":""},{"$f":"AT154","v":""},{"$f":"AU154","v":""},{"$f":"AV154","v":""},{"$f":"AW154","v":""},{"$f":"AX154","v":""},{"$f":"AY154","v":""},{"$f":"AZ154","v":""},{"$f":"BA154","v":""},{"$f":"BB154","v":""},{"$f":"BC154","v":""}]
[null,null,null,null,null,null,{"$f":"P155","v":""},"","","","","","","","","","","","","","","","","","","","","","","","","","","","","","","","","","","","","","",""]
[null,null,"MASSIMO PESO",null,null,null,{"$f":"MAX(G181:AT181)","v":0}]
[null,null,null,null,null,null,{"$f":"IF(G181=$G182,G180,\"\")","v":""},{"$f":"IF(H181=$G182,H180,\"\")","v":""},"","","","","","","","","","","","",{"$f":"IF(U181=$G182,U180,\"\")","v":""},"","","","","","","","","","","","","","","","","","","","","","","","",""]
[null,null,null,null,null,null,{"$f":"G183&H183&I183&J183&K183&L183&M183&N183&O183&P183&Q183&R183&S183&T183&U183&V183&W183&X183&Y183&Z183&AA183&AB183&AC183&AD183&AE183&AF183&AG183&AH183&AI183&AJ183&AK183&AL183&AM183&AN183&AO183&AP183&AQ183&AR183&AS183&AT183","v":""},null,null,null,null,null,null,null,null,null,null,null,null,null,null,null,null,null,null,null,null,null,null,null,null,null,null,null,null,null,null,null,null,null,null,null,null,null,null,null,null,null,null,null,null,null,null,null,null,null,null,null,null,null,null,null,null,null,null,null,null,null,null,null,null,null,null,null,"Primo Blocco",null,null,null,null,null,{"$f":"G184","v":""},{"$f":"CC185+CC190+CC195","v":0},null,"Quintali",null,"N° Blocco"]
[null,null,null,null,null,null,{"$f":"G182","v":0},null,null,null,null,null,null,null,null,null,null,null,null,null,null,null,null,null,null,null,null,null,null,null,null,null,null,null,null,null,null,null,null,null,null,null,null,null,null,null,null,null,null,null,null,null,null,null,null,null,null,null,null,null,null,null,null,null,null,null,null,null,null,null,null,null,null,null,null,null,null,null,null,null,{"$f":"G182","v":0},null,null,{"$f":"IF(CC185=0,\"\",CC185)","v":""},null,{"$f":"IF(CF185=\"\",\"\",CC184)","v":""}]
[null,null,null,null,null,null,{"$f":"IF(G187=\"\",\"\",IF(G187=G181,G180,\"\"))","v":""},{"$f":"IF(H187=\"\",\"\",IF(H187=H181,H180,\"\"))","v":""},"","","","","","","","","","","","",{"$f":"IF(U187=\"\",\"\",IF(U187=U181,U180,\"\"))","v":""},"","","","","","","","","","","","","","","","","","","","","","","","","",null,null,null,null,null,null,null,null,null,null,null,null,null,null,null,null,null,null,null,null,null,null,null,null,null,null,null,null,null,null,null,null,null,null,null,null,null,{"$f":"IF(CC190=0,\"\",CC190)","v":""},null,{"$f":"IF(CF186=\"\",\"\",CC189)","v":""}]
[null,null,"DISPONIBILI",null,null,null,{"$f":"IF(G181=$G182,\"\",G181)","v":""},{"$f":"IF(H181=$G182,\"\",H181)","v":""},"","","","","","","","","","","","",{"$f":"IF(U181=$G182,\"\",U181)","v":""},"","","","","","","","","","","","","","","","","","","","","","","","","",null,null,null,null,null,null,null,null,null,null,null,null,null,null,null,null,null,null,null,null,null,null,null,null,null,null,null,null,null,null,null,null,null,null,null,null,null,{"$f":"IF(CC195=0,\"\",CC195)","v":""},null,{"$f":"IF(CF187=\"\",\"\",CC194)","v":""}]
[null,null,null,null,null,null,null,null,null,null,null,null,null,null,null,null,null,null,null,null,null,null,null,null,null,null,null,null,null,null,null,null,null,null,null,null,null,null,null,null,null,null,null,null,null,null,null,null,null,null,null,null,null,null,null,null,null,null,null,null,null,null,null,null,null,null,null,null,null,null,null,null,null,null,null,null,null,null,null,null,null,null,null,"NUMERO TIR"]
[null,null,"Portata                Max.               TIR",1,{"$f":"IF(F189<>\"\",F189+G$126,\"\")","v":""},{"$f":"G187","v":""},{"$f":"IF(F189=\"\",\"\",IF(E189<=$C$74,\"X\",\"\"))","v":""},{"$f":"IF(G189=\"X\",F189,\"\")","v":""},{"$f":"MAX(H189:H228)","v":0},{"$f":"IF(J190=G187,G186,\"\")","v":""},{"$f":"IF(K190=H187,H186,\"\")","v":""},{"$f":"IF(L190=I187,I186,\"\")","v":""},{"$f":"IF(M190=J187,J186,\"\")","v":""},{"$f":"IF(N190=K187,K186,\"\")","v":""},{"$f":"IF(O190=L187,L186,\"\")","v":""},{"$f":"IF(P190=M187,M186,\"\")","v":""},{"$f":"IF(Q190=N187,N186,\"\")","v":""},{"$f":"IF(R190=O187,O186,\"\")","v":""},{"$f":"IF(S190=P187,P186,\"\")","v":""},{"$f":"IF(T190=Q187,Q186,\"\")","v":""},{"$f":"IF(U190=R187,R186,\"\")","v":""},{"$f":"IF(V190=S187,S186,\"\")","v":""},{"$f":"IF(W190=T187,T186,\"\")","v":""},{"$f":"IF(X190=U187,U186,\"\")","v":""},{"$f":"IF(Y190=V187,V186,\"\")","v":""},{"$f":"IF(Z190=W187,W186,\"\")","v":""},{"$f":"IF(AA190=X187,X186,\"\")","v":""},{"$f":"IF(AB190=Y187,Y186,\"\")","v":""},{"$f":"IF(AC190=Z187,Z186,\"\")","v":""},{"$f":"IF(AD190=AA187,AA186,\"\")","v":""},{"$f":"IF(AE190=AB187,AB186,\"\")","v":""},{"$f":"IF(AF190=AC187,AC186,\"\")","v":""},{"$f":"IF(AG190=AD187,AD186,\"\")","v":""},{"$f":"IF(AH190=AE187,AE186,\"\")","v":""},{"$f":"IF(AI190=AF187,AF186,\"\")","v":""},{"$f":"IF(AJ190=AG187,AG186,\"\")","v":""},{"$f":"IF(AK190=AH187,AH186,\"\")","v":""},{"$f":"IF(AL190=AI187,AI186,\"\")","v":""},{"$f":"IF(AM190=AJ187,AJ186,\"\")","v":""},{"$f":"IF(AN190=AK187,AK186,\"\")","v":""},{"$f":"IF(AO190=AL187,AL186,\"\")","v":""},{"$f":"IF(AP190=AM187,AM186,\"\")","v":""},{"$f":"IF(AQ190=AN187,AN186,\"\")","v":""},{"$f":"IF(AR190=AO187,AO186,\"\")","v":""},{"$f":"IF(AS190=AP187,AP186,\"\")","v":""},{"$f":"IF(AT190=AQ187,AQ186,\"\")","v":""},{"$f":"IF(AU190=AR187,AR186,\"\")","v":""},{"$f":"IF(AV190=AS187,AS186,\"\")","v":""},{"$f":"IF(AW190=AT187,AT186,\"\")","v":""},null,null,null,null,null,null,null,null,null,null,null,null,null,null,null,null,null,null,null,null,null,null,null,null,null,"Secondo Blocco",null,null,null,null,null,{"$f":"J189&K189&L189&M189&N189&O189&P189&Q189&R189&S189&T189&U189&V189&W189&X189&Y189&Z189&AA189&AB189&AC189&AD189&AE189&AF189&AG189&AH189&AI189&AJ189&AK189&AL189&AM189&AN189&AO189&AP189&AQ189&AR189&AS189&AT189&AU189&AV189&AW189","v":""}]
[null,null,null,2,"",{"$f":"H187","v":""},{"$f":"IF(F190=\"\",\"\",IF(E190<=$C$74,\"X\",\"\"))","v":""},"",null,{"$f":"IF($J191=G187,G187,\"\")","v":""},{"$f":"IF($J191=H187,H187,\"\")","v":""},{"$f":"IF($J191=I187,I187,\"\")","v":""},{"$f":"IF($J191=J187,J187,\"\")","v":""},{"$f":"IF($J191=K187,K187,\"\")","v":""},{"$f":"IF($J191=L187,L187,\"\")","v":""},{"$f":"IF($J191=M187,M187,\"\")","v":""},{"$f":"IF($J191=N187,N187,\"\")","v":""},{"$f":"IF($J191=O187,O187,\"\")","v":""},{"$f":"IF($J191=P187,P187,\"\")","v":""},{"$f":"IF($J191=Q187,Q187,\"\")","v":""},{"$f":"IF($J191=R187,R187,\"\")","v":""},{"$f":"IF($J191=S187,S187,\"\")","v":""},{"$f":"IF($J191=T187,T187,\"\")","v":""},{"$f":"IF($J191=U187,U187,\"\")","v":""},{"$f":"IF($J191=V187,V187,\"\")","v":""},{"$f":"IF($J191=W187,W187,\"\")","v":""},{"$f":"IF($J191=X187,X187,\"\")","v":""},{"$f":"IF($J191=Y187,Y187,\"\")","v":""},{"$f":"IF($J191=Z187,Z187,\"\")","v":""},{"$f":"IF($J191=AA187,AA187,\"\")","v":""},{"$f":"IF($J191=AB187,AB187,\"\")","v":""},{"$f":"IF($J191=AC187,AC187,\"\")","v":""},{"$f":"IF($J191=AD187,AD187,\"\")","v":""},{"$f":"IF($J191=AE187,AE187,\"\")","v":""},{"$f":"IF($J191=AF187,AF187,\"\")","v":""},{"$f":"IF($J191=AG187,AG187,\"\")","v":""},{"$f":"IF($J191=AH187,AH187,\"\")","v":""},{"$f":"IF($J191=AI187,AI187,\"\")","v":""},{"$f":"IF($J191=AJ187,AJ187,\"\")","v":""},{"$f":"IF($J191=AK187,AK187,\"\")","v":""},{"$f":"IF($J191=AL187,AL187,\"\")","v":""},{"$f":"IF($J191=AM187,AM187,\"\")","v":""},{"$f":"IF($J191=AN187,AN187,\"\")","v":""},{"$f":"IF($J191=AO187,AO187,\"\")","v":""},{"$f":"IF($J191=AP187,AP187,\"\")","v":""},{"$f":"IF($J191=AQ187,AQ187,\"\")","v":""},{"$f":"IF($J191=AR187,AR187,\"\")","v":""},{"$f":"IF($J191=AS187,AS187,\"\")","v":""},{"$f":"IF($J191=AT187,AT187,\"\")","v":""},null,null,null,null,null,null,null,null,null,null,null,null,null,null,null,null,null,null,null,null,null,null,null,null,null,null,null,null,null,null,null,{"$f":"J191","v":0}]
[null,null,null,3,"",{"$f":"I187","v":""},"","",null,{"$f":"I189","v":0}]
[null,null,{"$f":"$P$3","v":200},4,"",{"$f":"J187","v":""},"","",null,null,null,null,null,null,null,null,null,null,null,null,null,null,null,null,null,null,null,null,null,null,null,null,null,null,null,null,null,null,null,null,null,null,null,null,null,null,null,null,null,null,null,null,null,null,null,null,null,null,null,null,null,null,null,null,null,null,null,null,null,null,null,null,null,null,null,null,null,null,null,null,null,null,null,{"$f":"IF(CD184>0,CF133+1,\"\")","v":""}]
[null,null,null,5,"",{"$f":"K187","v":""},"","",null,null,null,null,null,{"$f":"IF(N194=G187,G186,\"\")","v":""},{"$f":"IF(O194=H187,H186,\"\")","v":""},{"$f":"IF(P194=I187,I186,\"\")","v":""},{"$f":"IF(Q194=J187,J186,\"\")","v":""},{"$f":"IF(R194=K187,K186,\"\")","v":""},{"$f":"IF(S194=L187,L186,\"\")","v":""},{"$f":"IF(T194=M187,M186,\"\")","v":""},{"$f":"IF(U194=N187,N186,\"\")","v":""},{"$f":"IF(V194=O187,O186,\"\")","v":""},{"$f":"IF(W194=P187,P186,\"\")","v":""},{"$f":"IF(X194=Q187,Q186,\"\")","v":""},{"$f":"IF(Y194=R187,R186,\"\")","v":""},{"$f":"IF(Z194=S187,S186,\"\")","v":""},{"$f":"IF(AA194=T187,T186,\"\")","v":""},{"$f":"IF(AB194=U187,U186,\"\")","v":""},{"$f":"IF(AC194=V187,V186,\"\")","v":""},{"$f":"IF(AD194=W187,W186,\"\")","v":""},{"$f":"IF(AE194=X187,X186,\"\")","v":""},{"$f":"IF(AF194=Y187,Y186,\"\")","v":""},{"$f":"IF(AG194=Z187,Z186,\"\")","v":""},{"$f":"IF(AH194=AA187,AA186,\"\")","v":""},{"$f":"IF(AI194=AB187,AB186,\"\")","v":""},{"$f":"IF(AJ194=AC187,AC186,\"\")","v":""},{"$f":"IF(AK194=AD187,AD186,\"\")","v":""},{"$f":"IF(AL194=AE187,AE186,\"\")","v":""},{"$f":"IF(AM194=AF187,AF186,\"\")","v":""},{"$f":"IF(AN194=AG187,AG186,\"\")","v":""},{"$f":"IF(AO194=AH187,AH186,\"\")","v":""},{"$f":"IF(AP194=AI187,AI186,\"\")","v":""},{"$f":"IF(AQ194=AJ187,AJ186,\"\")","v":""},{"$f":"IF(AR194=AK187,AK186,\"\")","v":""},{"$f":"IF(AS194=AL187,AL186,\"\")","v":""},{"$f":"IF(AT194=AM187,AM186,\"\")","v":""},{"$f":"IF(AU194=AN187,AN186,\"\")","v":""},{"$f":"IF(AV194=AO187,AO186,\"\")","v":""},{"$f":"IF(AW194=AP187,AP186,\"\")","v":""},{"$f":"IF(AX194=AQ187,AQ186,\"\")","v":""},{"$f":"IF(AY194=AR187,AR186,\"\")","v":""},{"$f":"IF(AZ194=AS187,AS186,\"\")","v":""},{"$f":"IF(BA194=AT187,AT186,\"\")","v":""}]
[null,null,null,6,"",{"$f":"L187","v":""},"","",null,"DISPONIBILI",null,null,null,{"$f":"IF(G187=\"\",\"\",IF(G187=J190,\"\",G187))","v":""},{"$f":"IF(H187=\"\",\"\",IF(H187=K190,\"\",H187))","v":""},{"$f":"IF(I187=\"\",\"\",IF(I187=L190,\"\",I187))","v":""},{"$f":"IF(J187=\"\",\"\",IF(J187=M190,\"\",J187))","v":""},{"$f":"IF(K187=\"\",\"\",IF(K187=N190,\"\",K187))","v":""},{"$f":"IF(L187=\"\",\"\",IF(L187=O190,\"\",L187))","v":""},{"$f":"IF(M187=\"\",\"\",IF(M187=P190,\"\",M187))","v":""},{"$f":"IF(N187=\"\",\"\",IF(N187=Q190,\"\",N187))","v":""},{"$f":"IF(O187=\"\",\"\",IF(O187=R190,\"\",O187))","v":""},{"$f":"IF(P187=\"\",\"\",IF(P187=S190,\"\",P187))","v":""},{"$f":"IF(Q187=\"\",\"\",IF(Q187=T190,\"\",Q187))","v":""},{"$f":"IF(R187=\"\",\"\",IF(R187=U190,\"\",R187))","v":""},{"$f":"IF(S187=\"\",\"\",IF(S187=V190,\"\",S187))","v":""},{"$f":"IF(T187=\"\",\"\",IF(T187=W190,\"\",T187))","v":""},{"$f":"IF(U187=\"\",\"\",IF(U187=X190,\"\",U187))","v":""},{"$f":"IF(V187=\"\",\"\",IF(V187=Y190,\"\",V187))","v":""},{"$f":"IF(W187=\"\",\"\",IF(W187=Z190,\"\",W187))","v":""},{"$f":"IF(X187=\"\",\"\",IF(X187=AA190,\"\",X187))","v":""},{"$f":"IF(Y187=\"\",\"\",IF(Y187=AB190,\"\",Y187))","v":""},{"$f":"IF(Z187=\"\",\"\",IF(Z187=AC190,\"\",Z187))","v":""},{"$f":"IF(AA187=\"\",\"\",IF(AA187=AD190,\"\",AA187))","v":""},{"$f":"IF(AB187=\"\",\"\",IF(AB187=AE190,\"\",AB187))","v":""},{"$f":"IF(AC187=\"\",\"\",IF(AC187=AF190,\"\",AC187))","v":""},{"$f":"IF(AD187=\"\",\"\",IF(AD187=AG190,\"\",AD187))","v":""},{"$f":"IF(AE187=\"\",\"\",IF(AE187=AH190,\"\",AE187))","v":""},{"$f":"IF(AF187=\"\",\"\",IF(AF187=AI190,\"\",AF187))","v":""},{"$f":"IF(AG187=\"\",\"\",IF(AG187=AJ190,\"\",AG187))","v":""},{"$f":"IF(AH187=\"\",\"\",IF(AH187=AK190,\"\",AH187))","v":""},{"$f":"IF(AI187=\"\",\"\",IF(AI187=AL190,\"\",AI187))","v":""},{"$f":"IF(AJ187=\"\",\"\",IF(AJ187=AM190,\"\",AJ187))","v":""},{"$f":"IF(AK187=\"\",\"\",IF(AK187=AN190,\"\",AK187))","v":""},{"$f":"IF(AL187=\"\",\"\",IF(AL187=AO190,\"\",AL187))","v":""},{"$f":"IF(AM187=\"\",\"\",IF(AM187=AP190,\"\",AM187))","v":""},{"$f":"IF(AN187=\"\",\"\",IF(AN187=AQ190,\"\",AN187))","v":""},{"$f":"IF(AO187=\"\",\"\",IF(AO187=AR190,\"\",AO187))","v":""},{"$f":"IF(AP187=\"\",\"\",IF(AP187=AS190,\"\",AP187))","v":""},{"$f":"IF(AQ187=\"\",\"\",IF(AQ187=AT190,\"\",AQ187))","v":""},{"$f":"IF(AR187=\"\",\"\",IF(AR187=AU190,\"\",AR187))","v":""},{"$f":"IF(AS187=\"\",\"\",IF(AS187=AV190,\"\",AS187))","v":""},{"$f":"IF(AT187=\"\",\"\",IF(AT187=AW190,\"\",AT187))","v":""},null,null,null,null,null,null,null,null,null,null,null,null,null,null,null,null,null,null,null,null,null,"Terzo Blocco",null,null,null,null,null,{"$f":"P196&Q196&R196&S196&T196&U196&V196&W196&X196&Y196&Z196&AA196&AB196&AC196&AD196&AE196&AF196&AG196&AH196&AI196&AJ196&AK196&AL196&AM196&AN196&AO196&AP196&AQ196&AR196&AS196&AT196&AU196&AV196&AW196&AX196&AY196&AZ196&BA196&BB196&BC196","v":""}]
[null,null,null,7,"",{"$f":"M187","v":""},"","",null,null,null,null,null,null,null,null,null,null,null,null,null,null,null,null,null,null,null,null,null,null,null,null,null,null,null,null,null,null,null,null,null,null,null,null,null,null,null,null,null,null,null,null,null,null,null,null,null,null,null,null,null,null,1,2,null,null,null,null,null,null,null,null,null,null,null,null,null,null,null,null,{"$f":"P198","v":0}]
[null,null,null,8,"",{"$f":"N187","v":""},"","",null,1,{"$f":"IF(L196<>\"\",BK196+BL196+L196,\"\")","v":""},{"$f":"N194","v":""},{"$f":"IF(L196=\"\",\"\",IF(K196<=$C$74,\"X\",\"\"))","v":""},{"$f":"IF(M196=\"X\",L196,\"\")","v":""},{"$f":"MAX(N196:N215)","v":0},{"$f":"IF(P197=N194,N193,\"\")","v":""},{"$f":"IF(Q197=O194,O193,\"\")","v":""},{"$f":"IF(R197=P194,P193,\"\")","v":""},{"$f":"IF(S197=Q194,Q193,\"\")","v":""},{"$f":"IF(T197=R194,R193,\"\")","v":""},{"$f":"IF(U197=S194,S193,\"\")","v":""},{"$f":"IF(V197=T194,T193,\"\")","v":""},{"$f":"IF(W197=U194,U193,\"\")","v":""},{"$f":"IF(X197=V194,V193,\"\")","v":""},{"$f":"IF(Y197=W194,W193,\"\")","v":""},{"$f":"IF(Z197=X194,X193,\"\")","v":""},{"$f":"IF(AA197=Y194,Y193,\"\")","v":""},{"$f":"IF(AB197=Z194,Z193,\"\")","v":""},{"$f":"IF(AC197=AA194,AA193,\"\")","v":""},{"$f":"IF(AD197=AB194,AB193,\"\")","v":""},{"$f":"IF(AE197=AC194,AC193,\"\")","v":""},{"$f":"IF(AF197=AD194,AD193,\"\")","v":""},{"$f":"IF(AG197=AE194,AE193,\"\")","v":""},{"$f":"IF(AH197=AF194,AF193,\"\")","v":""},{"$f":"IF(AI197=AG194,AG193,\"\")","v":""},{"$f":"IF(AJ197=AH194,AH193,\"\")","v":""},{"$f":"IF(AK197=AI194,AI193,\"\")","v":""},{"$f":"IF(AL197=AJ194,AJ193,\"\")","v":""},{"$f":"IF(AM197=AK194,AK193,\"\")","v":""},{"$f":"IF(AN197=AL194,AL193,\"\")","v":""},{"$f":"IF(AO197=AM194,AM193,\"\")","v":""},{"$f":"IF(AP197=AN194,AN193,\"\")","v":""},{"$f":"IF(AQ197=AO194,AO193,\"\")","v":""},{"$f":"IF(AR197=AP194,AP193,\"\")","v":""},{"$f":"IF(AS197=AQ194,AQ193,\"\")","v":""},{"$f":"IF(AT197=AR194,AR193,\"\")","v":""},{"$f":"IF(AU197=AS194,AS193,\"\")","v":""},{"$f":"IF(AV197=AT194,AT193,\"\")","v":""},{"$f":"IF(AW197=AU194,AU193,\"\")","v":""},{"$f":"IF(AX197=AV194,AV193,\"\")","v":""},{"$f":"IF(AY197=AW194,AW193,\"\")","v":""},{"$f":"IF(AZ197=AX194,AX193,\"\")","v":""},{"$f":"IF(BA197=AY194,AY193,\"\")","v":""},{"$f":"IF(BB197=AZ194,AZ193,\"\")","v":""},{"$f":"IF(BC197=BA194,BA193,\"\")","v":""},null,null,null,null,null,null,1,{"$f":"CC185","v":0},{"$f":"CC190","v":0}]
[null,null,null,9,"",{"$f":"O187","v":""},"","",null,2,"",{"$f":"O194","v":""},{"$f":"IF(L197=\"\",\"\",IF(K197<=$C$74,\"X\",\"\"))","v":""},{"$f":"IF(M197=\"X\",L197,\"\")","v":""},null,{"$f":"IF($P198=N194,N194,\"\")","v":""},{"$f":"IF($P198=O194,O194,\"\")","v":""},{"$f":"IF($P198=P194,P194,\"\")","v":""},{"$f":"IF($P198=Q194,Q194,\"\")","v":""},{"$f":"IF($P198=R194,R194,\"\")","v":""},{"$f":"IF($P198=S194,S194,\"\")","v":""},{"$f":"IF($P198=T194,T194,\"\")","v":""},{"$f":"IF($P198=U194,U194,\"\")","v":""},{"$f":"IF($P198=V194,V194,\"\")","v":""},{"$f":"IF($P198=W194,W194,\"\")","v":""},{"$f":"IF($P198=X194,X194,\"\")","v":""},{"$f":"IF($P198=Y194,Y194,\"\")","v":""},{"$f":"IF($P198=Z194,Z194,\"\")","v":""},{"$f":"IF($P198=AA194,AA194,\"\")","v":""},{"$f":"IF($P198=AB194,AB194,\"\")","v":""},{"$f":"IF($P198=AC194,AC194,\"\")","v":""},{"$f":"IF($P198=AD194,AD194,\"\")","v":""},{"$f":"IF($P198=AE194,AE194,\"\")","v":""},{"$f":"IF($P198=AF194,AF194,\"\")","v":""},{"$f":"IF($P198=AG194,AG194,\"\")","v":""},{"$f":"IF($P198=AH194,AH194,\"\")","v":""},{"$f":"IF($P198=AI194,AI194,\"\")","v":""},{"$f":"IF($P198=AJ194,AJ194,\"\")","v":""},{"$f":"IF($P198=AK194,AK194,\"\")","v":""},{"$f":"IF($P198=AL194,AL194,\"\")","v":""},{"$f":"IF($P198=AM194,AM194,\"\")","v":""},{"$f":"IF($P198=AN194,AN194,\"\")","v":""},{"$f":"IF($P198=AO194,AO194,\"\")","v":""},{"$f":"IF($P198=AP194,AP194,\"\")","v":""},{"$f":"IF($P198=AQ194,AQ194,\"\")","v":""},{"$f":"IF($P198=AR194,AR194,\"\")","v":""},{"$f":"IF($P198=AS194,AS194,\"\")","v":""},{"$f":"IF($P198=AT194,AT194,\"\")","v":""},{"$f":"IF($P198=AU194,AU194,\"\")","v":""},{"$f":"IF($P198=AV194,AV194,\"\")","v":""},{"$f":"IF($P198=AW194,AW194,\"\")","v":""},{"$f":"IF($P198=AX194,AX194,\"\")","v":""},{"$f":"IF($P198=AY194,AY194,\"\")","v":""},{"$f":"IF($P198=AZ194,AZ194,\"\")","v":""},{"$f":"IF($P198=BA194,BA194,\"\")","v":""},null,null,null,null,null,null,2,{"$f":"BK196","v":0},{"$f":"BL196","v":0}]
[null,null,null,10,"",{"$f":"P187","v":""},"","",null,3,"",{"$f":"P194","v":""},"","",null,{"$f":"O196","v":0},null,null,null,null,null,null,null,null,null,null,null,null,null,null,null,null,null,null,null,null,null,null,null,null,null,null,null,null,null,null,null,null,null,null,null,null,null,null,null,null,null,null,null,null,null,3,{"$f":"BK197","v":0},0,null,null,null,null,null,null,null,null,null,null,null,null,null,null,null,"MASSIMO CARICO",null,null,null,null,{"$f":"C192","v":200}]
[null,null,null,11,"",{"$f":"Q187","v":""},"","",null,4,"",{"$f":"Q194","v":""},"","",null,null,null,null,null,null,null,null,null,null,null,null,null,null,null,null,null,null,null,null,null,null,null,null,null,null,null,null,null,null,null,null,null,null,null,null,null,null,null,null,null,null,null,null,null,null,null,4,0,0]
[null,null,null,12,"",{"$f":"R187","v":""},"","",null,5,"",{"$f":"R194","v":""},"","",null,null,null,null,null,null,null,null,null,null,null,null,null,null,null,null,null,null,null,null,null,null,null,null,null,null,null,null,null,null,null,null,null,null,null,null,null,null,null,null,null,null,null,null,null,null,null,5,0,0,null,null,null,null,null,null,null,null,null,null,null,null,null,null,null,"RIMANE",null,null,null,null,{"$f":"CG198-CD184","v":200}]
[null,null,null,13,"",{"$f":"S187","v":""},"","",null,6,"",{"$f":"S194","v":""},"","",null,null,null,null,null,null,null,null,null,null,null,null,null,null,null,null,null,null,null,null,null,null,null,null,null,null,null,null,null,null,null,null,null,null,null,null,null,null,null,null,null,null,null,null,null,null,null,6,0,0]
[null,null,null,14,"",{"$f":"T187","v":""},"","",null,7,"",{"$f":"T194","v":""},"","",null,null,null,null,null,null,null,null,null,null,null,null,null,null,null,null,null,null,null,null,null,null,null,null,null,null,null,null,null,null,null,null,null,null,null,null,null,null,null,null,null,null,null,null,null,null,null,7,0,0]
[null,null,null,15,"",{"$f":"U187","v":""},"",{"$f":"IF(G203=\"X\",F203,\"\")","v":""},null,8,"",{"$f":"U194","v":""},"","",null,null,null,null,null,null,null,null,null,null,null,null,null,null,null,null,null,null,null,null,null,null,null,null,null,null,null,null,null,null,null,null,null,null,null,null,null,null,null,null,null,null,null,null,null,null,null,8,0,0]
[null,null,null,16,"",{"$f":"V187","v":""},"","",null,9,"",{"$f":"V194","v":""},"","",null,null,null,null,null,null,null,null,null,null,null,null,null,null,null,null,null,null,null,null,null,null,null,null,null,null,null,null,null,null,null,null,null,null,null,null,null,null,null,null,null,null,null,null,null,null,null,9,{"$f":"BK203","v":0},0]
[null,null,null,17,"",{"$f":"W187","v":""},"","",null,10,"",{"$f":"W194","v":""},"","",null,null,null,null,null,null,null,null,null,null,null,null,null,null,null,null,null,null,null,null,null,null,null,null,null,null,null,null,null,null,null,null,null,null,null,null,null,null,null,null,null,null,null,null,null,null,null,10,0,0]
[null,null,null,18,"",{"$f":"X187","v":""},"","",null,11,"",{"$f":"X194","v":""},"","",null,null,null,null,null,null,null,null,null,null,null,null,null,null,null,null,null,null,null,null,null,null,null,null,null,null,null,null,null,null,null,null,null,null,null,null,null,null,null,null,null,null,null,null,null,null,null,11,0,0]
[null,null,null,19,"",{"$f":"Y187","v":""},"","",null,12,"",{"$f":"Y194","v":""},"","",null,null,null,null,null,null,null,null,null,null,null,null,null,null,null,null,null,null,null,null,null,null,null,null,null,null,null,null,null,null,null,null,null,null,null,null,null,null,null,null,null,null,null,null,null,null,null,12,0,0]
[null,null,null,20,"",{"$f":"Z187","v":""},"","",null,13,"",{"$f":"Z194","v":""},"","",null,null,null,null,null,null,null,null,null,null,null,null,null,null,null,null,null,null,null,null,null,null,null,null,null,null,null,null,null,null,null,null,null,null,null,null,null,null,null,null,null,null,null,null,null,null,null,13,0,0]
[null,null,null,21,{"$f":"IF(F209<>\"\",F209+G$126,\"\")","v":""},{"$f":"AA187","v":""},"","",null,14,"",{"$f":"AA194","v":""},"","",null,null,null,null,null,null,null,null,null,null,null,null,null,null,null,null,null,null,null,null,null,null,null,null,null,null,null,null,null,null,null,null,null,null,null,null,null,null,null,null,null,null,null,null,null,null,null,14,0,0]
[null,null,null,22,"",{"$f":"AB187","v":""},"","",null,15,"",{"$f":"AB194","v":""},"","",null,"RIMASTI A DISPOSIZIONE",null,null,null,null,null,null,null,null,null,null,null,null,null,null,null,null,null,null,null,null,null,null,null,null,null,null,null,null,null,null,null,null,null,null,null,null,null,null,null,null,null,null,null,null,null,15,0,0]
[null,null,null,23,"",{"$f":"AC187","v":""},"","",null,16,"",{"$f":"AC194","v":""},"","",null,null,null,null,null,null,null,null,null,null,null,null,null,null,null,null,null,null,null,null,null,null,null,null,null,null,null,null,null,null,null,null,null,null,null,null,null,null,null,null,null,null,null,null,null,null,null,16,0,0]
[null,null,null,24,"",{"$f":"AD187","v":""},"","",null,17,"",{"$f":"AD194","v":""},"","",null,1,2,3,4,5,6,7,8,9,10,11,12,13,14,15,16,17,18,19,20,21,22,23,24,25,26,27,28,29,30,31,32,33,34,35,36,37,38,39,40,null,null,null,null,null,null,17,0,0]
[null,null,null,25,"",{"$f":"AE187","v":""},"","",null,18,"",{"$f":"AE194","v":""},"","",null,{"$f":"IF(P214=\"\",\"\",IF(P214=G181,G180,\"\"))","v":""},{"$f":"IF(Q214=\"\",\"\",IF(Q214=H181,H180,\"\"))","v":""},{"$f":"IF(R214=\"\",\"\",IF(R214=I181,I180,\"\"))","v":""},{"$f":"IF(S214=\"\",\"\",IF(S214=J181,J180,\"\"))","v":""},{"$f":"IF(T214=\"\",\"\",IF(T214=K181,K180,\"\"))","v":""},{"$f":"IF(U214=\"\",\"\",IF(U214=L181,L180,\"\"))","v":""},{"$f":"IF(V214=\"\",\"\",IF(V214=M181,M180,\"\"))","v":""},{"$f":"IF(W214=\"\",\"\",IF(W214=N181,N180,\"\"))","v":""},{"$f":"IF(X214=\"\",\"\",IF(X214=O181,O180,\"\"))","v":""},{"$f":"IF(Y214=\"\",\"\",IF(Y214=P181,P180,\"\"))","v":""},{"$f":"IF(Z214=\"\",\"\",IF(Z214=Q181,Q180,\"\"))","v":""},{"$f":"IF(AA214=\"\",\"\",IF(AA214=R181,R180,\"\"))","v":""},{"$f":"IF(AB214=\"\",\"\",IF(AB214=S181,S180,\"\"))","v":""},{"$f":"IF(AC214=\"\",\"\",IF(AC214=T181,T180,\"\"))","v":""},{"$f":"IF(AD214=\"\",\"\",IF(AD214=U181,U180,\"\"))","v":""},{"$f":"IF(AE214=\"\",\"\",IF(AE214=V181,V180,\"\"))","v":""},{"$f":"IF(AF214=\"\",\"\",IF(AF214=W181,W180,\"\"))","v":""},{"$f":"IF(AG214=\"\",\"\",IF(AG214=X181,X180,\"\"))","v":""},{"$f":"IF(AH214=\"\",\"\",IF(AH214=Y181,Y180,\"\"))","v":""},{"$f":"IF(AI214=\"\",\"\",IF(AI214=Z181,Z180,\"\"))","v":""},{"$f":"IF(AJ214=\"\",\"\",IF(AJ214=AA181,AA180,\"\"))","v":""},{"$f":"IF(AK214=\"\",\"\",IF(AK214=AB181,AB180,\"\"))","v":""},{"$f":"IF(AL214=\"\",\"\",IF(AL214=AC181,AC180,\"\"))","v":""},{"$f":"IF(AM214=\"\",\"\",IF(AM214=AD181,AD180,\"\"))","v":""},{"$f":"IF(AN214=\"\",\"\",IF(AN214=AE181,AE180,\"\"))","v":""},{"$f":"IF(AO214=\"\",\"\",IF(AO214=AF181,AF180,\"\"))","v":""},{"$f":"IF(AP214=\"\",\"\",IF(AP214=AG181,AG180,\"\"))","v":""},{"$f":"IF(AQ214=\"\",\"\",IF(AQ214=AH181,AH180,\"\"))","v":""},{"$f":"IF(AR214=\"\",\"\",IF(AR214=AI181,AI180,\"\"))","v":""},{"$f":"IF(AS214=\"\",\"\",IF(AS214=AJ181,AJ180,\"\"))","v":""},{"$f":"IF(AT214=\"\",\"\",IF(AT214=AK181,AK180,\"\"))","v":""},{"$f":"IF(AU214=\"\",\"\",IF(AU214=AL181,AL180,\"\"))","v":""},{"$f":"IF(AV214=\"\",\"\",IF(AV214=AM181,AM180,\"\"))","v":""},{"$f":"IF(AW214=\"\",\"\",IF(AW214=AN181,AN180,\"\"))","v":""},{"$f":"IF(AX214=\"\",\"\",IF(AX214=AO181,AO180,\"\"))","v":""},{"$f":"IF(AY214=\"\",\"\",IF(AY214=AP181,AP180,\"\"))","v":""},{"$f":"IF(AZ214=\"\",\"\",IF(AZ214=AQ181,AQ180,\"\"))","v":""},{"$f":"IF(BA214=\"\",\"\",IF(BA214=AR181,AR180,\"\"))","v":""},{"$f":"IF(BB214=\"\",\"\",IF(BB214=AS181,AS180,\"\"))","v":""},{"$f":"IF(BC214=\"\",\"\",IF(BC214=AT181,AT180,\"\"))","v":""},null,null,null,null,null,null,18,0,0]
[null,null,null,26,"",{"$f":"AF187","v":""},"","",null,19,"",{"$f":"AF194","v":""},"","",null,{"$f":"IF(G181=$P198,\"\",IF(G181=$J191,\"\",IF(G181=$G182,\"\",G181)))","v":""},{"$f":"IF(H181=$P198,\"\",IF(H181=$J191,\"\",IF(H181=$G182,\"\",H181)))","v":""},{"$f":"IF(I181=$P198,\"\",IF(I181=$J191,\"\",IF(I181=$G182,\"\",I181)))","v":""},{"$f":"IF(J181=$P198,\"\",IF(J181=$J191,\"\",IF(J181=$G182,\"\",J181)))","v":""},{"$f":"IF(K181=$P198,\"\",IF(K181=$J191,\"\",IF(K181=$G182,\"\",K181)))","v":""},{"$f":"IF(L181=$P198,\"\",IF(L181=$J191,\"\",IF(L181=$G182,\"\",L181)))","v":""},{"$f":"IF(M181=$P198,\"\",IF(M181=$J191,\"\",IF(M181=$G182,\"\",M181)))","v":""},{"$f":"IF(N181=$P198,\"\",IF(N181=$J191,\"\",IF(N181=$G182,\"\",N181)))","v":""},{"$f":"IF(O181=$P198,\"\",IF(O181=$J191,\"\",IF(O181=$G182,\"\",O181)))","v":""},{"$f":"IF(P181=$P198,\"\",IF(P181=$J191,\"\",IF(P181=$G182,\"\",P181)))","v":""},{"$f":"IF(Q181=$P198,\"\",IF(Q181=$J191,\"\",IF(Q181=$G182,\"\",Q181)))","v":""},{"$f":"IF(R181=$P198,\"\",IF(R181=$J191,\"\",IF(R181=$G182,\"\",R181)))","v":""},{"$f":"IF(S181=$P198,\"\",IF(S181=$J191,\"\",IF(S181=$G182,\"\",S181)))","v":""},{"$f":"IF(T181=$P198,\"\",IF(T181=$J191,\"\",IF(T181=$G182,\"\",T181)))","v":""},{"$f":"IF(U181=$P198,\"\",IF(U181=$J191,\"\",IF(U181=$G182,\"\",U181)))","v":""},{"$f":"IF(V181=$P198,\"\",IF(V181=$J191,\"\",IF(V181=$G182,\"\",V181)))","v":""},{"$f":"IF(W181=$P198,\"\",IF(W181=$J191,\"\",IF(W181=$G182,\"\",W181)))","v":""},{"$f":"IF(X181=$P198,\"\",IF(X181=$J191,\"\",IF(X181=$G182,\"\",X181)))","v":""},{"$f":"IF(Y181=$P198,\"\",IF(Y181=$J191,\"\",IF(Y181=$G182,\"\",Y181)))","v":""},{"$f":"IF(Z181=$P198,\"\",IF(Z181=$J191,\"\",IF(Z181=$G182,\"\",Z181)))","v":""},{"$f":"IF(AA181=$P198,\"\",IF(AA181=$J191,\"\",IF(AA181=$G182,\"\",AA181)))","v":""},{"$f":"IF(AB181=$P198,\"\",IF(AB181=$J191,\"\",IF(AB181=$G182,\"\",AB181)))","v":""},{"$f":"IF(AC181=$P198,\"\",IF(AC181=$J191,\"\",IF(AC181=$G182,\"\",AC181)))","v":""},{"$f":"IF(AD181=$P198,\"\",IF(AD181=$J191,\"\",IF(AD181=$G182,\"\",AD181)))","v":""},{"$f":"IF(AE181=$P198,\"\",IF(AE181=$J191,\"\",IF(AE181=$G182,\"\",AE181)))","v":""},{"$f":"IF(AF181=$P198,\"\",IF(AF181=$J191,\"\",IF(AF181=$G182,\"\",AF181)))","v":""},{"$f":"IF(AG181=$P198,\"\",IF(AG181=$J191,\"\",IF(AG181=$G182,\"\",AG181)))","v":""},{"$f":"IF(AH181=$P198,\"\",IF(AH181=$J191,\"\",IF(AH181=$G182,\"\",AH181)))","v":""},{"$f":"IF(AI181=$P198,\"\",IF(AI181=$J191,\"\",IF(AI181=$G182,\"\",AI181)))","v":""},{"$f":"IF(AJ181=$P198,\"\",IF(AJ181=$J191,\"\",IF(AJ181=$G182,\"\",AJ181)))","v":""},{"$f":"IF(AK181=$P198,\"\",IF(AK181=$J191,\"\",IF(AK181=$G182,\"\",AK181)))","v":""},{"$f":"IF(AL181=$P198,\"\",IF(AL181=$J191,\"\",IF(AL181=$G182,\"\",AL181)))","v":""},{"$f":"IF(AM181=$P198,\"\",IF(AM181=$J191,\"\",IF(AM181=$G182,\"\",AM181)))","v":""},{"$f":"IF(AN181=$P198,\"\",IF(AN181=$J191,\"\",IF(AN181=$G182,\"\",AN181)))","v":""},{"$f":"IF(AO181=$P198,\"\",IF(AO181=$J191,\"\",IF(AO181=$G182,\"\",AO181)))","v":""},{"$f":"IF(AP181=$P198,\"\",IF(AP181=$J191,\"\",IF(AP181=$G182,\"\",AP181)))","v":""},{"$f":"IF(AQ181=$P198,\"\",IF(AQ181=$J191,\"\",IF(AQ181=$G182,\"\",AQ181)))","v":""},{"$f":"IF(AR181=$P198,\"\",IF(AR181=$J191,\"\",IF(AR181=$G182,\"\",AR181)))","v":""},{"$f":"IF(AS181=$P198,\"\",IF(AS181=$J191,\"\",IF(AS181=$G182,\"\",AS181)))","v":""},{"$f":"IF(AT181=$P198,\"\",IF(AT181=$J191,\"\",IF(AT181=$G182,\"\",AT181)))","v":""},null,null,null,null,null,null,19,0,0]
[null,null,null,27,"",{"$f":"AG187","v":""},"","",null,20,"",{"$f":"AG194","v":""},"","",null,null,null,null,null,null,null,null,null,null,null,null,null,null,null,null,null,null,null,null,null,null,null,null,null,null,null,null,null,null,null,null,null,null,null,null,null,null,null,null,null,null,null,null,null,null,null,20,0,0]
[null,null,null,28,"",{"$f":"AH187","v":""},"","",null,21,{"$f":"IF(L216<>\"\",BK216+BL216+L216,\"\")","v":""},{"$f":"AH194","v":""},"","",null,null,null,null,null,null,null,null,null,null,null,null,null,null,null,null,null,null,null,null,null,null,null,null,null,null,null,null,null,null,null,null,null,null,null,null,null,null,null,null,null,null,null,null,null,null,null,21,0,0]
[null,null,null,29,"",{"$f":"AI187","v":""},"","",null,22,"",{"$f":"AI194","v":""},"","",null,null,null,null,null,null,null,null,null,null,null,null,null,null,null,null,null,null,null,null,null,null,null,null,null,null,null,null,null,null,null,null,null,null,null,null,null,null,null,null,null,null,null,null,null,null,null,22,0,0]
[null,null,null,30,"",{"$f":"AJ187","v":""},"","",null,23,"",{"$f":"AJ194","v":""},"","",null,null,null,null,null,null,null,null,null,null,null,null,null,null,null,null,null,null,null,null,null,null,null,null,null,null,null,null,null,null,null,null,null,null,null,null,null,null,null,null,null,null,null,null,null,null,null,23,0,0]
[null,null,null,31,"",{"$f":"AK187","v":""},"","",null,24,"",{"$f":"AK194","v":""},"","",null,null,null,null,null,null,null,null,null,null,null,null,null,null,null,null,null,null,null,null,null,null,null,null,null,null,null,null,null,null,null,null,null,null,null,null,null,null,null,null,null,null,null,null,null,null,null,24,0,0]
[null,null,null,32,"",{"$f":"AL187","v":""},"","",null,25,"",{"$f":"AL194","v":""},"","",null,null,null,null,null,null,null,null,null,null,null,null,null,null,null,null,null,null,null,null,null,null,null,null,null,null,null,null,null,null,null,null,null,null,null,null,null,null,null,null,null,null,null,null,null,null,null,25,{"$f":"BK219","v":0},0]
[null,null,null,33,"",{"$f":"AM187","v":""},"","",null,26,"",{"$f":"AM194","v":""},"","",null,null,null,null,null,null,null,null,null,null,null,null,null,null,null,null,null,null,null,null,null,null,null,null,null,null,null,null,null,null,null,null,null,null,null,null,null,null,null,null,null,null,null,null,null,null,null,26,0,0]
[null,null,null,34,"",{"$f":"AN187","v":""},"","",null,27,"",{"$f":"AN194","v":""},"","",null,null,null,null,null,null,null,null,null,null,null,null,null,null,null,null,null,null,null,null,null,null,null,null,null,null,null,null,null,null,null,null,null,null,null,null,null,null,null,null,null,null,null,null,null,null,null,27,0,0]
[null,null,null,35,"",{"$f":"AO187","v":""},"","",null,28,"",{"$f":"AO194","v":""},"","",null,null,null,null,null,null,null,null,null,null,null,null,null,null,null,null,null,null,null,null,null,null,null,null,null,null,null,null,null,null,null,null,null,null,null,null,null,null,null,null,null,null,null,null,null,null,null,28,0,0]
[null,null,null,36,"",{"$f":"AP187","v":""},"","",null,29,"",{"$f":"AP194","v":""},"","",null,null,null,null,null,null,null,null,null,null,null,null,null,null,null,null,null,null,null,null,null,null,null,null,null,null,null,null,null,null,null,null,null,null,null,null,null,null,null,null,null,null,null,null,null,null,null,29,0,0]
[null,null,null,37,"",{"$f":"AQ187","v":""},"","",null,30,"",{"$f":"AQ194","v":""},"","",null,null,null,null,null,null,null,null,null,null,null,null,null,null,null,null,null,null,null,null,null,null,null,null,null,null,null,null,null,null,null,null,null,null,null,null,null,null,null,null,null,null,null,null,null,null,null,30,0,0]
[null,null,null,38,"",{"$f":"AR187","v":""},"","",null,31,"",{"$f":"AR194","v":""},"","",null,null,null,null,null,null,null,null,null,null,null,null,null,null,null,null,null,null,null,null,null,null,null,null,null,null,null,null,null,null,null,null,null,null,null,null,null,null,null,null,null,null,null,null,null,null,null,31,0,0]
[null,null,null,39,"",{"$f":"AS187","v":""},"","",null,32,"",{"$f":"AS194","v":""},"","",null,null,null,null,null,null,null,null,null,null,null,null,null,null,null,null,null,null,null,null,null,null,null,null,null,null,null,null,null,null,null,null,null,null,null,null,null,null,null,null,null,null,null,null,null,null,null,32,0,0]
[null,null,null,40,"",{"$f":"AT187","v":""},"","",null,33,"",{"$f":"AT194","v":""},"","",null,null,null,null,null,null,null,null,null,null,null,null,null,null,null,null,null,null,null,null,null,null,null,null,null,null,null,null,null,null,null,null,null,null,null,null,null,null,null,null,null,null,null,null,null,null,null,33,0,0]
[null,null,null,null,null,null,null,null,null,34,"",{"$f":"AU194","v":""},"","",null,null,null,null,null,null,null,null,null,null,null,null,null,null,null,null,null,null,null,null,null,null,null,null,null,null,null,null,null,null,null,null,null,null,null,null,null,null,null,null,null,null,null,null,null,null,null,34,0,0]
[null,null,null,null,null,null,null,null,null,35,"",{"$f":"AV194","v":""},"","",null,null,null,null,null,null,null,null,null,null,null,null,null,null,null,null,null,null,null,null,null,null,null,null,null,null,null,null,null,null,null,null,null,null,null,null,null,null,null,null,null,null,null,null,null,null,null,35,0,0]
[null,null,null,null,null,null,null,null,null,36,"",{"$f":"AW194","v":""},"","",null,null,null,null,null,null,null,null,null,null,null,null,null,null,null,null,null,null,null,null,null,null,null,null,null,null,null,null,null,null,null,null,null,null,null,null,null,null,null,null,null,null,null,null,null,null,null,36,0,0]
[null,null,null,null,null,null,null,null,null,37,"",{"$f":"AX194","v":""},"","",null,null,null,null,null,null,null,null,null,null,null,null,null,null,null,null,null,null,null,null,null,null,null,null,null,null,null,null,null,null,null,null,null,null,null,null,null,null,null,null,null,null,null,null,null,null,null,37,0,0]
[null,null,null,null,null,null,null,null,null,38,"",{"$f":"AY194","v":""},"","",null,null,null,null,null,null,null,null,null,null,null,null,null,null,null,null,null,null,null,null,null,null,null,null,null,null,null,null,null,null,null,null,null,null,null,null,null,null,null,null,null,null,null,null,null,null,null,38,0,0]
[null,null,null,null,null,null,null,null,null,39,"",{"$f":"AZ194","v":""},"","",null,null,null,null,null,null,null,null,null,null,null,null,null,null,null,null,null,null,null,null,null,null,null,null,null,null,null,null,null,null,null,null,null,null,null,null,null,null,null,null,null,null,null,null,null,null,null,39,0,0]
[null,null,null,null,null,null,null,null,null,40,"",{"$f":"BA194","v":""},"","",null,null,null,null,null,null,null,null,null,null,null,null,null,null,null,null,null,null,null,null,null,null,null,null,null,null,null,null,null,null,null,null,null,null,null,null,null,null,null,null,null,null,null,null,null,null,null,40,0,0]
[]
[]
[null,null,null,null,null,null,1,2,3,4,5,6,7,8,9,10,11,12,13,14,15,16,17,18,19,20,21,22,23,24,25,26,27,28,29,30,31,32,33,34,35,36,37,38,39,40,null,null,null,null,null,null,null,null,null,null,null,null,null,null,null,"BLOCCHI CHE POSSONO ESSERE CARICATI IN COPPIA O A TRE PERCHE' IL LORO PESO COMPLESSIVO NON SUPERA IL PESO MASSIMO CONSENTITO NEL TRASPORTO"]
[null,null,"TIR",null,{"$f":"E180+1","v":4},null,{"$f":"P213","v":""},{"$f":"Q213","v":""},{"$f":"R213","v":""},{"$f":"S213","v":""},{"$f":"T213","v":""},{"$f":"U213","v":""},{"$f":"V213","v":""},{"$f":"W213","v":""},{"$f":"X213","v":""},{"$f":"Y213","v":""},{"$f":"Z213","v":""},{"$f":"AA213","v":""},{"$f":"AB213","v":""},{"$f":"AC213","v":""},{"$f":"AD213","v":""},{"$f":"AE213","v":""},{"$f":"AF213","v":""},{"$f":"AG213","v":""},{"$f":"AH213","v":""},{"$f":"AI213","v":""},{"$f":"AJ213","v":""},{"$f":"AK213","v":""},{"$f":"AL213","v":""},{"$f":"AM213","v":""},{"$f":"AN213","v":""},{"$f":"AO213","v":""},{"$f":"AP213","v":""},{"$f":"AQ213","v":""},{"$f":"AR213","v":""},{"$f":"AS213","v":""},{"$f":"AT213","v":""},{"$f":"AU213","v":""},{"$f":"AV213","v":""},{"$f":"AW213","v":""},{"$f":"AX213","v":""},{"$f":"AY213","v":""},{"$f":"AZ213","v":""},{"$f":"BA213","v":""},{"$f":"BB213","v":""},{"$f":"BC213","v":""}]
[null,null,null,null,null,null,{"$f":"P214","v":""},"","","","","","","","","","","","","","","","","","","","","","","","","","","","","","","","","","","","","","",""]
[null,null,"MASSIMO PESO",null,null,null,{"$f":"MAX(G240:AT240)","v":0}]
[null,null,null,null,null,null,{"$f":"IF(G240=$G241,G239,\"\")","v":""},{"$f":"IF(H240=$G241,H239,\"\")","v":""},"","","","","","","","","","","","",{"$f":"IF(U240=$G241,U239,\"\")","v":""},{"$f":"IF(V240=$G241,V239,\"\")","v":""},{"$f":"IF(W240=$G241,W239,\"\")","v":""},{"$f":"IF(X240=$G241,X239,\"\")","v":""},{"$f":"IF(Y240=$G241,Y239,\"\")","v":""},{"$f":"IF(Z240=$G241,Z239,\"\")","v":""},{"$f":"IF(AA240=$G241,AA239,\"\")","v":""},{"$f":"IF(AB240=$G241,AB239,\"\")","v":""},{"$f":"IF(AC240=$G241,AC239,\"\")","v":""},{"$f":"IF(AD240=$G241,AD239,\"\")","v":""},{"$f":"IF(AE240=$G241,AE239,\"\")","v":""},{"$f":"IF(AF240=$G241,AF239,\"\")","v":""},{"$f":"IF(AG240=$G241,AG239,\"\")","v":""},{"$f":"IF(AH240=$G241,AH239,\"\")","v":""},{"$f":"IF(AI240=$G241,AI239,\"\")","v":""},{"$f":"IF(AJ240=$G241,AJ239,\"\")","v":""},{"$f":"IF(AK240=$G241,AK239,\"\")","v":""},{"$f":"IF(AL240=$G241,AL239,\"\")","v":""},{"$f":"IF(AM240=$G241,AM239,\"\")","v":""},{"$f":"IF(AN240=$G241,AN239,\"\")","v":""},{"$f":"IF(AO240=$G241,AO239,\"\")","v":""},{"$f":"IF(AP240=$G241,AP239,\"\")","v":""},{"$f":"IF(AQ240=$G241,AQ239,\"\")","v":""},{"$f":"IF(AR240=$G241,AR239,\"\")","v":""},{"$f":"IF(AS240=$G241,AS239,\"\")","v":""},{"$f":"IF(AT240=$G241,AT239,\"\")","v":""}]
[null,null,null,null,null,null,{"$f":"G242&H242&I242&J242&K242&L242&M242&N242&O242&P242&Q242&R242&S242&T242&U242&V242&W242&X242&Y242&Z242&AA242&AB242&AC242&AD242&AE242&AF242&AG242&AH242&AI242&AJ242&AK242&AL242&AM242&AN242&AO242&AP242&AQ242&AR242&AS242&AT242","v":""},null,null,null,null,null,null,null,null,null,null,null,null,null,null,null,null,null,null,null,null,null,null,null,null,null,null,null,null,null,null,null,null,null,null,null,null,null,null,null,null,null,null,null,null,null,null,null,null,null,null,null,null,null,null,null,null,null,null,null,null,null,null,null,null,null,null,null,"Primo Blocco",null,null,null,null,null,{"$f":"G243","v":""},{"$f":"CC244+CC249+CC254","v":0},null,"Quintali",null,"N° Blocco"]
[null,null,null,null,null,null,{"$f":"G241","v":0},null,null,null,null,null,null,null,null,null,null,null,null,null,null,null,null,null,null,null,null,null,null,null,null,null,null,null,null,null,null,null,null,null,null,null,null,null,null,null,null,null,null,null,null,null,null,null,null,null,null,null,null,null,null,null,null,null,null,null,null,null,null,null,null,null,null,null,null,null,null,null,null,null,{"$f":"G241","v":0},null,null,{"$f":"IF(CC244=0,\"\",CC244)","v":""},null,{"$f":"IF(CF244=\"\",\"\",CC243)","v":""}]
[null,null,null,null,null,null,{"$f":"IF(G246=\"\",\"\",IF(G246=G240,G239,\"\"))","v":""},{"$f":"IF(H246=\"\",\"\",IF(H246=H240,H239,\"\"))","v":""},"","","","","","","","","","","","",{"$f":"IF(U246=\"\",\"\",IF(U246=U240,U239,\"\"))","v":""},{"$f":"IF(V246=\"\",\"\",IF(V246=V240,V239,\"\"))","v":""},{"$f":"IF(W246=\"\",\"\",IF(W246=W240,W239,\"\"))","v":""},{"$f":"IF(X246=\"\",\"\",IF(X246=X240,X239,\"\"))","v":""},{"$f":"IF(Y246=\"\",\"\",IF(Y246=Y240,Y239,\"\"))","v":""},{"$f":"IF(Z246=\"\",\"\",IF(Z246=Z240,Z239,\"\"))","v":""},{"$f":"IF(AA246=\"\",\"\",IF(AA246=AA240,AA239,\"\"))","v":""},{"$f":"IF(AB246=\"\",\"\",IF(AB246=AB240,AB239,\"\"))","v":""},{"$f":"IF(AC246=\"\",\"\",IF(AC246=AC240,AC239,\"\"))","v":""},{"$f":"IF(AD246=\"\",\"\",IF(AD246=AD240,AD239,\"\"))","v":""},{"$f":"IF(AE246=\"\",\"\",IF(AE246=AE240,AE239,\"\"))","v":""},{"$f":"IF(AF246=\"\",\"\",IF(AF246=AF240,AF239,\"\"))","v":""},{"$f":"IF(AG246=\"\",\"\",IF(AG246=AG240,AG239,\"\"))","v":""},{"$f":"IF(AH246=\"\",\"\",IF(AH246=AH240,AH239,\"\"))","v":""},{"$f":"IF(AI246=\"\",\"\",IF(AI246=AI240,AI239,\"\"))","v":""},{"$f":"IF(AJ246=\"\",\"\",IF(AJ246=AJ240,AJ239,\"\"))","v":""},{"$f":"IF(AK246=\"\",\"\",IF(AK246=AK240,AK239,\"\"))","v":""},{"$f":"IF(AL246=\"\",\"\",IF(AL246=AL240,AL239,\"\"))","v":""},{"$f":"IF(AM246=\"\",\"\",IF(AM246=AM240,AM239,\"\"))","v":""},{"$f":"IF(AN246=\"\",\"\",IF(AN246=AN240,AN239,\"\"))","v":""},{"$f":"IF(AO246=\"\",\"\",IF(AO246=AO240,AO239,\"\"))","v":""},{"$f":"IF(AP246=\"\",\"\",IF(AP246=AP240,AP239,\"\"))","v":""},{"$f":"IF(AQ246=\"\",\"\",IF(AQ246=AQ240,AQ239,\"\"))","v":""},{"$f":"IF(AR246=\"\",\"\",IF(AR246=AR240,AR239,\"\"))","v":""},{"$f":"IF(AS246=\"\",\"\",IF(AS246=AS240,AS239,\"\"))","v":""},{"$f":"IF(AT246=\"\",\"\",IF(AT246=AT240,AT239,\"\"))","v":""},null,null,null,null,null,null,null,null,null,null,null,null,null,null,null,null,null,null,null,null,null,null,null,null,null,null,null,null,null,null,null,null,null,null,null,null,null,{"$f":"IF(CC249=0,\"\",CC249)","v":""},null,{"$f":"IF(CF245=\"\",\"\",CC248)","v":""}]
[null,null,"DISPONIBILI",null,null,null,{"$f":"IF(G240=$G241,\"\",G240)","v":""},{"$f":"IF(H240=$G241,\"\",H240)","v":""},"","","","","","","","","","","","",{"$f":"IF(U240=$G241,\"\",U240)","v":""},{"$f":"IF(V240=$G241,\"\",V240)","v":""},{"$f":"IF(W240=$G241,\"\",W240)","v":""},{"$f":"IF(X240=$G241,\"\",X240)","v":""},{"$f":"IF(Y240=$G241,\"\",Y240)","v":""},{"$f":"IF(Z240=$G241,\"\",Z240)","v":""},{"$f":"IF(AA240=$G241,\"\",AA240)","v":""},{"$f":"IF(AB240=$G241,\"\",AB240)","v":""},{"$f":"IF(AC240=$G241,\"\",AC240)","v":""},{"$f":"IF(AD240=$G241,\"\",AD240)","v":""},{"$f":"IF(AE240=$G241,\"\",AE240)","v":""},{"$f":"IF(AF240=$G241,\"\",AF240)","v":""},{"$f":"IF(AG240=$G241,\"\",AG240)","v":""},{"$f":"IF(AH240=$G241,\"\",AH240)","v":""},{"$f":"IF(AI240=$G241,\"\",AI240)","v":""},{"$f":"IF(AJ240=$G241,\"\",AJ240)","v":""},{"$f":"IF(AK240=$G241,\"\",AK240)","v":""},{"$f":"IF(AL240=$G241,\"\",AL240)","v":""},{"$f":"IF(AM240=$G241,\"\",AM240)","v":""},{"$f":"IF(AN240=$G241,\"\",AN240)","v":""},{"$f":"IF(AO240=$G241,\"\",AO240)","v":""},{"$f":"IF(AP240=$G241,\"\",AP240)","v":""},{"$f":"IF(AQ240=$G241,\"\",AQ240)","v":""},{"$f":"IF(AR240=$G241,\"\",AR240)","v":""},{"$f":"IF(AS240=$G241,\"\",AS240)","v":""},{"$f":"IF(AT240=$G241,\"\",AT240)","v":""},null,null,null,null,null,null,null,null,null,null,null,null,null,null,null,null,null,null,null,null,null,null,null,null,null,null,null,null,null,null,null,null,null,null,null,null,null,{"$f":"IF(CC254=0,\"\",CC254)","v":""},null,{"$f":"IF(CF246=\"\",\"\",CC253)","v":""}]
[null,null,null,null,null,null,null,null,null,null,null,null,null,null,null,null,null,null,null,null,null,null,null,null,null,null,null,null,null,null,null,null,null,null,null,null,null,null,null,null,null,null,null,null,null,null,null,null,null,null,null,null,null,null,null,null,null,null,null,null,null,null,null,null,null,null,null,null,null,null,null,null,null,null,null,null,null,null,null,null,null,null,null,"NUMERO TIR"]
[null,null,"Portata                Max.               TIR",1,{"$f":"IF(F248<>\"\",F248+G$126,\"\")","v":""},{"$f":"G246","v":""},{"$f":"IF(F248=\"\",\"\",IF(E248<=$C$74,\"X\",\"\"))","v":""},{"$f":"IF(G248=\"X\",F248,\"\")","v":""},{"$f":"MAX(H248:H287)","v":0},{"$f":"IF(J249=G246,G245,\"\")","v":""},{"$f":"IF(K249=H246,H245,\"\")","v":""},{"$f":"IF(L249=I246,I245,\"\")","v":""},{"$f":"IF(M249=J246,J245,\"\")","v":""},{"$f":"IF(N249=K246,K245,\"\")","v":""},{"$f":"IF(O249=L246,L245,\"\")","v":""},{"$f":"IF(P249=M246,M245,\"\")","v":""},{"$f":"IF(Q249=N246,N245,\"\")","v":""},{"$f":"IF(R249=O246,O245,\"\")","v":""},{"$f":"IF(S249=P246,P245,\"\")","v":""},{"$f":"IF(T249=Q246,Q245,\"\")","v":""},{"$f":"IF(U249=R246,R245,\"\")","v":""},{"$f":"IF(V249=S246,S245,\"\")","v":""},{"$f":"IF(W249=T246,T245,\"\")","v":""},{"$f":"IF(X249=U246,U245,\"\")","v":""},{"$f":"IF(Y249=V246,V245,\"\")","v":""},{"$f":"IF(Z249=W246,W245,\"\")","v":""},{"$f":"IF(AA249=X246,X245,\"\")","v":""},{"$f":"IF(AB249=Y246,Y245,\"\")","v":""},{"$f":"IF(AC249=Z246,Z245,\"\")","v":""},{"$f":"IF(AD249=AA246,AA245,\"\")","v":""},{"$f":"IF(AE249=AB246,AB245,\"\")","v":""},{"$f":"IF(AF249=AC246,AC245,\"\")","v":""},{"$f":"IF(AG249=AD246,AD245,\"\")","v":""},{"$f":"IF(AH249=AE246,AE245,\"\")","v":""},{"$f":"IF(AI249=AF246,AF245,\"\")","v":""},{"$f":"IF(AJ249=AG246,AG245,\"\")","v":""},{"$f":"IF(AK249=AH246,AH245,\"\")","v":""},{"$f":"IF(AL249=AI246,AI245,\"\")","v":""},{"$f":"IF(AM249=AJ246,AJ245,\"\")","v":""},{"$f":"IF(AN249=AK246,AK245,\"\")","v":""},{"$f":"IF(AO249=AL246,AL245,\"\")","v":""},{"$f":"IF(AP249=AM246,AM245,\"\")","v":""},{"$f":"IF(AQ249=AN246,AN245,\"\")","v":""},{"$f":"IF(AR249=AO246,AO245,\"\")","v":""},{"$f":"IF(AS249=AP246,AP245,\"\")","v":""},{"$f":"IF(AT249=AQ246,AQ245,\"\")","v":""},{"$f":"IF(AU249=AR246,AR245,\"\")","v":""},{"$f":"IF(AV249=AS246,AS245,\"\")","v":""},{"$f":"IF(AW249=AT246,AT245,\"\")","v":""},null,null,null,null,null,null,null,null,null,null,null,null,null,null,null,null,null,null,null,null,null,null,null,null,null,"Secondo Blocco",null,null,null,null,null,{"$f":"J248&K248&L248&M248&N248&O248&P248&Q248&R248&S248&T248&U248&V248&W248&X248&Y248&Z248&AA248&AB248&AC248&AD248&AE248&AF248&AG248&AH248&AI248&AJ248&AK248&AL248&AM248&AN248&AO248&AP248&AQ248&AR248&AS248&AT248&AU248&AV248&AW248","v":""}]
[null,null,null,2,"",{"$f":"H246","v":""},{"$f":"IF(F249=\"\",\"\",IF(E249<=$C$74,\"X\",\"\"))","v":""},"",null,{"$f":"IF($J250=G246,G246,\"\")","v":""},{"$f":"IF($J250=H246,H246,\"\")","v":""},{"$f":"IF($J250=I246,I246,\"\")","v":""},{"$f":"IF($J250=J246,J246,\"\")","v":""},{"$f":"IF($J250=K246,K246,\"\")","v":""},{"$f":"IF($J250=L246,L246,\"\")","v":""},{"$f":"IF($J250=M246,M246,\"\")","v":""},{"$f":"IF($J250=N246,N246,\"\")","v":""},{"$f":"IF($J250=O246,O246,\"\")","v":""},{"$f":"IF($J250=P246,P246,\"\")","v":""},{"$f":"IF($J250=Q246,Q246,\"\")","v":""},{"$f":"IF($J250=R246,R246,\"\")","v":""},{"$f":"IF($J250=S246,S246,\"\")","v":""},{"$f":"IF($J250=T246,T246,\"\")","v":""},{"$f":"IF($J250=U246,U246,\"\")","v":""},{"$f":"IF($J250=V246,V246,\"\")","v":""},{"$f":"IF($J250=W246,W246,\"\")","v":""},{"$f":"IF($J250=X246,X246,\"\")","v":""},{"$f":"IF($J250=Y246,Y246,\"\")","v":""},{"$f":"IF($J250=Z246,Z246,\"\")","v":""},{"$f":"IF($J250=AA246,AA246,\"\")","v":""},{"$f":"IF($J250=AB246,AB246,\"\")","v":""},{"$f":"IF($J250=AC246,AC246,\"\")","v":""},{"$f":"IF($J250=AD246,AD246,\"\")","v":""},{"$f":"IF($J250=AE246,AE246,\"\")","v":""},{"$f":"IF($J250=AF246,AF246,\"\")","v":""},{"$f":"IF($J250=AG246,AG246,\"\")","v":""},{"$f":"IF($J250=AH246,AH246,\"\")","v":""},{"$f":"IF($J250=AI246,AI246,\"\")","v":""},{"$f":"IF($J250=AJ246,AJ246,\"\")","v":""},{"$f":"IF($J250=AK246,AK246,\"\")","v":""},{"$f":"IF($J250=AL246,AL246,\"\")","v":""},{"$f":"IF($J250=AM246,AM246,\"\")","v":""},{"$f":"IF($J250=AN246,AN246,\"\")","v":""},{"$f":"IF($J250=AO246,AO246,\"\")","v":""},{"$f":"IF($J250=AP246,AP246,\"\")","v":""},{"$f":"IF($J250=AQ246,AQ246,\"\")","v":""},{"$f":"IF($J250=AR246,AR246,\"\")","v":""},{"$f":"IF($J250=AS246,AS246,\"\")","v":""},{"$f":"IF($J250=AT246,AT246,\"\")","v":""},null,null,null,null,null,null,null,null,null,null,null,null,null,null,null,null,null,null,null,null,null,null,null,null,null,null,null,null,null,null,null,{"$f":"J250","v":0}]
[null,null,null,3,"",{"$f":"I246","v":""},"","",null,{"$f":"I248","v":0}]
[null,null,{"$f":"$P$3","v":200},4,"",{"$f":"J246","v":""},"","",null,null,null,null,null,null,null,null,null,null,null,null,null,null,null,null,null,null,null,null,null,null,null,null,null,null,null,null,null,null,null,null,null,null,null,null,null,null,null,null,null,null,null,null,null,null,null,null,null,null,null,null,null,null,null,null,null,null,null,null,null,null,null,null,null,null,null,null,null,null,null,null,null,null,null,{"$f":"IF(CD243>0,CF192+1,\"\")","v":""}]
[null,null,null,5,"",{"$f":"K246","v":""},"","",null,null,null,null,null,{"$f":"IF(N253=G246,G245,\"\")","v":""},{"$f":"IF(O253=H246,H245,\"\")","v":""},{"$f":"IF(P253=I246,I245,\"\")","v":""},{"$f":"IF(Q253=J246,J245,\"\")","v":""},{"$f":"IF(R253=K246,K245,\"\")","v":""},{"$f":"IF(S253=L246,L245,\"\")","v":""},{"$f":"IF(T253=M246,M245,\"\")","v":""},{"$f":"IF(U253=N246,N245,\"\")","v":""},{"$f":"IF(V253=O246,O245,\"\")","v":""},{"$f":"IF(W253=P246,P245,\"\")","v":""},{"$f":"IF(X253=Q246,Q245,\"\")","v":""},{"$f":"IF(Y253=R246,R245,\"\")","v":""},{"$f":"IF(Z253=S246,S245,\"\")","v":""},{"$f":"IF(AA253=T246,T245,\"\")","v":""},{"$f":"IF(AB253=U246,U245,\"\")","v":""},{"$f":"IF(AC253=V246,V245,\"\")","v":""},{"$f":"IF(AD253=W246,W245,\"\")","v":""},{"$f":"IF(AE253=X246,X245,\"\")","v":""},{"$f":"IF(AF253=Y246,Y245,\"\")","v":""},{"$f":"IF(AG253=Z246,Z245,\"\")","v":""},{"$f":"IF(AH253=AA246,AA245,\"\")","v":""},{"$f":"IF(AI253=AB246,AB245,\"\")","v":""},{"$f":"IF(AJ253=AC246,AC245,\"\")","v":""},{"$f":"IF(AK253=AD246,AD245,\"\")","v":""},{"$f":"IF(AL253=AE246,AE245,\"\")","v":""},{"$f":"IF(AM253=AF246,AF245,\"\")","v":""},{"$f":"IF(AN253=AG246,AG245,\"\")","v":""},{"$f":"IF(AO253=AH246,AH245,\"\")","v":""},{"$f":"IF(AP253=AI246,AI245,\"\")","v":""},{"$f":"IF(AQ253=AJ246,AJ245,\"\")","v":""},{"$f":"IF(AR253=AK246,AK245,\"\")","v":""},{"$f":"IF(AS253=AL246,AL245,\"\")","v":""},{"$f":"IF(AT253=AM246,AM245,\"\")","v":""},{"$f":"IF(AU253=AN246,AN245,\"\")","v":""},{"$f":"IF(AV253=AO246,AO245,\"\")","v":""},{"$f":"IF(AW253=AP246,AP245,\"\")","v":""},{"$f":"IF(AX253=AQ246,AQ245,\"\")","v":""},{"$f":"IF(AY253=AR246,AR245,\"\")","v":""},{"$f":"IF(AZ253=AS246,AS245,\"\")","v":""},{"$f":"IF(BA253=AT246,AT245,\"\")","v":""}]
[null,null,null,6,"",{"$f":"L246","v":""},"","",null,"DISPONIBILI",null,null,null,{"$f":"IF(G246=\"\",\"\",IF(G246=J249,\"\",G246))","v":""},{"$f":"IF(H246=\"\",\"\",IF(H246=K249,\"\",H246))","v":""},{"$f":"IF(I246=\"\",\"\",IF(I246=L249,\"\",I246))","v":""},{"$f":"IF(J246=\"\",\"\",IF(J246=M249,\"\",J246))","v":""},{"$f":"IF(K246=\"\",\"\",IF(K246=N249,\"\",K246))","v":""},{"$f":"IF(L246=\"\",\"\",IF(L246=O249,\"\",L246))","v":""},{"$f":"IF(M246=\"\",\"\",IF(M246=P249,\"\",M246))","v":""},{"$f":"IF(N246=\"\",\"\",IF(N246=Q249,\"\",N246))","v":""},{"$f":"IF(O246=\"\",\"\",IF(O246=R249,\"\",O246))","v":""},{"$f":"IF(P246=\"\",\"\",IF(P246=S249,\"\",P246))","v":""},{"$f":"IF(Q246=\"\",\"\",IF(Q246=T249,\"\",Q246))","v":""},{"$f":"IF(R246=\"\",\"\",IF(R246=U249,\"\",R246))","v":""},{"$f":"IF(S246=\"\",\"\",IF(S246=V249,\"\",S246))","v":""},{"$f":"IF(T246=\"\",\"\",IF(T246=W249,\"\",T246))","v":""},{"$f":"IF(U246=\"\",\"\",IF(U246=X249,\"\",U246))","v":""},{"$f":"IF(V246=\"\",\"\",IF(V246=Y249,\"\",V246))","v":""},{"$f":"IF(W246=\"\",\"\",IF(W246=Z249,\"\",W246))","v":""},{"$f":"IF(X246=\"\",\"\",IF(X246=AA249,\"\",X246))","v":""},{"$f":"IF(Y246=\"\",\"\",IF(Y246=AB249,\"\",Y246))","v":""},{"$f":"IF(Z246=\"\",\"\",IF(Z246=AC249,\"\",Z246))","v":""},{"$f":"IF(AA246=\"\",\"\",IF(AA246=AD249,\"\",AA246))","v":""},{"$f":"IF(AB246=\"\",\"\",IF(AB246=AE249,\"\",AB246))","v":""},{"$f":"IF(AC246=\"\",\"\",IF(AC246=AF249,\"\",AC246))","v":""},{"$f":"IF(AD246=\"\",\"\",IF(AD246=AG249,\"\",AD246))","v":""},{"$f":"IF(AE246=\"\",\"\",IF(AE246=AH249,\"\",AE246))","v":""},{"$f":"IF(AF246=\"\",\"\",IF(AF246=AI249,\"\",AF246))","v":""},{"$f":"IF(AG246=\"\",\"\",IF(AG246=AJ249,\"\",AG246))","v":""},{"$f":"IF(AH246=\"\",\"\",IF(AH246=AK249,\"\",AH246))","v":""},{"$f":"IF(AI246=\"\",\"\",IF(AI246=AL249,\"\",AI246))","v":""},{"$f":"IF(AJ246=\"\",\"\",IF(AJ246=AM249,\"\",AJ246))","v":""},{"$f":"IF(AK246=\"\",\"\",IF(AK246=AN249,\"\",AK246))","v":""},{"$f":"IF(AL246=\"\",\"\",IF(AL246=AO249,\"\",AL246))","v":""},{"$f":"IF(AM246=\"\",\"\",IF(AM246=AP249,\"\",AM246))","v":""},{"$f":"IF(AN246=\"\",\"\",IF(AN246=AQ249,\"\",AN246))","v":""},{"$f":"IF(AO246=\"\",\"\",IF(AO246=AR249,\"\",AO246))","v":""},{"$f":"IF(AP246=\"\",\"\",IF(AP246=AS249,\"\",AP246))","v":""},{"$f":"IF(AQ246=\"\",\"\",IF(AQ246=AT249,\"\",AQ246))","v":""},{"$f":"IF(AR246=\"\",\"\",IF(AR246=AU249,\"\",AR246))","v":""},{"$f":"IF(AS246=\"\",\"\",IF(AS246=AV249,\"\",AS246))","v":""},{"$f":"IF(AT246=\"\",\"\",IF(AT246=AW249,\"\",AT246))","v":""},null,null,null,null,null,null,null,null,null,null,null,null,null,null,null,null,null,null,null,null,null,"Terzo Blocco",null,null,null,null,null,{"$f":"P255&Q255&R255&S255&T255&U255&V255&W255&X255&Y255&Z255&AA255&AB255&AC255&AD255&AE255&AF255&AG255&AH255&AI255&AJ255&AK255&AL255&AM255&AN255&AO255&AP255&AQ255&AR255&AS255&AT255&AU255&AV255&AW255&AX255&AY255&AZ255&BA255&BB255&BC255","v":""}]
[null,null,null,7,"",{"$f":"M246","v":""},"","",null,null,null,null,null,null,null,null,null,null,null,null,null,null,null,null,null,null,null,null,null,null,null,null,null,null,null,null,null,null,null,null,null,null,null,null,null,null,null,null,null,null,null,null,null,null,null,null,null,null,null,null,null,null,1,2,null,null,null,null,null,null,null,null,null,null,null,null,null,null,null,null,{"$f":"P257","v":0}]
[null,null,null,8,"",{"$f":"N246","v":""},"","",null,1,{"$f":"IF(L255<>\"\",BK255+BL255+L255,\"\")","v":""},{"$f":"N253","v":""},{"$f":"IF(L255=\"\",\"\",IF(K255<=$C$74,\"X\",\"\"))","v":""},{"$f":"IF(M255=\"X\",L255,\"\")","v":""},{"$f":"MAX(N255:N274)","v":0},{"$f":"IF(P256=N253,N252,\"\")","v":""},{"$f":"IF(Q256=O253,O252,\"\")","v":""},{"$f":"IF(R256=P253,P252,\"\")","v":""},{"$f":"IF(S256=Q253,Q252,\"\")","v":""},{"$f":"IF(T256=R253,R252,\"\")","v":""},{"$f":"IF(U256=S253,S252,\"\")","v":""},{"$f":"IF(V256=T253,T252,\"\")","v":""},{"$f":"IF(W256=U253,U252,\"\")","v":""},{"$f":"IF(X256=V253,V252,\"\")","v":""},{"$f":"IF(Y256=W253,W252,\"\")","v":""},{"$f":"IF(Z256=X253,X252,\"\")","v":""},{"$f":"IF(AA256=Y253,Y252,\"\")","v":""},{"$f":"IF(AB256=Z253,Z252,\"\")","v":""},{"$f":"IF(AC256=AA253,AA252,\"\")","v":""},{"$f":"IF(AD256=AB253,AB252,\"\")","v":""},{"$f":"IF(AE256=AC253,AC252,\"\")","v":""},{"$f":"IF(AF256=AD253,AD252,\"\")","v":""},{"$f":"IF(AG256=AE253,AE252,\"\")","v":""},{"$f":"IF(AH256=AF253,AF252,\"\")","v":""},{"$f":"IF(AI256=AG253,AG252,\"\")","v":""},{"$f":"IF(AJ256=AH253,AH252,\"\")","v":""},{"$f":"IF(AK256=AI253,AI252,\"\")","v":""},{"$f":"IF(AL256=AJ253,AJ252,\"\")","v":""},{"$f":"IF(AM256=AK253,AK252,\"\")","v":""},{"$f":"IF(AN256=AL253,AL252,\"\")","v":""},{"$f":"IF(AO256=AM253,AM252,\"\")","v":""},{"$f":"IF(AP256=AN253,AN252,\"\")","v":""},{"$f":"IF(AQ256=AO253,AO252,\"\")","v":""},{"$f":"IF(AR256=AP253,AP252,\"\")","v":""},{"$f":"IF(AS256=AQ253,AQ252,\"\")","v":""},{"$f":"IF(AT256=AR253,AR252,\"\")","v":""},{"$f":"IF(AU256=AS253,AS252,\"\")","v":""},{"$f":"IF(AV256=AT253,AT252,\"\")","v":""},{"$f":"IF(AW256=AU253,AU252,\"\")","v":""},{"$f":"IF(AX256=AV253,AV252,\"\")","v":""},{"$f":"IF(AY256=AW253,AW252,\"\")","v":""},{"$f":"IF(AZ256=AX253,AX252,\"\")","v":""},{"$f":"IF(BA256=AY253,AY252,\"\")","v":""},{"$f":"IF(BB256=AZ253,AZ252,\"\")","v":""},{"$f":"IF(BC256=BA253,BA252,\"\")","v":""},null,null,null,null,null,null,1,{"$f":"CC244","v":0},{"$f":"CC249","v":0}]
[null,null,null,9,"",{"$f":"O246","v":""},"","",null,2,"",{"$f":"O253","v":""},{"$f":"IF(L256=\"\",\"\",IF(K256<=$C$74,\"X\",\"\"))","v":""},{"$f":"IF(M256=\"X\",L256,\"\")","v":""},null,{"$f":"IF($P257=N253,N253,\"\")","v":""},{"$f":"IF($P257=O253,O253,\"\")","v":""},{"$f":"IF($P257=P253,P253,\"\")","v":""},{"$f":"IF($P257=Q253,Q253,\"\")","v":""},{"$f":"IF($P257=R253,R253,\"\")","v":""},{"$f":"IF($P257=S253,S253,\"\")","v":""},{"$f":"IF($P257=T253,T253,\"\")","v":""},{"$f":"IF($P257=U253,U253,\"\")","v":""},{"$f":"IF($P257=V253,V253,\"\")","v":""},{"$f":"IF($P257=W253,W253,\"\")","v":""},{"$f":"IF($P257=X253,X253,\"\")","v":""},{"$f":"IF($P257=Y253,Y253,\"\")","v":""},{"$f":"IF($P257=Z253,Z253,\"\")","v":""},{"$f":"IF($P257=AA253,AA253,\"\")","v":""},{"$f":"IF($P257=AB253,AB253,\"\")","v":""},{"$f":"IF($P257=AC253,AC253,\"\")","v":""},{"$f":"IF($P257=AD253,AD253,\"\")","v":""},{"$f":"IF($P257=AE253,AE253,\"\")","v":""},{"$f":"IF($P257=AF253,AF253,\"\")","v":""},{"$f":"IF($P257=AG253,AG253,\"\")","v":""},{"$f":"IF($P257=AH253,AH253,\"\")","v":""},{"$f":"IF($P257=AI253,AI253,\"\")","v":""},{"$f":"IF($P257=AJ253,AJ253,\"\")","v":""},{"$f":"IF($P257=AK253,AK253,\"\")","v":""},{"$f":"IF($P257=AL253,AL253,\"\")","v":""},{"$f":"IF($P257=AM253,AM253,\"\")","v":""},{"$f":"IF($P257=AN253,AN253,\"\")","v":""},{"$f":"IF($P257=AO253,AO253,\"\")","v":""},{"$f":"IF($P257=AP253,AP253,\"\")","v":""},{"$f":"IF($P257=AQ253,AQ253,\"\")","v":""},{"$f":"IF($P257=AR253,AR253,\"\")","v":""},{"$f":"IF($P257=AS253,AS253,\"\")","v":""},{"$f":"IF($P257=AT253,AT253,\"\")","v":""},{"$f":"IF($P257=AU253,AU253,\"\")","v":""},{"$f":"IF($P257=AV253,AV253,\"\")","v":""},{"$f":"IF($P257=AW253,AW253,\"\")","v":""},{"$f":"IF($P257=AX253,AX253,\"\")","v":""},{"$f":"IF($P257=AY253,AY253,\"\")","v":""},{"$f":"IF($P257=AZ253,AZ253,\"\")","v":""},{"$f":"IF($P257=BA253,BA253,\"\")","v":""},null,null,null,null,null,null,2,{"$f":"BK255","v":0},{"$f":"BL255","v":0}]
[null,null,null,10,"",{"$f":"P246","v":""},"","",null,3,"",{"$f":"P253","v":""},"","",null,{"$f":"O255","v":0},null,null,null,null,null,null,null,null,null,null,null,null,null,null,null,null,null,null,null,null,null,null,null,null,null,null,null,null,null,null,null,null,null,null,null,null,null,null,null,null,null,null,null,null,null,3,{"$f":"BK256","v":0},0,null,null,null,null,null,null,null,null,null,null,null,null,null,null,null,"MASSIMO CARICO",null,null,null,null,{"$f":"C251","v":200}]
[null,null,null,11,"",{"$f":"Q246","v":""},"","",null,4,"",{"$f":"Q253","v":""},"","",null,null,null,null,null,null,null,null,null,null,null,null,null,null,null,null,null,null,null,null,null,null,null,null,null,null,null,null,null,null,null,null,null,null,null,null,null,null,null,null,null,null,null,null,null,null,null,4,{"$f":"BK257","v":0},0]
[null,null,null,12,"",{"$f":"R246","v":""},"","",null,5,"",{"$f":"R253","v":""},"","",null,null,null,null,null,null,null,null,null,null,null,null,null,null,null,null,null,null,null,null,null,null,null,null,null,null,null,null,null,null,null,null,null,null,null,null,null,null,null,null,null,null,null,null,null,null,null,5,{"$f":"BK258","v":0},0,null,null,null,null,null,null,null,null,null,null,null,null,null,null,null,"RIMANE",null,null,null,null,{"$f":"CG257-CD243","v":200}]
[null,null,null,13,"",{"$f":"S246","v":""},"","",null,6,"",{"$f":"S253","v":""},"","",null,null,null,null,null,null,null,null,null,null,null,null,null,null,null,null,null,null,null,null,null,null,null,null,null,null,null,null,null,null,null,null,null,null,null,null,null,null,null,null,null,null,null,null,null,null,null,6,{"$f":"BK259","v":0},0]
[null,null,null,14,"",{"$f":"T246","v":""},"","",null,7,"",{"$f":"T253","v":""},"","",null,null,null,null,null,null,null,null,null,null,null,null,null,null,null,null,null,null,null,null,null,null,null,null,null,null,null,null,null,null,null,null,null,null,null,null,null,null,null,null,null,null,null,null,null,null,null,7,{"$f":"BK260","v":0},0]
[null,null,null,15,"",{"$f":"U246","v":""},"",{"$f":"IF(G262=\"X\",F262,\"\")","v":""},null,8,"",{"$f":"U253","v":""},"","",null,null,null,null,null,null,null,null,null,null,null,null,null,null,null,null,null,null,null,null,null,null,null,null,null,null,null,null,null,null,null,null,null,null,null,null,null,null,null,null,null,null,null,null,null,null,null,8,{"$f":"BK261","v":0},0]
[null,null,null,16,"",{"$f":"V246","v":""},"","",null,9,"",{"$f":"V253","v":""},"","",null,null,null,null,null,null,null,null,null,null,null,null,null,null,null,null,null,null,null,null,null,null,null,null,null,null,null,null,null,null,null,null,null,null,null,null,null,null,null,null,null,null,null,null,null,null,null,9,{"$f":"BK262","v":0},0]
[null,null,null,17,"",{"$f":"W246","v":""},"","",null,10,"",{"$f":"W253","v":""},"","",null,null,null,null,null,null,null,null,null,null,null,null,null,null,null,null,null,null,null,null,null,null,null,null,null,null,null,null,null,null,null,null,null,null,null,null,null,null,null,null,null,null,null,null,null,null,null,10,{"$f":"BK263","v":0},0]
[null,null,null,18,"",{"$f":"X246","v":""},"","",null,11,"",{"$f":"X253","v":""},"","",null,null,null,null,null,null,null,null,null,null,null,null,null,null,null,null,null,null,null,null,null,null,null,null,null,null,null,null,null,null,null,null,null,null,null,null,null,null,null,null,null,null,null,null,null,null,null,11,{"$f":"BK264","v":0},0]
[null,null,null,19,"",{"$f":"Y246","v":""},"","",null,12,"",{"$f":"Y253","v":""},"","",null,null,null,null,null,null,null,null,null,null,null,null,null,null,null,null,null,null,null,null,null,null,null,null,null,null,null,null,null,null,null,null,null,null,null,null,null,null,null,null,null,null,null,null,null,null,null,12,{"$f":"BK265","v":0},0]
[null,null,null,20,"",{"$f":"Z246","v":""},"","",null,13,"",{"$f":"Z253","v":""},"","",null,null,null,null,null,null,null,null,null,null,null,null,null,null,null,null,null,null,null,null,null,null,null,null,null,null,null,null,null,null,null,null,null,null,null,null,null,null,null,null,null,null,null,null,null,null,null,13,{"$f":"BK266","v":0},0]
[null,null,null,21,{"$f":"IF(F268<>\"\",F268+G$126,\"\")","v":""},{"$f":"AA246","v":""},"","",null,14,"",{"$f":"AA253","v":""},"","",null,null,null,null,null,null,null,null,null,null,null,null,null,null,null,null,null,null,null,null,null,null,null,null,null,null,null,null,null,null,null,null,null,null,null,null,null,null,null,null,null,null,null,null,null,null,null,14,{"$f":"BK267","v":0},0]
[null,null,null,22,"",{"$f":"AB246","v":""},"","",null,15,"",{"$f":"AB253","v":""},"","",null,"RIMASTI A DISPOSIZIONE",null,null,null,null,null,null,null,null,null,null,null,null,null,null,null,null,null,null,null,null,null,null,null,null,null,null,null,null,null,null,null,null,null,null,null,null,null,null,null,null,null,null,null,null,null,15,{"$f":"BK268","v":0},0]
[null,null,null,23,"",{"$f":"AC246","v":""},"","",null,16,"",{"$f":"AC253","v":""},"","",null,null,null,null,null,null,null,null,null,null,null,null,null,null,null,null,null,null,null,null,null,null,null,null,null,null,null,null,null,null,null,null,null,null,null,null,null,null,null,null,null,null,null,null,null,null,null,16,{"$f":"BK269","v":0},0]
[null,null,null,24,"",{"$f":"AD246","v":""},"","",null,17,"",{"$f":"AD253","v":""},"","",null,1,2,3,4,5,6,7,8,9,10,11,12,13,14,15,16,17,18,19,20,21,22,23,24,25,26,27,28,29,30,31,32,33,34,35,36,37,38,39,40,null,null,null,null,null,null,17,{"$f":"BK270","v":0},0]
[null,null,null,25,"",{"$f":"AE246","v":""},"","",null,18,"",{"$f":"AE253","v":""},"","",null,{"$f":"IF(P273=\"\",\"\",IF(P273=G240,G239,\"\"))","v":""},{"$f":"IF(Q273=\"\",\"\",IF(Q273=H240,H239,\"\"))","v":""},{"$f":"IF(R273=\"\",\"\",IF(R273=I240,I239,\"\"))","v":""},{"$f":"IF(S273=\"\",\"\",IF(S273=J240,J239,\"\"))","v":""},{"$f":"IF(T273=\"\",\"\",IF(T273=K240,K239,\"\"))","v":""},{"$f":"IF(U273=\"\",\"\",IF(U273=L240,L239,\"\"))","v":""},{"$f":"IF(V273=\"\",\"\",IF(V273=M240,M239,\"\"))","v":""},{"$f":"IF(W273=\"\",\"\",IF(W273=N240,N239,\"\"))","v":""},{"$f":"IF(X273=\"\",\"\",IF(X273=O240,O239,\"\"))","v":""},{"$f":"IF(Y273=\"\",\"\",IF(Y273=P240,P239,\"\"))","v":""},{"$f":"IF(Z273=\"\",\"\",IF(Z273=Q240,Q239,\"\"))","v":""},{"$f":"IF(AA273=\"\",\"\",IF(AA273=R240,R239,\"\"))","v":""},{"$f":"IF(AB273=\"\",\"\",IF(AB273=S240,S239,\"\"))","v":""},{"$f":"IF(AC273=\"\",\"\",IF(AC273=T240,T239,\"\"))","v":""},{"$f":"IF(AD273=\"\",\"\",IF(AD273=U240,U239,\"\"))","v":""},{"$f":"IF(AE273=\"\",\"\",IF(AE273=V240,V239,\"\"))","v":""},{"$f":"IF(AF273=\"\",\"\",IF(AF273=W240,W239,\"\"))","v":""},{"$f":"IF(AG273=\"\",\"\",IF(AG273=X240,X239,\"\"))","v":""},{"$f":"IF(AH273=\"\",\"\",IF(AH273=Y240,Y239,\"\"))","v":""},{"$f":"IF(AI273=\"\",\"\",IF(AI273=Z240,Z239,\"\"))","v":""},{"$f":"IF(AJ273=\"\",\"\",IF(AJ273=AA240,AA239,\"\"))","v":""},{"$f":"IF(AK273=\"\",\"\",IF(AK273=AB240,AB239,\"\"))","v":""},{"$f":"IF(AL273=\"\",\"\",IF(AL273=AC240,AC239,\"\"))","v":""},{"$f":"IF(AM273=\"\",\"\",IF(AM273=AD240,AD239,\"\"))","v":""},{"$f":"IF(AN273=\"\",\"\",IF(AN273=AE240,AE239,\"\"))","v":""},{"$f":"IF(AO273=\"\",\"\",IF(AO273=AF240,AF239,\"\"))","v":""},{"$f":"IF(AP273=\"\",\"\",IF(AP273=AG240,AG239,\"\"))","v":""},{"$f":"IF(AQ273=\"\",\"\",IF(AQ273=AH240,AH239,\"\"))","v":""},{"$f":"IF(AR273=\"\",\"\",IF(AR273=AI240,AI239,\"\"))","v":""},{"$f":"IF(AS273=\"\",\"\",IF(AS273=AJ240,AJ239,\"\"))","v":""},{"$f":"IF(AT273=\"\",\"\",IF(AT273=AK240,AK239,\"\"))","v":""},{"$f":"IF(AU273=\"\",\"\",IF(AU273=AL240,AL239,\"\"))","v":""},{"$f":"IF(AV273=\"\",\"\",IF(AV273=AM240,AM239,\"\"))","v":""},{"$f":"IF(AW273=\"\",\"\",IF(AW273=AN240,AN239,\"\"))","v":""},{"$f":"IF(AX273=\"\",\"\",IF(AX273=AO240,AO239,\"\"))","v":""},{"$f":"IF(AY273=\"\",\"\",IF(AY273=AP240,AP239,\"\"))","v":""},{"$f":"IF(AZ273=\"\",\"\",IF(AZ273=AQ240,AQ239,\"\"))","v":""},{"$f":"IF(BA273=\"\",\"\",IF(BA273=AR240,AR239,\"\"))","v":""},{"$f":"IF(BB273=\"\",\"\",IF(BB273=AS240,AS239,\"\"))","v":""},{"$f":"IF(BC273=\"\",\"\",IF(BC273=AT240,AT239,\"\"))","v":""},null,null,null,null,null,null,18,{"$f":"BK271","v":0},0]
[null,null,null,26,"",{"$f":"AF246","v":""},"","",null,19,"",{"$f":"AF253","v":""},"","",null,{"$f":"IF(G240=$P257,\"\",IF(G240=$J250,\"\",IF(G240=$G241,\"\",G240)))","v":""},{"$f":"IF(H240=$P257,\"\",IF(H240=$J250,\"\",IF(H240=$G241,\"\",H240)))","v":""},{"$f":"IF(I240=$P257,\"\",IF(I240=$J250,\"\",IF(I240=$G241,\"\",I240)))","v":""},{"$f":"IF(J240=$P257,\"\",IF(J240=$J250,\"\",IF(J240=$G241,\"\",J240)))","v":""},{"$f":"IF(K240=$P257,\"\",IF(K240=$J250,\"\",IF(K240=$G241,\"\",K240)))","v":""},{"$f":"IF(L240=$P257,\"\",IF(L240=$J250,\"\",IF(L240=$G241,\"\",L240)))","v":""},{"$f":"IF(M240=$P257,\"\",IF(M240=$J250,\"\",IF(M240=$G241,\"\",M240)))","v":""},{"$f":"IF(N240=$P257,\"\",IF(N240=$J250,\"\",IF(N240=$G241,\"\",N240)))","v":""},{"$f":"IF(O240=$P257,\"\",IF(O240=$J250,\"\",IF(O240=$G241,\"\",O240)))","v":""},{"$f":"IF(P240=$P257,\"\",IF(P240=$J250,\"\",IF(P240=$G241,\"\",P240)))","v":""},{"$f":"IF(Q240=$P257,\"\",IF(Q240=$J250,\"\",IF(Q240=$G241,\"\",Q240)))","v":""},{"$f":"IF(R240=$P257,\"\",IF(R240=$J250,\"\",IF(R240=$G241,\"\",R240)))","v":""},{"$f":"IF(S240=$P257,\"\",IF(S240=$J250,\"\",IF(S240=$G241,\"\",S240)))","v":""},{"$f":"IF(T240=$P257,\"\",IF(T240=$J250,\"\",IF(T240=$G241,\"\",T240)))","v":""},{"$f":"IF(U240=$P257,\"\",IF(U240=$J250,\"\",IF(U240=$G241,\"\",U240)))","v":""},{"$f":"IF(V240=$P257,\"\",IF(V240=$J250,\"\",IF(V240=$G241,\"\",V240)))","v":""},{"$f":"IF(W240=$P257,\"\",IF(W240=$J250,\"\",IF(W240=$G241,\"\",W240)))","v":""},{"$f":"IF(X240=$P257,\"\",IF(X240=$J250,\"\",IF(X240=$G241,\"\",X240)))","v":""},{"$f":"IF(Y240=$P257,\"\",IF(Y240=$J250,\"\",IF(Y240=$G241,\"\",Y240)))","v":""},{"$f":"IF(Z240=$P257,\"\",IF(Z240=$J250,\"\",IF(Z240=$G241,\"\",Z240)))","v":""},{"$f":"IF(AA240=$P257,\"\",IF(AA240=$J250,\"\",IF(AA240=$G241,\"\",AA240)))","v":""},{"$f":"IF(AB240=$P257,\"\",IF(AB240=$J250,\"\",IF(AB240=$G241,\"\",AB240)))","v":""},{"$f":"IF(AC240=$P257,\"\",IF(AC240=$J250,\"\",IF(AC240=$G241,\"\",AC240)))","v":""},{"$f":"IF(AD240=$P257,\"\",IF(AD240=$J250,\"\",IF(AD240=$G241,\"\",AD240)))","v":""},{"$f":"IF(AE240=$P257,\"\",IF(AE240=$J250,\"\",IF(AE240=$G241,\"\",AE240)))","v":""},{"$f":"IF(AF240=$P257,\"\",IF(AF240=$J250,\"\",IF(AF240=$G241,\"\",AF240)))","v":""},{"$f":"IF(AG240=$P257,\"\",IF(AG240=$J250,\"\",IF(AG240=$G241,\"\",AG240)))","v":""},{"$f":"IF(AH240=$P257,\"\",IF(AH240=$J250,\"\",IF(AH240=$G241,\"\",AH240)))","v":""},{"$f":"IF(AI240=$P257,\"\",IF(AI240=$J250,\"\",IF(AI240=$G241,\"\",AI240)))","v":""},{"$f":"IF(AJ240=$P257,\"\",IF(AJ240=$J250,\"\",IF(AJ240=$G241,\"\",AJ240)))","v":""},{"$f":"IF(AK240=$P257,\"\",IF(AK240=$J250,\"\",IF(AK240=$G241,\"\",AK240)))","v":""},{"$f":"IF(AL240=$P257,\"\",IF(AL240=$J250,\"\",IF(AL240=$G241,\"\",AL240)))","v":""},{"$f":"IF(AM240=$P257,\"\",IF(AM240=$J250,\"\",IF(AM240=$G241,\"\",AM240)))","v":""},{"$f":"IF(AN240=$P257,\"\",IF(AN240=$J250,\"\",IF(AN240=$G241,\"\",AN240)))","v":""},{"$f":"IF(AO240=$P257,\"\",IF(AO240=$J250,\"\",IF(AO240=$G241,\"\",AO240)))","v":""},{"$f":"IF(AP240=$P257,\"\",IF(AP240=$J250,\"\",IF(AP240=$G241,\"\",AP240)))","v":""},{"$f":"IF(AQ240=$P257,\"\",IF(AQ240=$J250,\"\",IF(AQ240=$G241,\"\",AQ240)))","v":""},{"$f":"IF(AR240=$P257,\"\",IF(AR240=$J250,\"\",IF(AR240=$G241,\"\",AR240)))","v":""},{"$f":"IF(AS240=$P257,\"\",IF(AS240=$J250,\"\",IF(AS240=$G241,\"\",AS240)))","v":""},{"$f":"IF(AT240=$P257,\"\",IF(AT240=$J250,\"\",IF(AT240=$G241,\"\",AT240)))","v":""},null,null,null,null,null,null,19,{"$f":"BK272","v":0},0]
[null,null,null,27,"",{"$f":"AG246","v":""},"","",null,20,"",{"$f":"AG253","v":""},"","",null,null,null,null,null,null,null,null,null,null,null,null,null,null,null,null,null,null,null,null,null,null,null,null,null,null,null,null,null,null,null,null,null,null,null,null,null,null,null,null,null,null,null,null,null,null,null,20,{"$f":"BK273","v":0},0]
[null,null,null,28,"",{"$f":"AH246","v":""},"","",null,21,{"$f":"IF(L275<>\"\",BK275+BL275+L275,\"\")","v":""},{"$f":"AH253","v":""},"","",null,null,null,null,null,null,null,null,null,null,null,null,null,null,null,null,null,null,null,null,null,null,null,null,null,null,null,null,null,null,null,null,null,null,null,null,null,null,null,null,null,null,null,null,null,null,null,21,{"$f":"BK274","v":0},0]
[null,null,null,29,"",{"$f":"AI246","v":""},"","",null,22,"",{"$f":"AI253","v":""},"","",null,null,null,null,null,null,null,null,null,null,null,null,null,null,null,null,null,null,null,null,null,null,null,null,null,null,null,null,null,null,null,null,null,null,null,null,null,null,null,null,null,null,null,null,null,null,null,22,{"$f":"BK275","v":0},0]
[null,null,null,30,"",{"$f":"AJ246","v":""},"","",null,23,"",{"$f":"AJ253","v":""},"","",null,null,null,null,null,null,null,null,null,null,null,null,null,null,null,null,null,null,null,null,null,null,null,null,null,null,null,null,null,null,null,null,null,null,null,null,null,null,null,null,null,null,null,null,null,null,null,23,{"$f":"BK276","v":0},0]
[null,null,null,31,"",{"$f":"AK246","v":""},"","",null,24,"",{"$f":"AK253","v":""},"","",null,null,null,null,null,null,null,null,null,null,null,null,null,null,null,null,null,null,null,null,null,null,null,null,null,null,null,null,null,null,null,null,null,null,null,null,null,null,null,null,null,null,null,null,null,null,null,24,{"$f":"BK277","v":0},0]
[null,null,null,32,"",{"$f":"AL246","v":""},"","",null,25,"",{"$f":"AL253","v":""},"","",null,null,null,null,null,null,null,null,null,null,null,null,null,null,null,null,null,null,null,null,null,null,null,null,null,null,null,null,null,null,null,null,null,null,null,null,null,null,null,null,null,null,null,null,null,null,null,25,{"$f":"BK278","v":0},0]
[null,null,null,33,"",{"$f":"AM246","v":""},"","",null,26,"",{"$f":"AM253","v":""},"","",null,null,null,null,null,null,null,null,null,null,null,null,null,null,null,null,null,null,null,null,null,null,null,null,null,null,null,null,null,null,null,null,null,null,null,null,null,null,null,null,null,null,null,null,null,null,null,26,{"$f":"BK279","v":0},0]
[null,null,null,34,"",{"$f":"AN246","v":""},"","",null,27,"",{"$f":"AN253","v":""},"","",null,null,null,null,null,null,null,null,null,null,null,null,null,null,null,null,null,null,null,null,null,null,null,null,null,null,null,null,null,null,null,null,null,null,null,null,null,null,null,null,null,null,null,null,null,null,null,27,{"$f":"BK280","v":0},0]
[null,null,null,35,"",{"$f":"AO246","v":""},"","",null,28,"",{"$f":"AO253","v":""},"","",null,null,null,null,null,null,null,null,null,null,null,null,null,null,null,null,null,null,null,null,null,null,null,null,null,null,null,null,null,null,null,null,null,null,null,null,null,null,null,null,null,null,null,null,null,null,null,28,{"$f":"BK281","v":0},0]
[null,null,null,36,"",{"$f":"AP246","v":""},"","",null,29,"",{"$f":"AP253","v":""},"","",null,null,null,null,null,null,null,null,null,null,null,null,null,null,null,null,null,null,null,null,null,null,null,null,null,null,null,null,null,null,null,null,null,null,null,null,null,null,null,null,null,null,null,null,null,null,null,29,{"$f":"BK282","v":0},0]
[null,null,null,37,"",{"$f":"AQ246","v":""},"","",null,30,"",{"$f":"AQ253","v":""},"","",null,null,null,null,null,null,null,null,null,null,null,null,null,null,null,null,null,null,null,null,null,null,null,null,null,null,null,null,null,null,null,null,null,null,null,null,null,null,null,null,null,null,null,null,null,null,null,30,{"$f":"BK283","v":0},0]
[null,null,null,38,"",{"$f":"AR246","v":""},"","",null,31,"",{"$f":"AR253","v":""},"","",null,null,null,null,null,null,null,null,null,null,null,null,null,null,null,null,null,null,null,null,null,null,null,null,null,null,null,null,null,null,null,null,null,null,null,null,null,null,null,null,null,null,null,null,null,null,null,31,{"$f":"BK284","v":0},0]
[null,null,null,39,"",{"$f":"AS246","v":""},"","",null,32,"",{"$f":"AS253","v":""},"","",null,null,null,null,null,null,null,null,null,null,null,null,null,null,null,null,null,null,null,null,null,null,null,null,null,null,null,null,null,null,null,null,null,null,null,null,null,null,null,null,null,null,null,null,null,null,null,32,{"$f":"BK285","v":0},0]
[null,null,null,40,"",{"$f":"AT246","v":""},"","",null,33,"",{"$f":"AT253","v":""},"","",null,null,null,null,null,null,null,null,null,null,null,null,null,null,null,null,null,null,null,null,null,null,null,null,null,null,null,null,null,null,null,null,null,null,null,null,null,null,null,null,null,null,null,null,null,null,null,33,{"$f":"BK286","v":0},0]
[null,null,null,null,null,null,null,null,null,34,"",{"$f":"AU253","v":""},"","",null,null,null,null,null,null,null,null,null,null,null,null,null,null,null,null,null,null,null,null,null,null,null,null,null,null,null,null,null,null,null,null,null,null,null,null,null,null,null,null,null,null,null,null,null,null,null,34,{"$f":"BK287","v":0},0]
[null,null,null,null,null,null,null,null,null,35,"",{"$f":"AV253","v":""},"","",null,null,null,null,null,null,null,null,null,null,null,null,null,null,null,null,null,null,null,null,null,null,null,null,null,null,null,null,null,null,null,null,null,null,null,null,null,null,null,null,null,null,null,null,null,null,null,35,{"$f":"BK288","v":0},0]
[null,null,null,null,null,null,null,null,null,36,"",{"$f":"AW253","v":""},"","",null,null,null,null,null,null,null,null,null,null,null,null,null,null,null,null,null,null,null,null,null,null,null,null,null,null,null,null,null,null,null,null,null,null,null,null,null,null,null,null,null,null,null,null,null,null,null,36,{"$f":"BK289","v":0},0]
[null,null,null,null,null,null,null,null,null,37,"",{"$f":"AX253","v":""},"","",null,null,null,null,null,null,null,null,null,null,null,null,null,null,null,null,null,null,null,null,null,null,null,null,null,null,null,null,null,null,null,null,null,null,null,null,null,null,null,null,null,null,null,null,null,null,null,37,{"$f":"BK290","v":0},0]
[null,null,null,null,null,null,null,null,null,38,"",{"$f":"AY253","v":""},"","",null,null,null,null,null,null,null,null,null,null,null,null,null,null,null,null,null,null,null,null,null,null,null,null,null,null,null,null,null,null,null,null,null,null,null,null,null,null,null,null,null,null,null,null,null,null,null,38,{"$f":"BK291","v":0},0]
[null,null,null,null,null,null,null,null,null,39,"",{"$f":"AZ253","v":""},"","",null,null,null,null,null,null,null,null,null,null,null,null,null,null,null,null,null,null,null,null,null,null,null,null,null,null,null,null,null,null,null,null,null,null,null,null,null,null,null,null,null,null,null,null,null,null,null,39,{"$f":"BK292","v":0},0]
[null,null,null,null,null,null,null,null,null,40,"",{"$f":"BA253","v":""},"","",null,null,null,null,null,null,null,null,null,null,null,null,null,null,null,null,null,null,null,null,null,null,null,null,null,null,null,null,null,null,null,null,null,null,null,null,null,null,null,null,null,null,null,null,null,null,null,40,{"$f":"BK293","v":0},0]
[]
[]
[null,null,null,null,null,null,1,2,3,4,5,6,7,8,9,10,11,12,13,14,15,16,17,18,19,20,21,22,23,24,25,26,27,28,29,30,31,32,33,34,35,36,37,38,39,40,null,null,null,null,null,null,null,null,null,null,null,null,null,null,null,"BLOCCHI CHE POSSONO ESSERE CARICATI IN COPPIA O A TRE PERCHE' IL LORO PESO COMPLESSIVO NON SUPERA IL PESO MASSIMO CONSENTITO NEL TRASPORTO"]
[null,null,"TIR",null,{"$f":"E239+1","v":5},null,{"$f":"P272","v":""},{"$f":"Q272","v":""},{"$f":"R272","v":""},{"$f":"S272","v":""},{"$f":"T272","v":""},{"$f":"U272","v":""},{"$f":"V272","v":""},{"$f":"W272","v":""},{"$f":"X272","v":""},{"$f":"Y272","v":""},{"$f":"Z272","v":""},{"$f":"AA272","v":""},{"$f":"AB272","v":""},{"$f":"AC272","v":""},{"$f":"AD272","v":""},{"$f":"AE272","v":""},{"$f":"AF272","v":""},{"$f":"AG272","v":""},{"$f":"AH272","v":""},{"$f":"AI272","v":""},{"$f":"AJ272","v":""},{"$f":"AK272","v":""},{"$f":"AL272","v":""},{"$f":"AM272","v":""},{"$f":"AN272","v":""},{"$f":"AO272","v":""},{"$f":"AP272","v":""},{"$f":"AQ272","v":""},{"$f":"AR272","v":""},{"$f":"AS272","v":""},{"$f":"AT272","v":""},{"$f":"AU272","v":""},{"$f":"AV272","v":""},{"$f":"AW272","v":""},{"$f":"AX272","v":""},{"$f":"AY272","v":""},{"$f":"AZ272","v":""},{"$f":"BA272","v":""},{"$f":"BB272","v":""},{"$f":"BC272","v":""}]
[null,null,null,null,null,null,{"$f":"P273","v":""},"","","","","","","","","","","","","","","","","","","","","","","","","","","","","","","","","","","","","","",""]
[null,null,"MASSIMO PESO",null,null,null,{"$f":"MAX(G299:AT299)","v":0}]
[null,null,null,null,null,null,{"$f":"IF(G299=$G300,G298,\"\")","v":""},{"$f":"IF(H299=$G300,H298,\"\")","v":""},{"$f":"IF(I299=$G300,I298,\"\")","v":""},"",{"$f":"IF(K299=$G300,K298,\"\")","v":""},"",{"$f":"IF(M299=$G300,M298,\"\")","v":""},"",{"$f":"IF(O299=$G300,O298,\"\")","v":""},"",{"$f":"IF(Q299=$G300,Q298,\"\")","v":""},"",{"$f":"IF(S299=$G300,S298,\"\")","v":""},"",{"$f":"IF(U299=$G300,U298,\"\")","v":""},{"$f":"IF(V299=$G300,V298,\"\")","v":""},{"$f":"IF(W299=$G300,W298,\"\")","v":""},{"$f":"IF(X299=$G300,X298,\"\")","v":""},{"$f":"IF(Y299=$G300,Y298,\"\")","v":""},{"$f":"IF(Z299=$G300,Z298,\"\")","v":""},{"$f":"IF(AA299=$G300,AA298,\"\")","v":""},{"$f":"IF(AB299=$G300,AB298,\"\")","v":""},{"$f":"IF(AC299=$G300,AC298,\"\")","v":""},{"$f":"IF(AD299=$G300,AD298,\"\")","v":""},{"$f":"IF(AE299=$G300,AE298,\"\")","v":""},{"$f":"IF(AF299=$G300,AF298,\"\")","v":""},{"$f":"IF(AG299=$G300,AG298,\"\")","v":""},{"$f":"IF(AH299=$G300,AH298,\"\")","v":""},{"$f":"IF(AI299=$G300,AI298,\"\")","v":""},{"$f":"IF(AJ299=$G300,AJ298,\"\")","v":""},{"$f":"IF(AK299=$G300,AK298,\"\")","v":""},{"$f":"IF(AL299=$G300,AL298,\"\")","v":""},{"$f":"IF(AM299=$G300,AM298,\"\")","v":""},{"$f":"IF(AN299=$G300,AN298,\"\")","v":""},{"$f":"IF(AO299=$G300,AO298,\"\")","v":""},{"$f":"IF(AP299=$G300,AP298,\"\")","v":""},{"$f":"IF(AQ299=$G300,AQ298,\"\")","v":""},{"$f":"IF(AR299=$G300,AR298,\"\")","v":""},{"$f":"IF(AS299=$G300,AS298,\"\")","v":""},{"$f":"IF(AT299=$G300,AT298,\"\")","v":""}]
[null,null,null,null,null,null,{"$f":"G301&H301&I301&J301&K301&L301&M301&N301&O301&P301&Q301&R301&S301&T301&U301&V301&W301&X301&Y301&Z301&AA301&AB301&AC301&AD301&AE301&AF301&AG301&AH301&AI301&AJ301&AK301&AL301&AM301&AN301&AO301&AP301&AQ301&AR301&AS301&AT301","v":""},null,null,null,null,null,null,null,null,null,null,null,null,null,null,null,null,null,null,null,null,null,null,null,null,null,null,null,null,null,null,null,null,null,null,null,null,null,null,null,null,null,null,null,null,null,null,null,null,null,null,null,null,null,null,null,null,null,null,null,null,null,null,null,null,null,null,null,"Primo Blocco",null,null,null,null,null,{"$f":"G302","v":""},{"$f":"CC303+CC308+CC313","v":0},null,"Quintali",null,"N° Blocco"]
[null,null,null,null,null,null,{"$f":"G300","v":0},null,null,null,null,null,null,null,null,null,null,null,null,null,null,null,null,null,null,null,null,null,null,null,null,null,null,null,null,null,null,null,null,null,null,null,null,null,null,null,null,null,null,null,null,null,null,null,null,null,null,null,null,null,null,null,null,null,null,null,null,null,null,null,null,null,null,null,null,null,null,null,null,null,{"$f":"G300","v":0},null,null,{"$f":"IF(CC303=0,\"\",CC303)","v":""},null,{"$f":"IF(CF303=\"\",\"\",CC302)","v":""}]
[null,null,null,null,null,null,{"$f":"IF(G305=\"\",\"\",IF(G305=G299,G298,\"\"))","v":""},{"$f":"IF(H305=\"\",\"\",IF(H305=H299,H298,\"\"))","v":""},{"$f":"IF(I305=\"\",\"\",IF(I305=I299,I298,\"\"))","v":""},"",{"$f":"IF(K305=\"\",\"\",IF(K305=K299,K298,\"\"))","v":""},"",{"$f":"IF(M305=\"\",\"\",IF(M305=M299,M298,\"\"))","v":""},"",{"$f":"IF(O305=\"\",\"\",IF(O305=O299,O298,\"\"))","v":""},"",{"$f":"IF(Q305=\"\",\"\",IF(Q305=Q299,Q298,\"\"))","v":""},"",{"$f":"IF(S305=\"\",\"\",IF(S305=S299,S298,\"\"))","v":""},"",{"$f":"IF(U305=\"\",\"\",IF(U305=U299,U298,\"\"))","v":""},{"$f":"IF(V305=\"\",\"\",IF(V305=V299,V298,\"\"))","v":""},{"$f":"IF(W305=\"\",\"\",IF(W305=W299,W298,\"\"))","v":""},{"$f":"IF(X305=\"\",\"\",IF(X305=X299,X298,\"\"))","v":""},{"$f":"IF(Y305=\"\",\"\",IF(Y305=Y299,Y298,\"\"))","v":""},{"$f":"IF(Z305=\"\",\"\",IF(Z305=Z299,Z298,\"\"))","v":""},{"$f":"IF(AA305=\"\",\"\",IF(AA305=AA299,AA298,\"\"))","v":""},{"$f":"IF(AB305=\"\",\"\",IF(AB305=AB299,AB298,\"\"))","v":""},{"$f":"IF(AC305=\"\",\"\",IF(AC305=AC299,AC298,\"\"))","v":""},{"$f":"IF(AD305=\"\",\"\",IF(AD305=AD299,AD298,\"\"))","v":""},{"$f":"IF(AE305=\"\",\"\",IF(AE305=AE299,AE298,\"\"))","v":""},{"$f":"IF(AF305=\"\",\"\",IF(AF305=AF299,AF298,\"\"))","v":""},{"$f":"IF(AG305=\"\",\"\",IF(AG305=AG299,AG298,\"\"))","v":""},{"$f":"IF(AH305=\"\",\"\",IF(AH305=AH299,AH298,\"\"))","v":""},{"$f":"IF(AI305=\"\",\"\",IF(AI305=AI299,AI298,\"\"))","v":""},{"$f":"IF(AJ305=\"\",\"\",IF(AJ305=AJ299,AJ298,\"\"))","v":""},{"$f":"IF(AK305=\"\",\"\",IF(AK305=AK299,AK298,\"\"))","v":""},{"$f":"IF(AL305=\"\",\"\",IF(AL305=AL299,AL298,\"\"))","v":""},{"$f":"IF(AM305=\"\",\"\",IF(AM305=AM299,AM298,\"\"))","v":""},{"$f":"IF(AN305=\"\",\"\",IF(AN305=AN299,AN298,\"\"))","v":""},{"$f":"IF(AO305=\"\",\"\",IF(AO305=AO299,AO298,\"\"))","v":""},{"$f":"IF(AP305=\"\",\"\",IF(AP305=AP299,AP298,\"\"))","v":""},{"$f":"IF(AQ305=\"\",\"\",IF(AQ305=AQ299,AQ298,\"\"))","v":""},{"$f":"IF(AR305=\"\",\"\",IF(AR305=AR299,AR298,\"\"))","v":""},{"$f":"IF(AS305=\"\",\"\",IF(AS305=AS299,AS298,\"\"))","v":""},{"$f":"IF(AT305=\"\",\"\",IF(AT305=AT299,AT298,\"\"))","v":""},null,null,null,null,null,null,null,null,null,null,null,null,null,null,null,null,null,null,null,null,null,null,null,null,null,null,null,null,null,null,null,null,null,null,null,null,null,{"$f":"IF(CC308=0,\"\",CC308)","v":""},null,{"$f":"IF(CF304=\"\",\"\",CC307)","v":""}]
[null,null,"DISPONIBILI",null,null,null,{"$f":"IF(G299=$G300,\"\",G299)","v":""},{"$f":"IF(H299=$G300,\"\",H299)","v":""},{"$f":"IF(I299=$G300,\"\",I299)","v":""},"",{"$f":"IF(K299=$G300,\"\",K299)","v":""},"",{"$f":"IF(M299=$G300,\"\",M299)","v":""},"",{"$f":"IF(O299=$G300,\"\",O299)","v":""},"",{"$f":"IF(Q299=$G300,\"\",Q299)","v":""},"",{"$f":"IF(S299=$G300,\"\",S299)","v":""},"",{"$f":"IF(U299=$G300,\"\",U299)","v":""},{"$f":"IF(V299=$G300,\"\",V299)","v":""},{"$f":"IF(W299=$G300,\"\",W299)","v":""},{"$f":"IF(X299=$G300,\"\",X299)","v":""},{"$f":"IF(Y299=$G300,\"\",Y299)","v":""},{"$f":"IF(Z299=$G300,\"\",Z299)","v":""},{"$f":"IF(AA299=$G300,\"\",AA299)","v":""},{"$f":"IF(AB299=$G300,\"\",AB299)","v":""},{"$f":"IF(AC299=$G300,\"\",AC299)","v":""},{"$f":"IF(AD299=$G300,\"\",AD299)","v":""},{"$f":"IF(AE299=$G300,\"\",AE299)","v":""},{"$f":"IF(AF299=$G300,\"\",AF299)","v":""},{"$f":"IF(AG299=$G300,\"\",AG299)","v":""},{"$f":"IF(AH299=$G300,\"\",AH299)","v":""},{"$f":"IF(AI299=$G300,\"\",AI299)","v":""},{"$f":"IF(AJ299=$G300,\"\",AJ299)","v":""},{"$f":"IF(AK299=$G300,\"\",AK299)","v":""},{"$f":"IF(AL299=$G300,\"\",AL299)","v":""},{"$f":"IF(AM299=$G300,\"\",AM299)","v":""},{"$f":"IF(AN299=$G300,\"\",AN299)","v":""},{"$f":"IF(AO299=$G300,\"\",AO299)","v":""},{"$f":"IF(AP299=$G300,\"\",AP299)","v":""},{"$f":"IF(AQ299=$G300,\"\",AQ299)","v":""},{"$f":"IF(AR299=$G300,\"\",AR299)","v":""},{"$f":"IF(AS299=$G300,\"\",AS299)","v":""},{"$f":"IF(AT299=$G300,\"\",AT299)","v":""},null,null,null,null,null,null,null,null,null,null,null,null,null,null,null,null,null,null,null,null,null,null,null,null,null,null,null,null,null,null,null,null,null,null,null,null,null,{"$f":"IF(CC313=0,\"\",CC313)","v":""},null,{"$f":"IF(CF305=\"\",\"\",CC312)","v":""}]
[null,null,null,null,null,null,null,null,null,null,null,null,null,null,null,null,null,null,null,null,null,null,null,null,null,null,null,null,null,null,null,null,null,null,null,null,null,null,null,null,null,null,null,null,null,null,null,null,null,null,null,null,null,null,null,null,null,null,null,null,null,null,null,null,null,null,null,null,null,null,null,null,null,null,null,null,null,null,null,null,null,null,null,"NUMERO TIR"]
[null,null,"Portata                Max.               TIR",1,{"$f":"IF(F307<>\"\",F307+G$126,\"\")","v":""},{"$f":"G305","v":""},{"$f":"IF(F307=\"\",\"\",IF(E307<=$C$74,\"X\",\"\"))","v":""},{"$f":"IF(G307=\"X\",F307,\"\")","v":""},{"$f":"MAX(H307:H346)","v":0},{"$f":"IF(J308=G305,G304,\"\")","v":""},{"$f":"IF(K308=H305,H304,\"\")","v":""},{"$f":"IF(L308=I305,I304,\"\")","v":""},{"$f":"IF(M308=J305,J304,\"\")","v":""},{"$f":"IF(N308=K305,K304,\"\")","v":""},{"$f":"IF(O308=L305,L304,\"\")","v":""},{"$f":"IF(P308=M305,M304,\"\")","v":""},{"$f":"IF(Q308=N305,N304,\"\")","v":""},{"$f":"IF(R308=O305,O304,\"\")","v":""},{"$f":"IF(S308=P305,P304,\"\")","v":""},{"$f":"IF(T308=Q305,Q304,\"\")","v":""},{"$f":"IF(U308=R305,R304,\"\")","v":""},{"$f":"IF(V308=S305,S304,\"\")","v":""},{"$f":"IF(W308=T305,T304,\"\")","v":""},{"$f":"IF(X308=U305,U304,\"\")","v":""},{"$f":"IF(Y308=V305,V304,\"\")","v":""},{"$f":"IF(Z308=W305,W304,\"\")","v":""},{"$f":"IF(AA308=X305,X304,\"\")","v":""},{"$f":"IF(AB308=Y305,Y304,\"\")","v":""},{"$f":"IF(AC308=Z305,Z304,\"\")","v":""},{"$f":"IF(AD308=AA305,AA304,\"\")","v":""},{"$f":"IF(AE308=AB305,AB304,\"\")","v":""},{"$f":"IF(AF308=AC305,AC304,\"\")","v":""},{"$f":"IF(AG308=AD305,AD304,\"\")","v":""},{"$f":"IF(AH308=AE305,AE304,\"\")","v":""},{"$f":"IF(AI308=AF305,AF304,\"\")","v":""},{"$f":"IF(AJ308=AG305,AG304,\"\")","v":""},{"$f":"IF(AK308=AH305,AH304,\"\")","v":""},{"$f":"IF(AL308=AI305,AI304,\"\")","v":""},{"$f":"IF(AM308=AJ305,AJ304,\"\")","v":""},{"$f":"IF(AN308=AK305,AK304,\"\")","v":""},{"$f":"IF(AO308=AL305,AL304,\"\")","v":""},{"$f":"IF(AP308=AM305,AM304,\"\")","v":""},{"$f":"IF(AQ308=AN305,AN304,\"\")","v":""},{"$f":"IF(AR308=AO305,AO304,\"\")","v":""},{"$f":"IF(AS308=AP305,AP304,\"\")","v":""},{"$f":"IF(AT308=AQ305,AQ304,\"\")","v":""},{"$f":"IF(AU308=AR305,AR304,\"\")","v":""},{"$f":"IF(AV308=AS305,AS304,\"\")","v":""},{"$f":"IF(AW308=AT305,AT304,\"\")","v":""},null,null,null,null,null,null,null,null,null,null,null,null,null,null,null,null,null,null,null,null,null,null,null,null,null,"Secondo Blocco",null,null,null,null,null,{"$f":"J307&K307&L307&M307&N307&O307&P307&Q307&R307&S307&T307&U307&V307&W307&X307&Y307&Z307&AA307&AB307&AC307&AD307&AE307&AF307&AG307&AH307&AI307&AJ307&AK307&AL307&AM307&AN307&AO307&AP307&AQ307&AR307&AS307&AT307&AU307&AV307&AW307","v":""}]
[null,null,null,2,"",{"$f":"H305","v":""},{"$f":"IF(F308=\"\",\"\",IF(E308<=$C$74,\"X\",\"\"))","v":""},"",null,{"$f":"IF($J309=G305,G305,\"\")","v":""},{"$f":"IF($J309=H305,H305,\"\")","v":""},{"$f":"IF($J309=I305,I305,\"\")","v":""},{"$f":"IF($J309=J305,J305,\"\")","v":""},{"$f":"IF($J309=K305,K305,\"\")","v":""},{"$f":"IF($J309=L305,L305,\"\")","v":""},{"$f":"IF($J309=M305,M305,\"\")","v":""},{"$f":"IF($J309=N305,N305,\"\")","v":""},{"$f":"IF($J309=O305,O305,\"\")","v":""},{"$f":"IF($J309=P305,P305,\"\")","v":""},{"$f":"IF($J309=Q305,Q305,\"\")","v":""},{"$f":"IF($J309=R305,R305,\"\")","v":""},{"$f":"IF($J309=S305,S305,\"\")","v":""},{"$f":"IF($J309=T305,T305,\"\")","v":""},{"$f":"IF($J309=U305,U305,\"\")","v":""},{"$f":"IF($J309=V305,V305,\"\")","v":""},{"$f":"IF($J309=W305,W305,\"\")","v":""},{"$f":"IF($J309=X305,X305,\"\")","v":""},{"$f":"IF($J309=Y305,Y305,\"\")","v":""},{"$f":"IF($J309=Z305,Z305,\"\")","v":""},{"$f":"IF($J309=AA305,AA305,\"\")","v":""},{"$f":"IF($J309=AB305,AB305,\"\")","v":""},{"$f":"IF($J309=AC305,AC305,\"\")","v":""},{"$f":"IF($J309=AD305,AD305,\"\")","v":""},{"$f":"IF($J309=AE305,AE305,\"\")","v":""},{"$f":"IF($J309=AF305,AF305,\"\")","v":""},{"$f":"IF($J309=AG305,AG305,\"\")","v":""},{"$f":"IF($J309=AH305,AH305,\"\")","v":""},{"$f":"IF($J309=AI305,AI305,\"\")","v":""},{"$f":"IF($J309=AJ305,AJ305,\"\")","v":""},{"$f":"IF($J309=AK305,AK305,\"\")","v":""},{"$f":"IF($J309=AL305,AL305,\"\")","v":""},{"$f":"IF($J309=AM305,AM305,\"\")","v":""},{"$f":"IF($J309=AN305,AN305,\"\")","v":""},{"$f":"IF($J309=AO305,AO305,\"\")","v":""},{"$f":"IF($J309=AP305,AP305,\"\")","v":""},{"$f":"IF($J309=AQ305,AQ305,\"\")","v":""},{"$f":"IF($J309=AR305,AR305,\"\")","v":""},{"$f":"IF($J309=AS305,AS305,\"\")","v":""},{"$f":"IF($J309=AT305,AT305,\"\")","v":""},null,null,null,null,null,null,null,null,null,null,null,null,null,null,null,null,null,null,null,null,null,null,null,null,null,null,null,null,null,null,null,{"$f":"J309","v":0}]
[null,null,null,3,"",{"$f":"I305","v":""},"","",null,{"$f":"I307","v":0}]
[null,null,{"$f":"$P$3","v":200},4,"",{"$f":"J305","v":""},"","",null,null,null,null,null,null,null,null,null,null,null,null,null,null,null,null,null,null,null,null,null,null,null,null,null,null,null,null,null,null,null,null,null,null,null,null,null,null,null,null,null,null,null,null,null,null,null,null,null,null,null,null,null,null,null,null,null,null,null,null,null,null,null,null,null,null,null,null,null,null,null,null,null,null,null,{"$f":"IF(CD302>0,CF251+1,\"\")","v":""}]
[null,null,null,5,"",{"$f":"K305","v":""},"","",null,null,null,null,null,{"$f":"IF(N312=G305,G304,\"\")","v":""},{"$f":"IF(O312=H305,H304,\"\")","v":""},{"$f":"IF(P312=I305,I304,\"\")","v":""},{"$f":"IF(Q312=J305,J304,\"\")","v":""},{"$f":"IF(R312=K305,K304,\"\")","v":""},{"$f":"IF(S312=L305,L304,\"\")","v":""},{"$f":"IF(T312=M305,M304,\"\")","v":""},{"$f":"IF(U312=N305,N304,\"\")","v":""},{"$f":"IF(V312=O305,O304,\"\")","v":""},{"$f":"IF(W312=P305,P304,\"\")","v":""},{"$f":"IF(X312=Q305,Q304,\"\")","v":""},{"$f":"IF(Y312=R305,R304,\"\")","v":""},{"$f":"IF(Z312=S305,S304,\"\")","v":""},{"$f":"IF(AA312=T305,T304,\"\")","v":""},{"$f":"IF(AB312=U305,U304,\"\")","v":""},{"$f":"IF(AC312=V305,V304,\"\")","v":""},{"$f":"IF(AD312=W305,W304,\"\")","v":""},{"$f":"IF(AE312=X305,X304,\"\")","v":""},{"$f":"IF(AF312=Y305,Y304,\"\")","v":""},{"$f":"IF(AG312=Z305,Z304,\"\")","v":""},{"$f":"IF(AH312=AA305,AA304,\"\")","v":""},{"$f":"IF(AI312=AB305,AB304,\"\")","v":""},{"$f":"IF(AJ312=AC305,AC304,\"\")","v":""},{"$f":"IF(AK312=AD305,AD304,\"\")","v":""},{"$f":"IF(AL312=AE305,AE304,\"\")","v":""},{"$f":"IF(AM312=AF305,AF304,\"\")","v":""},{"$f":"IF(AN312=AG305,AG304,\"\")","v":""},{"$f":"IF(AO312=AH305,AH304,\"\")","v":""},{"$f":"IF(AP312=AI305,AI304,\"\")","v":""},{"$f":"IF(AQ312=AJ305,AJ304,\"\")","v":""},{"$f":"IF(AR312=AK305,AK304,\"\")","v":""},{"$f":"IF(AS312=AL305,AL304,\"\")","v":""},{"$f":"IF(AT312=AM305,AM304,\"\")","v":""},{"$f":"IF(AU312=AN305,AN304,\"\")","v":""},{"$f":"IF(AV312=AO305,AO304,\"\")","v":""},{"$f":"IF(AW312=AP305,AP304,\"\")","v":""},{"$f":"IF(AX312=AQ305,AQ304,\"\")","v":""},{"$f":"IF(AY312=AR305,AR304,\"\")","v":""},{"$f":"IF(AZ312=AS305,AS304,\"\")","v":""},{"$f":"IF(BA312=AT305,AT304,\"\")","v":""}]
[null,null,null,6,"",{"$f":"L305","v":""},"","",null,"DISPONIBILI",null,null,null,{"$f":"IF(G305=\"\",\"\",IF(G305=J308,\"\",G305))","v":""},{"$f":"IF(H305=\"\",\"\",IF(H305=K308,\"\",H305))","v":""},{"$f":"IF(I305=\"\",\"\",IF(I305=L308,\"\",I305))","v":""},{"$f":"IF(J305=\"\",\"\",IF(J305=M308,\"\",J305))","v":""},{"$f":"IF(K305=\"\",\"\",IF(K305=N308,\"\",K305))","v":""},{"$f":"IF(L305=\"\",\"\",IF(L305=O308,\"\",L305))","v":""},{"$f":"IF(M305=\"\",\"\",IF(M305=P308,\"\",M305))","v":""},{"$f":"IF(N305=\"\",\"\",IF(N305=Q308,\"\",N305))","v":""},{"$f":"IF(O305=\"\",\"\",IF(O305=R308,\"\",O305))","v":""},{"$f":"IF(P305=\"\",\"\",IF(P305=S308,\"\",P305))","v":""},{"$f":"IF(Q305=\"\",\"\",IF(Q305=T308,\"\",Q305))","v":""},{"$f":"IF(R305=\"\",\"\",IF(R305=U308,\"\",R305))","v":""},{"$f":"IF(S305=\"\",\"\",IF(S305=V308,\"\",S305))","v":""},{"$f":"IF(T305=\"\",\"\",IF(T305=W308,\"\",T305))","v":""},{"$f":"IF(U305=\"\",\"\",IF(U305=X308,\"\",U305))","v":""},{"$f":"IF(V305=\"\",\"\",IF(V305=Y308,\"\",V305))","v":""},{"$f":"IF(W305=\"\",\"\",IF(W305=Z308,\"\",W305))","v":""},{"$f":"IF(X305=\"\",\"\",IF(X305=AA308,\"\",X305))","v":""},{"$f":"IF(Y305=\"\",\"\",IF(Y305=AB308,\"\",Y305))","v":""},{"$f":"IF(Z305=\"\",\"\",IF(Z305=AC308,\"\",Z305))","v":""},{"$f":"IF(AA305=\"\",\"\",IF(AA305=AD308,\"\",AA305))","v":""},{"$f":"IF(AB305=\"\",\"\",IF(AB305=AE308,\"\",AB305))","v":""},{"$f":"IF(AC305=\"\",\"\",IF(AC305=AF308,\"\",AC305))","v":""},{"$f":"IF(AD305=\"\",\"\",IF(AD305=AG308,\"\",AD305))","v":""},{"$f":"IF(AE305=\"\",\"\",IF(AE305=AH308,\"\",AE305))","v":""},{"$f":"IF(AF305=\"\",\"\",IF(AF305=AI308,\"\",AF305))","v":""},{"$f":"IF(AG305=\"\",\"\",IF(AG305=AJ308,\"\",AG305))","v":""},{"$f":"IF(AH305=\"\",\"\",IF(AH305=AK308,\"\",AH305))","v":""},{"$f":"IF(AI305=\"\",\"\",IF(AI305=AL308,\"\",AI305))","v":""},{"$f":"IF(AJ305=\"\",\"\",IF(AJ305=AM308,\"\",AJ305))","v":""},{"$f":"IF(AK305=\"\",\"\",IF(AK305=AN308,\"\",AK305))","v":""},{"$f":"IF(AL305=\"\",\"\",IF(AL305=AO308,\"\",AL305))","v":""},{"$f":"IF(AM305=\"\",\"\",IF(AM305=AP308,\"\",AM305))","v":""},{"$f":"IF(AN305=\"\",\"\",IF(AN305=AQ308,\"\",AN305))","v":""},{"$f":"IF(AO305=\"\",\"\",IF(AO305=AR308,\"\",AO305))","v":""},{"$f":"IF(AP305=\"\",\"\",IF(AP305=AS308,\"\",AP305))","v":""},{"$f":"IF(AQ305=\"\",\"\",IF(AQ305=AT308,\"\",AQ305))","v":""},{"$f":"IF(AR305=\"\",\"\",IF(AR305=AU308,\"\",AR305))","v":""},{"$f":"IF(AS305=\"\",\"\",IF(AS305=AV308,\"\",AS305))","v":""},{"$f":"IF(AT305=\"\",\"\",IF(AT305=AW308,\"\",AT305))","v":""},null,null,null,null,null,null,null,null,null,null,null,null,null,null,null,null,null,null,null,null,null,"Terzo Blocco",null,null,null,null,null,{"$f":"P314&Q314&R314&S314&T314&U314&V314&W314&X314&Y314&Z314&AA314&AB314&AC314&AD314&AE314&AF314&AG314&AH314&AI314&AJ314&AK314&AL314&AM314&AN314&AO314&AP314&AQ314&AR314&AS314&AT314&AU314&AV314&AW314&AX314&AY314&AZ314&BA314&BB314&BC314","v":""}]
[null,null,null,7,"",{"$f":"M305","v":""},"","",null,null,null,null,null,null,null,null,null,null,null,null,null,null,null,null,null,null,null,null,null,null,null,null,null,null,null,null,null,null,null,null,null,null,null,null,null,null,null,null,null,null,null,null,null,null,null,null,null,null,null,null,null,null,1,2,null,null,null,null,null,null,null,null,null,null,null,null,null,null,null,null,{"$f":"P316","v":0}]
[null,null,null,8,"",{"$f":"N305","v":""},"","",null,1,{"$f":"IF(L314<>\"\",BK314+BL314+L314,\"\")","v":""},{"$f":"N312","v":""},{"$f":"IF(L314=\"\",\"\",IF(K314<=$C$74,\"X\",\"\"))","v":""},{"$f":"IF(M314=\"X\",L314,\"\")","v":""},{"$f":"MAX(N314:N333)","v":0},{"$f":"IF(P315=N312,N311,\"\")","v":""},{"$f":"IF(Q315=O312,O311,\"\")","v":""},{"$f":"IF(R315=P312,P311,\"\")","v":""},{"$f":"IF(S315=Q312,Q311,\"\")","v":""},{"$f":"IF(T315=R312,R311,\"\")","v":""},{"$f":"IF(U315=S312,S311,\"\")","v":""},{"$f":"IF(V315=T312,T311,\"\")","v":""},{"$f":"IF(W315=U312,U311,\"\")","v":""},{"$f":"IF(X315=V312,V311,\"\")","v":""},{"$f":"IF(Y315=W312,W311,\"\")","v":""},{"$f":"IF(Z315=X312,X311,\"\")","v":""},{"$f":"IF(AA315=Y312,Y311,\"\")","v":""},{"$f":"IF(AB315=Z312,Z311,\"\")","v":""},{"$f":"IF(AC315=AA312,AA311,\"\")","v":""},{"$f":"IF(AD315=AB312,AB311,\"\")","v":""},{"$f":"IF(AE315=AC312,AC311,\"\")","v":""},{"$f":"IF(AF315=AD312,AD311,\"\")","v":""},{"$f":"IF(AG315=AE312,AE311,\"\")","v":""},{"$f":"IF(AH315=AF312,AF311,\"\")","v":""},{"$f":"IF(AI315=AG312,AG311,\"\")","v":""},{"$f":"IF(AJ315=AH312,AH311,\"\")","v":""},{"$f":"IF(AK315=AI312,AI311,\"\")","v":""},{"$f":"IF(AL315=AJ312,AJ311,\"\")","v":""},{"$f":"IF(AM315=AK312,AK311,\"\")","v":""},{"$f":"IF(AN315=AL312,AL311,\"\")","v":""},{"$f":"IF(AO315=AM312,AM311,\"\")","v":""},{"$f":"IF(AP315=AN312,AN311,\"\")","v":""},{"$f":"IF(AQ315=AO312,AO311,\"\")","v":""},{"$f":"IF(AR315=AP312,AP311,\"\")","v":""},{"$f":"IF(AS315=AQ312,AQ311,\"\")","v":""},{"$f":"IF(AT315=AR312,AR311,\"\")","v":""},{"$f":"IF(AU315=AS312,AS311,\"\")","v":""},{"$f":"IF(AV315=AT312,AT311,\"\")","v":""},{"$f":"IF(AW315=AU312,AU311,\"\")","v":""},{"$f":"IF(AX315=AV312,AV311,\"\")","v":""},{"$f":"IF(AY315=AW312,AW311,\"\")","v":""},{"$f":"IF(AZ315=AX312,AX311,\"\")","v":""},{"$f":"IF(BA315=AY312,AY311,\"\")","v":""},{"$f":"IF(BB315=AZ312,AZ311,\"\")","v":""},{"$f":"IF(BC315=BA312,BA311,\"\")","v":""},null,null,null,null,null,null,1,{"$f":"CC303","v":0},{"$f":"CC308","v":0}]
[null,null,null,9,"",{"$f":"O305","v":""},"","",null,2,"",{"$f":"O312","v":""},{"$f":"IF(L315=\"\",\"\",IF(K315<=$C$74,\"X\",\"\"))","v":""},{"$f":"IF(M315=\"X\",L315,\"\")","v":""},null,{"$f":"IF($P316=N312,N312,\"\")","v":""},{"$f":"IF($P316=O312,O312,\"\")","v":""},{"$f":"IF($P316=P312,P312,\"\")","v":""},{"$f":"IF($P316=Q312,Q312,\"\")","v":""},{"$f":"IF($P316=R312,R312,\"\")","v":""},{"$f":"IF($P316=S312,S312,\"\")","v":""},{"$f":"IF($P316=T312,T312,\"\")","v":""},{"$f":"IF($P316=U312,U312,\"\")","v":""},{"$f":"IF($P316=V312,V312,\"\")","v":""},{"$f":"IF($P316=W312,W312,\"\")","v":""},{"$f":"IF($P316=X312,X312,\"\")","v":""},{"$f":"IF($P316=Y312,Y312,\"\")","v":""},{"$f":"IF($P316=Z312,Z312,\"\")","v":""},{"$f":"IF($P316=AA312,AA312,\"\")","v":""},{"$f":"IF($P316=AB312,AB312,\"\")","v":""},{"$f":"IF($P316=AC312,AC312,\"\")","v":""},{"$f":"IF($P316=AD312,AD312,\"\")","v":""},{"$f":"IF($P316=AE312,AE312,\"\")","v":""},{"$f":"IF($P316=AF312,AF312,\"\")","v":""},{"$f":"IF($P316=AG312,AG312,\"\")","v":""},{"$f":"IF($P316=AH312,AH312,\"\")","v":""},{"$f":"IF($P316=AI312,AI312,\"\")","v":""},{"$f":"IF($P316=AJ312,AJ312,\"\")","v":""},{"$f":"IF($P316=AK312,AK312,\"\")","v":""},{"$f":"IF($P316=AL312,AL312,\"\")","v":""},{"$f":"IF($P316=AM312,AM312,\"\")","v":""},{"$f":"IF($P316=AN312,AN312,\"\")","v":""},{"$f":"IF($P316=AO312,AO312,\"\")","v":""},{"$f":"IF($P316=AP312,AP312,\"\")","v":""},{"$f":"IF($P316=AQ312,AQ312,\"\")","v":""},{"$f":"IF($P316=AR312,AR312,\"\")","v":""},{"$f":"IF($P316=AS312,AS312,\"\")","v":""},{"$f":"IF($P316=AT312,AT312,\"\")","v":""},{"$f":"IF($P316=AU312,AU312,\"\")","v":""},{"$f":"IF($P316=AV312,AV312,\"\")","v":""},{"$f":"IF($P316=AW312,AW312,\"\")","v":""},{"$f":"IF($P316=AX312,AX312,\"\")","v":""},{"$f":"IF($P316=AY312,AY312,\"\")","v":""},{"$f":"IF($P316=AZ312,AZ312,\"\")","v":""},{"$f":"IF($P316=BA312,BA312,\"\")","v":""},null,null,null,null,null,null,2,{"$f":"BK314","v":0},{"$f":"BL314","v":0}]
[null,null,null,10,"",{"$f":"P305","v":""},"","",null,3,"",{"$f":"P312","v":""},"","",null,{"$f":"O314","v":0},null,null,null,null,null,null,null,null,null,null,null,null,null,null,null,null,null,null,null,null,null,null,null,null,null,null,null,null,null,null,null,null,null,null,null,null,null,null,null,null,null,null,null,null,null,3,{"$f":"BK315","v":0},0,null,null,null,null,null,null,null,null,null,null,null,null,null,null,null,"MASSIMO CARICO",null,null,null,null,{"$f":"C310","v":200}]
[null,null,null,11,"",{"$f":"Q305","v":""},"","",null,4,"",{"$f":"Q312","v":""},"","",null,null,null,null,null,null,null,null,null,null,null,null,null,null,null,null,null,null,null,null,null,null,null,null,null,null,null,null,null,null,null,null,null,null,null,null,null,null,null,null,null,null,null,null,null,null,null,4,{"$f":"BK316","v":0},0]
[null,null,null,12,"",{"$f":"R305","v":""},"","",null,5,"",{"$f":"R312","v":""},"","",null,null,null,null,null,null,null,null,null,null,null,null,null,null,null,null,null,null,null,null,null,null,null,null,null,null,null,null,null,null,null,null,null,null,null,null,null,null,null,null,null,null,null,null,null,null,null,5,{"$f":"BK317","v":0},0,null,null,null,null,null,null,null,null,null,null,null,null,null,null,null,"RIMANE",null,null,null,null,{"$f":"CG316-CD302","v":200}]
[null,null,null,13,"",{"$f":"S305","v":""},"","",null,6,"",{"$f":"S312","v":""},"","",null,null,null,null,null,null,null,null,null,null,null,null,null,null,null,null,null,null,null,null,null,null,null,null,null,null,null,null,null,null,null,null,null,null,null,null,null,null,null,null,null,null,null,null,null,null,null,6,{"$f":"BK318","v":0},0]
[null,null,null,14,"",{"$f":"T305","v":""},"","",null,7,"",{"$f":"T312","v":""},"","",null,null,null,null,null,null,null,null,null,null,null,null,null,null,null,null,null,null,null,null,null,null,null,null,null,null,null,null,null,null,null,null,null,null,null,null,null,null,null,null,null,null,null,null,null,null,null,7,{"$f":"BK319","v":0},0]
[null,null,null,15,"",{"$f":"U305","v":""},"",{"$f":"IF(G321=\"X\",F321,\"\")","v":""},null,8,"",{"$f":"U312","v":""},"","",null,null,null,null,null,null,null,null,null,null,null,null,null,null,null,null,null,null,null,null,null,null,null,null,null,null,null,null,null,null,null,null,null,null,null,null,null,null,null,null,null,null,null,null,null,null,null,8,{"$f":"BK320","v":0},0]
[null,null,null,16,"",{"$f":"V305","v":""},"","",null,9,"",{"$f":"V312","v":""},"","",null,null,null,null,null,null,null,null,null,null,null,null,null,null,null,null,null,null,null,null,null,null,null,null,null,null,null,null,null,null,null,null,null,null,null,null,null,null,null,null,null,null,null,null,null,null,null,9,{"$f":"BK321","v":0},0]
[null,null,null,17,"",{"$f":"W305","v":""},"","",null,10,"",{"$f":"W312","v":""},"","",null,null,null,null,null,null,null,null,null,null,null,null,null,null,null,null,null,null,null,null,null,null,null,null,null,null,null,null,null,null,null,null,null,null,null,null,null,null,null,null,null,null,null,null,null,null,null,10,{"$f":"BK322","v":0},0]
[null,null,null,18,"",{"$f":"X305","v":""},"","",null,11,"",{"$f":"X312","v":""},"","",null,null,null,null,null,null,null,null,null,null,null,null,null,null,null,null,null,null,null,null,null,null,null,null,null,null,null,null,null,null,null,null,null,null,null,null,null,null,null,null,null,null,null,null,null,null,null,11,{"$f":"BK323","v":0},0]
[null,null,null,19,"",{"$f":"Y305","v":""},"","",null,12,"",{"$f":"Y312","v":""},"","",null,null,null,null,null,null,null,null,null,null,null,null,null,null,null,null,null,null,null,null,null,null,null,null,null,null,null,null,null,null,null,null,null,null,null,null,null,null,null,null,null,null,null,null,null,null,null,12,{"$f":"BK324","v":0},0]
[null,null,null,20,"",{"$f":"Z305","v":""},"","",null,13,"",{"$f":"Z312","v":""},"","",null,null,null,null,null,null,null,null,null,null,null,null,null,null,null,null,null,null,null,null,null,null,null,null,null,null,null,null,null,null,null,null,null,null,null,null,null,null,null,null,null,null,null,null,null,null,null,13,{"$f":"BK325","v":0},0]
[null,null,null,21,{"$f":"IF(F327<>\"\",F327+G$126,\"\")","v":""},{"$f":"AA305","v":""},"","",null,14,"",{"$f":"AA312","v":""},"","",null,null,null,null,null,null,null,null,null,null,null,null,null,null,null,null,null,null,null,null,null,null,null,null,null,null,null,null,null,null,null,null,null,null,null,null,null,null,null,null,null,null,null,null,null,null,null,14,{"$f":"BK326","v":0},0]
[null,null,null,22,"",{"$f":"AB305","v":""},"","",null,15,"",{"$f":"AB312","v":""},"","",null,"RIMASTI A DISPOSIZIONE",null,null,null,null,null,null,null,null,null,null,null,null,null,null,null,null,null,null,null,null,null,null,null,null,null,null,null,null,null,null,null,null,null,null,null,null,null,null,null,null,null,null,null,null,null,15,{"$f":"BK327","v":0},0]
[null,null,null,23,"",{"$f":"AC305","v":""},"","",null,16,"",{"$f":"AC312","v":""},"","",null,null,null,null,null,null,null,null,null,null,null,null,null,null,null,null,null,null,null,null,null,null,null,null,null,null,null,null,null,null,null,null,null,null,null,null,null,null,null,null,null,null,null,null,null,null,null,16,{"$f":"BK328","v":0},0]
[null,null,null,24,"",{"$f":"AD305","v":""},"","",null,17,"",{"$f":"AD312","v":""},"","",null,1,2,3,4,5,6,7,8,9,10,11,12,13,14,15,16,17,18,19,20,21,22,23,24,25,26,27,28,29,30,31,32,33,34,35,36,37,38,39,40,null,null,null,null,null,null,17,{"$f":"BK329","v":0},0]
[null,null,null,25,"",{"$f":"AE305","v":""},"","",null,18,"",{"$f":"AE312","v":""},"","",null,{"$f":"IF(P332=\"\",\"\",IF(P332=G299,G298,\"\"))","v":""},{"$f":"IF(Q332=\"\",\"\",IF(Q332=H299,H298,\"\"))","v":""},{"$f":"IF(R332=\"\",\"\",IF(R332=I299,I298,\"\"))","v":""},{"$f":"IF(S332=\"\",\"\",IF(S332=J299,J298,\"\"))","v":""},{"$f":"IF(T332=\"\",\"\",IF(T332=K299,K298,\"\"))","v":""},{"$f":"IF(U332=\"\",\"\",IF(U332=L299,L298,\"\"))","v":""},{"$f":"IF(V332=\"\",\"\",IF(V332=M299,M298,\"\"))","v":""},{"$f":"IF(W332=\"\",\"\",IF(W332=N299,N298,\"\"))","v":""},{"$f":"IF(X332=\"\",\"\",IF(X332=O299,O298,\"\"))","v":""},{"$f":"IF(Y332=\"\",\"\",IF(Y332=P299,P298,\"\"))","v":""},{"$f":"IF(Z332=\"\",\"\",IF(Z332=Q299,Q298,\"\"))","v":""},{"$f":"IF(AA332=\"\",\"\",IF(AA332=R299,R298,\"\"))","v":""},{"$f":"IF(AB332=\"\",\"\",IF(AB332=S299,S298,\"\"))","v":""},{"$f":"IF(AC332=\"\",\"\",IF(AC332=T299,T298,\"\"))","v":""},{"$f":"IF(AD332=\"\",\"\",IF(AD332=U299,U298,\"\"))","v":""},{"$f":"IF(AE332=\"\",\"\",IF(AE332=V299,V298,\"\"))","v":""},{"$f":"IF(AF332=\"\",\"\",IF(AF332=W299,W298,\"\"))","v":""},{"$f":"IF(AG332=\"\",\"\",IF(AG332=X299,X298,\"\"))","v":""},{"$f":"IF(AH332=\"\",\"\",IF(AH332=Y299,Y298,\"\"))","v":""},{"$f":"IF(AI332=\"\",\"\",IF(AI332=Z299,Z298,\"\"))","v":""},{"$f":"IF(AJ332=\"\",\"\",IF(AJ332=AA299,AA298,\"\"))","v":""},{"$f":"IF(AK332=\"\",\"\",IF(AK332=AB299,AB298,\"\"))","v":""},{"$f":"IF(AL332=\"\",\"\",IF(AL332=AC299,AC298,\"\"))","v":""},{"$f":"IF(AM332=\"\",\"\",IF(AM332=AD299,AD298,\"\"))","v":""},{"$f":"IF(AN332=\"\",\"\",IF(AN332=AE299,AE298,\"\"))","v":""},{"$f":"IF(AO332=\"\",\"\",IF(AO332=AF299,AF298,\"\"))","v":""},{"$f":"IF(AP332=\"\",\"\",IF(AP332=AG299,AG298,\"\"))","v":""},{"$f":"IF(AQ332=\"\",\"\",IF(AQ332=AH299,AH298,\"\"))","v":""},{"$f":"IF(AR332=\"\",\"\",IF(AR332=AI299,AI298,\"\"))","v":""},{"$f":"IF(AS332=\"\",\"\",IF(AS332=AJ299,AJ298,\"\"))","v":""},{"$f":"IF(AT332=\"\",\"\",IF(AT332=AK299,AK298,\"\"))","v":""},{"$f":"IF(AU332=\"\",\"\",IF(AU332=AL299,AL298,\"\"))","v":""},{"$f":"IF(AV332=\"\",\"\",IF(AV332=AM299,AM298,\"\"))","v":""},{"$f":"IF(AW332=\"\",\"\",IF(AW332=AN299,AN298,\"\"))","v":""},{"$f":"IF(AX332=\"\",\"\",IF(AX332=AO299,AO298,\"\"))","v":""},{"$f":"IF(AY332=\"\",\"\",IF(AY332=AP299,AP298,\"\"))","v":""},{"$f":"IF(AZ332=\"\",\"\",IF(AZ332=AQ299,AQ298,\"\"))","v":""},{"$f":"IF(BA332=\"\",\"\",IF(BA332=AR299,AR298,\"\"))","v":""},{"$f":"IF(BB332=\"\",\"\",IF(BB332=AS299,AS298,\"\"))","v":""},{"$f":"IF(BC332=\"\",\"\",IF(BC332=AT299,AT298,\"\"))","v":""},null,null,null,null,null,null,18,{"$f":"BK330","v":0},0]
[null,null,null,26,"",{"$f":"AF305","v":""},"","",null,19,"",{"$f":"AF312","v":""},"","",null,{"$f":"IF(G299=$P316,\"\",IF(G299=$J309,\"\",IF(G299=$G300,\"\",G299)))","v":""},{"$f":"IF(H299=$P316,\"\",IF(H299=$J309,\"\",IF(H299=$G300,\"\",H299)))","v":""},{"$f":"IF(I299=$P316,\"\",IF(I299=$J309,\"\",IF(I299=$G300,\"\",I299)))","v":""},{"$f":"IF(J299=$P316,\"\",IF(J299=$J309,\"\",IF(J299=$G300,\"\",J299)))","v":""},{"$f":"IF(K299=$P316,\"\",IF(K299=$J309,\"\",IF(K299=$G300,\"\",K299)))","v":""},{"$f":"IF(L299=$P316,\"\",IF(L299=$J309,\"\",IF(L299=$G300,\"\",L299)))","v":""},{"$f":"IF(M299=$P316,\"\",IF(M299=$J309,\"\",IF(M299=$G300,\"\",M299)))","v":""},{"$f":"IF(N299=$P316,\"\",IF(N299=$J309,\"\",IF(N299=$G300,\"\",N299)))","v":""},{"$f":"IF(O299=$P316,\"\",IF(O299=$J309,\"\",IF(O299=$G300,\"\",O299)))","v":""},{"$f":"IF(P299=$P316,\"\",IF(P299=$J309,\"\",IF(P299=$G300,\"\",P299)))","v":""},{"$f":"IF(Q299=$P316,\"\",IF(Q299=$J309,\"\",IF(Q299=$G300,\"\",Q299)))","v":""},{"$f":"IF(R299=$P316,\"\",IF(R299=$J309,\"\",IF(R299=$G300,\"\",R299)))","v":""},{"$f":"IF(S299=$P316,\"\",IF(S299=$J309,\"\",IF(S299=$G300,\"\",S299)))","v":""},{"$f":"IF(T299=$P316,\"\",IF(T299=$J309,\"\",IF(T299=$G300,\"\",T299)))","v":""},{"$f":"IF(U299=$P316,\"\",IF(U299=$J309,\"\",IF(U299=$G300,\"\",U299)))","v":""},{"$f":"IF(V299=$P316,\"\",IF(V299=$J309,\"\",IF(V299=$G300,\"\",V299)))","v":""},{"$f":"IF(W299=$P316,\"\",IF(W299=$J309,\"\",IF(W299=$G300,\"\",W299)))","v":""},{"$f":"IF(X299=$P316,\"\",IF(X299=$J309,\"\",IF(X299=$G300,\"\",X299)))","v":""},{"$f":"IF(Y299=$P316,\"\",IF(Y299=$J309,\"\",IF(Y299=$G300,\"\",Y299)))","v":""},{"$f":"IF(Z299=$P316,\"\",IF(Z299=$J309,\"\",IF(Z299=$G300,\"\",Z299)))","v":""},{"$f":"IF(AA299=$P316,\"\",IF(AA299=$J309,\"\",IF(AA299=$G300,\"\",AA299)))","v":""},{"$f":"IF(AB299=$P316,\"\",IF(AB299=$J309,\"\",IF(AB299=$G300,\"\",AB299)))","v":""},{"$f":"IF(AC299=$P316,\"\",IF(AC299=$J309,\"\",IF(AC299=$G300,\"\",AC299)))","v":""},{"$f":"IF(AD299=$P316,\"\",IF(AD299=$J309,\"\",IF(AD299=$G300,\"\",AD299)))","v":""},{"$f":"IF(AE299=$P316,\"\",IF(AE299=$J309,\"\",IF(AE299=$G300,\"\",AE299)))","v":""},{"$f":"IF(AF299=$P316,\"\",IF(AF299=$J309,\"\",IF(AF299=$G300,\"\",AF299)))","v":""},{"$f":"IF(AG299=$P316,\"\",IF(AG299=$J309,\"\",IF(AG299=$G300,\"\",AG299)))","v":""},{"$f":"IF(AH299=$P316,\"\",IF(AH299=$J309,\"\",IF(AH299=$G300,\"\",AH299)))","v":""},{"$f":"IF(AI299=$P316,\"\",IF(AI299=$J309,\"\",IF(AI299=$G300,\"\",AI299)))","v":""},{"$f":"IF(AJ299=$P316,\"\",IF(AJ299=$J309,\"\",IF(AJ299=$G300,\"\",AJ299)))","v":""},{"$f":"IF(AK299=$P316,\"\",IF(AK299=$J309,\"\",IF(AK299=$G300,\"\",AK299)))","v":""},{"$f":"IF(AL299=$P316,\"\",IF(AL299=$J309,\"\",IF(AL299=$G300,\"\",AL299)))","v":""},{"$f":"IF(AM299=$P316,\"\",IF(AM299=$J309,\"\",IF(AM299=$G300,\"\",AM299)))","v":""},{"$f":"IF(AN299=$P316,\"\",IF(AN299=$J309,\"\",IF(AN299=$G300,\"\",AN299)))","v":""},{"$f":"IF(AO299=$P316,\"\",IF(AO299=$J309,\"\",IF(AO299=$G300,\"\",AO299)))","v":""},{"$f":"IF(AP299=$P316,\"\",IF(AP299=$J309,\"\",IF(AP299=$G300,\"\",AP299)))","v":""},{"$f":"IF(AQ299=$P316,\"\",IF(AQ299=$J309,\"\",IF(AQ299=$G300,\"\",AQ299)))","v":""},{"$f":"IF(AR299=$P316,\"\",IF(AR299=$J309,\"\",IF(AR299=$G300,\"\",AR299)))","v":""},{"$f":"IF(AS299=$P316,\"\",IF(AS299=$J309,\"\",IF(AS299=$G300,\"\",AS299)))","v":""},{"$f":"IF(AT299=$P316,\"\",IF(AT299=$J309,\"\",IF(AT299=$G300,\"\",AT299)))","v":""},null,null,null,null,null,null,19,{"$f":"BK331","v":0},0]
[null,null,null,27,"",{"$f":"AG305","v":""},"","",null,20,"",{"$f":"AG312","v":""},"","",null,null,null,null,null,null,null,null,null,null,null,null,null,null,null,null,null,null,null,null,null,null,null,null,null,null,null,null,null,null,null,null,null,null,null,null,null,null,null,null,null,null,null,null,null,null,null,20,{"$f":"BK332","v":0},0]
[null,null,null,28,"",{"$f":"AH305","v":""},"","",null,21,{"$f":"IF(L334<>\"\",BK334+BL334+L334,\"\")","v":""},{"$f":"AH312","v":""},"","",null,null,null,null,null,null,null,null,null,null,null,null,null,null,null,null,null,null,null,null,null,null,null,null,null,null,null,null,null,null,null,null,null,null,null,null,null,null,null,null,null,null,null,null,null,null,null,21,{"$f":"BK333","v":0},0]
[null,null,null,29,"",{"$f":"AI305","v":""},"","",null,22,"",{"$f":"AI312","v":""},"","",null,null,null,null,null,null,null,null,null,null,null,null,null,null,null,null,null,null,null,null,null,null,null,null,null,null,null,null,null,null,null,null,null,null,null,null,null,null,null,null,null,null,null,null,null,null,null,22,{"$f":"BK334","v":0},0]
[null,null,null,30,"",{"$f":"AJ305","v":""},"","",null,23,"",{"$f":"AJ312","v":""},"","",null,null,null,null,null,null,null,null,null,null,null,null,null,null,null,null,null,null,null,null,null,null,null,null,null,null,null,null,null,null,null,null,null,null,null,null,null,null,null,null,null,null,null,null,null,null,null,23,{"$f":"BK335","v":0},0]
[null,null,null,31,"",{"$f":"AK305","v":""},"","",null,24,"",{"$f":"AK312","v":""},"","",null,null,null,null,null,null,null,null,null,null,null,null,null,null,null,null,null,null,null,null,null,null,null,null,null,null,null,null,null,null,null,null,null,null,null,null,null,null,null,null,null,null,null,null,null,null,null,24,{"$f":"BK336","v":0},0]
[null,null,null,32,"",{"$f":"AL305","v":""},"","",null,25,"",{"$f":"AL312","v":""},"","",null,null,null,null,null,null,null,null,null,null,null,null,null,null,null,null,null,null,null,null,null,null,null,null,null,null,null,null,null,null,null,null,null,null,null,null,null,null,null,null,null,null,null,null,null,null,null,25,{"$f":"BK337","v":0},0]
[null,null,null,33,"",{"$f":"AM305","v":""},"","",null,26,"",{"$f":"AM312","v":""},"","",null,null,null,null,null,null,null,null,null,null,null,null,null,null,null,null,null,null,null,null,null,null,null,null,null,null,null,null,null,null,null,null,null,null,null,null,null,null,null,null,null,null,null,null,null,null,null,26,{"$f":"BK338","v":0},0]
[null,null,null,34,"",{"$f":"AN305","v":""},"","",null,27,"",{"$f":"AN312","v":""},"","",null,null,null,null,null,null,null,null,null,null,null,null,null,null,null,null,null,null,null,null,null,null,null,null,null,null,null,null,null,null,null,null,null,null,null,null,null,null,null,null,null,null,null,null,null,null,null,27,{"$f":"BK339","v":0},0]
[null,null,null,35,"",{"$f":"AO305","v":""},"","",null,28,"",{"$f":"AO312","v":""},"","",null,null,null,null,null,null,null,null,null,null,null,null,null,null,null,null,null,null,null,null,null,null,null,null,null,null,null,null,null,null,null,null,null,null,null,null,null,null,null,null,null,null,null,null,null,null,null,28,{"$f":"BK340","v":0},0]
[null,null,null,36,"",{"$f":"AP305","v":""},"","",null,29,"",{"$f":"AP312","v":""},"","",null,null,null,null,null,null,null,null,null,null,null,null,null,null,null,null,null,null,null,null,null,null,null,null,null,null,null,null,null,null,null,null,null,null,null,null,null,null,null,null,null,null,null,null,null,null,null,29,{"$f":"BK341","v":0},0]
[null,null,null,37,"",{"$f":"AQ305","v":""},"","",null,30,"",{"$f":"AQ312","v":""},"","",null,null,null,null,null,null,null,null,null,null,null,null,null,null,null,null,null,null,null,null,null,null,null,null,null,null,null,null,null,null,null,null,null,null,null,null,null,null,null,null,null,null,null,null,null,null,null,30,{"$f":"BK342","v":0},0]
[null,null,null,38,"",{"$f":"AR305","v":""},"","",null,31,"",{"$f":"AR312","v":""},"","",null,null,null,null,null,null,null,null,null,null,null,null,null,null,null,null,null,null,null,null,null,null,null,null,null,null,null,null,null,null,null,null,null,null,null,null,null,null,null,null,null,null,null,null,null,null,null,31,{"$f":"BK343","v":0},0]
[null,null,null,39,"",{"$f":"AS305","v":""},"","",null,32,"",{"$f":"AS312","v":""},"","",null,null,null,null,null,null,null,null,null,null,null,null,null,null,null,null,null,null,null,null,null,null,null,null,null,null,null,null,null,null,null,null,null,null,null,null,null,null,null,null,null,null,null,null,null,null,null,32,{"$f":"BK344","v":0},0]
[null,null,null,40,"",{"$f":"AT305","v":""},"","",null,33,"",{"$f":"AT312","v":""},"","",null,null,null,null,null,null,null,null,null,null,null,null,null,null,null,null,null,null,null,null,null,null,null,null,null,null,null,null,null,null,null,null,null,null,null,null,null,null,null,null,null,null,null,null,null,null,null,33,{"$f":"BK345","v":0},0]
[null,null,null,null,null,null,null,null,null,34,"",{"$f":"AU312","v":""},"","",null,null,null,null,null,null,null,null,null,null,null,null,null,null,null,null,null,null,null,null,null,null,null,null,null,null,null,null,null,null,null,null,null,null,null,null,null,null,null,null,null,null,null,null,null,null,null,34,{"$f":"BK346","v":0},0]
[null,null,null,null,null,null,null,null,null,35,"",{"$f":"AV312","v":""},"","",null,null,null,null,null,null,null,null,null,null,null,null,null,null,null,null,null,null,null,null,null,null,null,null,null,null,null,null,null,null,null,null,null,null,null,null,null,null,null,null,null,null,null,null,null,null,null,35,{"$f":"BK347","v":0},0]
[null,null,null,null,null,null,null,null,null,36,"",{"$f":"AW312","v":""},"","",null,null,null,null,null,null,null,null,null,null,null,null,null,null,null,null,null,null,null,null,null,null,null,null,null,null,null,null,null,null,null,null,null,null,null,null,null,null,null,null,null,null,null,null,null,null,null,36,{"$f":"BK348","v":0},0]
[null,null,null,null,null,null,null,null,null,37,"",{"$f":"AX312","v":""},"","",null,null,null,null,null,null,null,null,null,null,null,null,null,null,null,null,null,null,null,null,null,null,null,null,null,null,null,null,null,null,null,null,null,null,null,null,null,null,null,null,null,null,null,null,null,null,null,37,{"$f":"BK349","v":0},0]
[null,null,null,null,null,null,null,null,null,38,"",{"$f":"AY312","v":""},"","",null,null,null,null,null,null,null,null,null,null,null,null,null,null,null,null,null,null,null,null,null,null,null,null,null,null,null,null,null,null,null,null,null,null,null,null,null,null,null,null,null,null,null,null,null,null,null,38,{"$f":"BK350","v":0},0]
[null,null,null,null,null,null,null,null,null,39,"",{"$f":"AZ312","v":""},"","",null,null,null,null,null,null,null,null,null,null,null,null,null,null,null,null,null,null,null,null,null,null,null,null,null,null,null,null,null,null,null,null,null,null,null,null,null,null,null,null,null,null,null,null,null,null,null,39,{"$f":"BK351","v":0},0]
[null,null,null,null,null,null,null,null,null,40,"",{"$f":"BA312","v":""},"","",null,null,null,null,null,null,null,null,null,null,null,null,null,null,null,null,null,null,null,null,null,null,null,null,null,null,null,null,null,null,null,null,null,null,null,null,null,null,null,null,null,null,null,null,null,null,null,40,{"$f":"BK352","v":0},0]
[]
[]
[null,null,null,null,null,null,1,2,3,4,5,6,7,8,9,10,11,12,13,14,15,16,17,18,19,20,21,22,23,24,25,26,27,28,29,30,31,32,33,34,35,36,37,38,39,40,null,null,null,null,null,null,null,null,null,null,null,null,null,null,null,"BLOCCHI CHE POSSONO ESSERE CARICATI IN COPPIA O A TRE PERCHE' IL LORO PESO COMPLESSIVO NON SUPERA IL PESO MASSIMO CONSENTITO NEL TRASPORTO"]
[null,null,"TIR",null,{"$f":"E298+1","v":6},null,{"$f":"P331","v":""},{"$f":"Q331","v":""},{"$f":"R331","v":""},{"$f":"S331","v":""},{"$f":"T331","v":""},{"$f":"U331","v":""},{"$f":"V331","v":""},{"$f":"W331","v":""},{"$f":"X331","v":""},{"$f":"Y331","v":""},{"$f":"Z331","v":""},{"$f":"AA331","v":""},{"$f":"AB331","v":""},{"$f":"AC331","v":""},{"$f":"AD331","v":""},{"$f":"AE331","v":""},{"$f":"AF331","v":""},{"$f":"AG331","v":""},{"$f":"AH331","v":""},{"$f":"AI331","v":""},{"$f":"AJ331","v":""},{"$f":"AK331","v":""},{"$f":"AL331","v":""},{"$f":"AM331","v":""},{"$f":"AN331","v":""},{"$f":"AO331","v":""},{"$f":"AP331","v":""},{"$f":"AQ331","v":""},{"$f":"AR331","v":""},{"$f":"AS331","v":""},{"$f":"AT331","v":""},{"$f":"AU331","v":""},{"$f":"AV331","v":""},{"$f":"AW331","v":""},{"$f":"AX331","v":""},{"$f":"AY331","v":""},{"$f":"AZ331","v":""},{"$f":"BA331","v":""},{"$f":"BB331","v":""},{"$f":"BC331","v":""}]
[null,null,null,null,null,null,{"$f":"P332","v":""},"","","","","","","","","","","","","","","","","","","","","","","","","","","","","","","","","","","","","","",""]
[null,null,"MASSIMO PESO",null,null,null,{"$f":"MAX(G358:AT358)","v":0}]
[null,null,null,null,null,null,{"$f":"IF(G358=$G359,G357,\"\")","v":""},{"$f":"IF(H358=$G359,H357,\"\")","v":""},{"$f":"IF(I358=$G359,I357,\"\")","v":""},{"$f":"IF(J358=$G359,J357,\"\")","v":""},{"$f":"IF(K358=$G359,K357,\"\")","v":""},{"$f":"IF(L358=$G359,L357,\"\")","v":""},{"$f":"IF(M358=$G359,M357,\"\")","v":""},{"$f":"IF(N358=$G359,N357,\"\")","v":""},{"$f":"IF(O358=$G359,O357,\"\")","v":""},{"$f":"IF(P358=$G359,P357,\"\")","v":""},{"$f":"IF(Q358=$G359,Q357,\"\")","v":""},{"$f":"IF(R358=$G359,R357,\"\")","v":""},{"$f":"IF(S358=$G359,S357,\"\")","v":""},{"$f":"IF(T358=$G359,T357,\"\")","v":""},{"$f":"IF(U358=$G359,U357,\"\")","v":""},{"$f":"IF(V358=$G359,V357,\"\")","v":""},{"$f":"IF(W358=$G359,W357,\"\")","v":""},{"$f":"IF(X358=$G359,X357,\"\")","v":""},{"$f":"IF(Y358=$G359,Y357,\"\")","v":""},{"$f":"IF(Z358=$G359,Z357,\"\")","v":""},{"$f":"IF(AA358=$G359,AA357,\"\")","v":""},{"$f":"IF(AB358=$G359,AB357,\"\")","v":""},{"$f":"IF(AC358=$G359,AC357,\"\")","v":""},{"$f":"IF(AD358=$G359,AD357,\"\")","v":""},{"$f":"IF(AE358=$G359,AE357,\"\")","v":""},{"$f":"IF(AF358=$G359,AF357,\"\")","v":""},{"$f":"IF(AG358=$G359,AG357,\"\")","v":""},{"$f":"IF(AH358=$G359,AH357,\"\")","v":""},{"$f":"IF(AI358=$G359,AI357,\"\")","v":""},{"$f":"IF(AJ358=$G359,AJ357,\"\")","v":""},{"$f":"IF(AK358=$G359,AK357,\"\")","v":""},{"$f":"IF(AL358=$G359,AL357,\"\")","v":""},{"$f":"IF(AM358=$G359,AM357,\"\")","v":""},{"$f":"IF(AN358=$G359,AN357,\"\")","v":""},{"$f":"IF(AO358=$G359,AO357,\"\")","v":""},{"$f":"IF(AP358=$G359,AP357,\"\")","v":""},{"$f":"IF(AQ358=$G359,AQ357,\"\")","v":""},{"$f":"IF(AR358=$G359,AR357,\"\")","v":""},{"$f":"IF(AS358=$G359,AS357,\"\")","v":""},{"$f":"IF(AT358=$G359,AT357,\"\")","v":""}]
[null,null,null,null,null,null,{"$f":"G360&H360&I360&J360&K360&L360&M360&N360&O360&P360&Q360&R360&S360&T360&U360&V360&W360&X360&Y360&Z360&AA360&AB360&AC360&AD360&AE360&AF360&AG360&AH360&AI360&AJ360&AK360&AL360&AM360&AN360&AO360&AP360&AQ360&AR360&AS360&AT360","v":""},null,null,null,null,null,null,null,null,null,null,null,null,null,null,null,null,null,null,null,null,null,null,null,null,null,null,null,null,null,null,null,null,null,null,null,null,null,null,null,null,null,null,null,null,null,null,null,null,null,null,null,null,null,null,null,null,null,null,null,null,null,null,null,null,null,null,null,"Primo Blocco",null,null,null,null,null,{"$f":"G361","v":""},{"$f":"CC362+CC367+CC372","v":0},null,"Quintali",null,"N° Blocco"]
[null,null,null,null,null,null,{"$f":"G359","v":0},null,null,null,null,null,null,null,null,null,null,null,null,null,null,null,null,null,null,null,null,null,null,null,null,null,null,null,null,null,null,null,null,null,null,null,null,null,null,null,null,null,null,null,null,null,null,null,null,null,null,null,null,null,null,null,null,null,null,null,null,null,null,null,null,null,null,null,null,null,null,null,null,null,{"$f":"G359","v":0},null,null,{"$f":"IF(CC362=0,\"\",CC362)","v":""},null,{"$f":"IF(CF362=\"\",\"\",CC361)","v":""}]
[null,null,null,null,null,null,{"$f":"IF(G364=\"\",\"\",IF(G364=G358,G357,\"\"))","v":""},{"$f":"IF(H364=\"\",\"\",IF(H364=H358,H357,\"\"))","v":""},{"$f":"IF(I364=\"\",\"\",IF(I364=I358,I357,\"\"))","v":""},{"$f":"IF(J364=\"\",\"\",IF(J364=J358,J357,\"\"))","v":""},{"$f":"IF(K364=\"\",\"\",IF(K364=K358,K357,\"\"))","v":""},{"$f":"IF(L364=\"\",\"\",IF(L364=L358,L357,\"\"))","v":""},{"$f":"IF(M364=\"\",\"\",IF(M364=M358,M357,\"\"))","v":""},{"$f":"IF(N364=\"\",\"\",IF(N364=N358,N357,\"\"))","v":""},{"$f":"IF(O364=\"\",\"\",IF(O364=O358,O357,\"\"))","v":""},{"$f":"IF(P364=\"\",\"\",IF(P364=P358,P357,\"\"))","v":""},{"$f":"IF(Q364=\"\",\"\",IF(Q364=Q358,Q357,\"\"))","v":""},{"$f":"IF(R364=\"\",\"\",IF(R364=R358,R357,\"\"))","v":""},{"$f":"IF(S364=\"\",\"\",IF(S364=S358,S357,\"\"))","v":""},{"$f":"IF(T364=\"\",\"\",IF(T364=T358,T357,\"\"))","v":""},{"$f":"IF(U364=\"\",\"\",IF(U364=U358,U357,\"\"))","v":""},{"$f":"IF(V364=\"\",\"\",IF(V364=V358,V357,\"\"))","v":""},{"$f":"IF(W364=\"\",\"\",IF(W364=W358,W357,\"\"))","v":""},{"$f":"IF(X364=\"\",\"\",IF(X364=X358,X357,\"\"))","v":""},{"$f":"IF(Y364=\"\",\"\",IF(Y364=Y358,Y357,\"\"))","v":""},{"$f":"IF(Z364=\"\",\"\",IF(Z364=Z358,Z357,\"\"))","v":""},{"$f":"IF(AA364=\"\",\"\",IF(AA364=AA358,AA357,\"\"))","v":""},{"$f":"IF(AB364=\"\",\"\",IF(AB364=AB358,AB357,\"\"))","v":""},{"$f":"IF(AC364=\"\",\"\",IF(AC364=AC358,AC357,\"\"))","v":""},{"$f":"IF(AD364=\"\",\"\",IF(AD364=AD358,AD357,\"\"))","v":""},{"$f":"IF(AE364=\"\",\"\",IF(AE364=AE358,AE357,\"\"))","v":""},{"$f":"IF(AF364=\"\",\"\",IF(AF364=AF358,AF357,\"\"))","v":""},{"$f":"IF(AG364=\"\",\"\",IF(AG364=AG358,AG357,\"\"))","v":""},{"$f":"IF(AH364=\"\",\"\",IF(AH364=AH358,AH357,\"\"))","v":""},{"$f":"IF(AI364=\"\",\"\",IF(AI364=AI358,AI357,\"\"))","v":""},{"$f":"IF(AJ364=\"\",\"\",IF(AJ364=AJ358,AJ357,\"\"))","v":""},{"$f":"IF(AK364=\"\",\"\",IF(AK364=AK358,AK357,\"\"))","v":""},{"$f":"IF(AL364=\"\",\"\",IF(AL364=AL358,AL357,\"\"))","v":""},{"$f":"IF(AM364=\"\",\"\",IF(AM364=AM358,AM357,\"\"))","v":""},{"$f":"IF(AN364=\"\",\"\",IF(AN364=AN358,AN357,\"\"))","v":""},{"$f":"IF(AO364=\"\",\"\",IF(AO364=AO358,AO357,\"\"))","v":""},{"$f":"IF(AP364=\"\",\"\",IF(AP364=AP358,AP357,\"\"))","v":""},{"$f":"IF(AQ364=\"\",\"\",IF(AQ364=AQ358,AQ357,\"\"))","v":""},{"$f":"IF(AR364=\"\",\"\",IF(AR364=AR358,AR357,\"\"))","v":""},{"$f":"IF(AS364=\"\",\"\",IF(AS364=AS358,AS357,\"\"))","v":""},{"$f":"IF(AT364=\"\",\"\",IF(AT364=AT358,AT357,\"\"))","v":""},null,null,null,null,null,null,null,null,null,null,null,null,null,null,null,null,null,null,null,null,null,null,null,null,null,null,null,null,null,null,null,null,null,null,null,null,null,{"$f":"IF(CC367=0,\"\",CC367)","v":""},null,{"$f":"IF(CF363=\"\",\"\",CC366)","v":""}]
[null,null,"DISPONIBILI",null,null,null,{"$f":"IF(G358=$G359,\"\",G358)","v":""},{"$f":"IF(H358=$G359,\"\",H358)","v":""},{"$f":"IF(I358=$G359,\"\",I358)","v":""},{"$f":"IF(J358=$G359,\"\",J358)","v":""},{"$f":"IF(K358=$G359,\"\",K358)","v":""},{"$f":"IF(L358=$G359,\"\",L358)","v":""},{"$f":"IF(M358=$G359,\"\",M358)","v":""},{"$f":"IF(N358=$G359,\"\",N358)","v":""},{"$f":"IF(O358=$G359,\"\",O358)","v":""},{"$f":"IF(P358=$G359,\"\",P358)","v":""},{"$f":"IF(Q358=$G359,\"\",Q358)","v":""},{"$f":"IF(R358=$G359,\"\",R358)","v":""},{"$f":"IF(S358=$G359,\"\",S358)","v":""},{"$f":"IF(T358=$G359,\"\",T358)","v":""},{"$f":"IF(U358=$G359,\"\",U358)","v":""},{"$f":"IF(V358=$G359,\"\",V358)","v":""},{"$f":"IF(W358=$G359,\"\",W358)","v":""},{"$f":"IF(X358=$G359,\"\",X358)","v":""},{"$f":"IF(Y358=$G359,\"\",Y358)","v":""},{"$f":"IF(Z358=$G359,\"\",Z358)","v":""},{"$f":"IF(AA358=$G359,\"\",AA358)","v":""},{"$f":"IF(AB358=$G359,\"\",AB358)","v":""},{"$f":"IF(AC358=$G359,\"\",AC358)","v":""},{"$f":"IF(AD358=$G359,\"\",AD358)","v":""},{"$f":"IF(AE358=$G359,\"\",AE358)","v":""},{"$f":"IF(AF358=$G359,\"\",AF358)","v":""},{"$f":"IF(AG358=$G359,\"\",AG358)","v":""},{"$f":"IF(AH358=$G359,\"\",AH358)","v":""},{"$f":"IF(AI358=$G359,\"\",AI358)","v":""},{"$f":"IF(AJ358=$G359,\"\",AJ358)","v":""},{"$f":"IF(AK358=$G359,\"\",AK358)","v":""},{"$f":"IF(AL358=$G359,\"\",AL358)","v":""},{"$f":"IF(AM358=$G359,\"\",AM358)","v":""},{"$f":"IF(AN358=$G359,\"\",AN358)","v":""},{"$f":"IF(AO358=$G359,\"\",AO358)","v":""},{"$f":"IF(AP358=$G359,\"\",AP358)","v":""},{"$f":"IF(AQ358=$G359,\"\",AQ358)","v":""},{"$f":"IF(AR358=$G359,\"\",AR358)","v":""},{"$f":"IF(AS358=$G359,\"\",AS358)","v":""},{"$f":"IF(AT358=$G359,\"\",AT358)","v":""},null,null,null,null,null,null,null,null,null,null,null,null,null,null,null,null,null,null,null,null,null,null,null,null,null,null,null,null,null,null,null,null,null,null,null,null,null,{"$f":"IF(CC372=0,\"\",CC372)","v":""},null,{"$f":"IF(CF364=\"\",\"\",CC371)","v":""}]
[null,null,null,null,null,null,null,null,null,null,null,null,null,null,null,null,null,null,null,null,null,null,null,null,null,null,null,null,null,null,null,null,null,null,null,null,null,null,null,null,null,null,null,null,null,null,null,null,null,null,null,null,null,null,null,null,null,null,null,null,null,null,null,null,null,null,null,null,null,null,null,null,null,null,null,null,null,null,null,null,null,null,null,"NUMERO TIR"]
[null,null,"Portata                Max.               TIR",1,{"$f":"IF(F366<>\"\",F366+G$126,\"\")","v":""},{"$f":"G364","v":""},{"$f":"IF(F366=\"\",\"\",IF(E366<=$C$74,\"X\",\"\"))","v":""},{"$f":"IF(G366=\"X\",F366,\"\")","v":""},{"$f":"MAX(H366:H405)","v":0},{"$f":"IF(J367=G364,G363,\"\")","v":""},{"$f":"IF(K367=H364,H363,\"\")","v":""},{"$f":"IF(L367=I364,I363,\"\")","v":""},{"$f":"IF(M367=J364,J363,\"\")","v":""},{"$f":"IF(N367=K364,K363,\"\")","v":""},{"$f":"IF(O367=L364,L363,\"\")","v":""},{"$f":"IF(P367=M364,M363,\"\")","v":""},{"$f":"IF(Q367=N364,N363,\"\")","v":""},{"$f":"IF(R367=O364,O363,\"\")","v":""},{"$f":"IF(S367=P364,P363,\"\")","v":""},{"$f":"IF(T367=Q364,Q363,\"\")","v":""},{"$f":"IF(U367=R364,R363,\"\")","v":""},{"$f":"IF(V367=S364,S363,\"\")","v":""},{"$f":"IF(W367=T364,T363,\"\")","v":""},{"$f":"IF(X367=U364,U363,\"\")","v":""},{"$f":"IF(Y367=V364,V363,\"\")","v":""},{"$f":"IF(Z367=W364,W363,\"\")","v":""},{"$f":"IF(AA367=X364,X363,\"\")","v":""},{"$f":"IF(AB367=Y364,Y363,\"\")","v":""},{"$f":"IF(AC367=Z364,Z363,\"\")","v":""},{"$f":"IF(AD367=AA364,AA363,\"\")","v":""},{"$f":"IF(AE367=AB364,AB363,\"\")","v":""},{"$f":"IF(AF367=AC364,AC363,\"\")","v":""},{"$f":"IF(AG367=AD364,AD363,\"\")","v":""},{"$f":"IF(AH367=AE364,AE363,\"\")","v":""},{"$f":"IF(AI367=AF364,AF363,\"\")","v":""},{"$f":"IF(AJ367=AG364,AG363,\"\")","v":""},{"$f":"IF(AK367=AH364,AH363,\"\")","v":""},{"$f":"IF(AL367=AI364,AI363,\"\")","v":""},{"$f":"IF(AM367=AJ364,AJ363,\"\")","v":""},{"$f":"IF(AN367=AK364,AK363,\"\")","v":""},{"$f":"IF(AO367=AL364,AL363,\"\")","v":""},{"$f":"IF(AP367=AM364,AM363,\"\")","v":""},{"$f":"IF(AQ367=AN364,AN363,\"\")","v":""},{"$f":"IF(AR367=AO364,AO363,\"\")","v":""},{"$f":"IF(AS367=AP364,AP363,\"\")","v":""},{"$f":"IF(AT367=AQ364,AQ363,\"\")","v":""},{"$f":"IF(AU367=AR364,AR363,\"\")","v":""},{"$f":"IF(AV367=AS364,AS363,\"\")","v":""},{"$f":"IF(AW367=AT364,AT363,\"\")","v":""},null,null,null,null,null,null,null,null,null,null,null,null,null,null,null,null,null,null,null,null,null,null,null,null,null,"Secondo Blocco",null,null,null,null,null,{"$f":"J366&K366&L366&M366&N366&O366&P366&Q366&R366&S366&T366&U366&V366&W366&X366&Y366&Z366&AA366&AB366&AC366&AD366&AE366&AF366&AG366&AH366&AI366&AJ366&AK366&AL366&AM366&AN366&AO366&AP366&AQ366&AR366&AS366&AT366&AU366&AV366&AW366","v":""}]
[null,null,null,2,"",{"$f":"H364","v":""},{"$f":"IF(F367=\"\",\"\",IF(E367<=$C$74,\"X\",\"\"))","v":""},"",null,{"$f":"IF($J368=G364,G364,\"\")","v":""},{"$f":"IF($J368=H364,H364,\"\")","v":""},{"$f":"IF($J368=I364,I364,\"\")","v":""},{"$f":"IF($J368=J364,J364,\"\")","v":""},{"$f":"IF($J368=K364,K364,\"\")","v":""},{"$f":"IF($J368=L364,L364,\"\")","v":""},{"$f":"IF($J368=M364,M364,\"\")","v":""},{"$f":"IF($J368=N364,N364,\"\")","v":""},{"$f":"IF($J368=O364,O364,\"\")","v":""},{"$f":"IF($J368=P364,P364,\"\")","v":""},{"$f":"IF($J368=Q364,Q364,\"\")","v":""},{"$f":"IF($J368=R364,R364,\"\")","v":""},{"$f":"IF($J368=S364,S364,\"\")","v":""},{"$f":"IF($J368=T364,T364,\"\")","v":""},{"$f":"IF($J368=U364,U364,\"\")","v":""},{"$f":"IF($J368=V364,V364,\"\")","v":""},{"$f":"IF($J368=W364,W364,\"\")","v":""},{"$f":"IF($J368=X364,X364,\"\")","v":""},{"$f":"IF($J368=Y364,Y364,\"\")","v":""},{"$f":"IF($J368=Z364,Z364,\"\")","v":""},{"$f":"IF($J368=AA364,AA364,\"\")","v":""},{"$f":"IF($J368=AB364,AB364,\"\")","v":""},{"$f":"IF($J368=AC364,AC364,\"\")","v":""},{"$f":"IF($J368=AD364,AD364,\"\")","v":""},{"$f":"IF($J368=AE364,AE364,\"\")","v":""},{"$f":"IF($J368=AF364,AF364,\"\")","v":""},{"$f":"IF($J368=AG364,AG364,\"\")","v":""},{"$f":"IF($J368=AH364,AH364,\"\")","v":""},{"$f":"IF($J368=AI364,AI364,\"\")","v":""},{"$f":"IF($J368=AJ364,AJ364,\"\")","v":""},{"$f":"IF($J368=AK364,AK364,\"\")","v":""},{"$f":"IF($J368=AL364,AL364,\"\")","v":""},{"$f":"IF($J368=AM364,AM364,\"\")","v":""},{"$f":"IF($J368=AN364,AN364,\"\")","v":""},{"$f":"IF($J368=AO364,AO364,\"\")","v":""},{"$f":"IF($J368=AP364,AP364,\"\")","v":""},{"$f":"IF($J368=AQ364,AQ364,\"\")","v":""},{"$f":"IF($J368=AR364,AR364,\"\")","v":""},{"$f":"IF($J368=AS364,AS364,\"\")","v":""},{"$f":"IF($J368=AT364,AT364,\"\")","v":""},null,null,null,null,null,null,null,null,null,null,null,null,null,null,null,null,null,null,null,null,null,null,null,null,null,null,null,null,null,null,null,{"$f":"J368","v":0}]
[null,null,null,3,"",{"$f":"I364","v":""},"","",null,{"$f":"I366","v":0}]
[null,null,{"$f":"$P$3","v":200},4,"",{"$f":"J364","v":""},"","",null,null,null,null,null,null,null,null,null,null,null,null,null,null,null,null,null,null,null,null,null,null,null,null,null,null,null,null,null,null,null,null,null,null,null,null,null,null,null,null,null,null,null,null,null,null,null,null,null,null,null,null,null,null,null,null,null,null,null,null,null,null,null,null,null,null,null,null,null,null,null,null,null,null,null,{"$f":"IF(CD361>0,CF310+1,\"\")","v":""}]
[null,null,null,5,"",{"$f":"K364","v":""},"","",null,null,null,null,null,{"$f":"IF(N371=G364,G363,\"\")","v":""},{"$f":"IF(O371=H364,H363,\"\")","v":""},{"$f":"IF(P371=I364,I363,\"\")","v":""},{"$f":"IF(Q371=J364,J363,\"\")","v":""},{"$f":"IF(R371=K364,K363,\"\")","v":""},{"$f":"IF(S371=L364,L363,\"\")","v":""},{"$f":"IF(T371=M364,M363,\"\")","v":""},{"$f":"IF(U371=N364,N363,\"\")","v":""},{"$f":"IF(V371=O364,O363,\"\")","v":""},{"$f":"IF(W371=P364,P363,\"\")","v":""},{"$f":"IF(X371=Q364,Q363,\"\")","v":""},{"$f":"IF(Y371=R364,R363,\"\")","v":""},{"$f":"IF(Z371=S364,S363,\"\")","v":""},{"$f":"IF(AA371=T364,T363,\"\")","v":""},{"$f":"IF(AB371=U364,U363,\"\")","v":""},{"$f":"IF(AC371=V364,V363,\"\")","v":""},{"$f":"IF(AD371=W364,W363,\"\")","v":""},{"$f":"IF(AE371=X364,X363,\"\")","v":""},{"$f":"IF(AF371=Y364,Y363,\"\")","v":""},{"$f":"IF(AG371=Z364,Z363,\"\")","v":""},{"$f":"IF(AH371=AA364,AA363,\"\")","v":""},{"$f":"IF(AI371=AB364,AB363,\"\")","v":""},{"$f":"IF(AJ371=AC364,AC363,\"\")","v":""},{"$f":"IF(AK371=AD364,AD363,\"\")","v":""},{"$f":"IF(AL371=AE364,AE363,\"\")","v":""},{"$f":"IF(AM371=AF364,AF363,\"\")","v":""},{"$f":"IF(AN371=AG364,AG363,\"\")","v":""},{"$f":"IF(AO371=AH364,AH363,\"\")","v":""},{"$f":"IF(AP371=AI364,AI363,\"\")","v":""},{"$f":"IF(AQ371=AJ364,AJ363,\"\")","v":""},{"$f":"IF(AR371=AK364,AK363,\"\")","v":""},{"$f":"IF(AS371=AL364,AL363,\"\")","v":""},{"$f":"IF(AT371=AM364,AM363,\"\")","v":""},{"$f":"IF(AU371=AN364,AN363,\"\")","v":""},{"$f":"IF(AV371=AO364,AO363,\"\")","v":""},{"$f":"IF(AW371=AP364,AP363,\"\")","v":""},{"$f":"IF(AX371=AQ364,AQ363,\"\")","v":""},{"$f":"IF(AY371=AR364,AR363,\"\")","v":""},{"$f":"IF(AZ371=AS364,AS363,\"\")","v":""},{"$f":"IF(BA371=AT364,AT363,\"\")","v":""}]
[null,null,null,6,"",{"$f":"L364","v":""},"","",null,"DISPONIBILI",null,null,null,{"$f":"IF(G364=\"\",\"\",IF(G364=J367,\"\",G364))","v":""},{"$f":"IF(H364=\"\",\"\",IF(H364=K367,\"\",H364))","v":""},{"$f":"IF(I364=\"\",\"\",IF(I364=L367,\"\",I364))","v":""},{"$f":"IF(J364=\"\",\"\",IF(J364=M367,\"\",J364))","v":""},{"$f":"IF(K364=\"\",\"\",IF(K364=N367,\"\",K364))","v":""},{"$f":"IF(L364=\"\",\"\",IF(L364=O367,\"\",L364))","v":""},{"$f":"IF(M364=\"\",\"\",IF(M364=P367,\"\",M364))","v":""},{"$f":"IF(N364=\"\",\"\",IF(N364=Q367,\"\",N364))","v":""},{"$f":"IF(O364=\"\",\"\",IF(O364=R367,\"\",O364))","v":""},{"$f":"IF(P364=\"\",\"\",IF(P364=S367,\"\",P364))","v":""},{"$f":"IF(Q364=\"\",\"\",IF(Q364=T367,\"\",Q364))","v":""},{"$f":"IF(R364=\"\",\"\",IF(R364=U367,\"\",R364))","v":""},{"$f":"IF(S364=\"\",\"\",IF(S364=V367,\"\",S364))","v":""},{"$f":"IF(T364=\"\",\"\",IF(T364=W367,\"\",T364))","v":""},{"$f":"IF(U364=\"\",\"\",IF(U364=X367,\"\",U364))","v":""},{"$f":"IF(V364=\"\",\"\",IF(V364=Y367,\"\",V364))","v":""},{"$f":"IF(W364=\"\",\"\",IF(W364=Z367,\"\",W364))","v":""},{"$f":"IF(X364=\"\",\"\",IF(X364=AA367,\"\",X364))","v":""},{"$f":"IF(Y364=\"\",\"\",IF(Y364=AB367,\"\",Y364))","v":""},{"$f":"IF(Z364=\"\",\"\",IF(Z364=AC367,\"\",Z364))","v":""},{"$f":"IF(AA364=\"\",\"\",IF(AA364=AD367,\"\",AA364))","v":""},{"$f":"IF(AB364=\"\",\"\",IF(AB364=AE367,\"\",AB364))","v":""},{"$f":"IF(AC364=\"\",\"\",IF(AC364=AF367,\"\",AC364))","v":""},{"$f":"IF(AD364=\"\",\"\",IF(AD364=AG367,\"\",AD364))","v":""},{"$f":"IF(AE364=\"\",\"\",IF(AE364=AH367,\"\",AE364))","v":""},{"$f":"IF(AF364=\"\",\"\",IF(AF364=AI367,\"\",AF364))","v":""},{"$f":"IF(AG364=\"\",\"\",IF(AG364=AJ367,\"\",AG364))","v":""},{"$f":"IF(AH364=\"\",\"\",IF(AH364=AK367,\"\",AH364))","v":""},{"$f":"IF(AI364=\"\",\"\",IF(AI364=AL367,\"\",AI364))","v":""},{"$f":"IF(AJ364=\"\",\"\",IF(AJ364=AM367,\"\",AJ364))","v":""},{"$f":"IF(AK364=\"\",\"\",IF(AK364=AN367,\"\",AK364))","v":""},{"$f":"IF(AL364=\"\",\"\",IF(AL364=AO367,\"\",AL364))","v":""},{"$f":"IF(AM364=\"\",\"\",IF(AM364=AP367,\"\",AM364))","v":""},{"$f":"IF(AN364=\"\",\"\",IF(AN364=AQ367,\"\",AN364))","v":""},{"$f":"IF(AO364=\"\",\"\",IF(AO364=AR367,\"\",AO364))","v":""},{"$f":"IF(AP364=\"\",\"\",IF(AP364=AS367,\"\",AP364))","v":""},{"$f":"IF(AQ364=\"\",\"\",IF(AQ364=AT367,\"\",AQ364))","v":""},{"$f":"IF(AR364=\"\",\"\",IF(AR364=AU367,\"\",AR364))","v":""},{"$f":"IF(AS364=\"\",\"\",IF(AS364=AV367,\"\",AS364))","v":""},{"$f":"IF(AT364=\"\",\"\",IF(AT364=AW367,\"\",AT364))","v":""},null,null,null,null,null,null,null,null,null,null,null,null,null,null,null,null,null,null,null,null,null,"Terzo Blocco",null,null,null,null,null,{"$f":"P373&Q373&R373&S373&T373&U373&V373&W373&X373&Y373&Z373&AA373&AB373&AC373&AD373&AE373&AF373&AG373&AH373&AI373&AJ373&AK373&AL373&AM373&AN373&AO373&AP373&AQ373&AR373&AS373&AT373&AU373&AV373&AW373&AX373&AY373&AZ373&BA373&BB373&BC373","v":""}]
[null,null,null,7,"",{"$f":"M364","v":""},"","",null,null,null,null,null,null,null,null,null,null,null,null,null,null,null,null,null,null,null,null,null,null,null,null,null,null,null,null,null,null,null,null,null,null,null,null,null,null,null,null,null,null,null,null,null,null,null,null,null,null,null,null,null,null,1,2,null,null,null,null,null,null,null,null,null,null,null,null,null,null,null,null,{"$f":"P375","v":0}]
[null,null,null,8,"",{"$f":"N364","v":""},"","",null,1,{"$f":"IF(L373<>\"\",BK373+BL373+L373,\"\")","v":""},{"$f":"N371","v":""},{"$f":"IF(L373=\"\",\"\",IF(K373<=$C$74,\"X\",\"\"))","v":""},{"$f":"IF(M373=\"X\",L373,\"\")","v":""},{"$f":"MAX(N373:N392)","v":0},{"$f":"IF(P374=N371,N370,\"\")","v":""},{"$f":"IF(Q374=O371,O370,\"\")","v":""},{"$f":"IF(R374=P371,P370,\"\")","v":""},{"$f":"IF(S374=Q371,Q370,\"\")","v":""},{"$f":"IF(T374=R371,R370,\"\")","v":""},{"$f":"IF(U374=S371,S370,\"\")","v":""},{"$f":"IF(V374=T371,T370,\"\")","v":""},{"$f":"IF(W374=U371,U370,\"\")","v":""},{"$f":"IF(X374=V371,V370,\"\")","v":""},{"$f":"IF(Y374=W371,W370,\"\")","v":""},{"$f":"IF(Z374=X371,X370,\"\")","v":""},{"$f":"IF(AA374=Y371,Y370,\"\")","v":""},{"$f":"IF(AB374=Z371,Z370,\"\")","v":""},{"$f":"IF(AC374=AA371,AA370,\"\")","v":""},{"$f":"IF(AD374=AB371,AB370,\"\")","v":""},{"$f":"IF(AE374=AC371,AC370,\"\")","v":""},{"$f":"IF(AF374=AD371,AD370,\"\")","v":""},{"$f":"IF(AG374=AE371,AE370,\"\")","v":""},{"$f":"IF(AH374=AF371,AF370,\"\")","v":""},{"$f":"IF(AI374=AG371,AG370,\"\")","v":""},{"$f":"IF(AJ374=AH371,AH370,\"\")","v":""},{"$f":"IF(AK374=AI371,AI370,\"\")","v":""},{"$f":"IF(AL374=AJ371,AJ370,\"\")","v":""},{"$f":"IF(AM374=AK371,AK370,\"\")","v":""},{"$f":"IF(AN374=AL371,AL370,\"\")","v":""},{"$f":"IF(AO374=AM371,AM370,\"\")","v":""},{"$f":"IF(AP374=AN371,AN370,\"\")","v":""},{"$f":"IF(AQ374=AO371,AO370,\"\")","v":""},{"$f":"IF(AR374=AP371,AP370,\"\")","v":""},{"$f":"IF(AS374=AQ371,AQ370,\"\")","v":""},{"$f":"IF(AT374=AR371,AR370,\"\")","v":""},{"$f":"IF(AU374=AS371,AS370,\"\")","v":""},{"$f":"IF(AV374=AT371,AT370,\"\")","v":""},{"$f":"IF(AW374=AU371,AU370,\"\")","v":""},{"$f":"IF(AX374=AV371,AV370,\"\")","v":""},{"$f":"IF(AY374=AW371,AW370,\"\")","v":""},{"$f":"IF(AZ374=AX371,AX370,\"\")","v":""},{"$f":"IF(BA374=AY371,AY370,\"\")","v":""},{"$f":"IF(BB374=AZ371,AZ370,\"\")","v":""},{"$f":"IF(BC374=BA371,BA370,\"\")","v":""},null,null,null,null,null,null,1,{"$f":"CC362","v":0},{"$f":"CC367","v":0}]
[null,null,null,9,"",{"$f":"O364","v":""},"","",null,2,"",{"$f":"O371","v":""},{"$f":"IF(L374=\"\",\"\",IF(K374<=$C$74,\"X\",\"\"))","v":""},{"$f":"IF(M374=\"X\",L374,\"\")","v":""},null,{"$f":"IF($P375=N371,N371,\"\")","v":""},{"$f":"IF($P375=O371,O371,\"\")","v":""},{"$f":"IF($P375=P371,P371,\"\")","v":""},{"$f":"IF($P375=Q371,Q371,\"\")","v":""},{"$f":"IF($P375=R371,R371,\"\")","v":""},{"$f":"IF($P375=S371,S371,\"\")","v":""},{"$f":"IF($P375=T371,T371,\"\")","v":""},{"$f":"IF($P375=U371,U371,\"\")","v":""},{"$f":"IF($P375=V371,V371,\"\")","v":""},{"$f":"IF($P375=W371,W371,\"\")","v":""},{"$f":"IF($P375=X371,X371,\"\")","v":""},{"$f":"IF($P375=Y371,Y371,\"\")","v":""},{"$f":"IF($P375=Z371,Z371,\"\")","v":""},{"$f":"IF($P375=AA371,AA371,\"\")","v":""},{"$f":"IF($P375=AB371,AB371,\"\")","v":""},{"$f":"IF($P375=AC371,AC371,\"\")","v":""},{"$f":"IF($P375=AD371,AD371,\"\")","v":""},{"$f":"IF($P375=AE371,AE371,\"\")","v":""},{"$f":"IF($P375=AF371,AF371,\"\")","v":""},{"$f":"IF($P375=AG371,AG371,\"\")","v":""},{"$f":"IF($P375=AH371,AH371,\"\")","v":""},{"$f":"IF($P375=AI371,AI371,\"\")","v":""},{"$f":"IF($P375=AJ371,AJ371,\"\")","v":""},{"$f":"IF($P375=AK371,AK371,\"\")","v":""},{"$f":"IF($P375=AL371,AL371,\"\")","v":""},{"$f":"IF($P375=AM371,AM371,\"\")","v":""},{"$f":"IF($P375=AN371,AN371,\"\")","v":""},{"$f":"IF($P375=AO371,AO371,\"\")","v":""},{"$f":"IF($P375=AP371,AP371,\"\")","v":""},{"$f":"IF($P375=AQ371,AQ371,\"\")","v":""},{"$f":"IF($P375=AR371,AR371,\"\")","v":""},{"$f":"IF($P375=AS371,AS371,\"\")","v":""},{"$f":"IF($P375=AT371,AT371,\"\")","v":""},{"$f":"IF($P375=AU371,AU371,\"\")","v":""},{"$f":"IF($P375=AV371,AV371,\"\")","v":""},{"$f":"IF($P375=AW371,AW371,\"\")","v":""},{"$f":"IF($P375=AX371,AX371,\"\")","v":""},{"$f":"IF($P375=AY371,AY371,\"\")","v":""},{"$f":"IF($P375=AZ371,AZ371,\"\")","v":""},{"$f":"IF($P375=BA371,BA371,\"\")","v":""},null,null,null,null,null,null,2,{"$f":"BK373","v":0},{"$f":"BL373","v":0}]
[null,null,null,10,"",{"$f":"P364","v":""},"","",null,3,"",{"$f":"P371","v":""},"","",null,{"$f":"O373","v":0},null,null,null,null,null,null,null,null,null,null,null,null,null,null,null,null,null,null,null,null,null,null,null,null,null,null,null,null,null,null,null,null,null,null,null,null,null,null,null,null,null,null,null,null,null,3,{"$f":"BK374","v":0},0,null,null,null,null,null,null,null,null,null,null,null,null,null,null,null,"MASSIMO CARICO",null,null,null,null,{"$f":"C369","v":200}]
[null,null,null,11,"",{"$f":"Q364","v":""},"","",null,4,"",{"$f":"Q371","v":""},"","",null,null,null,null,null,null,null,null,null,null,null,null,null,null,null,null,null,null,null,null,null,null,null,null,null,null,null,null,null,null,null,null,null,null,null,null,null,null,null,null,null,null,null,null,null,null,null,4,{"$f":"BK375","v":0},0]
[null,null,null,12,"",{"$f":"R364","v":""},"","",null,5,"",{"$f":"R371","v":""},"","",null,null,null,null,null,null,null,null,null,null,null,null,null,null,null,null,null,null,null,null,null,null,null,null,null,null,null,null,null,null,null,null,null,null,null,null,null,null,null,null,null,null,null,null,null,null,null,5,{"$f":"BK376","v":0},0,null,null,null,null,null,null,null,null,null,null,null,null,null,null,null,"RIMANE",null,null,null,null,{"$f":"CG375-CD361","v":200}]
[null,null,null,13,"",{"$f":"S364","v":""},"","",null,6,"",{"$f":"S371","v":""},"","",null,null,null,null,null,null,null,null,null,null,null,null,null,null,null,null,null,null,null,null,null,null,null,null,null,null,null,null,null,null,null,null,null,null,null,null,null,null,null,null,null,null,null,null,null,null,null,6,{"$f":"BK377","v":0},0]
[null,null,null,14,"",{"$f":"T364","v":""},"","",null,7,"",{"$f":"T371","v":""},"","",null,null,null,null,null,null,null,null,null,null,null,null,null,null,null,null,null,null,null,null,null,null,null,null,null,null,null,null,null,null,null,null,null,null,null,null,null,null,null,null,null,null,null,null,null,null,null,7,{"$f":"BK378","v":0},0]
[null,null,null,15,"",{"$f":"U364","v":""},"",{"$f":"IF(G380=\"X\",F380,\"\")","v":""},null,8,"",{"$f":"U371","v":""},"","",null,null,null,null,null,null,null,null,null,null,null,null,null,null,null,null,null,null,null,null,null,null,null,null,null,null,null,null,null,null,null,null,null,null,null,null,null,null,null,null,null,null,null,null,null,null,null,8,{"$f":"BK379","v":0},0]
[null,null,null,16,"",{"$f":"V364","v":""},"","",null,9,"",{"$f":"V371","v":""},"","",null,null,null,null,null,null,null,null,null,null,null,null,null,null,null,null,null,null,null,null,null,null,null,null,null,null,null,null,null,null,null,null,null,null,null,null,null,null,null,null,null,null,null,null,null,null,null,9,{"$f":"BK380","v":0},0]
[null,null,null,17,"",{"$f":"W364","v":""},"","",null,10,"",{"$f":"W371","v":""},"","",null,null,null,null,null,null,null,null,null,null,null,null,null,null,null,null,null,null,null,null,null,null,null,null,null,null,null,null,null,null,null,null,null,null,null,null,null,null,null,null,null,null,null,null,null,null,null,10,{"$f":"BK381","v":0},0]
[null,null,null,18,"",{"$f":"X364","v":""},"","",null,11,"",{"$f":"X371","v":""},"","",null,null,null,null,null,null,null,null,null,null,null,null,null,null,null,null,null,null,null,null,null,null,null,null,null,null,null,null,null,null,null,null,null,null,null,null,null,null,null,null,null,null,null,null,null,null,null,11,{"$f":"BK382","v":0},0]
[null,null,null,19,"",{"$f":"Y364","v":""},"","",null,12,"",{"$f":"Y371","v":""},"","",null,null,null,null,null,null,null,null,null,null,null,null,null,null,null,null,null,null,null,null,null,null,null,null,null,null,null,null,null,null,null,null,null,null,null,null,null,null,null,null,null,null,null,null,null,null,null,12,{"$f":"BK383","v":0},0]
[null,null,null,20,"",{"$f":"Z364","v":""},"","",null,13,"",{"$f":"Z371","v":""},"","",null,null,null,null,null,null,null,null,null,null,null,null,null,null,null,null,null,null,null,null,null,null,null,null,null,null,null,null,null,null,null,null,null,null,null,null,null,null,null,null,null,null,null,null,null,null,null,13,{"$f":"BK384","v":0},0]
[null,null,null,21,{"$f":"IF(F386<>\"\",F386+G$126,\"\")","v":""},{"$f":"AA364","v":""},"","",null,14,"",{"$f":"AA371","v":""},"","",null,null,null,null,null,null,null,null,null,null,null,null,null,null,null,null,null,null,null,null,null,null,null,null,null,null,null,null,null,null,null,null,null,null,null,null,null,null,null,null,null,null,null,null,null,null,null,14,{"$f":"BK385","v":0},0]
[null,null,null,22,"",{"$f":"AB364","v":""},"","",null,15,"",{"$f":"AB371","v":""},"","",null,"RIMASTI A DISPOSIZIONE",null,null,null,null,null,null,null,null,null,null,null,null,null,null,null,null,null,null,null,null,null,null,null,null,null,null,null,null,null,null,null,null,null,null,null,null,null,null,null,null,null,null,null,null,null,15,{"$f":"BK386","v":0},0]
[null,null,null,23,"",{"$f":"AC364","v":""},"","",null,16,"",{"$f":"AC371","v":""},"","",null,null,null,null,null,null,null,null,null,null,null,null,null,null,null,null,null,null,null,null,null,null,null,null,null,null,null,null,null,null,null,null,null,null,null,null,null,null,null,null,null,null,null,null,null,null,null,16,{"$f":"BK387","v":0},0]
[null,null,null,24,"",{"$f":"AD364","v":""},"","",null,17,"",{"$f":"AD371","v":""},"","",null,1,2,3,4,5,6,7,8,9,10,11,12,13,14,15,16,17,18,19,20,21,22,23,24,25,26,27,28,29,30,31,32,33,34,35,36,37,38,39,40,null,null,null,null,null,null,17,{"$f":"BK388","v":0},0]
[null,null,null,25,"",{"$f":"AE364","v":""},"","",null,18,"",{"$f":"AE371","v":""},"","",null,{"$f":"IF(P391=\"\",\"\",IF(P391=G358,G357,\"\"))","v":""},{"$f":"IF(Q391=\"\",\"\",IF(Q391=H358,H357,\"\"))","v":""},{"$f":"IF(R391=\"\",\"\",IF(R391=I358,I357,\"\"))","v":""},{"$f":"IF(S391=\"\",\"\",IF(S391=J358,J357,\"\"))","v":""},{"$f":"IF(T391=\"\",\"\",IF(T391=K358,K357,\"\"))","v":""},{"$f":"IF(U391=\"\",\"\",IF(U391=L358,L357,\"\"))","v":""},{"$f":"IF(V391=\"\",\"\",IF(V391=M358,M357,\"\"))","v":""},{"$f":"IF(W391=\"\",\"\",IF(W391=N358,N357,\"\"))","v":""},{"$f":"IF(X391=\"\",\"\",IF(X391=O358,O357,\"\"))","v":""},{"$f":"IF(Y391=\"\",\"\",IF(Y391=P358,P357,\"\"))","v":""},{"$f":"IF(Z391=\"\",\"\",IF(Z391=Q358,Q357,\"\"))","v":""},{"$f":"IF(AA391=\"\",\"\",IF(AA391=R358,R357,\"\"))","v":""},{"$f":"IF(AB391=\"\",\"\",IF(AB391=S358,S357,\"\"))","v":""},{"$f":"IF(AC391=\"\",\"\",IF(AC391=T358,T357,\"\"))","v":""},{"$f":"IF(AD391=\"\",\"\",IF(AD391=U358,U357,\"\"))","v":""},{"$f":"IF(AE391=\"\",\"\",IF(AE391=V358,V357,\"\"))","v":""},{"$f":"IF(AF391=\"\",\"\",IF(AF391=W358,W357,\"\"))","v":""},{"$f":"IF(AG391=\"\",\"\",IF(AG391=X358,X357,\"\"))","v":""},{"$f":"IF(AH391=\"\",\"\",IF(AH391=Y358,Y357,\"\"))","v":""},{"$f":"IF(AI391=\"\",\"\",IF(AI391=Z358,Z357,\"\"))","v":""},{"$f":"IF(AJ391=\"\",\"\",IF(AJ391=AA358,AA357,\"\"))","v":""},{"$f":"IF(AK391=\"\",\"\",IF(AK391=AB358,AB357,\"\"))","v":""},{"$f":"IF(AL391=\"\",\"\",IF(AL391=AC358,AC357,\"\"))","v":""},{"$f":"IF(AM391=\"\",\"\",IF(AM391=AD358,AD357,\"\"))","v":""},{"$f":"IF(AN391=\"\",\"\",IF(AN391=AE358,AE357,\"\"))","v":""},{"$f":"IF(AO391=\"\",\"\",IF(AO391=AF358,AF357,\"\"))","v":""},{"$f":"IF(AP391=\"\",\"\",IF(AP391=AG358,AG357,\"\"))","v":""},{"$f":"IF(AQ391=\"\",\"\",IF(AQ391=AH358,AH357,\"\"))","v":""},{"$f":"IF(AR391=\"\",\"\",IF(AR391=AI358,AI357,\"\"))","v":""},{"$f":"IF(AS391=\"\",\"\",IF(AS391=AJ358,AJ357,\"\"))","v":""},{"$f":"IF(AT391=\"\",\"\",IF(AT391=AK358,AK357,\"\"))","v":""},{"$f":"IF(AU391=\"\",\"\",IF(AU391=AL358,AL357,\"\"))","v":""},{"$f":"IF(AV391=\"\",\"\",IF(AV391=AM358,AM357,\"\"))","v":""},{"$f":"IF(AW391=\"\",\"\",IF(AW391=AN358,AN357,\"\"))","v":""},{"$f":"IF(AX391=\"\",\"\",IF(AX391=AO358,AO357,\"\"))","v":""},{"$f":"IF(AY391=\"\",\"\",IF(AY391=AP358,AP357,\"\"))","v":""},{"$f":"IF(AZ391=\"\",\"\",IF(AZ391=AQ358,AQ357,\"\"))","v":""},{"$f":"IF(BA391=\"\",\"\",IF(BA391=AR358,AR357,\"\"))","v":""},{"$f":"IF(BB391=\"\",\"\",IF(BB391=AS358,AS357,\"\"))","v":""},{"$f":"IF(BC391=\"\",\"\",IF(BC391=AT358,AT357,\"\"))","v":""},null,null,null,null,null,null,18,{"$f":"BK389","v":0},0]
[null,null,null,26,"",{"$f":"AF364","v":""},"","",null,19,"",{"$f":"AF371","v":""},"","",null,{"$f":"IF(G358=$P375,\"\",IF(G358=$J368,\"\",IF(G358=$G359,\"\",G358)))","v":""},{"$f":"IF(H358=$P375,\"\",IF(H358=$J368,\"\",IF(H358=$G359,\"\",H358)))","v":""},{"$f":"IF(I358=$P375,\"\",IF(I358=$J368,\"\",IF(I358=$G359,\"\",I358)))","v":""},{"$f":"IF(J358=$P375,\"\",IF(J358=$J368,\"\",IF(J358=$G359,\"\",J358)))","v":""},{"$f":"IF(K358=$P375,\"\",IF(K358=$J368,\"\",IF(K358=$G359,\"\",K358)))","v":""},{"$f":"IF(L358=$P375,\"\",IF(L358=$J368,\"\",IF(L358=$G359,\"\",L358)))","v":""},{"$f":"IF(M358=$P375,\"\",IF(M358=$J368,\"\",IF(M358=$G359,\"\",M358)))","v":""},{"$f":"IF(N358=$P375,\"\",IF(N358=$J368,\"\",IF(N358=$G359,\"\",N358)))","v":""},{"$f":"IF(O358=$P375,\"\",IF(O358=$J368,\"\",IF(O358=$G359,\"\",O358)))","v":""},{"$f":"IF(P358=$P375,\"\",IF(P358=$J368,\"\",IF(P358=$G359,\"\",P358)))","v":""},{"$f":"IF(Q358=$P375,\"\",IF(Q358=$J368,\"\",IF(Q358=$G359,\"\",Q358)))","v":""},{"$f":"IF(R358=$P375,\"\",IF(R358=$J368,\"\",IF(R358=$G359,\"\",R358)))","v":""},{"$f":"IF(S358=$P375,\"\",IF(S358=$J368,\"\",IF(S358=$G359,\"\",S358)))","v":""},{"$f":"IF(T358=$P375,\"\",IF(T358=$J368,\"\",IF(T358=$G359,\"\",T358)))","v":""},{"$f":"IF(U358=$P375,\"\",IF(U358=$J368,\"\",IF(U358=$G359,\"\",U358)))","v":""},{"$f":"IF(V358=$P375,\"\",IF(V358=$J368,\"\",IF(V358=$G359,\"\",V358)))","v":""},{"$f":"IF(W358=$P375,\"\",IF(W358=$J368,\"\",IF(W358=$G359,\"\",W358)))","v":""},{"$f":"IF(X358=$P375,\"\",IF(X358=$J368,\"\",IF(X358=$G359,\"\",X358)))","v":""},{"$f":"IF(Y358=$P375,\"\",IF(Y358=$J368,\"\",IF(Y358=$G359,\"\",Y358)))","v":""},{"$f":"IF(Z358=$P375,\"\",IF(Z358=$J368,\"\",IF(Z358=$G359,\"\",Z358)))","v":""},{"$f":"IF(AA358=$P375,\"\",IF(AA358=$J368,\"\",IF(AA358=$G359,\"\",AA358)))","v":""},{"$f":"IF(AB358=$P375,\"\",IF(AB358=$J368,\"\",IF(AB358=$G359,\"\",AB358)))","v":""},{"$f":"IF(AC358=$P375,\"\",IF(AC358=$J368,\"\",IF(AC358=$G359,\"\",AC358)))","v":""},{"$f":"IF(AD358=$P375,\"\",IF(AD358=$J368,\"\",IF(AD358=$G359,\"\",AD358)))","v":""},{"$f":"IF(AE358=$P375,\"\",IF(AE358=$J368,\"\",IF(AE358=$G359,\"\",AE358)))","v":""},{"$f":"IF(AF358=$P375,\"\",IF(AF358=$J368,\"\",IF(AF358=$G359,\"\",AF358)))","v":""},{"$f":"IF(AG358=$P375,\"\",IF(AG358=$J368,\"\",IF(AG358=$G359,\"\",AG358)))","v":""},{"$f":"IF(AH358=$P375,\"\",IF(AH358=$J368,\"\",IF(AH358=$G359,\"\",AH358)))","v":""},{"$f":"IF(AI358=$P375,\"\",IF(AI358=$J368,\"\",IF(AI358=$G359,\"\",AI358)))","v":""},{"$f":"IF(AJ358=$P375,\"\",IF(AJ358=$J368,\"\",IF(AJ358=$G359,\"\",AJ358)))","v":""},{"$f":"IF(AK358=$P375,\"\",IF(AK358=$J368,\"\",IF(AK358=$G359,\"\",AK358)))","v":""},{"$f":"IF(AL358=$P375,\"\",IF(AL358=$J368,\"\",IF(AL358=$G359,\"\",AL358)))","v":""},{"$f":"IF(AM358=$P375,\"\",IF(AM358=$J368,\"\",IF(AM358=$G359,\"\",AM358)))","v":""},{"$f":"IF(AN358=$P375,\"\",IF(AN358=$J368,\"\",IF(AN358=$G359,\"\",AN358)))","v":""},{"$f":"IF(AO358=$P375,\"\",IF(AO358=$J368,\"\",IF(AO358=$G359,\"\",AO358)))","v":""},{"$f":"IF(AP358=$P375,\"\",IF(AP358=$J368,\"\",IF(AP358=$G359,\"\",AP358)))","v":""},{"$f":"IF(AQ358=$P375,\"\",IF(AQ358=$J368,\"\",IF(AQ358=$G359,\"\",AQ358)))","v":""},{"$f":"IF(AR358=$P375,\"\",IF(AR358=$J368,\"\",IF(AR358=$G359,\"\",AR358)))","v":""},{"$f":"IF(AS358=$P375,\"\",IF(AS358=$J368,\"\",IF(AS358=$G359,\"\",AS358)))","v":""},{"$f":"IF(AT358=$P375,\"\",IF(AT358=$J368,\"\",IF(AT358=$G359,\"\",AT358)))","v":""},null,null,null,null,null,null,19,{"$f":"BK390","v":0},0]
[null,null,null,27,"",{"$f":"AG364","v":""},"","",null,20,"",{"$f":"AG371","v":""},"","",null,null,null,null,null,null,null,null,null,null,null,null,null,null,null,null,null,null,null,null,null,null,null,null,null,null,null,null,null,null,null,null,null,null,null,null,null,null,null,null,null,null,null,null,null,null,null,20,{"$f":"BK391","v":0},0]
[null,null,null,28,"",{"$f":"AH364","v":""},"","",null,21,{"$f":"IF(L393<>\"\",BK393+BL393+L393,\"\")","v":""},{"$f":"AH371","v":""},"","",null,null,null,null,null,null,null,null,null,null,null,null,null,null,null,null,null,null,null,null,null,null,null,null,null,null,null,null,null,null,null,null,null,null,null,null,null,null,null,null,null,null,null,null,null,null,null,21,{"$f":"BK392","v":0},0]
[null,null,null,29,"",{"$f":"AI364","v":""},"","",null,22,"",{"$f":"AI371","v":""},"","",null,null,null,null,null,null,null,null,null,null,null,null,null,null,null,null,null,null,null,null,null,null,null,null,null,null,null,null,null,null,null,null,null,null,null,null,null,null,null,null,null,null,null,null,null,null,null,22,{"$f":"BK393","v":0},0]
[null,null,null,30,"",{"$f":"AJ364","v":""},"","",null,23,"",{"$f":"AJ371","v":""},"","",null,null,null,null,null,null,null,null,null,null,null,null,null,null,null,null,null,null,null,null,null,null,null,null,null,null,null,null,null,null,null,null,null,null,null,null,null,null,null,null,null,null,null,null,null,null,null,23,{"$f":"BK394","v":0},0]
[null,null,null,31,"",{"$f":"AK364","v":""},"","",null,24,"",{"$f":"AK371","v":""},"","",null,null,null,null,null,null,null,null,null,null,null,null,null,null,null,null,null,null,null,null,null,null,null,null,null,null,null,null,null,null,null,null,null,null,null,null,null,null,null,null,null,null,null,null,null,null,null,24,{"$f":"BK395","v":0},0]
[null,null,null,32,"",{"$f":"AL364","v":""},"","",null,25,"",{"$f":"AL371","v":""},"","",null,null,null,null,null,null,null,null,null,null,null,null,null,null,null,null,null,null,null,null,null,null,null,null,null,null,null,null,null,null,null,null,null,null,null,null,null,null,null,null,null,null,null,null,null,null,null,25,{"$f":"BK396","v":0},0]
[null,null,null,33,"",{"$f":"AM364","v":""},"","",null,26,"",{"$f":"AM371","v":""},"","",null,null,null,null,null,null,null,null,null,null,null,null,null,null,null,null,null,null,null,null,null,null,null,null,null,null,null,null,null,null,null,null,null,null,null,null,null,null,null,null,null,null,null,null,null,null,null,26,{"$f":"BK397","v":0},0]
[null,null,null,34,"",{"$f":"AN364","v":""},"","",null,27,"",{"$f":"AN371","v":""},"","",null,null,null,null,null,null,null,null,null,null,null,null,null,null,null,null,null,null,null,null,null,null,null,null,null,null,null,null,null,null,null,null,null,null,null,null,null,null,null,null,null,null,null,null,null,null,null,27,{"$f":"BK398","v":0},0]
[null,null,null,35,"",{"$f":"AO364","v":""},"","",null,28,"",{"$f":"AO371","v":""},"","",null,null,null,null,null,null,null,null,null,null,null,null,null,null,null,null,null,null,null,null,null,null,null,null,null,null,null,null,null,null,null,null,null,null,null,null,null,null,null,null,null,null,null,null,null,null,null,28,{"$f":"BK399","v":0},0]
[null,null,null,36,"",{"$f":"AP364","v":""},"","",null,29,"",{"$f":"AP371","v":""},"","",null,null,null,null,null,null,null,null,null,null,null,null,null,null,null,null,null,null,null,null,null,null,null,null,null,null,null,null,null,null,null,null,null,null,null,null,null,null,null,null,null,null,null,null,null,null,null,29,{"$f":"BK400","v":0},0]
[null,null,null,37,"",{"$f":"AQ364","v":""},"","",null,30,"",{"$f":"AQ371","v":""},"","",null,null,null,null,null,null,null,null,null,null,null,null,null,null,null,null,null,null,null,null,null,null,null,null,null,null,null,null,null,null,null,null,null,null,null,null,null,null,null,null,null,null,null,null,null,null,null,30,{"$f":"BK401","v":0},0]
[null,null,null,38,"",{"$f":"AR364","v":""},"","",null,31,"",{"$f":"AR371","v":""},"","",null,null,null,null,null,null,null,null,null,null,null,null,null,null,null,null,null,null,null,null,null,null,null,null,null,null,null,null,null,null,null,null,null,null,null,null,null,null,null,null,null,null,null,null,null,null,null,31,{"$f":"BK402","v":0},0]
[null,null,null,39,"",{"$f":"AS364","v":""},"","",null,32,"",{"$f":"AS371","v":""},"","",null,null,null,null,null,null,null,null,null,null,null,null,null,null,null,null,null,null,null,null,null,null,null,null,null,null,null,null,null,null,null,null,null,null,null,null,null,null,null,null,null,null,null,null,null,null,null,32,{"$f":"BK403","v":0},0]
[null,null,null,40,"",{"$f":"AT364","v":""},"","",null,33,"",{"$f":"AT371","v":""},"","",null,null,null,null,null,null,null,null,null,null,null,null,null,null,null,null,null,null,null,null,null,null,null,null,null,null,null,null,null,null,null,null,null,null,null,null,null,null,null,null,null,null,null,null,null,null,null,33,{"$f":"BK404","v":0},0]
[null,null,null,null,null,null,null,null,null,34,"",{"$f":"AU371","v":""},"","",null,null,null,null,null,null,null,null,null,null,null,null,null,null,null,null,null,null,null,null,null,null,null,null,null,null,null,null,null,null,null,null,null,null,null,null,null,null,null,null,null,null,null,null,null,null,null,34,{"$f":"BK405","v":0},0]
[null,null,null,null,null,null,null,null,null,35,"",{"$f":"AV371","v":""},"","",null,null,null,null,null,null,null,null,null,null,null,null,null,null,null,null,null,null,null,null,null,null,null,null,null,null,null,null,null,null,null,null,null,null,null,null,null,null,null,null,null,null,null,null,null,null,null,35,{"$f":"BK406","v":0},0]
[null,null,null,null,null,null,null,null,null,36,"",{"$f":"AW371","v":""},"","",null,null,null,null,null,null,null,null,null,null,null,null,null,null,null,null,null,null,null,null,null,null,null,null,null,null,null,null,null,null,null,null,null,null,null,null,null,null,null,null,null,null,null,null,null,null,null,36,{"$f":"BK407","v":0},0]
[null,null,null,null,null,null,null,null,null,37,"",{"$f":"AX371","v":""},"","",null,null,null,null,null,null,null,null,null,null,null,null,null,null,null,null,null,null,null,null,null,null,null,null,null,null,null,null,null,null,null,null,null,null,null,null,null,null,null,null,null,null,null,null,null,null,null,37,{"$f":"BK408","v":0},0]
[null,null,null,null,null,null,null,null,null,38,"",{"$f":"AY371","v":""},"","",null,null,null,null,null,null,null,null,null,null,null,null,null,null,null,null,null,null,null,null,null,null,null,null,null,null,null,null,null,null,null,null,null,null,null,null,null,null,null,null,null,null,null,null,null,null,null,38,{"$f":"BK409","v":0},0]
[null,null,null,null,null,null,null,null,null,39,"",{"$f":"AZ371","v":""},"","",null,null,null,null,null,null,null,null,null,null,null,null,null,null,null,null,null,null,null,null,null,null,null,null,null,null,null,null,null,null,null,null,null,null,null,null,null,null,null,null,null,null,null,null,null,null,null,39,{"$f":"BK410","v":0},0]
[null,null,null,null,null,null,null,null,null,40,"",{"$f":"BA371","v":""},"","",null,null,null,null,null,null,null,null,null,null,null,null,null,null,null,null,null,null,null,null,null,null,null,null,null,null,null,null,null,null,null,null,null,null,null,null,null,null,null,null,null,null,null,null,null,null,null,40,{"$f":"BK411","v":0},0]
[]
[]
[null,null,null,null,null,null,1,2,3,4,5,6,7,8,9,10,11,12,13,14,15,16,17,18,19,20,21,22,23,24,25,26,27,28,29,30,31,32,33,34,35,36,37,38,39,40,null,null,null,null,null,null,null,null,null,null,null,null,null,null,null,"BLOCCHI CHE POSSONO ESSERE CARICATI IN COPPIA O A TRE PERCHE' IL LORO PESO COMPLESSIVO NON SUPERA IL PESO MASSIMO CONSENTITO NEL TRASPORTO"]
[null,null,"TIR",null,{"$f":"E357+1","v":7},null,{"$f":"P390","v":""},{"$f":"Q390","v":""},{"$f":"R390","v":""},{"$f":"S390","v":""},{"$f":"T390","v":""},{"$f":"U390","v":""},{"$f":"V390","v":""},{"$f":"W390","v":""},{"$f":"X390","v":""},{"$f":"Y390","v":""},{"$f":"Z390","v":""},{"$f":"AA390","v":""},{"$f":"AB390","v":""},{"$f":"AC390","v":""},{"$f":"AD390","v":""},{"$f":"AE390","v":""},{"$f":"AF390","v":""},{"$f":"AG390","v":""},{"$f":"AH390","v":""},{"$f":"AI390","v":""},{"$f":"AJ390","v":""},{"$f":"AK390","v":""},{"$f":"AL390","v":""},{"$f":"AM390","v":""},{"$f":"AN390","v":""},{"$f":"AO390","v":""},{"$f":"AP390","v":""},{"$f":"AQ390","v":""},{"$f":"AR390","v":""},{"$f":"AS390","v":""},{"$f":"AT390","v":""},{"$f":"AU390","v":""},{"$f":"AV390","v":""},{"$f":"AW390","v":""},{"$f":"AX390","v":""},{"$f":"AY390","v":""},{"$f":"AZ390","v":""},{"$f":"BA390","v":""},{"$f":"BB390","v":""},{"$f":"BC390","v":""}]
[null,null,null,null,null,null,{"$f":"P391","v":""},"","","","","","","","","","","","","","","","","","","","","","","","","","","","","","","","","","","","","","",""]
[null,null,"MASSIMO PESO",null,null,null,{"$f":"MAX(G417:AT417)","v":0}]
[null,null,null,null,null,null,{"$f":"IF(G417=$G418,G416,\"\")","v":""},{"$f":"IF(H417=$G418,H416,\"\")","v":""},{"$f":"IF(I417=$G418,I416,\"\")","v":""},{"$f":"IF(J417=$G418,J416,\"\")","v":""},{"$f":"IF(K417=$G418,K416,\"\")","v":""},{"$f":"IF(L417=$G418,L416,\"\")","v":""},{"$f":"IF(M417=$G418,M416,\"\")","v":""},{"$f":"IF(N417=$G418,N416,\"\")","v":""},{"$f":"IF(O417=$G418,O416,\"\")","v":""},{"$f":"IF(P417=$G418,P416,\"\")","v":""},{"$f":"IF(Q417=$G418,Q416,\"\")","v":""},{"$f":"IF(R417=$G418,R416,\"\")","v":""},{"$f":"IF(S417=$G418,S416,\"\")","v":""},{"$f":"IF(T417=$G418,T416,\"\")","v":""},{"$f":"IF(U417=$G418,U416,\"\")","v":""},{"$f":"IF(V417=$G418,V416,\"\")","v":""},{"$f":"IF(W417=$G418,W416,\"\")","v":""},{"$f":"IF(X417=$G418,X416,\"\")","v":""},{"$f":"IF(Y417=$G418,Y416,\"\")","v":""},{"$f":"IF(Z417=$G418,Z416,\"\")","v":""},{"$f":"IF(AA417=$G418,AA416,\"\")","v":""},{"$f":"IF(AB417=$G418,AB416,\"\")","v":""},{"$f":"IF(AC417=$G418,AC416,\"\")","v":""},{"$f":"IF(AD417=$G418,AD416,\"\")","v":""},{"$f":"IF(AE417=$G418,AE416,\"\")","v":""},{"$f":"IF(AF417=$G418,AF416,\"\")","v":""},{"$f":"IF(AG417=$G418,AG416,\"\")","v":""},{"$f":"IF(AH417=$G418,AH416,\"\")","v":""},{"$f":"IF(AI417=$G418,AI416,\"\")","v":""},{"$f":"IF(AJ417=$G418,AJ416,\"\")","v":""},{"$f":"IF(AK417=$G418,AK416,\"\")","v":""},{"$f":"IF(AL417=$G418,AL416,\"\")","v":""},{"$f":"IF(AM417=$G418,AM416,\"\")","v":""},{"$f":"IF(AN417=$G418,AN416,\"\")","v":""},{"$f":"IF(AO417=$G418,AO416,\"\")","v":""},{"$f":"IF(AP417=$G418,AP416,\"\")","v":""},{"$f":"IF(AQ417=$G418,AQ416,\"\")","v":""},{"$f":"IF(AR417=$G418,AR416,\"\")","v":""},{"$f":"IF(AS417=$G418,AS416,\"\")","v":""},{"$f":"IF(AT417=$G418,AT416,\"\")","v":""}]
[null,null,null,null,null,null,{"$f":"G419&H419&I419&J419&K419&L419&M419&N419&O419&P419&Q419&R419&S419&T419&U419&V419&W419&X419&Y419&Z419&AA419&AB419&AC419&AD419&AE419&AF419&AG419&AH419&AI419&AJ419&AK419&AL419&AM419&AN419&AO419&AP419&AQ419&AR419&AS419&AT419","v":""},null,null,null,null,null,null,null,null,null,null,null,null,null,null,null,null,null,null,null,null,null,null,null,null,null,null,null,null,null,null,null,null,null,null,null,null,null,null,null,null,null,null,null,null,null,null,null,null,null,null,null,null,null,null,null,null,null,null,null,null,null,null,null,null,null,null,null,"Primo Blocco",null,null,null,null,null,{"$f":"G420","v":""},{"$f":"CC421+CC426+CC431","v":0},null,"Quintali",null,"N° Blocco"]
[null,null,null,null,null,null,{"$f":"G418","v":0},null,null,null,null,null,null,null,null,null,null,null,null,null,null,null,null,null,null,null,null,null,null,null,null,null,null,null,null,null,null,null,null,null,null,null,null,null,null,null,null,null,null,null,null,null,null,null,null,null,null,null,null,null,null,null,null,null,null,null,null,null,null,null,null,null,null,null,null,null,null,null,null,null,{"$f":"G418","v":0},null,null,{"$f":"IF(CC421=0,\"\",CC421)","v":""},null,{"$f":"IF(CF421=\"\",\"\",CC420)","v":""}]
[null,null,null,null,null,null,{"$f":"IF(G423=\"\",\"\",IF(G423=G417,G416,\"\"))","v":""},{"$f":"IF(H423=\"\",\"\",IF(H423=H417,H416,\"\"))","v":""},{"$f":"IF(I423=\"\",\"\",IF(I423=I417,I416,\"\"))","v":""},{"$f":"IF(J423=\"\",\"\",IF(J423=J417,J416,\"\"))","v":""},{"$f":"IF(K423=\"\",\"\",IF(K423=K417,K416,\"\"))","v":""},{"$f":"IF(L423=\"\",\"\",IF(L423=L417,L416,\"\"))","v":""},{"$f":"IF(M423=\"\",\"\",IF(M423=M417,M416,\"\"))","v":""},{"$f":"IF(N423=\"\",\"\",IF(N423=N417,N416,\"\"))","v":""},{"$f":"IF(O423=\"\",\"\",IF(O423=O417,O416,\"\"))","v":""},{"$f":"IF(P423=\"\",\"\",IF(P423=P417,P416,\"\"))","v":""},{"$f":"IF(Q423=\"\",\"\",IF(Q423=Q417,Q416,\"\"))","v":""},{"$f":"IF(R423=\"\",\"\",IF(R423=R417,R416,\"\"))","v":""},{"$f":"IF(S423=\"\",\"\",IF(S423=S417,S416,\"\"))","v":""},{"$f":"IF(T423=\"\",\"\",IF(T423=T417,T416,\"\"))","v":""},{"$f":"IF(U423=\"\",\"\",IF(U423=U417,U416,\"\"))","v":""},{"$f":"IF(V423=\"\",\"\",IF(V423=V417,V416,\"\"))","v":""},{"$f":"IF(W423=\"\",\"\",IF(W423=W417,W416,\"\"))","v":""},{"$f":"IF(X423=\"\",\"\",IF(X423=X417,X416,\"\"))","v":""},{"$f":"IF(Y423=\"\",\"\",IF(Y423=Y417,Y416,\"\"))","v":""},{"$f":"IF(Z423=\"\",\"\",IF(Z423=Z417,Z416,\"\"))","v":""},{"$f":"IF(AA423=\"\",\"\",IF(AA423=AA417,AA416,\"\"))","v":""},{"$f":"IF(AB423=\"\",\"\",IF(AB423=AB417,AB416,\"\"))","v":""},{"$f":"IF(AC423=\"\",\"\",IF(AC423=AC417,AC416,\"\"))","v":""},{"$f":"IF(AD423=\"\",\"\",IF(AD423=AD417,AD416,\"\"))","v":""},{"$f":"IF(AE423=\"\",\"\",IF(AE423=AE417,AE416,\"\"))","v":""},{"$f":"IF(AF423=\"\",\"\",IF(AF423=AF417,AF416,\"\"))","v":""},{"$f":"IF(AG423=\"\",\"\",IF(AG423=AG417,AG416,\"\"))","v":""},{"$f":"IF(AH423=\"\",\"\",IF(AH423=AH417,AH416,\"\"))","v":""},{"$f":"IF(AI423=\"\",\"\",IF(AI423=AI417,AI416,\"\"))","v":""},{"$f":"IF(AJ423=\"\",\"\",IF(AJ423=AJ417,AJ416,\"\"))","v":""},{"$f":"IF(AK423=\"\",\"\",IF(AK423=AK417,AK416,\"\"))","v":""},{"$f":"IF(AL423=\"\",\"\",IF(AL423=AL417,AL416,\"\"))","v":""},{"$f":"IF(AM423=\"\",\"\",IF(AM423=AM417,AM416,\"\"))","v":""},{"$f":"IF(AN423=\"\",\"\",IF(AN423=AN417,AN416,\"\"))","v":""},{"$f":"IF(AO423=\"\",\"\",IF(AO423=AO417,AO416,\"\"))","v":""},{"$f":"IF(AP423=\"\",\"\",IF(AP423=AP417,AP416,\"\"))","v":""},{"$f":"IF(AQ423=\"\",\"\",IF(AQ423=AQ417,AQ416,\"\"))","v":""},{"$f":"IF(AR423=\"\",\"\",IF(AR423=AR417,AR416,\"\"))","v":""},{"$f":"IF(AS423=\"\",\"\",IF(AS423=AS417,AS416,\"\"))","v":""},{"$f":"IF(AT423=\"\",\"\",IF(AT423=AT417,AT416,\"\"))","v":""},null,null,null,null,null,null,null,null,null,null,null,null,null,null,null,null,null,null,null,null,null,null,null,null,null,null,null,null,null,null,null,null,null,null,null,null,null,{"$f":"IF(CC426=0,\"\",CC426)","v":""},null,{"$f":"IF(CF422=\"\",\"\",CC425)","v":""}]
[null,null,"DISPONIBILI",null,null,null,{"$f":"IF(G417=$G418,\"\",G417)","v":""},{"$f":"IF(H417=$G418,\"\",H417)","v":""},{"$f":"IF(I417=$G418,\"\",I417)","v":""},{"$f":"IF(J417=$G418,\"\",J417)","v":""},{"$f":"IF(K417=$G418,\"\",K417)","v":""},{"$f":"IF(L417=$G418,\"\",L417)","v":""},{"$f":"IF(M417=$G418,\"\",M417)","v":""},{"$f":"IF(N417=$G418,\"\",N417)","v":""},{"$f":"IF(O417=$G418,\"\",O417)","v":""},{"$f":"IF(P417=$G418,\"\",P417)","v":""},{"$f":"IF(Q417=$G418,\"\",Q417)","v":""},{"$f":"IF(R417=$G418,\"\",R417)","v":""},{"$f":"IF(S417=$G418,\"\",S417)","v":""},{"$f":"IF(T417=$G418,\"\",T417)","v":""},{"$f":"IF(U417=$G418,\"\",U417)","v":""},{"$f":"IF(V417=$G418,\"\",V417)","v":""},{"$f":"IF(W417=$G418,\"\",W417)","v":""},{"$f":"IF(X417=$G418,\"\",X417)","v":""},{"$f":"IF(Y417=$G418,\"\",Y417)","v":""},{"$f":"IF(Z417=$G418,\"\",Z417)","v":""},{"$f":"IF(AA417=$G418,\"\",AA417)","v":""},{"$f":"IF(AB417=$G418,\"\",AB417)","v":""},{"$f":"IF(AC417=$G418,\"\",AC417)","v":""},{"$f":"IF(AD417=$G418,\"\",AD417)","v":""},{"$f":"IF(AE417=$G418,\"\",AE417)","v":""},{"$f":"IF(AF417=$G418,\"\",AF417)","v":""},{"$f":"IF(AG417=$G418,\"\",AG417)","v":""},{"$f":"IF(AH417=$G418,\"\",AH417)","v":""},{"$f":"IF(AI417=$G418,\"\",AI417)","v":""},{"$f":"IF(AJ417=$G418,\"\",AJ417)","v":""},{"$f":"IF(AK417=$G418,\"\",AK417)","v":""},{"$f":"IF(AL417=$G418,\"\",AL417)","v":""},{"$f":"IF(AM417=$G418,\"\",AM417)","v":""},{"$f":"IF(AN417=$G418,\"\",AN417)","v":""},{"$f":"IF(AO417=$G418,\"\",AO417)","v":""},{"$f":"IF(AP417=$G418,\"\",AP417)","v":""},{"$f":"IF(AQ417=$G418,\"\",AQ417)","v":""},{"$f":"IF(AR417=$G418,\"\",AR417)","v":""},{"$f":"IF(AS417=$G418,\"\",AS417)","v":""},{"$f":"IF(AT417=$G418,\"\",AT417)","v":""},null,null,null,null,null,null,null,null,null,null,null,null,null,null,null,null,null,null,null,null,null,null,null,null,null,null,null,null,null,null,null,null,null,null,null,null,null,{"$f":"IF(CC431=0,\"\",CC431)","v":""},null,{"$f":"IF(CF423=\"\",\"\",CC430)","v":""}]
[null,null,null,null,null,null,null,null,null,null,null,null,null,null,null,null,null,null,null,null,null,null,null,null,null,null,null,null,null,null,null,null,null,null,null,null,null,null,null,null,null,null,null,null,null,null,null,null,null,null,null,null,null,null,null,null,null,null,null,null,null,null,null,null,null,null,null,null,null,null,null,null,null,null,null,null,null,null,null,null,null,null,null,"NUMERO TIR"]
[null,null,"Portata                Max.               TIR",1,{"$f":"IF(F425<>\"\",F425+G$126,\"\")","v":""},{"$f":"G423","v":""},{"$f":"IF(F425=\"\",\"\",IF(E425<=$C$74,\"X\",\"\"))","v":""},{"$f":"IF(G425=\"X\",F425,\"\")","v":""},{"$f":"MAX(H425:H464)","v":0},{"$f":"IF(J426=G423,G422,\"\")","v":""},{"$f":"IF(K426=H423,H422,\"\")","v":""},{"$f":"IF(L426=I423,I422,\"\")","v":""},{"$f":"IF(M426=J423,J422,\"\")","v":""},{"$f":"IF(N426=K423,K422,\"\")","v":""},{"$f":"IF(O426=L423,L422,\"\")","v":""},{"$f":"IF(P426=M423,M422,\"\")","v":""},{"$f":"IF(Q426=N423,N422,\"\")","v":""},{"$f":"IF(R426=O423,O422,\"\")","v":""},{"$f":"IF(S426=P423,P422,\"\")","v":""},{"$f":"IF(T426=Q423,Q422,\"\")","v":""},{"$f":"IF(U426=R423,R422,\"\")","v":""},{"$f":"IF(V426=S423,S422,\"\")","v":""},{"$f":"IF(W426=T423,T422,\"\")","v":""},{"$f":"IF(X426=U423,U422,\"\")","v":""},{"$f":"IF(Y426=V423,V422,\"\")","v":""},{"$f":"IF(Z426=W423,W422,\"\")","v":""},{"$f":"IF(AA426=X423,X422,\"\")","v":""},{"$f":"IF(AB426=Y423,Y422,\"\")","v":""},{"$f":"IF(AC426=Z423,Z422,\"\")","v":""},{"$f":"IF(AD426=AA423,AA422,\"\")","v":""},{"$f":"IF(AE426=AB423,AB422,\"\")","v":""},{"$f":"IF(AF426=AC423,AC422,\"\")","v":""},{"$f":"IF(AG426=AD423,AD422,\"\")","v":""},{"$f":"IF(AH426=AE423,AE422,\"\")","v":""},{"$f":"IF(AI426=AF423,AF422,\"\")","v":""},{"$f":"IF(AJ426=AG423,AG422,\"\")","v":""},{"$f":"IF(AK426=AH423,AH422,\"\")","v":""},{"$f":"IF(AL426=AI423,AI422,\"\")","v":""},{"$f":"IF(AM426=AJ423,AJ422,\"\")","v":""},{"$f":"IF(AN426=AK423,AK422,\"\")","v":""},{"$f":"IF(AO426=AL423,AL422,\"\")","v":""},{"$f":"IF(AP426=AM423,AM422,\"\")","v":""},{"$f":"IF(AQ426=AN423,AN422,\"\")","v":""},{"$f":"IF(AR426=AO423,AO422,\"\")","v":""},{"$f":"IF(AS426=AP423,AP422,\"\")","v":""},{"$f":"IF(AT426=AQ423,AQ422,\"\")","v":""},{"$f":"IF(AU426=AR423,AR422,\"\")","v":""},{"$f":"IF(AV426=AS423,AS422,\"\")","v":""},{"$f":"IF(AW426=AT423,AT422,\"\")","v":""},null,null,null,null,null,null,null,null,null,null,null,null,null,null,null,null,null,null,null,null,null,null,null,null,null,"Secondo Blocco",null,null,null,null,null,{"$f":"J425&K425&L425&M425&N425&O425&P425&Q425&R425&S425&T425&U425&V425&W425&X425&Y425&Z425&AA425&AB425&AC425&AD425&AE425&AF425&AG425&AH425&AI425&AJ425&AK425&AL425&AM425&AN425&AO425&AP425&AQ425&AR425&AS425&AT425&AU425&AV425&AW425","v":""}]
[null,null,null,2,"",{"$f":"H423","v":""},{"$f":"IF(F426=\"\",\"\",IF(E426<=$C$74,\"X\",\"\"))","v":""},"",null,{"$f":"IF($J427=G423,G423,\"\")","v":""},{"$f":"IF($J427=H423,H423,\"\")","v":""},{"$f":"IF($J427=I423,I423,\"\")","v":""},{"$f":"IF($J427=J423,J423,\"\")","v":""},{"$f":"IF($J427=K423,K423,\"\")","v":""},{"$f":"IF($J427=L423,L423,\"\")","v":""},{"$f":"IF($J427=M423,M423,\"\")","v":""},{"$f":"IF($J427=N423,N423,\"\")","v":""},{"$f":"IF($J427=O423,O423,\"\")","v":""},{"$f":"IF($J427=P423,P423,\"\")","v":""},{"$f":"IF($J427=Q423,Q423,\"\")","v":""},{"$f":"IF($J427=R423,R423,\"\")","v":""},{"$f":"IF($J427=S423,S423,\"\")","v":""},{"$f":"IF($J427=T423,T423,\"\")","v":""},{"$f":"IF($J427=U423,U423,\"\")","v":""},{"$f":"IF($J427=V423,V423,\"\")","v":""},{"$f":"IF($J427=W423,W423,\"\")","v":""},{"$f":"IF($J427=X423,X423,\"\")","v":""},{"$f":"IF($J427=Y423,Y423,\"\")","v":""},{"$f":"IF($J427=Z423,Z423,\"\")","v":""},{"$f":"IF($J427=AA423,AA423,\"\")","v":""},{"$f":"IF($J427=AB423,AB423,\"\")","v":""},{"$f":"IF($J427=AC423,AC423,\"\")","v":""},{"$f":"IF($J427=AD423,AD423,\"\")","v":""},{"$f":"IF($J427=AE423,AE423,\"\")","v":""},{"$f":"IF($J427=AF423,AF423,\"\")","v":""},{"$f":"IF($J427=AG423,AG423,\"\")","v":""},{"$f":"IF($J427=AH423,AH423,\"\")","v":""},{"$f":"IF($J427=AI423,AI423,\"\")","v":""},{"$f":"IF($J427=AJ423,AJ423,\"\")","v":""},{"$f":"IF($J427=AK423,AK423,\"\")","v":""},{"$f":"IF($J427=AL423,AL423,\"\")","v":""},{"$f":"IF($J427=AM423,AM423,\"\")","v":""},{"$f":"IF($J427=AN423,AN423,\"\")","v":""},{"$f":"IF($J427=AO423,AO423,\"\")","v":""},{"$f":"IF($J427=AP423,AP423,\"\")","v":""},{"$f":"IF($J427=AQ423,AQ423,\"\")","v":""},{"$f":"IF($J427=AR423,AR423,\"\")","v":""},{"$f":"IF($J427=AS423,AS423,\"\")","v":""},{"$f":"IF($J427=AT423,AT423,\"\")","v":""},null,null,null,null,null,null,null,null,null,null,null,null,null,null,null,null,null,null,null,null,null,null,null,null,null,null,null,null,null,null,null,{"$f":"J427","v":0}]
[null,null,null,3,"",{"$f":"I423","v":""},"","",null,{"$f":"I425","v":0}]
[null,null,{"$f":"$P$3","v":200},4,"",{"$f":"J423","v":""},"","",null,null,null,null,null,null,null,null,null,null,null,null,null,null,null,null,null,null,null,null,null,null,null,null,null,null,null,null,null,null,null,null,null,null,null,null,null,null,null,null,null,null,null,null,null,null,null,null,null,null,null,null,null,null,null,null,null,null,null,null,null,null,null,null,null,null,null,null,null,null,null,null,null,null,null,{"$f":"IF(CD420>0,CF369+1,\"\")","v":""}]
[null,null,null,5,"",{"$f":"K423","v":""},"","",null,null,null,null,null,{"$f":"IF(N430=G423,G422,\"\")","v":""},{"$f":"IF(O430=H423,H422,\"\")","v":""},{"$f":"IF(P430=I423,I422,\"\")","v":""},{"$f":"IF(Q430=J423,J422,\"\")","v":""},{"$f":"IF(R430=K423,K422,\"\")","v":""},{"$f":"IF(S430=L423,L422,\"\")","v":""},{"$f":"IF(T430=M423,M422,\"\")","v":""},{"$f":"IF(U430=N423,N422,\"\")","v":""},{"$f":"IF(V430=O423,O422,\"\")","v":""},{"$f":"IF(W430=P423,P422,\"\")","v":""},{"$f":"IF(X430=Q423,Q422,\"\")","v":""},{"$f":"IF(Y430=R423,R422,\"\")","v":""},{"$f":"IF(Z430=S423,S422,\"\")","v":""},{"$f":"IF(AA430=T423,T422,\"\")","v":""},{"$f":"IF(AB430=U423,U422,\"\")","v":""},{"$f":"IF(AC430=V423,V422,\"\")","v":""},{"$f":"IF(AD430=W423,W422,\"\")","v":""},{"$f":"IF(AE430=X423,X422,\"\")","v":""},{"$f":"IF(AF430=Y423,Y422,\"\")","v":""},{"$f":"IF(AG430=Z423,Z422,\"\")","v":""},{"$f":"IF(AH430=AA423,AA422,\"\")","v":""},{"$f":"IF(AI430=AB423,AB422,\"\")","v":""},{"$f":"IF(AJ430=AC423,AC422,\"\")","v":""},{"$f":"IF(AK430=AD423,AD422,\"\")","v":""},{"$f":"IF(AL430=AE423,AE422,\"\")","v":""},{"$f":"IF(AM430=AF423,AF422,\"\")","v":""},{"$f":"IF(AN430=AG423,AG422,\"\")","v":""},{"$f":"IF(AO430=AH423,AH422,\"\")","v":""},{"$f":"IF(AP430=AI423,AI422,\"\")","v":""},{"$f":"IF(AQ430=AJ423,AJ422,\"\")","v":""},{"$f":"IF(AR430=AK423,AK422,\"\")","v":""},{"$f":"IF(AS430=AL423,AL422,\"\")","v":""},{"$f":"IF(AT430=AM423,AM422,\"\")","v":""},{"$f":"IF(AU430=AN423,AN422,\"\")","v":""},{"$f":"IF(AV430=AO423,AO422,\"\")","v":""},{"$f":"IF(AW430=AP423,AP422,\"\")","v":""},{"$f":"IF(AX430=AQ423,AQ422,\"\")","v":""},{"$f":"IF(AY430=AR423,AR422,\"\")","v":""},{"$f":"IF(AZ430=AS423,AS422,\"\")","v":""},{"$f":"IF(BA430=AT423,AT422,\"\")","v":""}]
[null,null,null,6,"",{"$f":"L423","v":""},"","",null,"DISPONIBILI",null,null,null,{"$f":"IF(G423=\"\",\"\",IF(G423=J426,\"\",G423))","v":""},{"$f":"IF(H423=\"\",\"\",IF(H423=K426,\"\",H423))","v":""},{"$f":"IF(I423=\"\",\"\",IF(I423=L426,\"\",I423))","v":""},{"$f":"IF(J423=\"\",\"\",IF(J423=M426,\"\",J423))","v":""},{"$f":"IF(K423=\"\",\"\",IF(K423=N426,\"\",K423))","v":""},{"$f":"IF(L423=\"\",\"\",IF(L423=O426,\"\",L423))","v":""},{"$f":"IF(M423=\"\",\"\",IF(M423=P426,\"\",M423))","v":""},{"$f":"IF(N423=\"\",\"\",IF(N423=Q426,\"\",N423))","v":""},{"$f":"IF(O423=\"\",\"\",IF(O423=R426,\"\",O423))","v":""},{"$f":"IF(P423=\"\",\"\",IF(P423=S426,\"\",P423))","v":""},{"$f":"IF(Q423=\"\",\"\",IF(Q423=T426,\"\",Q423))","v":""},{"$f":"IF(R423=\"\",\"\",IF(R423=U426,\"\",R423))","v":""},{"$f":"IF(S423=\"\",\"\",IF(S423=V426,\"\",S423))","v":""},{"$f":"IF(T423=\"\",\"\",IF(T423=W426,\"\",T423))","v":""},{"$f":"IF(U423=\"\",\"\",IF(U423=X426,\"\",U423))","v":""},{"$f":"IF(V423=\"\",\"\",IF(V423=Y426,\"\",V423))","v":""},{"$f":"IF(W423=\"\",\"\",IF(W423=Z426,\"\",W423))","v":""},{"$f":"IF(X423=\"\",\"\",IF(X423=AA426,\"\",X423))","v":""},{"$f":"IF(Y423=\"\",\"\",IF(Y423=AB426,\"\",Y423))","v":""},{"$f":"IF(Z423=\"\",\"\",IF(Z423=AC426,\"\",Z423))","v":""},{"$f":"IF(AA423=\"\",\"\",IF(AA423=AD426,\"\",AA423))","v":""},{"$f":"IF(AB423=\"\",\"\",IF(AB423=AE426,\"\",AB423))","v":""},{"$f":"IF(AC423=\"\",\"\",IF(AC423=AF426,\"\",AC423))","v":""},{"$f":"IF(AD423=\"\",\"\",IF(AD423=AG426,\"\",AD423))","v":""},{"$f":"IF(AE423=\"\",\"\",IF(AE423=AH426,\"\",AE423))","v":""},{"$f":"IF(AF423=\"\",\"\",IF(AF423=AI426,\"\",AF423))","v":""},{"$f":"IF(AG423=\"\",\"\",IF(AG423=AJ426,\"\",AG423))","v":""},{"$f":"IF(AH423=\"\",\"\",IF(AH423=AK426,\"\",AH423))","v":""},{"$f":"IF(AI423=\"\",\"\",IF(AI423=AL426,\"\",AI423))","v":""},{"$f":"IF(AJ423=\"\",\"\",IF(AJ423=AM426,\"\",AJ423))","v":""},{"$f":"IF(AK423=\"\",\"\",IF(AK423=AN426,\"\",AK423))","v":""},{"$f":"IF(AL423=\"\",\"\",IF(AL423=AO426,\"\",AL423))","v":""},{"$f":"IF(AM423=\"\",\"\",IF(AM423=AP426,\"\",AM423))","v":""},{"$f":"IF(AN423=\"\",\"\",IF(AN423=AQ426,\"\",AN423))","v":""},{"$f":"IF(AO423=\"\",\"\",IF(AO423=AR426,\"\",AO423))","v":""},{"$f":"IF(AP423=\"\",\"\",IF(AP423=AS426,\"\",AP423))","v":""},{"$f":"IF(AQ423=\"\",\"\",IF(AQ423=AT426,\"\",AQ423))","v":""},{"$f":"IF(AR423=\"\",\"\",IF(AR423=AU426,\"\",AR423))","v":""},{"$f":"IF(AS423=\"\",\"\",IF(AS423=AV426,\"\",AS423))","v":""},{"$f":"IF(AT423=\"\",\"\",IF(AT423=AW426,\"\",AT423))","v":""},null,null,null,null,null,null,null,null,null,null,null,null,null,null,null,null,null,null,null,null,null,"Terzo Blocco",null,null,null,null,null,{"$f":"P432&Q432&R432&S432&T432&U432&V432&W432&X432&Y432&Z432&AA432&AB432&AC432&AD432&AE432&AF432&AG432&AH432&AI432&AJ432&AK432&AL432&AM432&AN432&AO432&AP432&AQ432&AR432&AS432&AT432&AU432&AV432&AW432&AX432&AY432&AZ432&BA432&BB432&BC432","v":""}]
[null,null,null,7,"",{"$f":"M423","v":""},"","",null,null,null,null,null,null,null,null,null,null,null,null,null,null,null,null,null,null,null,null,null,null,null,null,null,null,null,null,null,null,null,null,null,null,null,null,null,null,null,null,null,null,null,null,null,null,null,null,null,null,null,null,null,null,1,2,null,null,null,null,null,null,null,null,null,null,null,null,null,null,null,null,{"$f":"P434","v":0}]
[null,null,null,8,"",{"$f":"N423","v":""},"","",null,1,{"$f":"IF(L432<>\"\",BK432+BL432+L432,\"\")","v":""},{"$f":"N430","v":""},{"$f":"IF(L432=\"\",\"\",IF(K432<=$C$74,\"X\",\"\"))","v":""},{"$f":"IF(M432=\"X\",L432,\"\")","v":""},{"$f":"MAX(N432:N451)","v":0},{"$f":"IF(P433=N430,N429,\"\")","v":""},{"$f":"IF(Q433=O430,O429,\"\")","v":""},{"$f":"IF(R433=P430,P429,\"\")","v":""},{"$f":"IF(S433=Q430,Q429,\"\")","v":""},{"$f":"IF(T433=R430,R429,\"\")","v":""},{"$f":"IF(U433=S430,S429,\"\")","v":""},{"$f":"IF(V433=T430,T429,\"\")","v":""},{"$f":"IF(W433=U430,U429,\"\")","v":""},{"$f":"IF(X433=V430,V429,\"\")","v":""},{"$f":"IF(Y433=W430,W429,\"\")","v":""},{"$f":"IF(Z433=X430,X429,\"\")","v":""},{"$f":"IF(AA433=Y430,Y429,\"\")","v":""},{"$f":"IF(AB433=Z430,Z429,\"\")","v":""},{"$f":"IF(AC433=AA430,AA429,\"\")","v":""},{"$f":"IF(AD433=AB430,AB429,\"\")","v":""},{"$f":"IF(AE433=AC430,AC429,\"\")","v":""},{"$f":"IF(AF433=AD430,AD429,\"\")","v":""},{"$f":"IF(AG433=AE430,AE429,\"\")","v":""},{"$f":"IF(AH433=AF430,AF429,\"\")","v":""},{"$f":"IF(AI433=AG430,AG429,\"\")","v":""},{"$f":"IF(AJ433=AH430,AH429,\"\")","v":""},{"$f":"IF(AK433=AI430,AI429,\"\")","v":""},{"$f":"IF(AL433=AJ430,AJ429,\"\")","v":""},{"$f":"IF(AM433=AK430,AK429,\"\")","v":""},{"$f":"IF(AN433=AL430,AL429,\"\")","v":""},{"$f":"IF(AO433=AM430,AM429,\"\")","v":""},{"$f":"IF(AP433=AN430,AN429,\"\")","v":""},{"$f":"IF(AQ433=AO430,AO429,\"\")","v":""},{"$f":"IF(AR433=AP430,AP429,\"\")","v":""},{"$f":"IF(AS433=AQ430,AQ429,\"\")","v":""},{"$f":"IF(AT433=AR430,AR429,\"\")","v":""},{"$f":"IF(AU433=AS430,AS429,\"\")","v":""},{"$f":"IF(AV433=AT430,AT429,\"\")","v":""},{"$f":"IF(AW433=AU430,AU429,\"\")","v":""},{"$f":"IF(AX433=AV430,AV429,\"\")","v":""},{"$f":"IF(AY433=AW430,AW429,\"\")","v":""},{"$f":"IF(AZ433=AX430,AX429,\"\")","v":""},{"$f":"IF(BA433=AY430,AY429,\"\")","v":""},{"$f":"IF(BB433=AZ430,AZ429,\"\")","v":""},{"$f":"IF(BC433=BA430,BA429,\"\")","v":""},null,null,null,null,null,null,1,{"$f":"CC421","v":0},{"$f":"CC426","v":0}]
[null,null,null,9,"",{"$f":"O423","v":""},"","",null,2,"",{"$f":"O430","v":""},{"$f":"IF(L433=\"\",\"\",IF(K433<=$C$74,\"X\",\"\"))","v":""},{"$f":"IF(M433=\"X\",L433,\"\")","v":""},null,{"$f":"IF($P434=N430,N430,\"\")","v":""},{"$f":"IF($P434=O430,O430,\"\")","v":""},{"$f":"IF($P434=P430,P430,\"\")","v":""},{"$f":"IF($P434=Q430,Q430,\"\")","v":""},{"$f":"IF($P434=R430,R430,\"\")","v":""},{"$f":"IF($P434=S430,S430,\"\")","v":""},{"$f":"IF($P434=T430,T430,\"\")","v":""},{"$f":"IF($P434=U430,U430,\"\")","v":""},{"$f":"IF($P434=V430,V430,\"\")","v":""},{"$f":"IF($P434=W430,W430,\"\")","v":""},{"$f":"IF($P434=X430,X430,\"\")","v":""},{"$f":"IF($P434=Y430,Y430,\"\")","v":""},{"$f":"IF($P434=Z430,Z430,\"\")","v":""},{"$f":"IF($P434=AA430,AA430,\"\")","v":""},{"$f":"IF($P434=AB430,AB430,\"\")","v":""},{"$f":"IF($P434=AC430,AC430,\"\")","v":""},{"$f":"IF($P434=AD430,AD430,\"\")","v":""},{"$f":"IF($P434=AE430,AE430,\"\")","v":""},{"$f":"IF($P434=AF430,AF430,\"\")","v":""},{"$f":"IF($P434=AG430,AG430,\"\")","v":""},{"$f":"IF($P434=AH430,AH430,\"\")","v":""},{"$f":"IF($P434=AI430,AI430,\"\")","v":""},{"$f":"IF($P434=AJ430,AJ430,\"\")","v":""},{"$f":"IF($P434=AK430,AK430,\"\")","v":""},{"$f":"IF($P434=AL430,AL430,\"\")","v":""},{"$f":"IF($P434=AM430,AM430,\"\")","v":""},{"$f":"IF($P434=AN430,AN430,\"\")","v":""},{"$f":"IF($P434=AO430,AO430,\"\")","v":""},{"$f":"IF($P434=AP430,AP430,\"\")","v":""},{"$f":"IF($P434=AQ430,AQ430,\"\")","v":""},{"$f":"IF($P434=AR430,AR430,\"\")","v":""},{"$f":"IF($P434=AS430,AS430,\"\")","v":""},{"$f":"IF($P434=AT430,AT430,\"\")","v":""},{"$f":"IF($P434=AU430,AU430,\"\")","v":""},{"$f":"IF($P434=AV430,AV430,\"\")","v":""},{"$f":"IF($P434=AW430,AW430,\"\")","v":""},{"$f":"IF($P434=AX430,AX430,\"\")","v":""},{"$f":"IF($P434=AY430,AY430,\"\")","v":""},{"$f":"IF($P434=AZ430,AZ430,\"\")","v":""},{"$f":"IF($P434=BA430,BA430,\"\")","v":""},null,null,null,null,null,null,2,{"$f":"BK432","v":0},{"$f":"BL432","v":0}]
[null,null,null,10,"",{"$f":"P423","v":""},"","",null,3,"",{"$f":"P430","v":""},"","",null,{"$f":"O432","v":0},null,null,null,null,null,null,null,null,null,null,null,null,null,null,null,null,null,null,null,null,null,null,null,null,null,null,null,null,null,null,null,null,null,null,null,null,null,null,null,null,null,null,null,null,null,3,{"$f":"BK433","v":0},0,null,null,null,null,null,null,null,null,null,null,null,null,null,null,null,"MASSIMO CARICO",null,null,null,null,{"$f":"C428","v":200}]
[null,null,null,11,"",{"$f":"Q423","v":""},"","",null,4,"",{"$f":"Q430","v":""},"","",null,null,null,null,null,null,null,null,null,null,null,null,null,null,null,null,null,null,null,null,null,null,null,null,null,null,null,null,null,null,null,null,null,null,null,null,null,null,null,null,null,null,null,null,null,null,null,4,{"$f":"BK434","v":0},0]
[null,null,null,12,"",{"$f":"R423","v":""},"","",null,5,"",{"$f":"R430","v":""},"","",null,null,null,null,null,null,null,null,null,null,null,null,null,null,null,null,null,null,null,null,null,null,null,null,null,null,null,null,null,null,null,null,null,null,null,null,null,null,null,null,null,null,null,null,null,null,null,5,{"$f":"BK435","v":0},0,null,null,null,null,null,null,null,null,null,null,null,null,null,null,null,"RIMANE",null,null,null,null,{"$f":"CG434-CD420","v":200}]
[null,null,null,13,"",{"$f":"S423","v":""},"","",null,6,"",{"$f":"S430","v":""},"","",null,null,null,null,null,null,null,null,null,null,null,null,null,null,null,null,null,null,null,null,null,null,null,null,null,null,null,null,null,null,null,null,null,null,null,null,null,null,null,null,null,null,null,null,null,null,null,6,{"$f":"BK436","v":0},0]
[null,null,null,14,"",{"$f":"T423","v":""},"","",null,7,"",{"$f":"T430","v":""},"","",null,null,null,null,null,null,null,null,null,null,null,null,null,null,null,null,null,null,null,null,null,null,null,null,null,null,null,null,null,null,null,null,null,null,null,null,null,null,null,null,null,null,null,null,null,null,null,7,{"$f":"BK437","v":0},0]
[null,null,null,15,"",{"$f":"U423","v":""},"",{"$f":"IF(G439=\"X\",F439,\"\")","v":""},null,8,"",{"$f":"U430","v":""},"","",null,null,null,null,null,null,null,null,null,null,null,null,null,null,null,null,null,null,null,null,null,null,null,null,null,null,null,null,null,null,null,null,null,null,null,null,null,null,null,null,null,null,null,null,null,null,null,8,{"$f":"BK438","v":0},0]
[null,null,null,16,"",{"$f":"V423","v":""},"","",null,9,"",{"$f":"V430","v":""},"","",null,null,null,null,null,null,null,null,null,null,null,null,null,null,null,null,null,null,null,null,null,null,null,null,null,null,null,null,null,null,null,null,null,null,null,null,null,null,null,null,null,null,null,null,null,null,null,9,{"$f":"BK439","v":0},0]
[null,null,null,17,"",{"$f":"W423","v":""},"","",null,10,"",{"$f":"W430","v":""},"","",null,null,null,null,null,null,null,null,null,null,null,null,null,null,null,null,null,null,null,null,null,null,null,null,null,null,null,null,null,null,null,null,null,null,null,null,null,null,null,null,null,null,null,null,null,null,null,10,{"$f":"BK440","v":0},0]
[null,null,null,18,"",{"$f":"X423","v":""},"","",null,11,"",{"$f":"X430","v":""},"","",null,null,null,null,null,null,null,null,null,null,null,null,null,null,null,null,null,null,null,null,null,null,null,null,null,null,null,null,null,null,null,null,null,null,null,null,null,null,null,null,null,null,null,null,null,null,null,11,{"$f":"BK441","v":0},0]
[null,null,null,19,"",{"$f":"Y423","v":""},"","",null,12,"",{"$f":"Y430","v":""},"","",null,null,null,null,null,null,null,null,null,null,null,null,null,null,null,null,null,null,null,null,null,null,null,null,null,null,null,null,null,null,null,null,null,null,null,null,null,null,null,null,null,null,null,null,null,null,null,12,{"$f":"BK442","v":0},0]
[null,null,null,20,"",{"$f":"Z423","v":""},"","",null,13,"",{"$f":"Z430","v":""},"","",null,null,null,null,null,null,null,null,null,null,null,null,null,null,null,null,null,null,null,null,null,null,null,null,null,null,null,null,null,null,null,null,null,null,null,null,null,null,null,null,null,null,null,null,null,null,null,13,{"$f":"BK443","v":0},0]
[null,null,null,21,{"$f":"IF(F445<>\"\",F445+G$126,\"\")","v":""},{"$f":"AA423","v":""},"","",null,14,"",{"$f":"AA430","v":""},"","",null,null,null,null,null,null,null,null,null,null,null,null,null,null,null,null,null,null,null,null,null,null,null,null,null,null,null,null,null,null,null,null,null,null,null,null,null,null,null,null,null,null,null,null,null,null,null,14,{"$f":"BK444","v":0},0]
[null,null,null,22,"",{"$f":"AB423","v":""},"","",null,15,"",{"$f":"AB430","v":""},"","",null,"RIMASTI A DISPOSIZIONE",null,null,null,null,null,null,null,null,null,null,null,null,null,null,null,null,null,null,null,null,null,null,null,null,null,null,null,null,null,null,null,null,null,null,null,null,null,null,null,null,null,null,null,null,null,15,{"$f":"BK445","v":0},0]
[null,null,null,23,"",{"$f":"AC423","v":""},"","",null,16,"",{"$f":"AC430","v":""},"","",null,null,null,null,null,null,null,null,null,null,null,null,null,null,null,null,null,null,null,null,null,null,null,null,null,null,null,null,null,null,null,null,null,null,null,null,null,null,null,null,null,null,null,null,null,null,null,16,{"$f":"BK446","v":0},0]
[null,null,null,24,"",{"$f":"AD423","v":""},"","",null,17,"",{"$f":"AD430","v":""},"","",null,1,2,3,4,5,6,7,8,9,10,11,12,13,14,15,16,17,18,19,20,21,22,23,24,25,26,27,28,29,30,31,32,33,34,35,36,37,38,39,40,null,null,null,null,null,null,17,{"$f":"BK447","v":0},0]
[null,null,null,25,"",{"$f":"AE423","v":""},"","",null,18,"",{"$f":"AE430","v":""},"","",null,{"$f":"IF(P450=\"\",\"\",IF(P450=G417,G416,\"\"))","v":""},{"$f":"IF(Q450=\"\",\"\",IF(Q450=H417,H416,\"\"))","v":""},{"$f":"IF(R450=\"\",\"\",IF(R450=I417,I416,\"\"))","v":""},{"$f":"IF(S450=\"\",\"\",IF(S450=J417,J416,\"\"))","v":""},{"$f":"IF(T450=\"\",\"\",IF(T450=K417,K416,\"\"))","v":""},{"$f":"IF(U450=\"\",\"\",IF(U450=L417,L416,\"\"))","v":""},{"$f":"IF(V450=\"\",\"\",IF(V450=M417,M416,\"\"))","v":""},{"$f":"IF(W450=\"\",\"\",IF(W450=N417,N416,\"\"))","v":""},{"$f":"IF(X450=\"\",\"\",IF(X450=O417,O416,\"\"))","v":""},{"$f":"IF(Y450=\"\",\"\",IF(Y450=P417,P416,\"\"))","v":""},{"$f":"IF(Z450=\"\",\"\",IF(Z450=Q417,Q416,\"\"))","v":""},{"$f":"IF(AA450=\"\",\"\",IF(AA450=R417,R416,\"\"))","v":""},{"$f":"IF(AB450=\"\",\"\",IF(AB450=S417,S416,\"\"))","v":""},{"$f":"IF(AC450=\"\",\"\",IF(AC450=T417,T416,\"\"))","v":""},{"$f":"IF(AD450=\"\",\"\",IF(AD450=U417,U416,\"\"))","v":""},{"$f":"IF(AE450=\"\",\"\",IF(AE450=V417,V416,\"\"))","v":""},{"$f":"IF(AF450=\"\",\"\",IF(AF450=W417,W416,\"\"))","v":""},{"$f":"IF(AG450=\"\",\"\",IF(AG450=X417,X416,\"\"))","v":""},{"$f":"IF(AH450=\"\",\"\",IF(AH450=Y417,Y416,\"\"))","v":""},{"$f":"IF(AI450=\"\",\"\",IF(AI450=Z417,Z416,\"\"))","v":""},{"$f":"IF(AJ450=\"\",\"\",IF(AJ450=AA417,AA416,\"\"))","v":""},{"$f":"IF(AK450=\"\",\"\",IF(AK450=AB417,AB416,\"\"))","v":""},{"$f":"IF(AL450=\"\",\"\",IF(AL450=AC417,AC416,\"\"))","v":""},{"$f":"IF(AM450=\"\",\"\",IF(AM450=AD417,AD416,\"\"))","v":""},{"$f":"IF(AN450=\"\",\"\",IF(AN450=AE417,AE416,\"\"))","v":""},{"$f":"IF(AO450=\"\",\"\",IF(AO450=AF417,AF416,\"\"))","v":""},{"$f":"IF(AP450=\"\",\"\",IF(AP450=AG417,AG416,\"\"))","v":""},{"$f":"IF(AQ450=\"\",\"\",IF(AQ450=AH417,AH416,\"\"))","v":""},{"$f":"IF(AR450=\"\",\"\",IF(AR450=AI417,AI416,\"\"))","v":""},{"$f":"IF(AS450=\"\",\"\",IF(AS450=AJ417,AJ416,\"\"))","v":""},{"$f":"IF(AT450=\"\",\"\",IF(AT450=AK417,AK416,\"\"))","v":""},{"$f":"IF(AU450=\"\",\"\",IF(AU450=AL417,AL416,\"\"))","v":""},{"$f":"IF(AV450=\"\",\"\",IF(AV450=AM417,AM416,\"\"))","v":""},{"$f":"IF(AW450=\"\",\"\",IF(AW450=AN417,AN416,\"\"))","v":""},{"$f":"IF(AX450=\"\",\"\",IF(AX450=AO417,AO416,\"\"))","v":""},{"$f":"IF(AY450=\"\",\"\",IF(AY450=AP417,AP416,\"\"))","v":""},{"$f":"IF(AZ450=\"\",\"\",IF(AZ450=AQ417,AQ416,\"\"))","v":""},{"$f":"IF(BA450=\"\",\"\",IF(BA450=AR417,AR416,\"\"))","v":""},{"$f":"IF(BB450=\"\",\"\",IF(BB450=AS417,AS416,\"\"))","v":""},{"$f":"IF(BC450=\"\",\"\",IF(BC450=AT417,AT416,\"\"))","v":""},null,null,null,null,null,null,18,{"$f":"BK448","v":0},0]
[null,null,null,26,"",{"$f":"AF423","v":""},"","",null,19,"",{"$f":"AF430","v":""},"","",null,{"$f":"IF(G417=$P434,\"\",IF(G417=$J427,\"\",IF(G417=$G418,\"\",G417)))","v":""},{"$f":"IF(H417=$P434,\"\",IF(H417=$J427,\"\",IF(H417=$G418,\"\",H417)))","v":""},{"$f":"IF(I417=$P434,\"\",IF(I417=$J427,\"\",IF(I417=$G418,\"\",I417)))","v":""},{"$f":"IF(J417=$P434,\"\",IF(J417=$J427,\"\",IF(J417=$G418,\"\",J417)))","v":""},{"$f":"IF(K417=$P434,\"\",IF(K417=$J427,\"\",IF(K417=$G418,\"\",K417)))","v":""},{"$f":"IF(L417=$P434,\"\",IF(L417=$J427,\"\",IF(L417=$G418,\"\",L417)))","v":""},{"$f":"IF(M417=$P434,\"\",IF(M417=$J427,\"\",IF(M417=$G418,\"\",M417)))","v":""},{"$f":"IF(N417=$P434,\"\",IF(N417=$J427,\"\",IF(N417=$G418,\"\",N417)))","v":""},{"$f":"IF(O417=$P434,\"\",IF(O417=$J427,\"\",IF(O417=$G418,\"\",O417)))","v":""},{"$f":"IF(P417=$P434,\"\",IF(P417=$J427,\"\",IF(P417=$G418,\"\",P417)))","v":""},{"$f":"IF(Q417=$P434,\"\",IF(Q417=$J427,\"\",IF(Q417=$G418,\"\",Q417)))","v":""},{"$f":"IF(R417=$P434,\"\",IF(R417=$J427,\"\",IF(R417=$G418,\"\",R417)))","v":""},{"$f":"IF(S417=$P434,\"\",IF(S417=$J427,\"\",IF(S417=$G418,\"\",S417)))","v":""},{"$f":"IF(T417=$P434,\"\",IF(T417=$J427,\"\",IF(T417=$G418,\"\",T417)))","v":""},{"$f":"IF(U417=$P434,\"\",IF(U417=$J427,\"\",IF(U417=$G418,\"\",U417)))","v":""},{"$f":"IF(V417=$P434,\"\",IF(V417=$J427,\"\",IF(V417=$G418,\"\",V417)))","v":""},{"$f":"IF(W417=$P434,\"\",IF(W417=$J427,\"\",IF(W417=$G418,\"\",W417)))","v":""},{"$f":"IF(X417=$P434,\"\",IF(X417=$J427,\"\",IF(X417=$G418,\"\",X417)))","v":""},{"$f":"IF(Y417=$P434,\"\",IF(Y417=$J427,\"\",IF(Y417=$G418,\"\",Y417)))","v":""},{"$f":"IF(Z417=$P434,\"\",IF(Z417=$J427,\"\",IF(Z417=$G418,\"\",Z417)))","v":""},{"$f":"IF(AA417=$P434,\"\",IF(AA417=$J427,\"\",IF(AA417=$G418,\"\",AA417)))","v":""},{"$f":"IF(AB417=$P434,\"\",IF(AB417=$J427,\"\",IF(AB417=$G418,\"\",AB417)))","v":""},{"$f":"IF(AC417=$P434,\"\",IF(AC417=$J427,\"\",IF(AC417=$G418,\"\",AC417)))","v":""},{"$f":"IF(AD417=$P434,\"\",IF(AD417=$J427,\"\",IF(AD417=$G418,\"\",AD417)))","v":""},{"$f":"IF(AE417=$P434,\"\",IF(AE417=$J427,\"\",IF(AE417=$G418,\"\",AE417)))","v":""},{"$f":"IF(AF417=$P434,\"\",IF(AF417=$J427,\"\",IF(AF417=$G418,\"\",AF417)))","v":""},{"$f":"IF(AG417=$P434,\"\",IF(AG417=$J427,\"\",IF(AG417=$G418,\"\",AG417)))","v":""},{"$f":"IF(AH417=$P434,\"\",IF(AH417=$J427,\"\",IF(AH417=$G418,\"\",AH417)))","v":""},{"$f":"IF(AI417=$P434,\"\",IF(AI417=$J427,\"\",IF(AI417=$G418,\"\",AI417)))","v":""},{"$f":"IF(AJ417=$P434,\"\",IF(AJ417=$J427,\"\",IF(AJ417=$G418,\"\",AJ417)))","v":""},{"$f":"IF(AK417=$P434,\"\",IF(AK417=$J427,\"\",IF(AK417=$G418,\"\",AK417)))","v":""},{"$f":"IF(AL417=$P434,\"\",IF(AL417=$J427,\"\",IF(AL417=$G418,\"\",AL417)))","v":""},{"$f":"IF(AM417=$P434,\"\",IF(AM417=$J427,\"\",IF(AM417=$G418,\"\",AM417)))","v":""},{"$f":"IF(AN417=$P434,\"\",IF(AN417=$J427,\"\",IF(AN417=$G418,\"\",AN417)))","v":""},{"$f":"IF(AO417=$P434,\"\",IF(AO417=$J427,\"\",IF(AO417=$G418,\"\",AO417)))","v":""},{"$f":"IF(AP417=$P434,\"\",IF(AP417=$J427,\"\",IF(AP417=$G418,\"\",AP417)))","v":""},{"$f":"IF(AQ417=$P434,\"\",IF(AQ417=$J427,\"\",IF(AQ417=$G418,\"\",AQ417)))","v":""},{"$f":"IF(AR417=$P434,\"\",IF(AR417=$J427,\"\",IF(AR417=$G418,\"\",AR417)))","v":""},{"$f":"IF(AS417=$P434,\"\",IF(AS417=$J427,\"\",IF(AS417=$G418,\"\",AS417)))","v":""},{"$f":"IF(AT417=$P434,\"\",IF(AT417=$J427,\"\",IF(AT417=$G418,\"\",AT417)))","v":""},null,null,null,null,null,null,19,{"$f":"BK449","v":0},0]
[null,null,null,27,"",{"$f":"AG423","v":""},"","",null,20,"",{"$f":"AG430","v":""},"","",null,null,null,null,null,null,null,null,null,null,null,null,null,null,null,null,null,null,null,null,null,null,null,null,null,null,null,null,null,null,null,null,null,null,null,null,null,null,null,null,null,null,null,null,null,null,null,20,{"$f":"BK450","v":0},0]
[null,null,null,28,"",{"$f":"AH423","v":""},"","",null,21,{"$f":"IF(L452<>\"\",BK452+BL452+L452,\"\")","v":""},{"$f":"AH430","v":""},"","",null,null,null,null,null,null,null,null,null,null,null,null,null,null,null,null,null,null,null,null,null,null,null,null,null,null,null,null,null,null,null,null,null,null,null,null,null,null,null,null,null,null,null,null,null,null,null,21,{"$f":"BK451","v":0},0]
[null,null,null,29,"",{"$f":"AI423","v":""},"","",null,22,"",{"$f":"AI430","v":""},"","",null,null,null,null,null,null,null,null,null,null,null,null,null,null,null,null,null,null,null,null,null,null,null,null,null,null,null,null,null,null,null,null,null,null,null,null,null,null,null,null,null,null,null,null,null,null,null,22,{"$f":"BK452","v":0},0]
[null,null,null,30,"",{"$f":"AJ423","v":""},"","",null,23,"",{"$f":"AJ430","v":""},"","",null,null,null,null,null,null,null,null,null,null,null,null,null,null,null,null,null,null,null,null,null,null,null,null,null,null,null,null,null,null,null,null,null,null,null,null,null,null,null,null,null,null,null,null,null,null,null,23,{"$f":"BK453","v":0},0]
[null,null,null,31,"",{"$f":"AK423","v":""},"","",null,24,"",{"$f":"AK430","v":""},"","",null,null,null,null,null,null,null,null,null,null,null,null,null,null,null,null,null,null,null,null,null,null,null,null,null,null,null,null,null,null,null,null,null,null,null,null,null,null,null,null,null,null,null,null,null,null,null,24,{"$f":"BK454","v":0},0]
[null,null,null,32,"",{"$f":"AL423","v":""},"","",null,25,"",{"$f":"AL430","v":""},"","",null,null,null,null,null,null,null,null,null,null,null,null,null,null,null,null,null,null,null,null,null,null,null,null,null,null,null,null,null,null,null,null,null,null,null,null,null,null,null,null,null,null,null,null,null,null,null,25,{"$f":"BK455","v":0},0]
[null,null,null,33,"",{"$f":"AM423","v":""},"","",null,26,"",{"$f":"AM430","v":""},"","",null,null,null,null,null,null,null,null,null,null,null,null,null,null,null,null,null,null,null,null,null,null,null,null,null,null,null,null,null,null,null,null,null,null,null,null,null,null,null,null,null,null,null,null,null,null,null,26,{"$f":"BK456","v":0},0]
[null,null,null,34,"",{"$f":"AN423","v":""},"","",null,27,"",{"$f":"AN430","v":""},"","",null,null,null,null,null,null,null,null,null,null,null,null,null,null,null,null,null,null,null,null,null,null,null,null,null,null,null,null,null,null,null,null,null,null,null,null,null,null,null,null,null,null,null,null,null,null,null,27,{"$f":"BK457","v":0},0]
[null,null,null,35,"",{"$f":"AO423","v":""},"","",null,28,"",{"$f":"AO430","v":""},"","",null,null,null,null,null,null,null,null,null,null,null,null,null,null,null,null,null,null,null,null,null,null,null,null,null,null,null,null,null,null,null,null,null,null,null,null,null,null,null,null,null,null,null,null,null,null,null,28,{"$f":"BK458","v":0},0]
[null,null,null,36,"",{"$f":"AP423","v":""},"","",null,29,"",{"$f":"AP430","v":""},"","",null,null,null,null,null,null,null,null,null,null,null,null,null,null,null,null,null,null,null,null,null,null,null,null,null,null,null,null,null,null,null,null,null,null,null,null,null,null,null,null,null,null,null,null,null,null,null,29,{"$f":"BK459","v":0},0]
[null,null,null,37,"",{"$f":"AQ423","v":""},"","",null,30,"",{"$f":"AQ430","v":""},"","",null,null,null,null,null,null,null,null,null,null,null,null,null,null,null,null,null,null,null,null,null,null,null,null,null,null,null,null,null,null,null,null,null,null,null,null,null,null,null,null,null,null,null,null,null,null,null,30,{"$f":"BK460","v":0},0]
[null,null,null,38,"",{"$f":"AR423","v":""},"","",null,31,"",{"$f":"AR430","v":""},"","",null,null,null,null,null,null,null,null,null,null,null,null,null,null,null,null,null,null,null,null,null,null,null,null,null,null,null,null,null,null,null,null,null,null,null,null,null,null,null,null,null,null,null,null,null,null,null,31,{"$f":"BK461","v":0},0]
[null,null,null,39,"",{"$f":"AS423","v":""},"","",null,32,"",{"$f":"AS430","v":""},"","",null,null,null,null,null,null,null,null,null,null,null,null,null,null,null,null,null,null,null,null,null,null,null,null,null,null,null,null,null,null,null,null,null,null,null,null,null,null,null,null,null,null,null,null,null,null,null,32,{"$f":"BK462","v":0},0]
[null,null,null,40,"",{"$f":"AT423","v":""},"","",null,33,"",{"$f":"AT430","v":""},"","",null,null,null,null,null,null,null,null,null,null,null,null,null,null,null,null,null,null,null,null,null,null,null,null,null,null,null,null,null,null,null,null,null,null,null,null,null,null,null,null,null,null,null,null,null,null,null,33,{"$f":"BK463","v":0},0]
[null,null,null,null,null,null,null,null,null,34,"",{"$f":"AU430","v":""},"","",null,null,null,null,null,null,null,null,null,null,null,null,null,null,null,null,null,null,null,null,null,null,null,null,null,null,null,null,null,null,null,null,null,null,null,null,null,null,null,null,null,null,null,null,null,null,null,34,{"$f":"BK464","v":0},0]
[null,null,null,null,null,null,null,null,null,35,"",{"$f":"AV430","v":""},"","",null,null,null,null,null,null,null,null,null,null,null,null,null,null,null,null,null,null,null,null,null,null,null,null,null,null,null,null,null,null,null,null,null,null,null,null,null,null,null,null,null,null,null,null,null,null,null,35,{"$f":"BK465","v":0},0]
[null,null,null,null,null,null,null,null,null,36,"",{"$f":"AW430","v":""},"","",null,null,null,null,null,null,null,null,null,null,null,null,null,null,null,null,null,null,null,null,null,null,null,null,null,null,null,null,null,null,null,null,null,null,null,null,null,null,null,null,null,null,null,null,null,null,null,36,{"$f":"BK466","v":0},0]
[null,null,null,null,null,null,null,null,null,37,"",{"$f":"AX430","v":""},"","",null,null,null,null,null,null,null,null,null,null,null,null,null,null,null,null,null,null,null,null,null,null,null,null,null,null,null,null,null,null,null,null,null,null,null,null,null,null,null,null,null,null,null,null,null,null,null,37,{"$f":"BK467","v":0},0]
[null,null,null,null,null,null,null,null,null,38,"",{"$f":"AY430","v":""},"","",null,null,null,null,null,null,null,null,null,null,null,null,null,null,null,null,null,null,null,null,null,null,null,null,null,null,null,null,null,null,null,null,null,null,null,null,null,null,null,null,null,null,null,null,null,null,null,38,{"$f":"BK468","v":0},0]
[null,null,null,null,null,null,null,null,null,39,"",{"$f":"AZ430","v":""},"","",null,null,null,null,null,null,null,null,null,null,null,null,null,null,null,null,null,null,null,null,null,null,null,null,null,null,null,null,null,null,null,null,null,null,null,null,null,null,null,null,null,null,null,null,null,null,null,39,{"$f":"BK469","v":0},0]
[null,null,null,null,null,null,null,null,null,40,"",{"$f":"BA430","v":""},"","",null,null,null,null,null,null,null,null,null,null,null,null,null,null,null,null,null,null,null,null,null,null,null,null,null,null,null,null,null,null,null,null,null,null,null,null,null,null,null,null,null,null,null,null,null,null,null,40,{"$f":"BK470","v":0},0]
[]
[]
[null,null,null,null,null,null,1,2,3,4,5,6,7,8,9,10,11,12,13,14,15,16,17,18,19,20,21,22,23,24,25,26,27,28,29,30,31,32,33,34,35,36,37,38,39,40,null,null,null,null,null,null,null,null,null,null,null,null,null,null,null,"BLOCCHI CHE POSSONO ESSERE CARICATI IN COPPIA O A TRE PERCHE' IL LORO PESO COMPLESSIVO NON SUPERA IL PESO MASSIMO CONSENTITO NEL TRASPORTO"]
[null,null,"TIR",null,{"$f":"E416+1","v":8},null,{"$f":"P449","v":""},{"$f":"Q449","v":""},{"$f":"R449","v":""},{"$f":"S449","v":""},{"$f":"T449","v":""},{"$f":"U449","v":""},{"$f":"V449","v":""},{"$f":"W449","v":""},{"$f":"X449","v":""},{"$f":"Y449","v":""},{"$f":"Z449","v":""},{"$f":"AA449","v":""},{"$f":"AB449","v":""},{"$f":"AC449","v":""},{"$f":"AD449","v":""},{"$f":"AE449","v":""},{"$f":"AF449","v":""},{"$f":"AG449","v":""},{"$f":"AH449","v":""},{"$f":"AI449","v":""},{"$f":"AJ449","v":""},{"$f":"AK449","v":""},{"$f":"AL449","v":""},{"$f":"AM449","v":""},{"$f":"AN449","v":""},{"$f":"AO449","v":""},{"$f":"AP449","v":""},{"$f":"AQ449","v":""},{"$f":"AR449","v":""},{"$f":"AS449","v":""},{"$f":"AT449","v":""},{"$f":"AU449","v":""},{"$f":"AV449","v":""},{"$f":"AW449","v":""},{"$f":"AX449","v":""},{"$f":"AY449","v":""},{"$f":"AZ449","v":""},{"$f":"BA449","v":""},{"$f":"BB449","v":""},{"$f":"BC449","v":""}]
[null,null,null,null,null,null,{"$f":"P450","v":""},"","","","","","","","","","","","","","","","","","","","","","","","","","","","","","","","","","","","","","",""]
[null,null,"MASSIMO PESO",null,null,null,{"$f":"MAX(G476:AT476)","v":0}]
[null,null,null,null,null,null,{"$f":"IF(G476=$G477,G475,\"\")","v":""},{"$f":"IF(H476=$G477,H475,\"\")","v":""},{"$f":"IF(I476=$G477,I475,\"\")","v":""},{"$f":"IF(J476=$G477,J475,\"\")","v":""},{"$f":"IF(K476=$G477,K475,\"\")","v":""},{"$f":"IF(L476=$G477,L475,\"\")","v":""},{"$f":"IF(M476=$G477,M475,\"\")","v":""},{"$f":"IF(N476=$G477,N475,\"\")","v":""},{"$f":"IF(O476=$G477,O475,\"\")","v":""},{"$f":"IF(P476=$G477,P475,\"\")","v":""},{"$f":"IF(Q476=$G477,Q475,\"\")","v":""},{"$f":"IF(R476=$G477,R475,\"\")","v":""},{"$f":"IF(S476=$G477,S475,\"\")","v":""},{"$f":"IF(T476=$G477,T475,\"\")","v":""},{"$f":"IF(U476=$G477,U475,\"\")","v":""},{"$f":"IF(V476=$G477,V475,\"\")","v":""},{"$f":"IF(W476=$G477,W475,\"\")","v":""},{"$f":"IF(X476=$G477,X475,\"\")","v":""},{"$f":"IF(Y476=$G477,Y475,\"\")","v":""},{"$f":"IF(Z476=$G477,Z475,\"\")","v":""},{"$f":"IF(AA476=$G477,AA475,\"\")","v":""},{"$f":"IF(AB476=$G477,AB475,\"\")","v":""},{"$f":"IF(AC476=$G477,AC475,\"\")","v":""},{"$f":"IF(AD476=$G477,AD475,\"\")","v":""},{"$f":"IF(AE476=$G477,AE475,\"\")","v":""},{"$f":"IF(AF476=$G477,AF475,\"\")","v":""},{"$f":"IF(AG476=$G477,AG475,\"\")","v":""},{"$f":"IF(AH476=$G477,AH475,\"\")","v":""},{"$f":"IF(AI476=$G477,AI475,\"\")","v":""},{"$f":"IF(AJ476=$G477,AJ475,\"\")","v":""},{"$f":"IF(AK476=$G477,AK475,\"\")","v":""},{"$f":"IF(AL476=$G477,AL475,\"\")","v":""},{"$f":"IF(AM476=$G477,AM475,\"\")","v":""},{"$f":"IF(AN476=$G477,AN475,\"\")","v":""},{"$f":"IF(AO476=$G477,AO475,\"\")","v":""},{"$f":"IF(AP476=$G477,AP475,\"\")","v":""},{"$f":"IF(AQ476=$G477,AQ475,\"\")","v":""},{"$f":"IF(AR476=$G477,AR475,\"\")","v":""},{"$f":"IF(AS476=$G477,AS475,\"\")","v":""},{"$f":"IF(AT476=$G477,AT475,\"\")","v":""}]
[null,null,null,null,null,null,{"$f":"G478&H478&I478&J478&K478&L478&M478&N478&O478&P478&Q478&R478&S478&T478&U478&V478&W478&X478&Y478&Z478&AA478&AB478&AC478&AD478&AE478&AF478&AG478&AH478&AI478&AJ478&AK478&AL478&AM478&AN478&AO478&AP478&AQ478&AR478&AS478&AT478","v":""},null,null,null,null,null,null,null,null,null,null,null,null,null,null,null,null,null,null,null,null,null,null,null,null,null,null,null,null,null,null,null,null,null,null,null,null,null,null,null,null,null,null,null,null,null,null,null,null,null,null,null,null,null,null,null,null,null,null,null,null,null,null,null,null,null,null,null,"Primo Blocco",null,null,null,null,null,{"$f":"G479","v":""},{"$f":"CC480+CC485+CC490","v":0},null,"Quintali",null,"N° Blocco"]
[null,null,null,null,null,null,{"$f":"G477","v":0},null,null,null,null,null,null,null,null,null,null,null,null,null,null,null,null,null,null,null,null,null,null,null,null,null,null,null,null,null,null,null,null,null,null,null,null,null,null,null,null,null,null,null,null,null,null,null,null,null,null,null,null,null,null,null,null,null,null,null,null,null,null,null,null,null,null,null,null,null,null,null,null,null,{"$f":"G477","v":0},null,null,{"$f":"IF(CC480=0,\"\",CC480)","v":""},null,{"$f":"IF(CF480=\"\",\"\",CC479)","v":""}]
[null,null,null,null,null,null,{"$f":"IF(G482=\"\",\"\",IF(G482=G476,G475,\"\"))","v":""},{"$f":"IF(H482=\"\",\"\",IF(H482=H476,H475,\"\"))","v":""},{"$f":"IF(I482=\"\",\"\",IF(I482=I476,I475,\"\"))","v":""},{"$f":"IF(J482=\"\",\"\",IF(J482=J476,J475,\"\"))","v":""},{"$f":"IF(K482=\"\",\"\",IF(K482=K476,K475,\"\"))","v":""},{"$f":"IF(L482=\"\",\"\",IF(L482=L476,L475,\"\"))","v":""},{"$f":"IF(M482=\"\",\"\",IF(M482=M476,M475,\"\"))","v":""},{"$f":"IF(N482=\"\",\"\",IF(N482=N476,N475,\"\"))","v":""},{"$f":"IF(O482=\"\",\"\",IF(O482=O476,O475,\"\"))","v":""},{"$f":"IF(P482=\"\",\"\",IF(P482=P476,P475,\"\"))","v":""},{"$f":"IF(Q482=\"\",\"\",IF(Q482=Q476,Q475,\"\"))","v":""},{"$f":"IF(R482=\"\",\"\",IF(R482=R476,R475,\"\"))","v":""},{"$f":"IF(S482=\"\",\"\",IF(S482=S476,S475,\"\"))","v":""},{"$f":"IF(T482=\"\",\"\",IF(T482=T476,T475,\"\"))","v":""},{"$f":"IF(U482=\"\",\"\",IF(U482=U476,U475,\"\"))","v":""},{"$f":"IF(V482=\"\",\"\",IF(V482=V476,V475,\"\"))","v":""},{"$f":"IF(W482=\"\",\"\",IF(W482=W476,W475,\"\"))","v":""},{"$f":"IF(X482=\"\",\"\",IF(X482=X476,X475,\"\"))","v":""},{"$f":"IF(Y482=\"\",\"\",IF(Y482=Y476,Y475,\"\"))","v":""},{"$f":"IF(Z482=\"\",\"\",IF(Z482=Z476,Z475,\"\"))","v":""},{"$f":"IF(AA482=\"\",\"\",IF(AA482=AA476,AA475,\"\"))","v":""},{"$f":"IF(AB482=\"\",\"\",IF(AB482=AB476,AB475,\"\"))","v":""},{"$f":"IF(AC482=\"\",\"\",IF(AC482=AC476,AC475,\"\"))","v":""},{"$f":"IF(AD482=\"\",\"\",IF(AD482=AD476,AD475,\"\"))","v":""},{"$f":"IF(AE482=\"\",\"\",IF(AE482=AE476,AE475,\"\"))","v":""},{"$f":"IF(AF482=\"\",\"\",IF(AF482=AF476,AF475,\"\"))","v":""},{"$f":"IF(AG482=\"\",\"\",IF(AG482=AG476,AG475,\"\"))","v":""},{"$f":"IF(AH482=\"\",\"\",IF(AH482=AH476,AH475,\"\"))","v":""},{"$f":"IF(AI482=\"\",\"\",IF(AI482=AI476,AI475,\"\"))","v":""},{"$f":"IF(AJ482=\"\",\"\",IF(AJ482=AJ476,AJ475,\"\"))","v":""},{"$f":"IF(AK482=\"\",\"\",IF(AK482=AK476,AK475,\"\"))","v":""},{"$f":"IF(AL482=\"\",\"\",IF(AL482=AL476,AL475,\"\"))","v":""},{"$f":"IF(AM482=\"\",\"\",IF(AM482=AM476,AM475,\"\"))","v":""},{"$f":"IF(AN482=\"\",\"\",IF(AN482=AN476,AN475,\"\"))","v":""},{"$f":"IF(AO482=\"\",\"\",IF(AO482=AO476,AO475,\"\"))","v":""},{"$f":"IF(AP482=\"\",\"\",IF(AP482=AP476,AP475,\"\"))","v":""},{"$f":"IF(AQ482=\"\",\"\",IF(AQ482=AQ476,AQ475,\"\"))","v":""},{"$f":"IF(AR482=\"\",\"\",IF(AR482=AR476,AR475,\"\"))","v":""},{"$f":"IF(AS482=\"\",\"\",IF(AS482=AS476,AS475,\"\"))","v":""},{"$f":"IF(AT482=\"\",\"\",IF(AT482=AT476,AT475,\"\"))","v":""},null,null,null,null,null,null,null,null,null,null,null,null,null,null,null,null,null,null,null,null,null,null,null,null,null,null,null,null,null,null,null,null,null,null,null,null,null,{"$f":"IF(CC485=0,\"\",CC485)","v":""},null,{"$f":"IF(CF481=\"\",\"\",CC484)","v":""}]
[null,null,"DISPONIBILI",null,null,null,{"$f":"IF(G476=$G477,\"\",G476)","v":""},{"$f":"IF(H476=$G477,\"\",H476)","v":""},{"$f":"IF(I476=$G477,\"\",I476)","v":""},{"$f":"IF(J476=$G477,\"\",J476)","v":""},{"$f":"IF(K476=$G477,\"\",K476)","v":""},{"$f":"IF(L476=$G477,\"\",L476)","v":""},{"$f":"IF(M476=$G477,\"\",M476)","v":""},{"$f":"IF(N476=$G477,\"\",N476)","v":""},{"$f":"IF(O476=$G477,\"\",O476)","v":""},{"$f":"IF(P476=$G477,\"\",P476)","v":""},{"$f":"IF(Q476=$G477,\"\",Q476)","v":""},{"$f":"IF(R476=$G477,\"\",R476)","v":""},{"$f":"IF(S476=$G477,\"\",S476)","v":""},{"$f":"IF(T476=$G477,\"\",T476)","v":""},{"$f":"IF(U476=$G477,\"\",U476)","v":""},{"$f":"IF(V476=$G477,\"\",V476)","v":""},{"$f":"IF(W476=$G477,\"\",W476)","v":""},{"$f":"IF(X476=$G477,\"\",X476)","v":""},{"$f":"IF(Y476=$G477,\"\",Y476)","v":""},{"$f":"IF(Z476=$G477,\"\",Z476)","v":""},{"$f":"IF(AA476=$G477,\"\",AA476)","v":""},{"$f":"IF(AB476=$G477,\"\",AB476)","v":""},{"$f":"IF(AC476=$G477,\"\",AC476)","v":""},{"$f":"IF(AD476=$G477,\"\",AD476)","v":""},{"$f":"IF(AE476=$G477,\"\",AE476)","v":""},{"$f":"IF(AF476=$G477,\"\",AF476)","v":""},{"$f":"IF(AG476=$G477,\"\",AG476)","v":""},{"$f":"IF(AH476=$G477,\"\",AH476)","v":""},{"$f":"IF(AI476=$G477,\"\",AI476)","v":""},{"$f":"IF(AJ476=$G477,\"\",AJ476)","v":""},{"$f":"IF(AK476=$G477,\"\",AK476)","v":""},{"$f":"IF(AL476=$G477,\"\",AL476)","v":""},{"$f":"IF(AM476=$G477,\"\",AM476)","v":""},{"$f":"IF(AN476=$G477,\"\",AN476)","v":""},{"$f":"IF(AO476=$G477,\"\",AO476)","v":""},{"$f":"IF(AP476=$G477,\"\",AP476)","v":""},{"$f":"IF(AQ476=$G477,\"\",AQ476)","v":""},{"$f":"IF(AR476=$G477,\"\",AR476)","v":""},{"$f":"IF(AS476=$G477,\"\",AS476)","v":""},{"$f":"IF(AT476=$G477,\"\",AT476)","v":""},null,null,null,null,null,null,null,null,null,null,null,null,null,null,null,null,null,null,null,null,null,null,null,null,null,null,null,null,null,null,null,null,null,null,null,null,null,{"$f":"IF(CC490=0,\"\",CC490)","v":""},null,{"$f":"IF(CF482=\"\",\"\",CC489)","v":""}]
[null,null,null,null,null,null,null,null,null,null,null,null,null,null,null,null,null,null,null,null,null,null,null,null,null,null,null,null,null,null,null,null,null,null,null,null,null,null,null,null,null,null,null,null,null,null,null,null,null,null,null,null,null,null,null,null,null,null,null,null,null,null,null,null,null,null,null,null,null,null,null,null,null,null,null,null,null,null,null,null,null,null,null,"NUMERO TIR"]
[null,null,"Portata                Max.               TIR",1,{"$f":"IF(F484<>\"\",F484+G$126,\"\")","v":""},{"$f":"G482","v":""},{"$f":"IF(F484=\"\",\"\",IF(E484<=$C$74,\"X\",\"\"))","v":""},{"$f":"IF(G484=\"X\",F484,\"\")","v":""},{"$f":"MAX(H484:H523)","v":0},{"$f":"IF(J485=G482,G481,\"\")","v":""},{"$f":"IF(K485=H482,H481,\"\")","v":""},{"$f":"IF(L485=I482,I481,\"\")","v":""},{"$f":"IF(M485=J482,J481,\"\")","v":""},{"$f":"IF(N485=K482,K481,\"\")","v":""},{"$f":"IF(O485=L482,L481,\"\")","v":""},{"$f":"IF(P485=M482,M481,\"\")","v":""},{"$f":"IF(Q485=N482,N481,\"\")","v":""},{"$f":"IF(R485=O482,O481,\"\")","v":""},{"$f":"IF(S485=P482,P481,\"\")","v":""},{"$f":"IF(T485=Q482,Q481,\"\")","v":""},{"$f":"IF(U485=R482,R481,\"\")","v":""},{"$f":"IF(V485=S482,S481,\"\")","v":""},{"$f":"IF(W485=T482,T481,\"\")","v":""},{"$f":"IF(X485=U482,U481,\"\")","v":""},{"$f":"IF(Y485=V482,V481,\"\")","v":""},{"$f":"IF(Z485=W482,W481,\"\")","v":""},{"$f":"IF(AA485=X482,X481,\"\")","v":""},{"$f":"IF(AB485=Y482,Y481,\"\")","v":""},{"$f":"IF(AC485=Z482,Z481,\"\")","v":""},{"$f":"IF(AD485=AA482,AA481,\"\")","v":""},{"$f":"IF(AE485=AB482,AB481,\"\")","v":""},{"$f":"IF(AF485=AC482,AC481,\"\")","v":""},{"$f":"IF(AG485=AD482,AD481,\"\")","v":""},{"$f":"IF(AH485=AE482,AE481,\"\")","v":""},{"$f":"IF(AI485=AF482,AF481,\"\")","v":""},{"$f":"IF(AJ485=AG482,AG481,\"\")","v":""},{"$f":"IF(AK485=AH482,AH481,\"\")","v":""},{"$f":"IF(AL485=AI482,AI481,\"\")","v":""},{"$f":"IF(AM485=AJ482,AJ481,\"\")","v":""},{"$f":"IF(AN485=AK482,AK481,\"\")","v":""},{"$f":"IF(AO485=AL482,AL481,\"\")","v":""},{"$f":"IF(AP485=AM482,AM481,\"\")","v":""},{"$f":"IF(AQ485=AN482,AN481,\"\")","v":""},{"$f":"IF(AR485=AO482,AO481,\"\")","v":""},{"$f":"IF(AS485=AP482,AP481,\"\")","v":""},{"$f":"IF(AT485=AQ482,AQ481,\"\")","v":""},{"$f":"IF(AU485=AR482,AR481,\"\")","v":""},{"$f":"IF(AV485=AS482,AS481,\"\")","v":""},{"$f":"IF(AW485=AT482,AT481,\"\")","v":""},null,null,null,null,null,null,null,null,null,null,null,null,null,null,null,null,null,null,null,null,null,null,null,null,null,"Secondo Blocco",null,null,null,null,null,{"$f":"J484&K484&L484&M484&N484&O484&P484&Q484&R484&S484&T484&U484&V484&W484&X484&Y484&Z484&AA484&AB484&AC484&AD484&AE484&AF484&AG484&AH484&AI484&AJ484&AK484&AL484&AM484&AN484&AO484&AP484&AQ484&AR484&AS484&AT484&AU484&AV484&AW484","v":""}]
[null,null,null,2,"",{"$f":"H482","v":""},{"$f":"IF(F485=\"\",\"\",IF(E485<=$C$74,\"X\",\"\"))","v":""},"",null,{"$f":"IF($J486=G482,G482,\"\")","v":""},{"$f":"IF($J486=H482,H482,\"\")","v":""},{"$f":"IF($J486=I482,I482,\"\")","v":""},{"$f":"IF($J486=J482,J482,\"\")","v":""},{"$f":"IF($J486=K482,K482,\"\")","v":""},{"$f":"IF($J486=L482,L482,\"\")","v":""},{"$f":"IF($J486=M482,M482,\"\")","v":""},{"$f":"IF($J486=N482,N482,\"\")","v":""},{"$f":"IF($J486=O482,O482,\"\")","v":""},{"$f":"IF($J486=P482,P482,\"\")","v":""},{"$f":"IF($J486=Q482,Q482,\"\")","v":""},{"$f":"IF($J486=R482,R482,\"\")","v":""},{"$f":"IF($J486=S482,S482,\"\")","v":""},{"$f":"IF($J486=T482,T482,\"\")","v":""},{"$f":"IF($J486=U482,U482,\"\")","v":""},{"$f":"IF($J486=V482,V482,\"\")","v":""},{"$f":"IF($J486=W482,W482,\"\")","v":""},{"$f":"IF($J486=X482,X482,\"\")","v":""},{"$f":"IF($J486=Y482,Y482,\"\")","v":""},{"$f":"IF($J486=Z482,Z482,\"\")","v":""},{"$f":"IF($J486=AA482,AA482,\"\")","v":""},{"$f":"IF($J486=AB482,AB482,\"\")","v":""},{"$f":"IF($J486=AC482,AC482,\"\")","v":""},{"$f":"IF($J486=AD482,AD482,\"\")","v":""},{"$f":"IF($J486=AE482,AE482,\"\")","v":""},{"$f":"IF($J486=AF482,AF482,\"\")","v":""},{"$f":"IF($J486=AG482,AG482,\"\")","v":""},{"$f":"IF($J486=AH482,AH482,\"\")","v":""},{"$f":"IF($J486=AI482,AI482,\"\")","v":""},{"$f":"IF($J486=AJ482,AJ482,\"\")","v":""},{"$f":"IF($J486=AK482,AK482,\"\")","v":""},{"$f":"IF($J486=AL482,AL482,\"\")","v":""},{"$f":"IF($J486=AM482,AM482,\"\")","v":""},{"$f":"IF($J486=AN482,AN482,\"\")","v":""},{"$f":"IF($J486=AO482,AO482,\"\")","v":""},{"$f":"IF($J486=AP482,AP482,\"\")","v":""},{"$f":"IF($J486=AQ482,AQ482,\"\")","v":""},{"$f":"IF($J486=AR482,AR482,\"\")","v":""},{"$f":"IF($J486=AS482,AS482,\"\")","v":""},{"$f":"IF($J486=AT482,AT482,\"\")","v":""},null,null,null,null,null,null,null,null,null,null,null,null,null,null,null,null,null,null,null,null,null,null,null,null,null,null,null,null,null,null,null,{"$f":"J486","v":0}]
[null,null,null,3,"",{"$f":"I482","v":""},"","",null,{"$f":"I484","v":0}]
[null,null,{"$f":"$P$3","v":200},4,"",{"$f":"J482","v":""},"","",null,null,null,null,null,null,null,null,null,null,null,null,null,null,null,null,null,null,null,null,null,null,null,null,null,null,null,null,null,null,null,null,null,null,null,null,null,null,null,null,null,null,null,null,null,null,null,null,null,null,null,null,null,null,null,null,null,null,null,null,null,null,null,null,null,null,null,null,null,null,null,null,null,null,null,{"$f":"IF(CD479>0,CF428+1,\"\")","v":""}]
[null,null,null,5,"",{"$f":"K482","v":""},"","",null,null,null,null,null,{"$f":"IF(N489=G482,G481,\"\")","v":""},{"$f":"IF(O489=H482,H481,\"\")","v":""},{"$f":"IF(P489=I482,I481,\"\")","v":""},{"$f":"IF(Q489=J482,J481,\"\")","v":""},{"$f":"IF(R489=K482,K481,\"\")","v":""},{"$f":"IF(S489=L482,L481,\"\")","v":""},{"$f":"IF(T489=M482,M481,\"\")","v":""},{"$f":"IF(U489=N482,N481,\"\")","v":""},{"$f":"IF(V489=O482,O481,\"\")","v":""},{"$f":"IF(W489=P482,P481,\"\")","v":""},{"$f":"IF(X489=Q482,Q481,\"\")","v":""},{"$f":"IF(Y489=R482,R481,\"\")","v":""},{"$f":"IF(Z489=S482,S481,\"\")","v":""},{"$f":"IF(AA489=T482,T481,\"\")","v":""},{"$f":"IF(AB489=U482,U481,\"\")","v":""},{"$f":"IF(AC489=V482,V481,\"\")","v":""},{"$f":"IF(AD489=W482,W481,\"\")","v":""},{"$f":"IF(AE489=X482,X481,\"\")","v":""},{"$f":"IF(AF489=Y482,Y481,\"\")","v":""},{"$f":"IF(AG489=Z482,Z481,\"\")","v":""},{"$f":"IF(AH489=AA482,AA481,\"\")","v":""},{"$f":"IF(AI489=AB482,AB481,\"\")","v":""},{"$f":"IF(AJ489=AC482,AC481,\"\")","v":""},{"$f":"IF(AK489=AD482,AD481,\"\")","v":""},{"$f":"IF(AL489=AE482,AE481,\"\")","v":""},{"$f":"IF(AM489=AF482,AF481,\"\")","v":""},{"$f":"IF(AN489=AG482,AG481,\"\")","v":""},{"$f":"IF(AO489=AH482,AH481,\"\")","v":""},{"$f":"IF(AP489=AI482,AI481,\"\")","v":""},{"$f":"IF(AQ489=AJ482,AJ481,\"\")","v":""},{"$f":"IF(AR489=AK482,AK481,\"\")","v":""},{"$f":"IF(AS489=AL482,AL481,\"\")","v":""},{"$f":"IF(AT489=AM482,AM481,\"\")","v":""},{"$f":"IF(AU489=AN482,AN481,\"\")","v":""},{"$f":"IF(AV489=AO482,AO481,\"\")","v":""},{"$f":"IF(AW489=AP482,AP481,\"\")","v":""},{"$f":"IF(AX489=AQ482,AQ481,\"\")","v":""},{"$f":"IF(AY489=AR482,AR481,\"\")","v":""},{"$f":"IF(AZ489=AS482,AS481,\"\")","v":""},{"$f":"IF(BA489=AT482,AT481,\"\")","v":""}]
[null,null,null,6,"",{"$f":"L482","v":""},"","",null,"DISPONIBILI",null,null,null,{"$f":"IF(G482=\"\",\"\",IF(G482=J485,\"\",G482))","v":""},{"$f":"IF(H482=\"\",\"\",IF(H482=K485,\"\",H482))","v":""},{"$f":"IF(I482=\"\",\"\",IF(I482=L485,\"\",I482))","v":""},{"$f":"IF(J482=\"\",\"\",IF(J482=M485,\"\",J482))","v":""},{"$f":"IF(K482=\"\",\"\",IF(K482=N485,\"\",K482))","v":""},{"$f":"IF(L482=\"\",\"\",IF(L482=O485,\"\",L482))","v":""},{"$f":"IF(M482=\"\",\"\",IF(M482=P485,\"\",M482))","v":""},{"$f":"IF(N482=\"\",\"\",IF(N482=Q485,\"\",N482))","v":""},{"$f":"IF(O482=\"\",\"\",IF(O482=R485,\"\",O482))","v":""},{"$f":"IF(P482=\"\",\"\",IF(P482=S485,\"\",P482))","v":""},{"$f":"IF(Q482=\"\",\"\",IF(Q482=T485,\"\",Q482))","v":""},{"$f":"IF(R482=\"\",\"\",IF(R482=U485,\"\",R482))","v":""},{"$f":"IF(S482=\"\",\"\",IF(S482=V485,\"\",S482))","v":""},{"$f":"IF(T482=\"\",\"\",IF(T482=W485,\"\",T482))","v":""},{"$f":"IF(U482=\"\",\"\",IF(U482=X485,\"\",U482))","v":""},{"$f":"IF(V482=\"\",\"\",IF(V482=Y485,\"\",V482))","v":""},{"$f":"IF(W482=\"\",\"\",IF(W482=Z485,\"\",W482))","v":""},{"$f":"IF(X482=\"\",\"\",IF(X482=AA485,\"\",X482))","v":""},{"$f":"IF(Y482=\"\",\"\",IF(Y482=AB485,\"\",Y482))","v":""},{"$f":"IF(Z482=\"\",\"\",IF(Z482=AC485,\"\",Z482))","v":""},{"$f":"IF(AA482=\"\",\"\",IF(AA482=AD485,\"\",AA482))","v":""},{"$f":"IF(AB482=\"\",\"\",IF(AB482=AE485,\"\",AB482))","v":""},{"$f":"IF(AC482=\"\",\"\",IF(AC482=AF485,\"\",AC482))","v":""},{"$f":"IF(AD482=\"\",\"\",IF(AD482=AG485,\"\",AD482))","v":""},{"$f":"IF(AE482=\"\",\"\",IF(AE482=AH485,\"\",AE482))","v":""},{"$f":"IF(AF482=\"\",\"\",IF(AF482=AI485,\"\",AF482))","v":""},{"$f":"IF(AG482=\"\",\"\",IF(AG482=AJ485,\"\",AG482))","v":""},{"$f":"IF(AH482=\"\",\"\",IF(AH482=AK485,\"\",AH482))","v":""},{"$f":"IF(AI482=\"\",\"\",IF(AI482=AL485,\"\",AI482))","v":""},{"$f":"IF(AJ482=\"\",\"\",IF(AJ482=AM485,\"\",AJ482))","v":""},{"$f":"IF(AK482=\"\",\"\",IF(AK482=AN485,\"\",AK482))","v":""},{"$f":"IF(AL482=\"\",\"\",IF(AL482=AO485,\"\",AL482))","v":""},{"$f":"IF(AM482=\"\",\"\",IF(AM482=AP485,\"\",AM482))","v":""},{"$f":"IF(AN482=\"\",\"\",IF(AN482=AQ485,\"\",AN482))","v":""},{"$f":"IF(AO482=\"\",\"\",IF(AO482=AR485,\"\",AO482))","v":""},{"$f":"IF(AP482=\"\",\"\",IF(AP482=AS485,\"\",AP482))","v":""},{"$f":"IF(AQ482=\"\",\"\",IF(AQ482=AT485,\"\",AQ482))","v":""},{"$f":"IF(AR482=\"\",\"\",IF(AR482=AU485,\"\",AR482))","v":""},{"$f":"IF(AS482=\"\",\"\",IF(AS482=AV485,\"\",AS482))","v":""},{"$f":"IF(AT482=\"\",\"\",IF(AT482=AW485,\"\",AT482))","v":""},null,null,null,null,null,null,null,null,null,null,null,null,null,null,null,null,null,null,null,null,null,"Terzo Blocco",null,null,null,null,null,{"$f":"P491&Q491&R491&S491&T491&U491&V491&W491&X491&Y491&Z491&AA491&AB491&AC491&AD491&AE491&AF491&AG491&AH491&AI491&AJ491&AK491&AL491&AM491&AN491&AO491&AP491&AQ491&AR491&AS491&AT491&AU491&AV491&AW491&AX491&AY491&AZ491&BA491&BB491&BC491","v":""}]
[null,null,null,7,"",{"$f":"M482","v":""},"","",null,null,null,null,null,null,null,null,null,null,null,null,null,null,null,null,null,null,null,null,null,null,null,null,null,null,null,null,null,null,null,null,null,null,null,null,null,null,null,null,null,null,null,null,null,null,null,null,null,null,null,null,null,null,1,2,null,null,null,null,null,null,null,null,null,null,null,null,null,null,null,null,{"$f":"P493","v":0}]
[null,null,null,8,"",{"$f":"N482","v":""},"","",null,1,{"$f":"IF(L491<>\"\",BK491+BL491+L491,\"\")","v":""},{"$f":"N489","v":""},{"$f":"IF(L491=\"\",\"\",IF(K491<=$C$74,\"X\",\"\"))","v":""},{"$f":"IF(M491=\"X\",L491,\"\")","v":""},{"$f":"MAX(N491:N510)","v":0},{"$f":"IF(P492=N489,N488,\"\")","v":""},{"$f":"IF(Q492=O489,O488,\"\")","v":""},{"$f":"IF(R492=P489,P488,\"\")","v":""},{"$f":"IF(S492=Q489,Q488,\"\")","v":""},{"$f":"IF(T492=R489,R488,\"\")","v":""},{"$f":"IF(U492=S489,S488,\"\")","v":""},{"$f":"IF(V492=T489,T488,\"\")","v":""},{"$f":"IF(W492=U489,U488,\"\")","v":""},{"$f":"IF(X492=V489,V488,\"\")","v":""},{"$f":"IF(Y492=W489,W488,\"\")","v":""},{"$f":"IF(Z492=X489,X488,\"\")","v":""},{"$f":"IF(AA492=Y489,Y488,\"\")","v":""},{"$f":"IF(AB492=Z489,Z488,\"\")","v":""},{"$f":"IF(AC492=AA489,AA488,\"\")","v":""},{"$f":"IF(AD492=AB489,AB488,\"\")","v":""},{"$f":"IF(AE492=AC489,AC488,\"\")","v":""},{"$f":"IF(AF492=AD489,AD488,\"\")","v":""},{"$f":"IF(AG492=AE489,AE488,\"\")","v":""},{"$f":"IF(AH492=AF489,AF488,\"\")","v":""},{"$f":"IF(AI492=AG489,AG488,\"\")","v":""},{"$f":"IF(AJ492=AH489,AH488,\"\")","v":""},{"$f":"IF(AK492=AI489,AI488,\"\")","v":""},{"$f":"IF(AL492=AJ489,AJ488,\"\")","v":""},{"$f":"IF(AM492=AK489,AK488,\"\")","v":""},{"$f":"IF(AN492=AL489,AL488,\"\")","v":""},{"$f":"IF(AO492=AM489,AM488,\"\")","v":""},{"$f":"IF(AP492=AN489,AN488,\"\")","v":""},{"$f":"IF(AQ492=AO489,AO488,\"\")","v":""},{"$f":"IF(AR492=AP489,AP488,\"\")","v":""},{"$f":"IF(AS492=AQ489,AQ488,\"\")","v":""},{"$f":"IF(AT492=AR489,AR488,\"\")","v":""},{"$f":"IF(AU492=AS489,AS488,\"\")","v":""},{"$f":"IF(AV492=AT489,AT488,\"\")","v":""},{"$f":"IF(AW492=AU489,AU488,\"\")","v":""},{"$f":"IF(AX492=AV489,AV488,\"\")","v":""},{"$f":"IF(AY492=AW489,AW488,\"\")","v":""},{"$f":"IF(AZ492=AX489,AX488,\"\")","v":""},{"$f":"IF(BA492=AY489,AY488,\"\")","v":""},{"$f":"IF(BB492=AZ489,AZ488,\"\")","v":""},{"$f":"IF(BC492=BA489,BA488,\"\")","v":""},null,null,null,null,null,null,1,{"$f":"CC480","v":0},{"$f":"CC485","v":0}]
[null,null,null,9,"",{"$f":"O482","v":""},"","",null,2,"",{"$f":"O489","v":""},{"$f":"IF(L492=\"\",\"\",IF(K492<=$C$74,\"X\",\"\"))","v":""},{"$f":"IF(M492=\"X\",L492,\"\")","v":""},null,{"$f":"IF($P493=N489,N489,\"\")","v":""},{"$f":"IF($P493=O489,O489,\"\")","v":""},{"$f":"IF($P493=P489,P489,\"\")","v":""},{"$f":"IF($P493=Q489,Q489,\"\")","v":""},{"$f":"IF($P493=R489,R489,\"\")","v":""},{"$f":"IF($P493=S489,S489,\"\")","v":""},{"$f":"IF($P493=T489,T489,\"\")","v":""},{"$f":"IF($P493=U489,U489,\"\")","v":""},{"$f":"IF($P493=V489,V489,\"\")","v":""},{"$f":"IF($P493=W489,W489,\"\")","v":""},{"$f":"IF($P493=X489,X489,\"\")","v":""},{"$f":"IF($P493=Y489,Y489,\"\")","v":""},{"$f":"IF($P493=Z489,Z489,\"\")","v":""},{"$f":"IF($P493=AA489,AA489,\"\")","v":""},{"$f":"IF($P493=AB489,AB489,\"\")","v":""},{"$f":"IF($P493=AC489,AC489,\"\")","v":""},{"$f":"IF($P493=AD489,AD489,\"\")","v":""},{"$f":"IF($P493=AE489,AE489,\"\")","v":""},{"$f":"IF($P493=AF489,AF489,\"\")","v":""},{"$f":"IF($P493=AG489,AG489,\"\")","v":""},{"$f":"IF($P493=AH489,AH489,\"\")","v":""},{"$f":"IF($P493=AI489,AI489,\"\")","v":""},{"$f":"IF($P493=AJ489,AJ489,\"\")","v":""},{"$f":"IF($P493=AK489,AK489,\"\")","v":""},{"$f":"IF($P493=AL489,AL489,\"\")","v":""},{"$f":"IF($P493=AM489,AM489,\"\")","v":""},{"$f":"IF($P493=AN489,AN489,\"\")","v":""},{"$f":"IF($P493=AO489,AO489,\"\")","v":""},{"$f":"IF($P493=AP489,AP489,\"\")","v":""},{"$f":"IF($P493=AQ489,AQ489,\"\")","v":""},{"$f":"IF($P493=AR489,AR489,\"\")","v":""},{"$f":"IF($P493=AS489,AS489,\"\")","v":""},{"$f":"IF($P493=AT489,AT489,\"\")","v":""},{"$f":"IF($P493=AU489,AU489,\"\")","v":""},{"$f":"IF($P493=AV489,AV489,\"\")","v":""},{"$f":"IF($P493=AW489,AW489,\"\")","v":""},{"$f":"IF($P493=AX489,AX489,\"\")","v":""},{"$f":"IF($P493=AY489,AY489,\"\")","v":""},{"$f":"IF($P493=AZ489,AZ489,\"\")","v":""},{"$f":"IF($P493=BA489,BA489,\"\")","v":""},null,null,null,null,null,null,2,{"$f":"BK491","v":0},{"$f":"BL491","v":0}]
[null,null,null,10,"",{"$f":"P482","v":""},"","",null,3,"",{"$f":"P489","v":""},"","",null,{"$f":"O491","v":0},null,null,null,null,null,null,null,null,null,null,null,null,null,null,null,null,null,null,null,null,null,null,null,null,null,null,null,null,null,null,null,null,null,null,null,null,null,null,null,null,null,null,null,null,null,3,{"$f":"BK492","v":0},0,null,null,null,null,null,null,null,null,null,null,null,null,null,null,null,"MASSIMO CARICO",null,null,null,null,{"$f":"C487","v":200}]
[null,null,null,11,"",{"$f":"Q482","v":""},"","",null,4,"",{"$f":"Q489","v":""},"","",null,null,null,null,null,null,null,null,null,null,null,null,null,null,null,null,null,null,null,null,null,null,null,null,null,null,null,null,null,null,null,null,null,null,null,null,null,null,null,null,null,null,null,null,null,null,null,4,{"$f":"BK493","v":0},0]
[null,null,null,12,"",{"$f":"R482","v":""},"","",null,5,"",{"$f":"R489","v":""},"","",null,null,null,null,null,null,null,null,null,null,null,null,null,null,null,null,null,null,null,null,null,null,null,null,null,null,null,null,null,null,null,null,null,null,null,null,null,null,null,null,null,null,null,null,null,null,null,5,{"$f":"BK494","v":0},0,null,null,null,null,null,null,null,null,null,null,null,null,null,null,null,"RIMANE",null,null,null,null,{"$f":"CG493-CD479","v":200}]
[null,null,null,13,"",{"$f":"S482","v":""},"","",null,6,"",{"$f":"S489","v":""},"","",null,null,null,null,null,null,null,null,null,null,null,null,null,null,null,null,null,null,null,null,null,null,null,null,null,null,null,null,null,null,null,null,null,null,null,null,null,null,null,null,null,null,null,null,null,null,null,6,{"$f":"BK495","v":0},0]
[null,null,null,14,"",{"$f":"T482","v":""},"","",null,7,"",{"$f":"T489","v":""},"","",null,null,null,null,null,null,null,null,null,null,null,null,null,null,null,null,null,null,null,null,null,null,null,null,null,null,null,null,null,null,null,null,null,null,null,null,null,null,null,null,null,null,null,null,null,null,null,7,{"$f":"BK496","v":0},0]
[null,null,null,15,"",{"$f":"U482","v":""},"",{"$f":"IF(G498=\"X\",F498,\"\")","v":""},null,8,"",{"$f":"U489","v":""},"","",null,null,null,null,null,null,null,null,null,null,null,null,null,null,null,null,null,null,null,null,null,null,null,null,null,null,null,null,null,null,null,null,null,null,null,null,null,null,null,null,null,null,null,null,null,null,null,8,{"$f":"BK497","v":0},0]
[null,null,null,16,"",{"$f":"V482","v":""},"","",null,9,"",{"$f":"V489","v":""},"","",null,null,null,null,null,null,null,null,null,null,null,null,null,null,null,null,null,null,null,null,null,null,null,null,null,null,null,null,null,null,null,null,null,null,null,null,null,null,null,null,null,null,null,null,null,null,null,9,{"$f":"BK498","v":0},0]
[null,null,null,17,"",{"$f":"W482","v":""},"","",null,10,"",{"$f":"W489","v":""},"","",null,null,null,null,null,null,null,null,null,null,null,null,null,null,null,null,null,null,null,null,null,null,null,null,null,null,null,null,null,null,null,null,null,null,null,null,null,null,null,null,null,null,null,null,null,null,null,10,{"$f":"BK499","v":0},0]
[null,null,null,18,"",{"$f":"X482","v":""},"","",null,11,"",{"$f":"X489","v":""},"","",null,null,null,null,null,null,null,null,null,null,null,null,null,null,null,null,null,null,null,null,null,null,null,null,null,null,null,null,null,null,null,null,null,null,null,null,null,null,null,null,null,null,null,null,null,null,null,11,{"$f":"BK500","v":0},0]
[null,null,null,23,"",{"$f":"AC482","v":""},"","",null,16,"",{"$f":"AC489","v":""},"","",null,null,null,null,null,null,null,null,null,null,null,null,null,null,null,null,null,null,null,null,null,null,null,null,null,null,null,null,null,null,null,null,null,null,null,null,null,null,null,null,null,null,null,null,null,null,null,16,{"$f":"BK505","v":0},0]
[null,null,null,26,"",{"$f":"AF482","v":""},"","",null,19,"",{"$f":"AF489","v":""},"","",null,{"$f":"IF(G476=$P493,\"\",IF(G476=$J486,\"\",IF(G476=$G477,\"\",G476)))","v":""},{"$f":"IF(H476=$P493,\"\",IF(H476=$J486,\"\",IF(H476=$G477,\"\",H476)))","v":""},{"$f":"IF(I476=$P493,\"\",IF(I476=$J486,\"\",IF(I476=$G477,\"\",I476)))","v":""},{"$f":"IF(J476=$P493,\"\",IF(J476=$J486,\"\",IF(J476=$G477,\"\",J476)))","v":""},{"$f":"IF(K476=$P493,\"\",IF(K476=$J486,\"\",IF(K476=$G477,\"\",K476)))","v":""},{"$f":"IF(L476=$P493,\"\",IF(L476=$J486,\"\",IF(L476=$G477,\"\",L476)))","v":""},{"$f":"IF(M476=$P493,\"\",IF(M476=$J486,\"\",IF(M476=$G477,\"\",M476)))","v":""},{"$f":"IF(N476=$P493,\"\",IF(N476=$J486,\"\",IF(N476=$G477,\"\",N476)))","v":""},{"$f":"IF(O476=$P493,\"\",IF(O476=$J486,\"\",IF(O476=$G477,\"\",O476)))","v":""},{"$f":"IF(P476=$P493,\"\",IF(P476=$J486,\"\",IF(P476=$G477,\"\",P476)))","v":""},{"$f":"IF(Q476=$P493,\"\",IF(Q476=$J486,\"\",IF(Q476=$G477,\"\",Q476)))","v":""},{"$f":"IF(R476=$P493,\"\",IF(R476=$J486,\"\",IF(R476=$G477,\"\",R476)))","v":""},{"$f":"IF(S476=$P493,\"\",IF(S476=$J486,\"\",IF(S476=$G477,\"\",S476)))","v":""},{"$f":"IF(T476=$P493,\"\",IF(T476=$J486,\"\",IF(T476=$G477,\"\",T476)))","v":""},{"$f":"IF(U476=$P493,\"\",IF(U476=$J486,\"\",IF(U476=$G477,\"\",U476)))","v":""},{"$f":"IF(V476=$P493,\"\",IF(V476=$J486,\"\",IF(V476=$G477,\"\",V476)))","v":""},{"$f":"IF(W476=$P493,\"\",IF(W476=$J486,\"\",IF(W476=$G477,\"\",W476)))","v":""},{"$f":"IF(X476=$P493,\"\",IF(X476=$J486,\"\",IF(X476=$G477,\"\",X476)))","v":""},{"$f":"IF(Y476=$P493,\"\",IF(Y476=$J486,\"\",IF(Y476=$G477,\"\",Y476)))","v":""},{"$f":"IF(Z476=$P493,\"\",IF(Z476=$J486,\"\",IF(Z476=$G477,\"\",Z476)))","v":""},{"$f":"IF(AA476=$P493,\"\",IF(AA476=$J486,\"\",IF(AA476=$G477,\"\",AA476)))","v":""},{"$f":"IF(AB476=$P493,\"\",IF(AB476=$J486,\"\",IF(AB476=$G477,\"\",AB476)))","v":""},{"$f":"IF(AC476=$P493,\"\",IF(AC476=$J486,\"\",IF(AC476=$G477,\"\",AC476)))","v":""},{"$f":"IF(AD476=$P493,\"\",IF(AD476=$J486,\"\",IF(AD476=$G477,\"\",AD476)))","v":""},{"$f":"IF(AE476=$P493,\"\",IF(AE476=$J486,\"\",IF(AE476=$G477,\"\",AE476)))","v":""},{"$f":"IF(AF476=$P493,\"\",IF(AF476=$J486,\"\",IF(AF476=$G477,\"\",AF476)))","v":""},{"$f":"IF(AG476=$P493,\"\",IF(AG476=$J486,\"\",IF(AG476=$G477,\"\",AG476)))","v":""},{"$f":"IF(AH476=$P493,\"\",IF(AH476=$J486,\"\",IF(AH476=$G477,\"\",AH476)))","v":""},{"$f":"IF(AI476=$P493,\"\",IF(AI476=$J486,\"\",IF(AI476=$G477,\"\",AI476)))","v":""},{"$f":"IF(AJ476=$P493,\"\",IF(AJ476=$J486,\"\",IF(AJ476=$G477,\"\",AJ476)))","v":""},{"$f":"IF(AK476=$P493,\"\",IF(AK476=$J486,\"\",IF(AK476=$G477,\"\",AK476)))","v":""},{"$f":"IF(AL476=$P493,\"\",IF(AL476=$J486,\"\",IF(AL476=$G477,\"\",AL476)))","v":""},{"$f":"IF(AM476=$P493,\"\",IF(AM476=$J486,\"\",IF(AM476=$G477,\"\",AM476)))","v":""},{"$f":"IF(AN476=$P493,\"\",IF(AN476=$J486,\"\",IF(AN476=$G477,\"\",AN476)))","v":""},{"$f":"IF(AO476=$P493,\"\",IF(AO476=$J486,\"\",IF(AO476=$G477,\"\",AO476)))","v":""},{"$f":"IF(AP476=$P493,\"\",IF(AP476=$J486,\"\",IF(AP476=$G477,\"\",AP476)))","v":""},{"$f":"IF(AQ476=$P493,\"\",IF(AQ476=$J486,\"\",IF(AQ476=$G477,\"\",AQ476)))","v":""},{"$f":"IF(AR476=$P493,\"\",IF(AR476=$J486,\"\",IF(AR476=$G477,\"\",AR476)))","v":""},{"$f":"IF(AS476=$P493,\"\",IF(AS476=$J486,\"\",IF(AS476=$G477,\"\",AS476)))","v":""},{"$f":"IF(AT476=$P493,\"\",IF(AT476=$J486,\"\",IF(AT476=$G477,\"\",AT476)))","v":""},null,null,null,null,null,null,19,{"$f":"BK508","v":0},0]
[null,null,null,28,"",{"$f":"AH482","v":""},"","",null,21,{"$f":"IF(L511<>\"\",BK511+BL511+L511,\"\")","v":""},{"$f":"AH489","v":""},"","",null,null,null,null,null,null,null,null,null,null,null,null,null,null,null,null,null,null,null,null,null,null,null,null,null,null,null,null,null,null,null,null,null,null,null,null,null,null,null,null,null,null,null,null,null,null,null,21,{"$f":"BK510","v":0},0]
[null,null,null,34,"",{"$f":"AN482","v":""},"","",null,27,"",{"$f":"AN489","v":""},"","",null,null,null,null,null,null,null,null,null,null,null,null,null,null,null,null,null,null,null,null,null,null,null,null,null,null,null,null,null,null,null,null,null,null,null,null,null,null,null,null,null,null,null,null,null,null,null,27,{"$f":"BK516","v":0},0]
[null,null,null,37,"",{"$f":"AQ482","v":""},"","",null,30,"",{"$f":"AQ489","v":""},"","",null,null,null,null,null,null,null,null,null,null,null,null,null,null,null,null,null,null,null,null,null,null,null,null,null,null,null,null,null,null,null,null,null,null,null,null,null,null,null,null,null,null,null,null,null,null,null,30,{"$f":"BK519","v":0},0]
[null,null,null,null,null,null,null,null,null,35,"",{"$f":"AV489","v":""},"","",null,null,null,null,null,null,null,null,null,null,null,null,null,null,null,null,null,null,null,null,null,null,null,null,null,null,null,null,null,null,null,null,null,null,null,null,null,null,null,null,null,null,null,null,null,null,null,35,{"$f":"BK524","v":0},0]
[null,null,null,null,null,null,null,null,null,36,"",{"$f":"AW489","v":""},"","",null,null,null,null,null,null,null,null,null,null,null,null,null,null,null,null,null,null,null,null,null,null,null,null,null,null,null,null,null,null,null,null,null,null,null,null,null,null,null,null,null,null,null,null,null,null,null,36,{"$f":"BK525","v":0},0]
[null,null,null,null,null,null,null,null,null,40,"",{"$f":"BA489","v":""},"","",null,null,null,null,null,null,null,null,null,null,null,null,null,null,null,null,null,null,null,null,null,null,null,null,null,null,null,null,null,null,null,null,null,null,null,null,null,null,null,null,null,null,null,null,null,null,null,40,{"$f":"BK529","v":0},0]
[null,null,"TIR",null,{"$f":"E475+1","v":9},null,{"$f":"P508","v":""},{"$f":"Q508","v":""},{"$f":"R508","v":""},{"$f":"S508","v":""},{"$f":"T508","v":""},{"$f":"U508","v":""},{"$f":"V508","v":""},{"$f":"W508","v":""},{"$f":"X508","v":""},{"$f":"Y508","v":""},{"$f":"Z508","v":""},{"$f":"AA508","v":""},{"$f":"AB508","v":""},{"$f":"AC508","v":""},{"$f":"AD508","v":""},{"$f":"AE508","v":""},{"$f":"AF508","v":""},{"$f":"AG508","v":""},{"$f":"AH508","v":""},{"$f":"AI508","v":""},{"$f":"AJ508","v":""},{"$f":"AK508","v":""},{"$f":"AL508","v":""},{"$f":"AM508","v":""},{"$f":"AN508","v":""},{"$f":"AO508","v":""},{"$f":"AP508","v":""},{"$f":"AQ508","v":""},{"$f":"AR508","v":""},{"$f":"AS508","v":""},{"$f":"AT508","v":""},{"$f":"AU508","v":""},{"$f":"AV508","v":""},{"$f":"AW508","v":""},{"$f":"AX508","v":""},{"$f":"AY508","v":""},{"$f":"AZ508","v":""},{"$f":"BA508","v":""},{"$f":"BB508","v":""},{"$f":"BC508","v":""}]
[null,null,null,null,null,null,{"$f":"G536","v":0},null,null,null,null,null,null,null,null,null,null,null,null,null,null,null,null,null,null,null,null,null,null,null,null,null,null,null,null,null,null,null,null,null,null,null,null,null,null,null,null,null,null,null,null,null,null,null,null,null,null,null,null,null,null,null,null,null,null,null,null,null,null,null,null,null,null,null,null,null,null,null,null,null,{"$f":"G536","v":0},null,null,{"$f":"IF(CC539=0,\"\",CC539)","v":""},null,{"$f":"IF(CF539=\"\",\"\",CC538)","v":""}]
[null,null,null,null,null,null,{"$f":"IF(G541=\"\",\"\",IF(G541=G535,G534,\"\"))","v":""},{"$f":"IF(H541=\"\",\"\",IF(H541=H535,H534,\"\"))","v":""},{"$f":"IF(I541=\"\",\"\",IF(I541=I535,I534,\"\"))","v":""},{"$f":"IF(J541=\"\",\"\",IF(J541=J535,J534,\"\"))","v":""},{"$f":"IF(K541=\"\",\"\",IF(K541=K535,K534,\"\"))","v":""},{"$f":"IF(L541=\"\",\"\",IF(L541=L535,L534,\"\"))","v":""},{"$f":"IF(M541=\"\",\"\",IF(M541=M535,M534,\"\"))","v":""},{"$f":"IF(N541=\"\",\"\",IF(N541=N535,N534,\"\"))","v":""},{"$f":"IF(O541=\"\",\"\",IF(O541=O535,O534,\"\"))","v":""},{"$f":"IF(P541=\"\",\"\",IF(P541=P535,P534,\"\"))","v":""},{"$f":"IF(Q541=\"\",\"\",IF(Q541=Q535,Q534,\"\"))","v":""},{"$f":"IF(R541=\"\",\"\",IF(R541=R535,R534,\"\"))","v":""},{"$f":"IF(S541=\"\",\"\",IF(S541=S535,S534,\"\"))","v":""},{"$f":"IF(T541=\"\",\"\",IF(T541=T535,T534,\"\"))","v":""},{"$f":"IF(U541=\"\",\"\",IF(U541=U535,U534,\"\"))","v":""},{"$f":"IF(V541=\"\",\"\",IF(V541=V535,V534,\"\"))","v":""},{"$f":"IF(W541=\"\",\"\",IF(W541=W535,W534,\"\"))","v":""},{"$f":"IF(X541=\"\",\"\",IF(X541=X535,X534,\"\"))","v":""},{"$f":"IF(Y541=\"\",\"\",IF(Y541=Y535,Y534,\"\"))","v":""},{"$f":"IF(Z541=\"\",\"\",IF(Z541=Z535,Z534,\"\"))","v":""},{"$f":"IF(AA541=\"\",\"\",IF(AA541=AA535,AA534,\"\"))","v":""},{"$f":"IF(AB541=\"\",\"\",IF(AB541=AB535,AB534,\"\"))","v":""},{"$f":"IF(AC541=\"\",\"\",IF(AC541=AC535,AC534,\"\"))","v":""},{"$f":"IF(AD541=\"\",\"\",IF(AD541=AD535,AD534,\"\"))","v":""},{"$f":"IF(AE541=\"\",\"\",IF(AE541=AE535,AE534,\"\"))","v":""},{"$f":"IF(AF541=\"\",\"\",IF(AF541=AF535,AF534,\"\"))","v":""},{"$f":"IF(AG541=\"\",\"\",IF(AG541=AG535,AG534,\"\"))","v":""},{"$f":"IF(AH541=\"\",\"\",IF(AH541=AH535,AH534,\"\"))","v":""},{"$f":"IF(AI541=\"\",\"\",IF(AI541=AI535,AI534,\"\"))","v":""},{"$f":"IF(AJ541=\"\",\"\",IF(AJ541=AJ535,AJ534,\"\"))","v":""},{"$f":"IF(AK541=\"\",\"\",IF(AK541=AK535,AK534,\"\"))","v":""},{"$f":"IF(AL541=\"\",\"\",IF(AL541=AL535,AL534,\"\"))","v":""},{"$f":"IF(AM541=\"\",\"\",IF(AM541=AM535,AM534,\"\"))","v":""},{"$f":"IF(AN541=\"\",\"\",IF(AN541=AN535,AN534,\"\"))","v":""},{"$f":"IF(AO541=\"\",\"\",IF(AO541=AO535,AO534,\"\"))","v":""},{"$f":"IF(AP541=\"\",\"\",IF(AP541=AP535,AP534,\"\"))","v":""},{"$f":"IF(AQ541=\"\",\"\",IF(AQ541=AQ535,AQ534,\"\"))","v":""},{"$f":"IF(AR541=\"\",\"\",IF(AR541=AR535,AR534,\"\"))","v":""},{"$f":"IF(AS541=\"\",\"\",IF(AS541=AS535,AS534,\"\"))","v":""},{"$f":"IF(AT541=\"\",\"\",IF(AT541=AT535,AT534,\"\"))","v":""},null,null,null,null,null,null,null,null,null,null,null,null,null,null,null,null,null,null,null,null,null,null,null,null,null,null,null,null,null,null,null,null,null,null,null,null,null,{"$f":"IF(CC544=0,\"\",CC544)","v":""},null,{"$f":"IF(CF540=\"\",\"\",CC543)","v":""}]
[null,null,{"$f":"$P$3","v":200},4,"",{"$f":"J541","v":""},"","",null,null,null,null,null,null,null,null,null,null,null,null,null,null,null,null,null,null,null,null,null,null,null,null,null,null,null,null,null,null,null,null,null,null,null,null,null,null,null,null,null,null,null,null,null,null,null,null,null,null,null,null,null,null,null,null,null,null,null,null,null,null,null,null,null,null,null,null,null,null,null,null,null,null,null,{"$f":"IF(CD538>0,CF487+1,\"\")","v":""}]
[null,null,null,7,"",{"$f":"M541","v":""},"","",null,null,null,null,null,null,null,null,null,null,null,null,null,null,null,null,null,null,null,null,null,null,null,null,null,null,null,null,null,null,null,null,null,null,null,null,null,null,null,null,null,null,null,null,null,null,null,null,null,null,null,null,null,null,1,2,null,null,null,null,null,null,null,null,null,null,null,null,null,null,null,null,{"$f":"P552","v":0}]
[null,null,null,9,"",{"$f":"O541","v":""},"","",null,2,"",{"$f":"O548","v":""},{"$f":"IF(L551=\"\",\"\",IF(K551<=$C$74,\"X\",\"\"))","v":""},{"$f":"IF(M551=\"X\",L551,\"\")","v":""},null,{"$f":"IF($P552=N548,N548,\"\")","v":""},{"$f":"IF($P552=O548,O548,\"\")","v":""},{"$f":"IF($P552=P548,P548,\"\")","v":""},{"$f":"IF($P552=Q548,Q548,\"\")","v":""},{"$f":"IF($P552=R548,R548,\"\")","v":""},{"$f":"IF($P552=S548,S548,\"\")","v":""},{"$f":"IF($P552=T548,T548,\"\")","v":""},{"$f":"IF($P552=U548,U548,\"\")","v":""},{"$f":"IF($P552=V548,V548,\"\")","v":""},{"$f":"IF($P552=W548,W548,\"\")","v":""},{"$f":"IF($P552=X548,X548,\"\")","v":""},{"$f":"IF($P552=Y548,Y548,\"\")","v":""},{"$f":"IF($P552=Z548,Z548,\"\")","v":""},{"$f":"IF($P552=AA548,AA548,\"\")","v":""},{"$f":"IF($P552=AB548,AB548,\"\")","v":""},{"$f":"IF($P552=AC548,AC548,\"\")","v":""},{"$f":"IF($P552=AD548,AD548,\"\")","v":""},{"$f":"IF($P552=AE548,AE548,\"\")","v":""},{"$f":"IF($P552=AF548,AF548,\"\")","v":""},{"$f":"IF($P552=AG548,AG548,\"\")","v":""},{"$f":"IF($P552=AH548,AH548,\"\")","v":""},{"$f":"IF($P552=AI548,AI548,\"\")","v":""},{"$f":"IF($P552=AJ548,AJ548,\"\")","v":""},{"$f":"IF($P552=AK548,AK548,\"\")","v":""},{"$f":"IF($P552=AL548,AL548,\"\")","v":""},{"$f":"IF($P552=AM548,AM548,\"\")","v":""},{"$f":"IF($P552=AN548,AN548,\"\")","v":""},{"$f":"IF($P552=AO548,AO548,\"\")","v":""},{"$f":"IF($P552=AP548,AP548,\"\")","v":""},{"$f":"IF($P552=AQ548,AQ548,\"\")","v":""},{"$f":"IF($P552=AR548,AR548,\"\")","v":""},{"$f":"IF($P552=AS548,AS548,\"\")","v":""},{"$f":"IF($P552=AT548,AT548,\"\")","v":""},{"$f":"IF($P552=AU548,AU548,\"\")","v":""},{"$f":"IF($P552=AV548,AV548,\"\")","v":""},{"$f":"IF($P552=AW548,AW548,\"\")","v":""},{"$f":"IF($P552=AX548,AX548,\"\")","v":""},{"$f":"IF($P552=AY548,AY548,\"\")","v":""},{"$f":"IF($P552=AZ548,AZ548,\"\")","v":""},{"$f":"IF($P552=BA548,BA548,\"\")","v":""},null,null,null,null,null,null,2,{"$f":"BK550","v":0},{"$f":"BL550","v":0}]
[null,null,null,12,"",{"$f":"R541","v":""},"","",null,5,"",{"$f":"R548","v":""},"","",null,null,null,null,null,null,null,null,null,null,null,null,null,null,null,null,null,null,null,null,null,null,null,null,null,null,null,null,null,null,null,null,null,null,null,null,null,null,null,null,null,null,null,null,null,null,null,5,{"$f":"BK553","v":0},0,null,null,null,null,null,null,null,null,null,null,null,null,null,null,null,"RIMANE",null,null,null,null,{"$f":"CG552-CD538","v":200}]
[null,null,null,17,"",{"$f":"W541","v":""},"","",null,10,"",{"$f":"W548","v":""},"","",null,null,null,null,null,null,null,null,null,null,null,null,null,null,null,null,null,null,null,null,null,null,null,null,null,null,null,null,null,null,null,null,null,null,null,null,null,null,null,null,null,null,null,null,null,null,null,10,{"$f":"BK558","v":0},0]
[null,null,null,21,{"$f":"IF(F563<>\"\",F563+G$126,\"\")","v":""},{"$f":"AA541","v":""},"","",null,14,"",{"$f":"AA548","v":""},"","",null,null,null,null,null,null,null,null,null,null,null,null,null,null,null,null,null,null,null,null,null,null,null,null,null,null,null,null,null,null,null,null,null,null,null,null,null,null,null,null,null,null,null,null,null,null,null,14,{"$f":"BK562","v":0},0]
[null,null,null,26,"",{"$f":"AF541","v":""},"","",null,19,"",{"$f":"AF548","v":""},"","",null,{"$f":"IF(G535=$P552,\"\",IF(G535=$J545,\"\",IF(G535=$G536,\"\",G535)))","v":""},{"$f":"IF(H535=$P552,\"\",IF(H535=$J545,\"\",IF(H535=$G536,\"\",H535)))","v":""},{"$f":"IF(I535=$P552,\"\",IF(I535=$J545,\"\",IF(I535=$G536,\"\",I535)))","v":""},{"$f":"IF(J535=$P552,\"\",IF(J535=$J545,\"\",IF(J535=$G536,\"\",J535)))","v":""},{"$f":"IF(K535=$P552,\"\",IF(K535=$J545,\"\",IF(K535=$G536,\"\",K535)))","v":""},{"$f":"IF(L535=$P552,\"\",IF(L535=$J545,\"\",IF(L535=$G536,\"\",L535)))","v":""},{"$f":"IF(M535=$P552,\"\",IF(M535=$J545,\"\",IF(M535=$G536,\"\",M535)))","v":""},{"$f":"IF(N535=$P552,\"\",IF(N535=$J545,\"\",IF(N535=$G536,\"\",N535)))","v":""},{"$f":"IF(O535=$P552,\"\",IF(O535=$J545,\"\",IF(O535=$G536,\"\",O535)))","v":""},{"$f":"IF(P535=$P552,\"\",IF(P535=$J545,\"\",IF(P535=$G536,\"\",P535)))","v":""},{"$f":"IF(Q535=$P552,\"\",IF(Q535=$J545,\"\",IF(Q535=$G536,\"\",Q535)))","v":""},{"$f":"IF(R535=$P552,\"\",IF(R535=$J545,\"\",IF(R535=$G536,\"\",R535)))","v":""},{"$f":"IF(S535=$P552,\"\",IF(S535=$J545,\"\",IF(S535=$G536,\"\",S535)))","v":""},{"$f":"IF(T535=$P552,\"\",IF(T535=$J545,\"\",IF(T535=$G536,\"\",T535)))","v":""},{"$f":"IF(U535=$P552,\"\",IF(U535=$J545,\"\",IF(U535=$G536,\"\",U535)))","v":""},{"$f":"IF(V535=$P552,\"\",IF(V535=$J545,\"\",IF(V535=$G536,\"\",V535)))","v":""},{"$f":"IF(W535=$P552,\"\",IF(W535=$J545,\"\",IF(W535=$G536,\"\",W535)))","v":""},{"$f":"IF(X535=$P552,\"\",IF(X535=$J545,\"\",IF(X535=$G536,\"\",X535)))","v":""},{"$f":"IF(Y535=$P552,\"\",IF(Y535=$J545,\"\",IF(Y535=$G536,\"\",Y535)))","v":""},{"$f":"IF(Z535=$P552,\"\",IF(Z535=$J545,\"\",IF(Z535=$G536,\"\",Z535)))","v":""},{"$f":"IF(AA535=$P552,\"\",IF(AA535=$J545,\"\",IF(AA535=$G536,\"\",AA535)))","v":""},{"$f":"IF(AB535=$P552,\"\",IF(AB535=$J545,\"\",IF(AB535=$G536,\"\",AB535)))","v":""},{"$f":"IF(AC535=$P552,\"\",IF(AC535=$J545,\"\",IF(AC535=$G536,\"\",AC535)))","v":""},{"$f":"IF(AD535=$P552,\"\",IF(AD535=$J545,\"\",IF(AD535=$G536,\"\",AD535)))","v":""},{"$f":"IF(AE535=$P552,\"\",IF(AE535=$J545,\"\",IF(AE535=$G536,\"\",AE535)))","v":""},{"$f":"IF(AF535=$P552,\"\",IF(AF535=$J545,\"\",IF(AF535=$G536,\"\",AF535)))","v":""},{"$f":"IF(AG535=$P552,\"\",IF(AG535=$J545,\"\",IF(AG535=$G536,\"\",AG535)))","v":""},{"$f":"IF(AH535=$P552,\"\",IF(AH535=$J545,\"\",IF(AH535=$G536,\"\",AH535)))","v":""},{"$f":"IF(AI535=$P552,\"\",IF(AI535=$J545,\"\",IF(AI535=$G536,\"\",AI535)))","v":""},{"$f":"IF(AJ535=$P552,\"\",IF(AJ535=$J545,\"\",IF(AJ535=$G536,\"\",AJ535)))","v":""},{"$f":"IF(AK535=$P552,\"\",IF(AK535=$J545,\"\",IF(AK535=$G536,\"\",AK535)))","v":""},{"$f":"IF(AL535=$P552,\"\",IF(AL535=$J545,\"\",IF(AL535=$G536,\"\",AL535)))","v":""},{"$f":"IF(AM535=$P552,\"\",IF(AM535=$J545,\"\",IF(AM535=$G536,\"\",AM535)))","v":""},{"$f":"IF(AN535=$P552,\"\",IF(AN535=$J545,\"\",IF(AN535=$G536,\"\",AN535)))","v":""},{"$f":"IF(AO535=$P552,\"\",IF(AO535=$J545,\"\",IF(AO535=$G536,\"\",AO535)))","v":""},{"$f":"IF(AP535=$P552,\"\",IF(AP535=$J545,\"\",IF(AP535=$G536,\"\",AP535)))","v":""},{"$f":"IF(AQ535=$P552,\"\",IF(AQ535=$J545,\"\",IF(AQ535=$G536,\"\",AQ535)))","v":""},{"$f":"IF(AR535=$P552,\"\",IF(AR535=$J545,\"\",IF(AR535=$G536,\"\",AR535)))","v":""},{"$f":"IF(AS535=$P552,\"\",IF(AS535=$J545,\"\",IF(AS535=$G536,\"\",AS535)))","v":""},{"$f":"IF(AT535=$P552,\"\",IF(AT535=$J545,\"\",IF(AT535=$G536,\"\",AT535)))","v":""},null,null,null,null,null,null,19,{"$f":"BK567","v":0},0]
[null,null,null,29,"",{"$f":"AI541","v":""},"","",null,22,"",{"$f":"AI548","v":""},"","",null,null,null,null,null,null,null,null,null,null,null,null,null,null,null,null,null,null,null,null,null,null,null,null,null,null,null,null,null,null,null,null,null,null,null,null,null,null,null,null,null,null,null,null,null,null,null,22,{"$f":"BK570","v":0},0]
[null,null,null,31,"",{"$f":"AK541","v":""},"","",null,24,"",{"$f":"AK548","v":""},"","",null,null,null,null,null,null,null,null,null,null,null,null,null,null,null,null,null,null,null,null,null,null,null,null,null,null,null,null,null,null,null,null,null,null,null,null,null,null,null,null,null,null,null,null,null,null,null,24,{"$f":"BK572","v":0},0]
[null,null,null,34,"",{"$f":"AN541","v":""},"","",null,27,"",{"$f":"AN548","v":""},"","",null,null,null,null,null,null,null,null,null,null,null,null,null,null,null,null,null,null,null,null,null,null,null,null,null,null,null,null,null,null,null,null,null,null,null,null,null,null,null,null,null,null,null,null,null,null,null,27,{"$f":"BK575","v":0},0]
[null,null,null,40,"",{"$f":"AT541","v":""},"","",null,33,"",{"$f":"AT548","v":""},"","",null,null,null,null,null,null,null,null,null,null,null,null,null,null,null,null,null,null,null,null,null,null,null,null,null,null,null,null,null,null,null,null,null,null,null,null,null,null,null,null,null,null,null,null,null,null,null,33,{"$f":"BK581","v":0},0]
[null,null,null,null,null,null,null,null,null,34,"",{"$f":"AU548","v":""},"","",null,null,null,null,null,null,null,null,null,null,null,null,null,null,null,null,null,null,null,null,null,null,null,null,null,null,null,null,null,null,null,null,null,null,null,null,null,null,null,null,null,null,null,null,null,null,null,34,{"$f":"BK582","v":0},0]
[null,null,null,null,null,null,null,null,null,39,"",{"$f":"AZ548","v":""},"","",null,null,null,null,null,null,null,null,null,null,null,null,null,null,null,null,null,null,null,null,null,null,null,null,null,null,null,null,null,null,null,null,null,null,null,null,null,null,null,null,null,null,null,null,null,null,null,39,{"$f":"BK587","v":0},0]
[null,null,null,null,null,null,1,2,3,4,5,6,7,8,9,10,11,12,13,14,15,16,17,18,19,20,21,22,23,24,25,26,27,28,29,30,31,32,33,34,35,36,37,38,39,40,null,null,null,null,null,null,null,null,null,null,null,null,null,null,null,"BLOCCHI CHE POSSONO ESSERE CARICATI IN COPPIA O A TRE PERCHE' IL LORO PESO COMPLESSIVO NON SUPERA IL PESO MASSIMO CONSENTITO NEL TRASPORTO"]
[null,null,"MASSIMO PESO",null,null,null,{"$f":"MAX(G594:AT594)","v":0}]
[null,null,null,null,null,null,{"$f":"G596&H596&I596&J596&K596&L596&M596&N596&O596&P596&Q596&R596&S596&T596&U596&V596&W596&X596&Y596&Z596&AA596&AB596&AC596&AD596&AE596&AF596&AG596&AH596&AI596&AJ596&AK596&AL596&AM596&AN596&AO596&AP596&AQ596&AR596&AS596&AT596","v":""},null,null,null,null,null,null,null,null,null,null,null,null,null,null,null,null,null,null,null,null,null,null,null,null,null,null,null,null,null,null,null,null,null,null,null,null,null,null,null,null,null,null,null,null,null,null,null,null,null,null,null,null,null,null,null,null,null,null,null,null,null,null,null,null,null,null,null,"Primo Blocco",null,null,null,null,null,{"$f":"G597","v":""},{"$f":"CC598+CC603+CC608","v":0},null,"Quintali",null,"N° Blocco"]
[null,null,null,2,"",{"$f":"H600","v":""},{"$f":"IF(F603=\"\",\"\",IF(E603<=$C$74,\"X\",\"\"))","v":""},"",null,{"$f":"IF($J604=G600,G600,\"\")","v":""},{"$f":"IF($J604=H600,H600,\"\")","v":""},{"$f":"IF($J604=I600,I600,\"\")","v":""},{"$f":"IF($J604=J600,J600,\"\")","v":""},{"$f":"IF($J604=K600,K600,\"\")","v":""},{"$f":"IF($J604=L600,L600,\"\")","v":""},{"$f":"IF($J604=M600,M600,\"\")","v":""},{"$f":"IF($J604=N600,N600,\"\")","v":""},{"$f":"IF($J604=O600,O600,\"\")","v":""},{"$f":"IF($J604=P600,P600,\"\")","v":""},{"$f":"IF($J604=Q600,Q600,\"\")","v":""},{"$f":"IF($J604=R600,R600,\"\")","v":""},{"$f":"IF($J604=S600,S600,\"\")","v":""},{"$f":"IF($J604=T600,T600,\"\")","v":""},{"$f":"IF($J604=U600,U600,\"\")","v":""},{"$f":"IF($J604=V600,V600,\"\")","v":""},{"$f":"IF($J604=W600,W600,\"\")","v":""},{"$f":"IF($J604=X600,X600,\"\")","v":""},{"$f":"IF($J604=Y600,Y600,\"\")","v":""},{"$f":"IF($J604=Z600,Z600,\"\")","v":""},{"$f":"IF($J604=AA600,AA600,\"\")","v":""},{"$f":"IF($J604=AB600,AB600,\"\")","v":""},{"$f":"IF($J604=AC600,AC600,\"\")","v":""},{"$f":"IF($J604=AD600,AD600,\"\")","v":""},{"$f":"IF($J604=AE600,AE600,\"\")","v":""},{"$f":"IF($J604=AF600,AF600,\"\")","v":""},{"$f":"IF($J604=AG600,AG600,\"\")","v":""},{"$f":"IF($J604=AH600,AH600,\"\")","v":""},{"$f":"IF($J604=AI600,AI600,\"\")","v":""},{"$f":"IF($J604=AJ600,AJ600,\"\")","v":""},{"$f":"IF($J604=AK600,AK600,\"\")","v":""},{"$f":"IF($J604=AL600,AL600,\"\")","v":""},{"$f":"IF($J604=AM600,AM600,\"\")","v":""},{"$f":"IF($J604=AN600,AN600,\"\")","v":""},{"$f":"IF($J604=AO600,AO600,\"\")","v":""},{"$f":"IF($J604=AP600,AP600,\"\")","v":""},{"$f":"IF($J604=AQ600,AQ600,\"\")","v":""},{"$f":"IF($J604=AR600,AR600,\"\")","v":""},{"$f":"IF($J604=AS600,AS600,\"\")","v":""},{"$f":"IF($J604=AT600,AT600,\"\")","v":""},null,null,null,null,null,null,null,null,null,null,null,null,null,null,null,null,null,null,null,null,null,null,null,null,null,null,null,null,null,null,null,{"$f":"J604","v":0}]
[null,null,null,5,"",{"$f":"K600","v":""},"","",null,null,null,null,null,{"$f":"IF(N607=G600,G599,\"\")","v":""},{"$f":"IF(O607=H600,H599,\"\")","v":""},{"$f":"IF(P607=I600,I599,\"\")","v":""},{"$f":"IF(Q607=J600,J599,\"\")","v":""},{"$f":"IF(R607=K600,K599,\"\")","v":""},{"$f":"IF(S607=L600,L599,\"\")","v":""},{"$f":"IF(T607=M600,M599,\"\")","v":""},{"$f":"IF(U607=N600,N599,\"\")","v":""},{"$f":"IF(V607=O600,O599,\"\")","v":""},{"$f":"IF(W607=P600,P599,\"\")","v":""},{"$f":"IF(X607=Q600,Q599,\"\")","v":""},{"$f":"IF(Y607=R600,R599,\"\")","v":""},{"$f":"IF(Z607=S600,S599,\"\")","v":""},{"$f":"IF(AA607=T600,T599,\"\")","v":""},{"$f":"IF(AB607=U600,U599,\"\")","v":""},{"$f":"IF(AC607=V600,V599,\"\")","v":""},{"$f":"IF(AD607=W600,W599,\"\")","v":""},{"$f":"IF(AE607=X600,X599,\"\")","v":""},{"$f":"IF(AF607=Y600,Y599,\"\")","v":""},{"$f":"IF(AG607=Z600,Z599,\"\")","v":""},{"$f":"IF(AH607=AA600,AA599,\"\")","v":""},{"$f":"IF(AI607=AB600,AB599,\"\")","v":""},{"$f":"IF(AJ607=AC600,AC599,\"\")","v":""},{"$f":"IF(AK607=AD600,AD599,\"\")","v":""},{"$f":"IF(AL607=AE600,AE599,\"\")","v":""},{"$f":"IF(AM607=AF600,AF599,\"\")","v":""},{"$f":"IF(AN607=AG600,AG599,\"\")","v":""},{"$f":"IF(AO607=AH600,AH599,\"\")","v":""},{"$f":"IF(AP607=AI600,AI599,\"\")","v":""},{"$f":"IF(AQ607=AJ600,AJ599,\"\")","v":""},{"$f":"IF(AR607=AK600,AK599,\"\")","v":""},{"$f":"IF(AS607=AL600,AL599,\"\")","v":""},{"$f":"IF(AT607=AM600,AM599,\"\")","v":""},{"$f":"IF(AU607=AN600,AN599,\"\")","v":""},{"$f":"IF(AV607=AO600,AO599,\"\")","v":""},{"$f":"IF(AW607=AP600,AP599,\"\")","v":""},{"$f":"IF(AX607=AQ600,AQ599,\"\")","v":""},{"$f":"IF(AY607=AR600,AR599,\"\")","v":""},{"$f":"IF(AZ607=AS600,AS599,\"\")","v":""},{"$f":"IF(BA607=AT600,AT599,\"\")","v":""}]
[null,null,null,10,"",{"$f":"P600","v":""},"","",null,3,"",{"$f":"P607","v":""},"","",null,{"$f":"O609","v":0},null,null,null,null,null,null,null,null,null,null,null,null,null,null,null,null,null,null,null,null,null,null,null,null,null,null,null,null,null,null,null,null,null,null,null,null,null,null,null,null,null,null,null,null,null,3,{"$f":"BK610","v":0},0,null,null,null,null,null,null,null,null,null,null,null,null,null,null,null,"MASSIMO CARICO",null,null,null,null,{"$f":"C605","v":200}]
[null,null,null,11,"",{"$f":"Q600","v":""},"","",null,4,"",{"$f":"Q607","v":""},"","",null,null,null,null,null,null,null,null,null,null,null,null,null,null,null,null,null,null,null,null,null,null,null,null,null,null,null,null,null,null,null,null,null,null,null,null,null,null,null,null,null,null,null,null,null,null,null,4,{"$f":"BK611","v":0},0]
[null,null,null,15,"",{"$f":"U600","v":""},"",{"$f":"IF(G616=\"X\",F616,\"\")","v":""},null,8,"",{"$f":"U607","v":""},"","",null,null,null,null,null,null,null,null,null,null,null,null,null,null,null,null,null,null,null,null,null,null,null,null,null,null,null,null,null,null,null,null,null,null,null,null,null,null,null,null,null,null,null,null,null,null,null,8,{"$f":"BK615","v":0},0]
[null,null,null,19,"",{"$f":"Y600","v":""},"","",null,12,"",{"$f":"Y607","v":""},"","",null,null,null,null,null,null,null,null,null,null,null,null,null,null,null,null,null,null,null,null,null,null,null,null,null,null,null,null,null,null,null,null,null,null,null,null,null,null,null,null,null,null,null,null,null,null,null,12,{"$f":"BK619","v":0},0]
[null,null,null,24,"",{"$f":"AD600","v":""},{"$f":"IF(F625=\"\",\"\",IF(E625<=$C$74,\"X\",\"\"))","v":""},"",null,17,"",{"$f":"AD607","v":""},{"$f":"IF(L625=\"\",\"\",IF(K625<=$C$74,\"X\",\"\"))","v":""},{"$f":"IF(M625=\"X\",L625,\"\")","v":""},null,1,2,3,4,5,6,7,8,9,10,11,12,13,14,15,16,17,18,19,20,21,22,23,24,25,26,27,28,29,30,31,32,33,34,35,36,37,38,39,40,null,null,null,null,null,null,17,{"$f":"BK624","v":0},0]
[null,null,null,25,"",{"$f":"AE600","v":""},"","",null,18,"",{"$f":"AE607","v":""},"","",null,{"$f":"IF(P627=\"\",\"\",IF(P627=G594,G593,\"\"))","v":""},{"$f":"IF(Q627=\"\",\"\",IF(Q627=H594,H593,\"\"))","v":""},{"$f":"IF(R627=\"\",\"\",IF(R627=I594,I593,\"\"))","v":""},{"$f":"IF(S627=\"\",\"\",IF(S627=J594,J593,\"\"))","v":""},{"$f":"IF(T627=\"\",\"\",IF(T627=K594,K593,\"\"))","v":""},{"$f":"IF(U627=\"\",\"\",IF(U627=L594,L593,\"\"))","v":""},{"$f":"IF(V627=\"\",\"\",IF(V627=M594,M593,\"\"))","v":""},{"$f":"IF(W627=\"\",\"\",IF(W627=N594,N593,\"\"))","v":""},{"$f":"IF(X627=\"\",\"\",IF(X627=O594,O593,\"\"))","v":""},{"$f":"IF(Y627=\"\",\"\",IF(Y627=P594,P593,\"\"))","v":""},{"$f":"IF(Z627=\"\",\"\",IF(Z627=Q594,Q593,\"\"))","v":""},{"$f":"IF(AA627=\"\",\"\",IF(AA627=R594,R593,\"\"))","v":""},{"$f":"IF(AB627=\"\",\"\",IF(AB627=S594,S593,\"\"))","v":""},{"$f":"IF(AC627=\"\",\"\",IF(AC627=T594,T593,\"\"))","v":""},{"$f":"IF(AD627=\"\",\"\",IF(AD627=U594,U593,\"\"))","v":""},{"$f":"IF(AE627=\"\",\"\",IF(AE627=V594,V593,\"\"))","v":""},{"$f":"IF(AF627=\"\",\"\",IF(AF627=W594,W593,\"\"))","v":""},{"$f":"IF(AG627=\"\",\"\",IF(AG627=X594,X593,\"\"))","v":""},{"$f":"IF(AH627=\"\",\"\",IF(AH627=Y594,Y593,\"\"))","v":""},{"$f":"IF(AI627=\"\",\"\",IF(AI627=Z594,Z593,\"\"))","v":""},{"$f":"IF(AJ627=\"\",\"\",IF(AJ627=AA594,AA593,\"\"))","v":""},{"$f":"IF(AK627=\"\",\"\",IF(AK627=AB594,AB593,\"\"))","v":""},{"$f":"IF(AL627=\"\",\"\",IF(AL627=AC594,AC593,\"\"))","v":""},{"$f":"IF(AM627=\"\",\"\",IF(AM627=AD594,AD593,\"\"))","v":""},{"$f":"IF(AN627=\"\",\"\",IF(AN627=AE594,AE593,\"\"))","v":""},{"$f":"IF(AO627=\"\",\"\",IF(AO627=AF594,AF593,\"\"))","v":""},{"$f":"IF(AP627=\"\",\"\",IF(AP627=AG594,AG593,\"\"))","v":""},{"$f":"IF(AQ627=\"\",\"\",IF(AQ627=AH594,AH593,\"\"))","v":""},{"$f":"IF(AR627=\"\",\"\",IF(AR627=AI594,AI593,\"\"))","v":""},{"$f":"IF(AS627=\"\",\"\",IF(AS627=AJ594,AJ593,\"\"))","v":""},{"$f":"IF(AT627=\"\",\"\",IF(AT627=AK594,AK593,\"\"))","v":""},{"$f":"IF(AU627=\"\",\"\",IF(AU627=AL594,AL593,\"\"))","v":""},{"$f":"IF(AV627=\"\",\"\",IF(AV627=AM594,AM593,\"\"))","v":""},{"$f":"IF(AW627=\"\",\"\",IF(AW627=AN594,AN593,\"\"))","v":""},{"$f":"IF(AX627=\"\",\"\",IF(AX627=AO594,AO593,\"\"))","v":""},{"$f":"IF(AY627=\"\",\"\",IF(AY627=AP594,AP593,\"\"))","v":""},{"$f":"IF(AZ627=\"\",\"\",IF(AZ627=AQ594,AQ593,\"\"))","v":""},{"$f":"IF(BA627=\"\",\"\",IF(BA627=AR594,AR593,\"\"))","v":""},{"$f":"IF(BB627=\"\",\"\",IF(BB627=AS594,AS593,\"\"))","v":""},{"$f":"IF(BC627=\"\",\"\",IF(BC627=AT594,AT593,\"\"))","v":""},null,null,null,null,null,null,18,{"$f":"BK625","v":0},0]
[null,null,null,31,"",{"$f":"AK600","v":""},"","",null,24,"",{"$f":"AK607","v":""},"","",null,null,null,null,null,null,null,null,null,null,null,null,null,null,null,null,null,null,null,null,null,null,null,null,null,null,null,null,null,null,null,null,null,null,null,null,null,null,null,null,null,null,null,null,null,null,null,24,{"$f":"BK631","v":0},0]
[null,null,null,34,"",{"$f":"AN600","v":""},"","",null,27,"",{"$f":"AN607","v":""},"","",null,null,null,null,null,null,null,null,null,null,null,null,null,null,null,null,null,null,null,null,null,null,null,null,null,null,null,null,null,null,null,null,null,null,null,null,null,null,null,null,null,null,null,null,null,null,null,27,{"$f":"BK634","v":0},0]
[null,null,null,36,"",{"$f":"AP600","v":""},"","",null,29,"",{"$f":"AP607","v":""},"","",null,null,null,null,null,null,null,null,null,null,null,null,null,null,null,null,null,null,null,null,null,null,null,null,null,null,null,null,null,null,null,null,null,null,null,null,null,null,null,null,null,null,null,null,null,null,null,29,{"$f":"BK636","v":0},0]
[null,null,null,39,"",{"$f":"AS600","v":""},"","",null,32,"",{"$f":"AS607","v":""},"","",null,null,null,null,null,null,null,null,null,null,null,null,null,null,null,null,null,null,null,null,null,null,null,null,null,null,null,null,null,null,null,null,null,null,null,null,null,null,null,null,null,null,null,null,null,null,null,32,{"$f":"BK639","v":0},0]
[null,null,null,null,null,null,null,null,null,37,"",{"$f":"AX607","v":""},"","",null,null,null,null,null,null,null,null,null,null,null,null,null,null,null,null,null,null,null,null,null,null,null,null,null,null,null,null,null,null,null,null,null,null,null,null,null,null,null,null,null,null,null,null,null,null,null,37,{"$f":"BK644","v":0},0]
[]
[null,null,"MASSIMO PESO",null,null,null,{"$f":"MAX(G653:AT653)","v":0}]
[null,null,null,null,null,null,{"$f":"G654","v":0},null,null,null,null,null,null,null,null,null,null,null,null,null,null,null,null,null,null,null,null,null,null,null,null,null,null,null,null,null,null,null,null,null,null,null,null,null,null,null,null,null,null,null,null,null,null,null,null,null,null,null,null,null,null,null,null,null,null,null,null,null,null,null,null,null,null,null,null,null,null,null,null,null,{"$f":"G654","v":0},null,null,{"$f":"IF(CC657=0,\"\",CC657)","v":""},null,{"$f":"IF(CF657=\"\",\"\",CC656)","v":""}]
[null,null,"DISPONIBILI",null,null,null,{"$f":"IF(G653=$G654,\"\",G653)","v":""},{"$f":"IF(H653=$G654,\"\",H653)","v":""},{"$f":"IF(I653=$G654,\"\",I653)","v":""},{"$f":"IF(J653=$G654,\"\",J653)","v":""},{"$f":"IF(K653=$G654,\"\",K653)","v":""},{"$f":"IF(L653=$G654,\"\",L653)","v":""},{"$f":"IF(M653=$G654,\"\",M653)","v":""},{"$f":"IF(N653=$G654,\"\",N653)","v":""},{"$f":"IF(O653=$G654,\"\",O653)","v":""},{"$f":"IF(P653=$G654,\"\",P653)","v":""},{"$f":"IF(Q653=$G654,\"\",Q653)","v":""},{"$f":"IF(R653=$G654,\"\",R653)","v":""},{"$f":"IF(S653=$G654,\"\",S653)","v":""},{"$f":"IF(T653=$G654,\"\",T653)","v":""},{"$f":"IF(U653=$G654,\"\",U653)","v":""},{"$f":"IF(V653=$G654,\"\",V653)","v":""},{"$f":"IF(W653=$G654,\"\",W653)","v":""},{"$f":"IF(X653=$G654,\"\",X653)","v":""},{"$f":"IF(Y653=$G654,\"\",Y653)","v":""},{"$f":"IF(Z653=$G654,\"\",Z653)","v":""},{"$f":"IF(AA653=$G654,\"\",AA653)","v":""},{"$f":"IF(AB653=$G654,\"\",AB653)","v":""},{"$f":"IF(AC653=$G654,\"\",AC653)","v":""},{"$f":"IF(AD653=$G654,\"\",AD653)","v":""},{"$f":"IF(AE653=$G654,\"\",AE653)","v":""},{"$f":"IF(AF653=$G654,\"\",AF653)","v":""},{"$f":"IF(AG653=$G654,\"\",AG653)","v":""},{"$f":"IF(AH653=$G654,\"\",AH653)","v":""},{"$f":"IF(AI653=$G654,\"\",AI653)","v":""},{"$f":"IF(AJ653=$G654,\"\",AJ653)","v":""},{"$f":"IF(AK653=$G654,\"\",AK653)","v":""},{"$f":"IF(AL653=$G654,\"\",AL653)","v":""},{"$f":"IF(AM653=$G654,\"\",AM653)","v":""},{"$f":"IF(AN653=$G654,\"\",AN653)","v":""},{"$f":"IF(AO653=$G654,\"\",AO653)","v":""},{"$f":"IF(AP653=$G654,\"\",AP653)","v":""},{"$f":"IF(AQ653=$G654,\"\",AQ653)","v":""},{"$f":"IF(AR653=$G654,\"\",AR653)","v":""},{"$f":"IF(AS653=$G654,\"\",AS653)","v":""},{"$f":"IF(AT653=$G654,\"\",AT653)","v":""},null,null,null,null,null,null,null,null,null,null,null,null,null,null,null,null,null,null,null,null,null,null,null,null,null,null,null,null,null,null,null,null,null,null,null,null,null,{"$f":"IF(CC667=0,\"\",CC667)","v":""},null,{"$f":"IF(CF659=\"\",\"\",CC666)","v":""}]
[null,null,null,2,"",{"$f":"H659","v":""},{"$f":"IF(F662=\"\",\"\",IF(E662<=$C$74,\"X\",\"\"))","v":""},"",null,{"$f":"IF($J663=G659,G659,\"\")","v":""},{"$f":"IF($J663=H659,H659,\"\")","v":""},{"$f":"IF($J663=I659,I659,\"\")","v":""},{"$f":"IF($J663=J659,J659,\"\")","v":""},{"$f":"IF($J663=K659,K659,\"\")","v":""},{"$f":"IF($J663=L659,L659,\"\")","v":""},{"$f":"IF($J663=M659,M659,\"\")","v":""},{"$f":"IF($J663=N659,N659,\"\")","v":""},{"$f":"IF($J663=O659,O659,\"\")","v":""},{"$f":"IF($J663=P659,P659,\"\")","v":""},{"$f":"IF($J663=Q659,Q659,\"\")","v":""},{"$f":"IF($J663=R659,R659,\"\")","v":""},{"$f":"IF($J663=S659,S659,\"\")","v":""},{"$f":"IF($J663=T659,T659,\"\")","v":""},{"$f":"IF($J663=U659,U659,\"\")","v":""},{"$f":"IF($J663=V659,V659,\"\")","v":""},{"$f":"IF($J663=W659,W659,\"\")","v":""},{"$f":"IF($J663=X659,X659,\"\")","v":""},{"$f":"IF($J663=Y659,Y659,\"\")","v":""},{"$f":"IF($J663=Z659,Z659,\"\")","v":""},{"$f":"IF($J663=AA659,AA659,\"\")","v":""},{"$f":"IF($J663=AB659,AB659,\"\")","v":""},{"$f":"IF($J663=AC659,AC659,\"\")","v":""},{"$f":"IF($J663=AD659,AD659,\"\")","v":""},{"$f":"IF($J663=AE659,AE659,\"\")","v":""},{"$f":"IF($J663=AF659,AF659,\"\")","v":""},{"$f":"IF($J663=AG659,AG659,\"\")","v":""},{"$f":"IF($J663=AH659,AH659,\"\")","v":""},{"$f":"IF($J663=AI659,AI659,\"\")","v":""},{"$f":"IF($J663=AJ659,AJ659,\"\")","v":""},{"$f":"IF($J663=AK659,AK659,\"\")","v":""},{"$f":"IF($J663=AL659,AL659,\"\")","v":""},{"$f":"IF($J663=AM659,AM659,\"\")","v":""},{"$f":"IF($J663=AN659,AN659,\"\")","v":""},{"$f":"IF($J663=AO659,AO659,\"\")","v":""},{"$f":"IF($J663=AP659,AP659,\"\")","v":""},{"$f":"IF($J663=AQ659,AQ659,\"\")","v":""},{"$f":"IF($J663=AR659,AR659,\"\")","v":""},{"$f":"IF($J663=AS659,AS659,\"\")","v":""},{"$f":"IF($J663=AT659,AT659,\"\")","v":""},null,null,null,null,null,null,null,null,null,null,null,null,null,null,null,null,null,null,null,null,null,null,null,null,null,null,null,null,null,null,null,{"$f":"J663","v":0}]
[null,null,null,8,"",{"$f":"N659","v":""},"","",null,1,{"$f":"IF(L668<>\"\",BK668+BL668+L668,\"\")","v":""},{"$f":"N666","v":""},{"$f":"IF(L668=\"\",\"\",IF(K668<=$C$74,\"X\",\"\"))","v":""},{"$f":"IF(M668=\"X\",L668,\"\")","v":""},{"$f":"MAX(N668:N687)","v":0},{"$f":"IF(P669=N666,N665,\"\")","v":""},{"$f":"IF(Q669=O666,O665,\"\")","v":""},{"$f":"IF(R669=P666,P665,\"\")","v":""},{"$f":"IF(S669=Q666,Q665,\"\")","v":""},{"$f":"IF(T669=R666,R665,\"\")","v":""},{"$f":"IF(U669=S666,S665,\"\")","v":""},{"$f":"IF(V669=T666,T665,\"\")","v":""},{"$f":"IF(W669=U666,U665,\"\")","v":""},{"$f":"IF(X669=V666,V665,\"\")","v":""},{"$f":"IF(Y669=W666,W665,\"\")","v":""},{"$f":"IF(Z669=X666,X665,\"\")","v":""},{"$f":"IF(AA669=Y666,Y665,\"\")","v":""},{"$f":"IF(AB669=Z666,Z665,\"\")","v":""},{"$f":"IF(AC669=AA666,AA665,\"\")","v":""},{"$f":"IF(AD669=AB666,AB665,\"\")","v":""},{"$f":"IF(AE669=AC666,AC665,\"\")","v":""},{"$f":"IF(AF669=AD666,AD665,\"\")","v":""},{"$f":"IF(AG669=AE666,AE665,\"\")","v":""},{"$f":"IF(AH669=AF666,AF665,\"\")","v":""},{"$f":"IF(AI669=AG666,AG665,\"\")","v":""},{"$f":"IF(AJ669=AH666,AH665,\"\")","v":""},{"$f":"IF(AK669=AI666,AI665,\"\")","v":""},{"$f":"IF(AL669=AJ666,AJ665,\"\")","v":""},{"$f":"IF(AM669=AK666,AK665,\"\")","v":""},{"$f":"IF(AN669=AL666,AL665,\"\")","v":""},{"$f":"IF(AO669=AM666,AM665,\"\")","v":""},{"$f":"IF(AP669=AN666,AN665,\"\")","v":""},{"$f":"IF(AQ669=AO666,AO665,\"\")","v":""},{"$f":"IF(AR669=AP666,AP665,\"\")","v":""},{"$f":"IF(AS669=AQ666,AQ665,\"\")","v":""},{"$f":"IF(AT669=AR666,AR665,\"\")","v":""},{"$f":"IF(AU669=AS666,AS665,\"\")","v":""},{"$f":"IF(AV669=AT666,AT665,\"\")","v":""},{"$f":"IF(AW669=AU666,AU665,\"\")","v":""},{"$f":"IF(AX669=AV666,AV665,\"\")","v":""},{"$f":"IF(AY669=AW666,AW665,\"\")","v":""},{"$f":"IF(AZ669=AX666,AX665,\"\")","v":""},{"$f":"IF(BA669=AY666,AY665,\"\")","v":""},{"$f":"IF(BB669=AZ666,AZ665,\"\")","v":""},{"$f":"IF(BC669=BA666,BA665,\"\")","v":""},null,null,null,null,null,null,1,{"$f":"CC657","v":0},{"$f":"CC662","v":0}]
[null,null,null,9,"",{"$f":"O659","v":""},"","",null,2,"",{"$f":"O666","v":""},{"$f":"IF(L669=\"\",\"\",IF(K669<=$C$74,\"X\",\"\"))","v":""},{"$f":"IF(M669=\"X\",L669,\"\")","v":""},null,{"$f":"IF($P670=N666,N666,\"\")","v":""},{"$f":"IF($P670=O666,O666,\"\")","v":""},{"$f":"IF($P670=P666,P666,\"\")","v":""},{"$f":"IF($P670=Q666,Q666,\"\")","v":""},{"$f":"IF($P670=R666,R666,\"\")","v":""},{"$f":"IF($P670=S666,S666,\"\")","v":""},{"$f":"IF($P670=T666,T666,\"\")","v":""},{"$f":"IF($P670=U666,U666,\"\")","v":""},{"$f":"IF($P670=V666,V666,\"\")","v":""},{"$f":"IF($P670=W666,W666,\"\")","v":""},{"$f":"IF($P670=X666,X666,\"\")","v":""},{"$f":"IF($P670=Y666,Y666,\"\")","v":""},{"$f":"IF($P670=Z666,Z666,\"\")","v":""},{"$f":"IF($P670=AA666,AA666,\"\")","v":""},{"$f":"IF($P670=AB666,AB666,\"\")","v":""},{"$f":"IF($P670=AC666,AC666,\"\")","v":""},{"$f":"IF($P670=AD666,AD666,\"\")","v":""},{"$f":"IF($P670=AE666,AE666,\"\")","v":""},{"$f":"IF($P670=AF666,AF666,\"\")","v":""},{"$f":"IF($P670=AG666,AG666,\"\")","v":""},{"$f":"IF($P670=AH666,AH666,\"\")","v":""},{"$f":"IF($P670=AI666,AI666,\"\")","v":""},{"$f":"IF($P670=AJ666,AJ666,\"\")","v":""},{"$f":"IF($P670=AK666,AK666,\"\")","v":""},{"$f":"IF($P670=AL666,AL666,\"\")","v":""},{"$f":"IF($P670=AM666,AM666,\"\")","v":""},{"$f":"IF($P670=AN666,AN666,\"\")","v":""},{"$f":"IF($P670=AO666,AO666,\"\")","v":""},{"$f":"IF($P670=AP666,AP666,\"\")","v":""},{"$f":"IF($P670=AQ666,AQ666,\"\")","v":""},{"$f":"IF($P670=AR666,AR666,\"\")","v":""},{"$f":"IF($P670=AS666,AS666,\"\")","v":""},{"$f":"IF($P670=AT666,AT666,\"\")","v":""},{"$f":"IF($P670=AU666,AU666,\"\")","v":""},{"$f":"IF($P670=AV666,AV666,\"\")","v":""},{"$f":"IF($P670=AW666,AW666,\"\")","v":""},{"$f":"IF($P670=AX666,AX666,\"\")","v":""},{"$f":"IF($P670=AY666,AY666,\"\")","v":""},{"$f":"IF($P670=AZ666,AZ666,\"\")","v":""},{"$f":"IF($P670=BA666,BA666,\"\")","v":""},null,null,null,null,null,null,2,{"$f":"BK668","v":0},{"$f":"BL668","v":0}]
[null,null,null,14,"",{"$f":"T659","v":""},"","",null,7,"",{"$f":"T666","v":""},"","",null,null,null,null,null,null,null,null,null,null,null,null,null,null,null,null,null,null,null,null,null,null,null,null,null,null,null,null,null,null,null,null,null,null,null,null,null,null,null,null,null,null,null,null,null,null,null,7,{"$f":"BK673","v":0},0]
[null,null,null,18,"",{"$f":"X659","v":""},"","",null,11,"",{"$f":"X666","v":""},"","",null,null,null,null,null,null,null,null,null,null,null,null,null,null,null,null,null,null,null,null,null,null,null,null,null,null,null,null,null,null,null,null,null,null,null,null,null,null,null,null,null,null,null,null,null,null,null,11,{"$f":"BK677","v":0},0]
[null,null,null,22,"",{"$f":"AB659","v":""},"","",null,15,"",{"$f":"AB666","v":""},"","",null,"RIMASTI A DISPOSIZIONE",null,null,null,null,null,null,null,null,null,null,null,null,null,null,null,null,null,null,null,null,null,null,null,null,null,null,null,null,null,null,null,null,null,null,null,null,null,null,null,null,null,null,null,null,null,15,{"$f":"BK681","v":0},0]
[null,null,null,23,"",{"$f":"AC659","v":""},"","",null,16,"",{"$f":"AC666","v":""},"","",null,null,null,null,null,null,null,null,null,null,null,null,null,null,null,null,null,null,null,null,null,null,null,null,null,null,null,null,null,null,null,null,null,null,null,null,null,null,null,null,null,null,null,null,null,null,null,16,{"$f":"BK682","v":0},0]
[null,null,null,28,"",{"$f":"AH659","v":""},"","",null,21,{"$f":"IF(L688<>\"\",BK688+BL688+L688,\"\")","v":""},{"$f":"AH666","v":""},"","",null,null,null,null,null,null,null,null,null,null,null,null,null,null,null,null,null,null,null,null,null,null,null,null,null,null,null,null,null,null,null,null,null,null,null,null,null,null,null,null,null,null,null,null,null,null,null,21,{"$f":"BK687","v":0},0]
[null,null,null,31,"",{"$f":"AK659","v":""},"","",null,24,"",{"$f":"AK666","v":""},"","",null,null,null,null,null,null,null,null,null,null,null,null,null,null,null,null,null,null,null,null,null,null,null,null,null,null,null,null,null,null,null,null,null,null,null,null,null,null,null,null,null,null,null,null,null,null,null,24,{"$f":"BK690","v":0},0]
[null,null,null,37,"",{"$f":"AQ659","v":""},"","",null,30,"",{"$f":"AQ666","v":""},"","",null,null,null,null,null,null,null,null,null,null,null,null,null,null,null,null,null,null,null,null,null,null,null,null,null,null,null,null,null,null,null,null,null,null,null,null,null,null,null,null,null,null,null,null,null,null,null,30,{"$f":"BK696","v":0},0]
[null,null,null,39,"",{"$f":"AS659","v":""},"","",null,32,"",{"$f":"AS666","v":""},"","",null,null,null,null,null,null,null,null,null,null,null,null,null,null,null,null,null,null,null,null,null,null,null,null,null,null,null,null,null,null,null,null,null,null,null,null,null,null,null,null,null,null,null,null,null,null,null,32,{"$f":"BK698","v":0},0]
[null,null,null,null,null,null,null,null,null,35,"",{"$f":"AV666","v":""},"","",null,null,null,null,null,null,null,null,null,null,null,null,null,null,null,null,null,null,null,null,null,null,null,null,null,null,null,null,null,null,null,null,null,null,null,null,null,null,null,null,null,null,null,null,null,null,null,35,{"$f":"BK701","v":0},0]
[null,null,null,null,null,null,null,null,null,39,"",{"$f":"AZ666","v":""},"","",null,null,null,null,null,null,null,null,null,null,null,null,null,null,null,null,null,null,null,null,null,null,null,null,null,null,null,null,null,null,null,null,null,null,null,null,null,null,null,null,null,null,null,null,null,null,null,39,{"$f":"BK705","v":0},0]
[null,null,"TIR",null,{"$f":"E652+1","v":12},null,{"$f":"P685","v":""},{"$f":"Q685","v":""},{"$f":"R685","v":""},{"$f":"S685","v":""},{"$f":"T685","v":""},{"$f":"U685","v":""},{"$f":"V685","v":""},{"$f":"W685","v":""},{"$f":"X685","v":""},{"$f":"Y685","v":""},{"$f":"Z685","v":""},{"$f":"AA685","v":""},{"$f":"AB685","v":""},{"$f":"AC685","v":""},{"$f":"AD685","v":""},{"$f":"AE685","v":""},{"$f":"AF685","v":""},{"$f":"AG685","v":""},{"$f":"AH685","v":""},{"$f":"AI685","v":""},{"$f":"AJ685","v":""},{"$f":"AK685","v":""},{"$f":"AL685","v":""},{"$f":"AM685","v":""},{"$f":"AN685","v":""},{"$f":"AO685","v":""},{"$f":"AP685","v":""},{"$f":"AQ685","v":""},{"$f":"AR685","v":""},{"$f":"AS685","v":""},{"$f":"AT685","v":""},{"$f":"AU685","v":""},{"$f":"AV685","v":""},{"$f":"AW685","v":""},{"$f":"AX685","v":""},{"$f":"AY685","v":""},{"$f":"AZ685","v":""},{"$f":"BA685","v":""},{"$f":"BB685","v":""},{"$f":"BC685","v":""}]
[null,null,null,null,null,null,{"$f":"P686","v":""},"","","","","","","","","","","","","","","","","","","","","","","","","","","","","","","","","","","","","","",""]
[null,null,"DISPONIBILI",null,null,null,{"$f":"IF(G712=$G713,\"\",G712)","v":""},{"$f":"IF(H712=$G713,\"\",H712)","v":""},{"$f":"IF(I712=$G713,\"\",I712)","v":""},{"$f":"IF(J712=$G713,\"\",J712)","v":""},{"$f":"IF(K712=$G713,\"\",K712)","v":""},{"$f":"IF(L712=$G713,\"\",L712)","v":""},{"$f":"IF(M712=$G713,\"\",M712)","v":""},{"$f":"IF(N712=$G713,\"\",N712)","v":""},{"$f":"IF(O712=$G713,\"\",O712)","v":""},{"$f":"IF(P712=$G713,\"\",P712)","v":""},{"$f":"IF(Q712=$G713,\"\",Q712)","v":""},{"$f":"IF(R712=$G713,\"\",R712)","v":""},{"$f":"IF(S712=$G713,\"\",S712)","v":""},{"$f":"IF(T712=$G713,\"\",T712)","v":""},{"$f":"IF(U712=$G713,\"\",U712)","v":""},{"$f":"IF(V712=$G713,\"\",V712)","v":""},{"$f":"IF(W712=$G713,\"\",W712)","v":""},{"$f":"IF(X712=$G713,\"\",X712)","v":""},{"$f":"IF(Y712=$G713,\"\",Y712)","v":""},{"$f":"IF(Z712=$G713,\"\",Z712)","v":""},{"$f":"IF(AA712=$G713,\"\",AA712)","v":""},{"$f":"IF(AB712=$G713,\"\",AB712)","v":""},{"$f":"IF(AC712=$G713,\"\",AC712)","v":""},{"$f":"IF(AD712=$G713,\"\",AD712)","v":""},{"$f":"IF(AE712=$G713,\"\",AE712)","v":""},{"$f":"IF(AF712=$G713,\"\",AF712)","v":""},{"$f":"IF(AG712=$G713,\"\",AG712)","v":""},{"$f":"IF(AH712=$G713,\"\",AH712)","v":""},{"$f":"IF(AI712=$G713,\"\",AI712)","v":""},{"$f":"IF(AJ712=$G713,\"\",AJ712)","v":""},{"$f":"IF(AK712=$G713,\"\",AK712)","v":""},{"$f":"IF(AL712=$G713,\"\",AL712)","v":""},{"$f":"IF(AM712=$G713,\"\",AM712)","v":""},{"$f":"IF(AN712=$G713,\"\",AN712)","v":""},{"$f":"IF(AO712=$G713,\"\",AO712)","v":""},{"$f":"IF(AP712=$G713,\"\",AP712)","v":""},{"$f":"IF(AQ712=$G713,\"\",AQ712)","v":""},{"$f":"IF(AR712=$G713,\"\",AR712)","v":""},{"$f":"IF(AS712=$G713,\"\",AS712)","v":""},{"$f":"IF(AT712=$G713,\"\",AT712)","v":""},null,null,null,null,null,null,null,null,null,null,null,null,null,null,null,null,null,null,null,null,null,null,null,null,null,null,null,null,null,null,null,null,null,null,null,null,null,{"$f":"IF(CC726=0,\"\",CC726)","v":""},null,{"$f":"IF(CF718=\"\",\"\",CC725)","v":""}]
[null,null,null,2,"",{"$f":"H718","v":""},{"$f":"IF(F721=\"\",\"\",IF(E721<=$C$74,\"X\",\"\"))","v":""},"",null,{"$f":"IF($J722=G718,G718,\"\")","v":""},{"$f":"IF($J722=H718,H718,\"\")","v":""},{"$f":"IF($J722=I718,I718,\"\")","v":""},{"$f":"IF($J722=J718,J718,\"\")","v":""},{"$f":"IF($J722=K718,K718,\"\")","v":""},{"$f":"IF($J722=L718,L718,\"\")","v":""},{"$f":"IF($J722=M718,M718,\"\")","v":""},{"$f":"IF($J722=N718,N718,\"\")","v":""},{"$f":"IF($J722=O718,O718,\"\")","v":""},{"$f":"IF($J722=P718,P718,\"\")","v":""},{"$f":"IF($J722=Q718,Q718,\"\")","v":""},{"$f":"IF($J722=R718,R718,\"\")","v":""},{"$f":"IF($J722=S718,S718,\"\")","v":""},{"$f":"IF($J722=T718,T718,\"\")","v":""},{"$f":"IF($J722=U718,U718,\"\")","v":""},{"$f":"IF($J722=V718,V718,\"\")","v":""},{"$f":"IF($J722=W718,W718,\"\")","v":""},{"$f":"IF($J722=X718,X718,\"\")","v":""},{"$f":"IF($J722=Y718,Y718,\"\")","v":""},{"$f":"IF($J722=Z718,Z718,\"\")","v":""},{"$f":"IF($J722=AA718,AA718,\"\")","v":""},{"$f":"IF($J722=AB718,AB718,\"\")","v":""},{"$f":"IF($J722=AC718,AC718,\"\")","v":""},{"$f":"IF($J722=AD718,AD718,\"\")","v":""},{"$f":"IF($J722=AE718,AE718,\"\")","v":""},{"$f":"IF($J722=AF718,AF718,\"\")","v":""},{"$f":"IF($J722=AG718,AG718,\"\")","v":""},{"$f":"IF($J722=AH718,AH718,\"\")","v":""},{"$f":"IF($J722=AI718,AI718,\"\")","v":""},{"$f":"IF($J722=AJ718,AJ718,\"\")","v":""},{"$f":"IF($J722=AK718,AK718,\"\")","v":""},{"$f":"IF($J722=AL718,AL718,\"\")","v":""},{"$f":"IF($J722=AM718,AM718,\"\")","v":""},{"$f":"IF($J722=AN718,AN718,\"\")","v":""},{"$f":"IF($J722=AO718,AO718,\"\")","v":""},{"$f":"IF($J722=AP718,AP718,\"\")","v":""},{"$f":"IF($J722=AQ718,AQ718,\"\")","v":""},{"$f":"IF($J722=AR718,AR718,\"\")","v":""},{"$f":"IF($J722=AS718,AS718,\"\")","v":""},{"$f":"IF($J722=AT718,AT718,\"\")","v":""},null,null,null,null,null,null,null,null,null,null,null,null,null,null,null,null,null,null,null,null,null,null,null,null,null,null,null,null,null,null,null,{"$f":"J722","v":0}]
[null,null,{"$f":"$P$3","v":200},4,"",{"$f":"J718","v":""},"","",null,null,null,null,null,null,null,null,null,null,null,null,null,null,null,null,null,null,null,null,null,null,null,null,null,null,null,null,null,null,null,null,null,null,null,null,null,null,null,null,null,null,null,null,null,null,null,null,null,null,null,null,null,null,null,null,null,null,null,null,null,null,null,null,null,null,null,null,null,null,null,null,null,null,null,{"$f":"IF(CD715>0,CF664+1,\"\")","v":""}]
[null,null,null,7,"",{"$f":"M718","v":""},{"$f":"IF(F726=\"\",\"\",IF(E726<=$C$74,\"X\",\"\"))","v":""},"",null,null,null,null,null,null,null,null,null,null,null,null,null,null,null,null,null,null,null,null,null,null,null,null,null,null,null,null,null,null,null,null,null,null,null,null,null,null,null,null,null,null,null,null,null,null,null,null,null,null,null,null,null,null,1,2,null,null,null,null,null,null,null,null,null,null,null,null,null,null,null,null,{"$f":"P729","v":0}]
[null,null,null,12,"",{"$f":"R718","v":""},"","",null,5,"",{"$f":"R725","v":""},"","",null,null,null,null,null,null,null,null,null,null,null,null,null,null,null,null,null,null,null,null,null,null,null,null,null,null,null,null,null,null,null,null,null,null,null,null,null,null,null,null,null,null,null,null,null,null,null,5,{"$f":"BK730","v":0},0,null,null,null,null,null,null,null,null,null,null,null,null,null,null,null,"RIMANE",null,null,null,null,{"$f":"CG729-CD715","v":200}]
[null,null,null,16,"",{"$f":"V718","v":""},"","",null,9,"",{"$f":"V725","v":""},"","",null,null,null,null,null,null,null,null,null,null,null,null,null,null,null,null,null,null,null,null,null,null,null,null,null,null,null,null,null,null,null,null,null,null,null,null,null,null,null,null,null,null,null,null,null,null,null,9,{"$f":"BK734","v":0},0]
[null,null,null,21,{"$f":"IF(F740<>\"\",F740+G$126,\"\")","v":""},{"$f":"AA718","v":""},"","",null,14,"",{"$f":"AA725","v":""},"","",null,null,null,null,null,null,null,null,null,null,null,null,null,null,null,null,null,null,null,null,null,null,null,null,null,null,null,null,null,null,null,null,null,null,null,null,null,null,null,null,null,null,null,null,null,null,null,14,{"$f":"BK739","v":0},0]
[null,null,null,24,"",{"$f":"AD718","v":""},{"$f":"IF(F743=\"\",\"\",IF(E743<=$C$74,\"X\",\"\"))","v":""},"",null,17,"",{"$f":"AD725","v":""},{"$f":"IF(L743=\"\",\"\",IF(K743<=$C$74,\"X\",\"\"))","v":""},{"$f":"IF(M743=\"X\",L743,\"\")","v":""},null,1,2,3,4,5,6,7,8,9,10,11,12,13,14,15,16,17,18,19,20,21,22,23,24,25,26,27,28,29,30,31,32,33,34,35,36,37,38,39,40,null,null,null,null,null,null,17,{"$f":"BK742","v":0},0]
[null,null,null,26,"",{"$f":"AF718","v":""},"","",null,19,"",{"$f":"AF725","v":""},"","",null,{"$f":"IF(G712=$P729,\"\",IF(G712=$J722,\"\",IF(G712=$G713,\"\",G712)))","v":""},{"$f":"IF(H712=$P729,\"\",IF(H712=$J722,\"\",IF(H712=$G713,\"\",H712)))","v":""},{"$f":"IF(I712=$P729,\"\",IF(I712=$J722,\"\",IF(I712=$G713,\"\",I712)))","v":""},{"$f":"IF(J712=$P729,\"\",IF(J712=$J722,\"\",IF(J712=$G713,\"\",J712)))","v":""},{"$f":"IF(K712=$P729,\"\",IF(K712=$J722,\"\",IF(K712=$G713,\"\",K712)))","v":""},{"$f":"IF(L712=$P729,\"\",IF(L712=$J722,\"\",IF(L712=$G713,\"\",L712)))","v":""},{"$f":"IF(M712=$P729,\"\",IF(M712=$J722,\"\",IF(M712=$G713,\"\",M712)))","v":""},{"$f":"IF(N712=$P729,\"\",IF(N712=$J722,\"\",IF(N712=$G713,\"\",N712)))","v":""},{"$f":"IF(O712=$P729,\"\",IF(O712=$J722,\"\",IF(O712=$G713,\"\",O712)))","v":""},{"$f":"IF(P712=$P729,\"\",IF(P712=$J722,\"\",IF(P712=$G713,\"\",P712)))","v":""},{"$f":"IF(Q712=$P729,\"\",IF(Q712=$J722,\"\",IF(Q712=$G713,\"\",Q712)))","v":""},{"$f":"IF(R712=$P729,\"\",IF(R712=$J722,\"\",IF(R712=$G713,\"\",R712)))","v":""},{"$f":"IF(S712=$P729,\"\",IF(S712=$J722,\"\",IF(S712=$G713,\"\",S712)))","v":""},{"$f":"IF(T712=$P729,\"\",IF(T712=$J722,\"\",IF(T712=$G713,\"\",T712)))","v":""},{"$f":"IF(U712=$P729,\"\",IF(U712=$J722,\"\",IF(U712=$G713,\"\",U712)))","v":""},{"$f":"IF(V712=$P729,\"\",IF(V712=$J722,\"\",IF(V712=$G713,\"\",V712)))","v":""},{"$f":"IF(W712=$P729,\"\",IF(W712=$J722,\"\",IF(W712=$G713,\"\",W712)))","v":""},{"$f":"IF(X712=$P729,\"\",IF(X712=$J722,\"\",IF(X712=$G713,\"\",X712)))","v":""},{"$f":"IF(Y712=$P729,\"\",IF(Y712=$J722,\"\",IF(Y712=$G713,\"\",Y712)))","v":""},{"$f":"IF(Z712=$P729,\"\",IF(Z712=$J722,\"\",IF(Z712=$G713,\"\",Z712)))","v":""},{"$f":"IF(AA712=$P729,\"\",IF(AA712=$J722,\"\",IF(AA712=$G713,\"\",AA712)))","v":""},{"$f":"IF(AB712=$P729,\"\",IF(AB712=$J722,\"\",IF(AB712=$G713,\"\",AB712)))","v":""},{"$f":"IF(AC712=$P729,\"\",IF(AC712=$J722,\"\",IF(AC712=$G713,\"\",AC712)))","v":""},{"$f":"IF(AD712=$P729,\"\",IF(AD712=$J722,\"\",IF(AD712=$G713,\"\",AD712)))","v":""},{"$f":"IF(AE712=$P729,\"\",IF(AE712=$J722,\"\",IF(AE712=$G713,\"\",AE712)))","v":""},{"$f":"IF(AF712=$P729,\"\",IF(AF712=$J722,\"\",IF(AF712=$G713,\"\",AF712)))","v":""},{"$f":"IF(AG712=$P729,\"\",IF(AG712=$J722,\"\",IF(AG712=$G713,\"\",AG712)))","v":""},{"$f":"IF(AH712=$P729,\"\",IF(AH712=$J722,\"\",IF(AH712=$G713,\"\",AH712)))","v":""},{"$f":"IF(AI712=$P729,\"\",IF(AI712=$J722,\"\",IF(AI712=$G713,\"\",AI712)))","v":""},{"$f":"IF(AJ712=$P729,\"\",IF(AJ712=$J722,\"\",IF(AJ712=$G713,\"\",AJ712)))","v":""},{"$f":"IF(AK712=$P729,\"\",IF(AK712=$J722,\"\",IF(AK712=$G713,\"\",AK712)))","v":""},{"$f":"IF(AL712=$P729,\"\",IF(AL712=$J722,\"\",IF(AL712=$G713,\"\",AL712)))","v":""},{"$f":"IF(AM712=$P729,\"\",IF(AM712=$J722,\"\",IF(AM712=$G713,\"\",AM712)))","v":""},{"$f":"IF(AN712=$P729,\"\",IF(AN712=$J722,\"\",IF(AN712=$G713,\"\",AN712)))","v":""},{"$f":"IF(AO712=$P729,\"\",IF(AO712=$J722,\"\",IF(AO712=$G713,\"\",AO712)))","v":""},{"$f":"IF(AP712=$P729,\"\",IF(AP712=$J722,\"\",IF(AP712=$G713,\"\",AP712)))","v":""},{"$f":"IF(AQ712=$P729,\"\",IF(AQ712=$J722,\"\",IF(AQ712=$G713,\"\",AQ712)))","v":""},{"$f":"IF(AR712=$P729,\"\",IF(AR712=$J722,\"\",IF(AR712=$G713,\"\",AR712)))","v":""},{"$f":"IF(AS712=$P729,\"\",IF(AS712=$J722,\"\",IF(AS712=$G713,\"\",AS712)))","v":""},{"$f":"IF(AT712=$P729,\"\",IF(AT712=$J722,\"\",IF(AT712=$G713,\"\",AT712)))","v":""},null,null,null,null,null,null,19,{"$f":"BK744","v":0},0]
[null,null,null,31,"",{"$f":"AK718","v":""},"","",null,24,"",{"$f":"AK725","v":""},"","",null,null,null,null,null,null,null,null,null,null,null,null,null,null,null,null,null,null,null,null,null,null,null,null,null,null,null,null,null,null,null,null,null,null,null,null,null,null,null,null,null,null,null,null,null,null,null,24,{"$f":"BK749","v":0},0]
[null,null,null,33,"",{"$f":"AM718","v":""},"","",null,26,"",{"$f":"AM725","v":""},"","",null,null,null,null,null,null,null,null,null,null,null,null,null,null,null,null,null,null,null,null,null,null,null,null,null,null,null,null,null,null,null,null,null,null,null,null,null,null,null,null,null,null,null,null,null,null,null,26,{"$f":"BK751","v":0},0]
[null,null,null,36,"",{"$f":"AP718","v":""},"","",null,29,"",{"$f":"AP725","v":""},"","",null,null,null,null,null,null,null,null,null,null,null,null,null,null,null,null,null,null,null,null,null,null,null,null,null,null,null,null,null,null,null,null,null,null,null,null,null,null,null,null,null,null,null,null,null,null,null,29,{"$f":"BK754","v":0},0]
[null,null,null,null,null,null,null,null,null,34,"",{"$f":"AU725","v":""},"","",null,null,null,null,null,null,null,null,null,null,null,null,null,null,null,null,null,null,null,null,null,null,null,null,null,null,null,null,null,null,null,null,null,null,null,null,null,null,null,null,null,null,null,null,null,null,null,34,{"$f":"BK759","v":0},0]
[null,null,null,null,null,null,null,null,null,38,"",{"$f":"AY725","v":""},"","",null,null,null,null,null,null,null,null,null,null,null,null,null,null,null,null,null,null,null,null,null,null,null,null,null,null,null,null,null,null,null,null,null,null,null,null,null,null,null,null,null,null,null,null,null,null,null,38,{"$f":"BK763","v":0},0]
[]
[null,null,null,null,null,null,1,2,3,4,5,6,7,8,9,10,11,12,13,14,15,16,17,18,19,20,21,22,23,24,25,26,27,28,29,30,31,32,33,34,35,36,37,38,39,40,null,null,null,null,null,null,null,null,null,null,null,null,null,null,null,"BLOCCHI CHE POSSONO ESSERE CARICATI IN COPPIA O A TRE PERCHE' IL LORO PESO COMPLESSIVO NON SUPERA IL PESO MASSIMO CONSENTITO NEL TRASPORTO"]
[null,null,null,null,null,null,{"$f":"G773&H773&I773&J773&K773&L773&M773&N773&O773&P773&Q773&R773&S773&T773&U773&V773&W773&X773&Y773&Z773&AA773&AB773&AC773&AD773&AE773&AF773&AG773&AH773&AI773&AJ773&AK773&AL773&AM773&AN773&AO773&AP773&AQ773&AR773&AS773&AT773","v":""},null,null,null,null,null,null,null,null,null,null,null,null,null,null,null,null,null,null,null,null,null,null,null,null,null,null,null,null,null,null,null,null,null,null,null,null,null,null,null,null,null,null,null,null,null,null,null,null,null,null,null,null,null,null,null,null,null,null,null,null,null,null,null,null,null,null,null,"Primo Blocco",null,null,null,null,null,{"$f":"G774","v":""},{"$f":"CC775+CC780+CC785","v":0},null,"Quintali",null,"N° Blocco"]
[null,null,"DISPONIBILI",null,null,null,{"$f":"IF(G771=$G772,\"\",G771)","v":""},{"$f":"IF(H771=$G772,\"\",H771)","v":""},{"$f":"IF(I771=$G772,\"\",I771)","v":""},{"$f":"IF(J771=$G772,\"\",J771)","v":""},{"$f":"IF(K771=$G772,\"\",K771)","v":""},{"$f":"IF(L771=$G772,\"\",L771)","v":""},{"$f":"IF(M771=$G772,\"\",M771)","v":""},{"$f":"IF(N771=$G772,\"\",N771)","v":""},{"$f":"IF(O771=$G772,\"\",O771)","v":""},{"$f":"IF(P771=$G772,\"\",P771)","v":""},{"$f":"IF(Q771=$G772,\"\",Q771)","v":""},{"$f":"IF(R771=$G772,\"\",R771)","v":""},{"$f":"IF(S771=$G772,\"\",S771)","v":""},{"$f":"IF(T771=$G772,\"\",T771)","v":""},{"$f":"IF(U771=$G772,\"\",U771)","v":""},{"$f":"IF(V771=$G772,\"\",V771)","v":""},{"$f":"IF(W771=$G772,\"\",W771)","v":""},{"$f":"IF(X771=$G772,\"\",X771)","v":""},{"$f":"IF(Y771=$G772,\"\",Y771)","v":""},{"$f":"IF(Z771=$G772,\"\",Z771)","v":""},{"$f":"IF(AA771=$G772,\"\",AA771)","v":""},{"$f":"IF(AB771=$G772,\"\",AB771)","v":""},{"$f":"IF(AC771=$G772,\"\",AC771)","v":""},{"$f":"IF(AD771=$G772,\"\",AD771)","v":""},{"$f":"IF(AE771=$G772,\"\",AE771)","v":""},{"$f":"IF(AF771=$G772,\"\",AF771)","v":""},{"$f":"IF(AG771=$G772,\"\",AG771)","v":""},{"$f":"IF(AH771=$G772,\"\",AH771)","v":""},{"$f":"IF(AI771=$G772,\"\",AI771)","v":""},{"$f":"IF(AJ771=$G772,\"\",AJ771)","v":""},{"$f":"IF(AK771=$G772,\"\",AK771)","v":""},{"$f":"IF(AL771=$G772,\"\",AL771)","v":""},{"$f":"IF(AM771=$G772,\"\",AM771)","v":""},{"$f":"IF(AN771=$G772,\"\",AN771)","v":""},{"$f":"IF(AO771=$G772,\"\",AO771)","v":""},{"$f":"IF(AP771=$G772,\"\",AP771)","v":""},{"$f":"IF(AQ771=$G772,\"\",AQ771)","v":""},{"$f":"IF(AR771=$G772,\"\",AR771)","v":""},{"$f":"IF(AS771=$G772,\"\",AS771)","v":""},{"$f":"IF(AT771=$G772,\"\",AT771)","v":""},null,null,null,null,null,null,null,null,null,null,null,null,null,null,null,null,null,null,null,null,null,null,null,null,null,null,null,null,null,null,null,null,null,null,null,null,null,{"$f":"IF(CC785=0,\"\",CC785)","v":""},null,{"$f":"IF(CF777=\"\",\"\",CC784)","v":""}]
[null,null,null,5,"",{"$f":"K777","v":""},"","",null,null,null,null,null,{"$f":"IF(N784=G777,G776,\"\")","v":""},{"$f":"IF(O784=H777,H776,\"\")","v":""},{"$f":"IF(P784=I777,I776,\"\")","v":""},{"$f":"IF(Q784=J777,J776,\"\")","v":""},{"$f":"IF(R784=K777,K776,\"\")","v":""},{"$f":"IF(S784=L777,L776,\"\")","v":""},{"$f":"IF(T784=M777,M776,\"\")","v":""},{"$f":"IF(U784=N777,N776,\"\")","v":""},{"$f":"IF(V784=O777,O776,\"\")","v":""},{"$f":"IF(W784=P777,P776,\"\")","v":""},{"$f":"IF(X784=Q777,Q776,\"\")","v":""},{"$f":"IF(Y784=R777,R776,\"\")","v":""},{"$f":"IF(Z784=S777,S776,\"\")","v":""},{"$f":"IF(AA784=T777,T776,\"\")","v":""},{"$f":"IF(AB784=U777,U776,\"\")","v":""},{"$f":"IF(AC784=V777,V776,\"\")","v":""},{"$f":"IF(AD784=W777,W776,\"\")","v":""},{"$f":"IF(AE784=X777,X776,\"\")","v":""},{"$f":"IF(AF784=Y777,Y776,\"\")","v":""},{"$f":"IF(AG784=Z777,Z776,\"\")","v":""},{"$f":"IF(AH784=AA777,AA776,\"\")","v":""},{"$f":"IF(AI784=AB777,AB776,\"\")","v":""},{"$f":"IF(AJ784=AC777,AC776,\"\")","v":""},{"$f":"IF(AK784=AD777,AD776,\"\")","v":""},{"$f":"IF(AL784=AE777,AE776,\"\")","v":""},{"$f":"IF(AM784=AF777,AF776,\"\")","v":""},{"$f":"IF(AN784=AG777,AG776,\"\")","v":""},{"$f":"IF(AO784=AH777,AH776,\"\")","v":""},{"$f":"IF(AP784=AI777,AI776,\"\")","v":""},{"$f":"IF(AQ784=AJ777,AJ776,\"\")","v":""},{"$f":"IF(AR784=AK777,AK776,\"\")","v":""},{"$f":"IF(AS784=AL777,AL776,\"\")","v":""},{"$f":"IF(AT784=AM777,AM776,\"\")","v":""},{"$f":"IF(AU784=AN777,AN776,\"\")","v":""},{"$f":"IF(AV784=AO777,AO776,\"\")","v":""},{"$f":"IF(AW784=AP777,AP776,\"\")","v":""},{"$f":"IF(AX784=AQ777,AQ776,\"\")","v":""},{"$f":"IF(AY784=AR777,AR776,\"\")","v":""},{"$f":"IF(AZ784=AS777,AS776,\"\")","v":""},{"$f":"IF(BA784=AT777,AT776,\"\")","v":""}]
[null,null,null,7,"",{"$f":"M777","v":""},{"$f":"IF(F785=\"\",\"\",IF(E785<=$C$74,\"X\",\"\"))","v":""},"",null,null,null,null,null,null,null,null,null,null,null,null,null,null,null,null,null,null,null,null,null,null,null,null,null,null,null,null,null,null,null,null,null,null,null,null,null,null,null,null,null,null,null,null,null,null,null,null,null,null,null,null,null,null,1,2,null,null,null,null,null,null,null,null,null,null,null,null,null,null,null,null,{"$f":"P788","v":0}]
[null,null,null,10,"",{"$f":"P777","v":""},"","",null,3,"",{"$f":"P784","v":""},"","",null,{"$f":"O786","v":0},null,null,null,null,null,null,null,null,null,null,null,null,null,null,null,null,null,null,null,null,null,null,null,null,null,null,null,null,null,null,null,null,null,null,null,null,null,null,null,null,null,null,null,null,null,3,{"$f":"BK787","v":0},0,null,null,null,null,null,null,null,null,null,null,null,null,null,null,null,"MASSIMO CARICO",null,null,null,null,{"$f":"C782","v":200}]
[null,null,null,15,"",{"$f":"U777","v":""},"",{"$f":"IF(G793=\"X\",F793,\"\")","v":""},null,8,"",{"$f":"U784","v":""},"","",null,null,null,null,null,null,null,null,null,null,null,null,null,null,null,null,null,null,null,null,null,null,null,null,null,null,null,null,null,null,null,null,null,null,null,null,null,null,null,null,null,null,null,null,null,null,null,8,{"$f":"BK792","v":0},0]
[null,null,null,19,"",{"$f":"Y777","v":""},"","",null,12,"",{"$f":"Y784","v":""},"","",null,null,null,null,null,null,null,null,null,null,null,null,null,null,null,null,null,null,null,null,null,null,null,null,null,null,null,null,null,null,null,null,null,null,null,null,null,null,null,null,null,null,null,null,null,null,null,12,{"$f":"BK796","v":0},0]
[null,null,null,20,"",{"$f":"Z777","v":""},"","",null,13,"",{"$f":"Z784","v":""},"","",null,null,null,null,null,null,null,null,null,null,null,null,null,null,null,null,null,null,null,null,null,null,null,null,null,null,null,null,null,null,null,null,null,null,null,null,null,null,null,null,null,null,null,null,null,null,null,13,{"$f":"BK797","v":0},0]
[null,null,null,24,"",{"$f":"AD777","v":""},{"$f":"IF(F802=\"\",\"\",IF(E802<=$C$74,\"X\",\"\"))","v":""},"",null,17,"",{"$f":"AD784","v":""},{"$f":"IF(L802=\"\",\"\",IF(K802<=$C$74,\"X\",\"\"))","v":""},{"$f":"IF(M802=\"X\",L802,\"\")","v":""},null,1,2,3,4,5,6,7,8,9,10,11,12,13,14,15,16,17,18,19,20,21,22,23,24,25,26,27,28,29,30,31,32,33,34,35,36,37,38,39,40,null,null,null,null,null,null,17,{"$f":"BK801","v":0},0]
[null,null,null,29,"",{"$f":"AI777","v":""},"","",null,22,"",{"$f":"AI784","v":""},"","",null,null,null,null,null,null,null,null,null,null,null,null,null,null,null,null,null,null,null,null,null,null,null,null,null,null,null,null,null,null,null,null,null,null,null,null,null,null,null,null,null,null,null,null,null,null,null,22,{"$f":"BK806","v":0},0]
[null,null,null,31,"",{"$f":"AK777","v":""},"","",null,24,"",{"$f":"AK784","v":""},"","",null,null,null,null,null,null,null,null,null,null,null,null,null,null,null,null,null,null,null,null,null,null,null,null,null,null,null,null,null,null,null,null,null,null,null,null,null,null,null,null,null,null,null,null,null,null,null,24,{"$f":"BK808","v":0},0]
[null,null,null,34,"",{"$f":"AN777","v":""},"","",null,27,"",{"$f":"AN784","v":""},"","",null,null,null,null,null,null,null,null,null,null,null,null,null,null,null,null,null,null,null,null,null,null,null,null,null,null,null,null,null,null,null,null,null,null,null,null,null,null,null,null,null,null,null,null,null,null,null,27,{"$f":"BK811","v":0},0]
[null,null,null,39,"",{"$f":"AS777","v":""},"","",null,32,"",{"$f":"AS784","v":""},"","",null,null,null,null,null,null,null,null,null,null,null,null,null,null,null,null,null,null,null,null,null,null,null,null,null,null,null,null,null,null,null,null,null,null,null,null,null,null,null,null,null,null,null,null,null,null,null,32,{"$f":"BK816","v":0},0]
[null,null,null,null,null,null,null,null,null,36,"",{"$f":"AW784","v":""},"","",null,null,null,null,null,null,null,null,null,null,null,null,null,null,null,null,null,null,null,null,null,null,null,null,null,null,null,null,null,null,null,null,null,null,null,null,null,null,null,null,null,null,null,null,null,null,null,36,{"$f":"BK820","v":0},0]
[]
[null,null,"TIR",null,{"$f":"E770+1","v":14},null,{"$f":"P803","v":""},{"$f":"Q803","v":""},{"$f":"R803","v":""},{"$f":"S803","v":""},{"$f":"T803","v":""},{"$f":"U803","v":""},{"$f":"V803","v":""},{"$f":"W803","v":""},{"$f":"X803","v":""},{"$f":"Y803","v":""},{"$f":"Z803","v":""},{"$f":"AA803","v":""},{"$f":"AB803","v":""},{"$f":"AC803","v":""},{"$f":"AD803","v":""},{"$f":"AE803","v":""},{"$f":"AF803","v":""},{"$f":"AG803","v":""},{"$f":"AH803","v":""},{"$f":"AI803","v":""},{"$f":"AJ803","v":""},{"$f":"AK803","v":""},{"$f":"AL803","v":""},{"$f":"AM803","v":""},{"$f":"AN803","v":""},{"$f":"AO803","v":""},{"$f":"AP803","v":""},{"$f":"AQ803","v":""},{"$f":"AR803","v":""},{"$f":"AS803","v":""},{"$f":"AT803","v":""},{"$f":"AU803","v":""},{"$f":"AV803","v":""},{"$f":"AW803","v":""},{"$f":"AX803","v":""},{"$f":"AY803","v":""},{"$f":"AZ803","v":""},{"$f":"BA803","v":""},{"$f":"BB803","v":""},{"$f":"BC803","v":""}]
[null,null,"MASSIMO PESO",null,null,null,{"$f":"MAX(G830:AT830)","v":0}]
[null,null,"DISPONIBILI",null,null,null,{"$f":"IF(G830=$G831,\"\",G830)","v":""},{"$f":"IF(H830=$G831,\"\",H830)","v":""},{"$f":"IF(I830=$G831,\"\",I830)","v":""},{"$f":"IF(J830=$G831,\"\",J830)","v":""},{"$f":"IF(K830=$G831,\"\",K830)","v":""},{"$f":"IF(L830=$G831,\"\",L830)","v":""},{"$f":"IF(M830=$G831,\"\",M830)","v":""},{"$f":"IF(N830=$G831,\"\",N830)","v":""},{"$f":"IF(O830=$G831,\"\",O830)","v":""},{"$f":"IF(P830=$G831,\"\",P830)","v":""},{"$f":"IF(Q830=$G831,\"\",Q830)","v":""},{"$f":"IF(R830=$G831,\"\",R830)","v":""},{"$f":"IF(S830=$G831,\"\",S830)","v":""},{"$f":"IF(T830=$G831,\"\",T830)","v":""},{"$f":"IF(U830=$G831,\"\",U830)","v":""},{"$f":"IF(V830=$G831,\"\",V830)","v":""},{"$f":"IF(W830=$G831,\"\",W830)","v":""},{"$f":"IF(X830=$G831,\"\",X830)","v":""},{"$f":"IF(Y830=$G831,\"\",Y830)","v":""},{"$f":"IF(Z830=$G831,\"\",Z830)","v":""},{"$f":"IF(AA830=$G831,\"\",AA830)","v":""},{"$f":"IF(AB830=$G831,\"\",AB830)","v":""},{"$f":"IF(AC830=$G831,\"\",AC830)","v":""},{"$f":"IF(AD830=$G831,\"\",AD830)","v":""},{"$f":"IF(AE830=$G831,\"\",AE830)","v":""},{"$f":"IF(AF830=$G831,\"\",AF830)","v":""},{"$f":"IF(AG830=$G831,\"\",AG830)","v":""},{"$f":"IF(AH830=$G831,\"\",AH830)","v":""},{"$f":"IF(AI830=$G831,\"\",AI830)","v":""},{"$f":"IF(AJ830=$G831,\"\",AJ830)","v":""},{"$f":"IF(AK830=$G831,\"\",AK830)","v":""},{"$f":"IF(AL830=$G831,\"\",AL830)","v":""},{"$f":"IF(AM830=$G831,\"\",AM830)","v":""},{"$f":"IF(AN830=$G831,\"\",AN830)","v":""},{"$f":"IF(AO830=$G831,\"\",AO830)","v":""},{"$f":"IF(AP830=$G831,\"\",AP830)","v":""},{"$f":"IF(AQ830=$G831,\"\",AQ830)","v":""},{"$f":"IF(AR830=$G831,\"\",AR830)","v":""},{"$f":"IF(AS830=$G831,\"\",AS830)","v":""},{"$f":"IF(AT830=$G831,\"\",AT830)","v":""},null,null,null,null,null,null,null,null,null,null,null,null,null,null,null,null,null,null,null,null,null,null,null,null,null,null,null,null,null,null,null,null,null,null,null,null,null,{"$f":"IF(CC844=0,\"\",CC844)","v":""},null,{"$f":"IF(CF836=\"\",\"\",CC843)","v":""}]
[null,null,"Portata                Max.               TIR",1,{"$f":"IF(F838<>\"\",F838+G$126,\"\")","v":""},{"$f":"G836","v":""},{"$f":"IF(F838=\"\",\"\",IF(E838<=$C$74,\"X\",\"\"))","v":""},{"$f":"IF(G838=\"X\",F838,\"\")","v":""},{"$f":"MAX(H838:H877)","v":0},{"$f":"IF(J839=G836,G835,\"\")","v":""},{"$f":"IF(K839=H836,H835,\"\")","v":""},{"$f":"IF(L839=I836,I835,\"\")","v":""},{"$f":"IF(M839=J836,J835,\"\")","v":""},{"$f":"IF(N839=K836,K835,\"\")","v":""},{"$f":"IF(O839=L836,L835,\"\")","v":""},{"$f":"IF(P839=M836,M835,\"\")","v":""},{"$f":"IF(Q839=N836,N835,\"\")","v":""},{"$f":"IF(R839=O836,O835,\"\")","v":""},{"$f":"IF(S839=P836,P835,\"\")","v":""},{"$f":"IF(T839=Q836,Q835,\"\")","v":""},{"$f":"IF(U839=R836,R835,\"\")","v":""},{"$f":"IF(V839=S836,S835,\"\")","v":""},{"$f":"IF(W839=T836,T835,\"\")","v":""},{"$f":"IF(X839=U836,U835,\"\")","v":""},{"$f":"IF(Y839=V836,V835,\"\")","v":""},{"$f":"IF(Z839=W836,W835,\"\")","v":""},{"$f":"IF(AA839=X836,X835,\"\")","v":""},{"$f":"IF(AB839=Y836,Y835,\"\")","v":""},{"$f":"IF(AC839=Z836,Z835,\"\")","v":""},{"$f":"IF(AD839=AA836,AA835,\"\")","v":""},{"$f":"IF(AE839=AB836,AB835,\"\")","v":""},{"$f":"IF(AF839=AC836,AC835,\"\")","v":""},{"$f":"IF(AG839=AD836,AD835,\"\")","v":""},{"$f":"IF(AH839=AE836,AE835,\"\")","v":""},{"$f":"IF(AI839=AF836,AF835,\"\")","v":""},{"$f":"IF(AJ839=AG836,AG835,\"\")","v":""},{"$f":"IF(AK839=AH836,AH835,\"\")","v":""},{"$f":"IF(AL839=AI836,AI835,\"\")","v":""},{"$f":"IF(AM839=AJ836,AJ835,\"\")","v":""},{"$f":"IF(AN839=AK836,AK835,\"\")","v":""},{"$f":"IF(AO839=AL836,AL835,\"\")","v":""},{"$f":"IF(AP839=AM836,AM835,\"\")","v":""},{"$f":"IF(AQ839=AN836,AN835,\"\")","v":""},{"$f":"IF(AR839=AO836,AO835,\"\")","v":""},{"$f":"IF(AS839=AP836,AP835,\"\")","v":""},{"$f":"IF(AT839=AQ836,AQ835,\"\")","v":""},{"$f":"IF(AU839=AR836,AR835,\"\")","v":""},{"$f":"IF(AV839=AS836,AS835,\"\")","v":""},{"$f":"IF(AW839=AT836,AT835,\"\")","v":""},null,null,null,null,null,null,null,null,null,null,null,null,null,null,null,null,null,null,null,null,null,null,null,null,null,"Secondo Blocco",null,null,null,null,null,{"$f":"J838&K838&L838&M838&N838&O838&P838&Q838&R838&S838&T838&U838&V838&W838&X838&Y838&Z838&AA838&AB838&AC838&AD838&AE838&AF838&AG838&AH838&AI838&AJ838&AK838&AL838&AM838&AN838&AO838&AP838&AQ838&AR838&AS838&AT838&AU838&AV838&AW838","v":""}]
[null,null,{"$f":"$P$3","v":200},4,"",{"$f":"J836","v":""},"","",null,null,null,null,null,null,null,null,null,null,null,null,null,null,null,null,null,null,null,null,null,null,null,null,null,null,null,null,null,null,null,null,null,null,null,null,null,null,null,null,null,null,null,null,null,null,null,null,null,null,null,null,null,null,null,null,null,null,null,null,null,null,null,null,null,null,null,null,null,null,null,null,null,null,null,{"$f":"IF(CD833>0,CF782+1,\"\")","v":""}]
[null,null,null,9,"",{"$f":"O836","v":""},"","",null,2,"",{"$f":"O843","v":""},{"$f":"IF(L846=\"\",\"\",IF(K846<=$C$74,\"X\",\"\"))","v":""},{"$f":"IF(M846=\"X\",L846,\"\")","v":""},null,{"$f":"IF($P847=N843,N843,\"\")","v":""},{"$f":"IF($P847=O843,O843,\"\")","v":""},{"$f":"IF($P847=P843,P843,\"\")","v":""},{"$f":"IF($P847=Q843,Q843,\"\")","v":""},{"$f":"IF($P847=R843,R843,\"\")","v":""},{"$f":"IF($P847=S843,S843,\"\")","v":""},{"$f":"IF($P847=T843,T843,\"\")","v":""},{"$f":"IF($P847=U843,U843,\"\")","v":""},{"$f":"IF($P847=V843,V843,\"\")","v":""},{"$f":"IF($P847=W843,W843,\"\")","v":""},{"$f":"IF($P847=X843,X843,\"\")","v":""},{"$f":"IF($P847=Y843,Y843,\"\")","v":""},{"$f":"IF($P847=Z843,Z843,\"\")","v":""},{"$f":"IF($P847=AA843,AA843,\"\")","v":""},{"$f":"IF($P847=AB843,AB843,\"\")","v":""},{"$f":"IF($P847=AC843,AC843,\"\")","v":""},{"$f":"IF($P847=AD843,AD843,\"\")","v":""},{"$f":"IF($P847=AE843,AE843,\"\")","v":""},{"$f":"IF($P847=AF843,AF843,\"\")","v":""},{"$f":"IF($P847=AG843,AG843,\"\")","v":""},{"$f":"IF($P847=AH843,AH843,\"\")","v":""},{"$f":"IF($P847=AI843,AI843,\"\")","v":""},{"$f":"IF($P847=AJ843,AJ843,\"\")","v":""},{"$f":"IF($P847=AK843,AK843,\"\")","v":""},{"$f":"IF($P847=AL843,AL843,\"\")","v":""},{"$f":"IF($P847=AM843,AM843,\"\")","v":""},{"$f":"IF($P847=AN843,AN843,\"\")","v":""},{"$f":"IF($P847=AO843,AO843,\"\")","v":""},{"$f":"IF($P847=AP843,AP843,\"\")","v":""},{"$f":"IF($P847=AQ843,AQ843,\"\")","v":""},{"$f":"IF($P847=AR843,AR843,\"\")","v":""},{"$f":"IF($P847=AS843,AS843,\"\")","v":""},{"$f":"IF($P847=AT843,AT843,\"\")","v":""},{"$f":"IF($P847=AU843,AU843,\"\")","v":""},{"$f":"IF($P847=AV843,AV843,\"\")","v":""},{"$f":"IF($P847=AW843,AW843,\"\")","v":""},{"$f":"IF($P847=AX843,AX843,\"\")","v":""},{"$f":"IF($P847=AY843,AY843,\"\")","v":""},{"$f":"IF($P847=AZ843,AZ843,\"\")","v":""},{"$f":"IF($P847=BA843,BA843,\"\")","v":""},null,null,null,null,null,null,2,{"$f":"BK845","v":0},{"$f":"BL845","v":0}]
[null,null,null,13,"",{"$f":"S836","v":""},"","",null,6,"",{"$f":"S843","v":""},"","",null,null,null,null,null,null,null,null,null,null,null,null,null,null,null,null,null,null,null,null,null,null,null,null,null,null,null,null,null,null,null,null,null,null,null,null,null,null,null,null,null,null,null,null,null,null,null,6,{"$f":"BK849","v":0},0]
[null,null,null,18,"",{"$f":"X836","v":""},"","",null,11,"",{"$f":"X843","v":""},"","",null,null,null,null,null,null,null,null,null,null,null,null,null,null,null,null,null,null,null,null,null,null,null,null,null,null,null,null,null,null,null,null,null,null,null,null,null,null,null,null,null,null,null,null,null,null,null,11,{"$f":"BK854","v":0},0]
[null,null,null,21,{"$f":"IF(F858<>\"\",F858+G$126,\"\")","v":""},{"$f":"AA836","v":""},"","",null,14,"",{"$f":"AA843","v":""},"","",null,null,null,null,null,null,null,null,null,null,null,null,null,null,null,null,null,null,null,null,null,null,null,null,null,null,null,null,null,null,null,null,null,null,null,null,null,null,null,null,null,null,null,null,null,null,null,14,{"$f":"BK857","v":0},0]
[null,null,null,23,"",{"$f":"AC836","v":""},"","",null,16,"",{"$f":"AC843","v":""},"","",null,null,null,null,null,null,null,null,null,null,null,null,null,null,null,null,null,null,null,null,null,null,null,null,null,null,null,null,null,null,null,null,null,null,null,null,null,null,null,null,null,null,null,null,null,null,null,16,{"$f":"BK859","v":0},0]
[null,null,null,26,"",{"$f":"AF836","v":""},"","",null,19,"",{"$f":"AF843","v":""},"","",null,{"$f":"IF(G830=$P847,\"\",IF(G830=$J840,\"\",IF(G830=$G831,\"\",G830)))","v":""},{"$f":"IF(H830=$P847,\"\",IF(H830=$J840,\"\",IF(H830=$G831,\"\",H830)))","v":""},{"$f":"IF(I830=$P847,\"\",IF(I830=$J840,\"\",IF(I830=$G831,\"\",I830)))","v":""},{"$f":"IF(J830=$P847,\"\",IF(J830=$J840,\"\",IF(J830=$G831,\"\",J830)))","v":""},{"$f":"IF(K830=$P847,\"\",IF(K830=$J840,\"\",IF(K830=$G831,\"\",K830)))","v":""},{"$f":"IF(L830=$P847,\"\",IF(L830=$J840,\"\",IF(L830=$G831,\"\",L830)))","v":""},{"$f":"IF(M830=$P847,\"\",IF(M830=$J840,\"\",IF(M830=$G831,\"\",M830)))","v":""},{"$f":"IF(N830=$P847,\"\",IF(N830=$J840,\"\",IF(N830=$G831,\"\",N830)))","v":""},{"$f":"IF(O830=$P847,\"\",IF(O830=$J840,\"\",IF(O830=$G831,\"\",O830)))","v":""},{"$f":"IF(P830=$P847,\"\",IF(P830=$J840,\"\",IF(P830=$G831,\"\",P830)))","v":""},{"$f":"IF(Q830=$P847,\"\",IF(Q830=$J840,\"\",IF(Q830=$G831,\"\",Q830)))","v":""},{"$f":"IF(R830=$P847,\"\",IF(R830=$J840,\"\",IF(R830=$G831,\"\",R830)))","v":""},{"$f":"IF(S830=$P847,\"\",IF(S830=$J840,\"\",IF(S830=$G831,\"\",S830)))","v":""},{"$f":"IF(T830=$P847,\"\",IF(T830=$J840,\"\",IF(T830=$G831,\"\",T830)))","v":""},{"$f":"IF(U830=$P847,\"\",IF(U830=$J840,\"\",IF(U830=$G831,\"\",U830)))","v":""},{"$f":"IF(V830=$P847,\"\",IF(V830=$J840,\"\",IF(V830=$G831,\"\",V830)))","v":""},{"$f":"IF(W830=$P847,\"\",IF(W830=$J840,\"\",IF(W830=$G831,\"\",W830)))","v":""},{"$f":"IF(X830=$P847,\"\",IF(X830=$J840,\"\",IF(X830=$G831,\"\",X830)))","v":""},{"$f":"IF(Y830=$P847,\"\",IF(Y830=$J840,\"\",IF(Y830=$G831,\"\",Y830)))","v":""},{"$f":"IF(Z830=$P847,\"\",IF(Z830=$J840,\"\",IF(Z830=$G831,\"\",Z830)))","v":""},{"$f":"IF(AA830=$P847,\"\",IF(AA830=$J840,\"\",IF(AA830=$G831,\"\",AA830)))","v":""},{"$f":"IF(AB830=$P847,\"\",IF(AB830=$J840,\"\",IF(AB830=$G831,\"\",AB830)))","v":""},{"$f":"IF(AC830=$P847,\"\",IF(AC830=$J840,\"\",IF(AC830=$G831,\"\",AC830)))","v":""},{"$f":"IF(AD830=$P847,\"\",IF(AD830=$J840,\"\",IF(AD830=$G831,\"\",AD830)))","v":""},{"$f":"IF(AE830=$P847,\"\",IF(AE830=$J840,\"\",IF(AE830=$G831,\"\",AE830)))","v":""},{"$f":"IF(AF830=$P847,\"\",IF(AF830=$J840,\"\",IF(AF830=$G831,\"\",AF830)))","v":""},{"$f":"IF(AG830=$P847,\"\",IF(AG830=$J840,\"\",IF(AG830=$G831,\"\",AG830)))","v":""},{"$f":"IF(AH830=$P847,\"\",IF(AH830=$J840,\"\",IF(AH830=$G831,\"\",AH830)))","v":""},{"$f":"IF(AI830=$P847,\"\",IF(AI830=$J840,\"\",IF(AI830=$G831,\"\",AI830)))","v":""},{"$f":"IF(AJ830=$P847,\"\",IF(AJ830=$J840,\"\",IF(AJ830=$G831,\"\",AJ830)))","v":""},{"$f":"IF(AK830=$P847,\"\",IF(AK830=$J840,\"\",IF(AK830=$G831,\"\",AK830)))","v":""},{"$f":"IF(AL830=$P847,\"\",IF(AL830=$J840,\"\",IF(AL830=$G831,\"\",AL830)))","v":""},{"$f":"IF(AM830=$P847,\"\",IF(AM830=$J840,\"\",IF(AM830=$G831,\"\",AM830)))","v":""},{"$f":"IF(AN830=$P847,\"\",IF(AN830=$J840,\"\",IF(AN830=$G831,\"\",AN830)))","v":""},{"$f":"IF(AO830=$P847,\"\",IF(AO830=$J840,\"\",IF(AO830=$G831,\"\",AO830)))","v":""},{"$f":"IF(AP830=$P847,\"\",IF(AP830=$J840,\"\",IF(AP830=$G831,\"\",AP830)))","v":""},{"$f":"IF(AQ830=$P847,\"\",IF(AQ830=$J840,\"\",IF(AQ830=$G831,\"\",AQ830)))","v":""},{"$f":"IF(AR830=$P847,\"\",IF(AR830=$J840,\"\",IF(AR830=$G831,\"\",AR830)))","v":""},{"$f":"IF(AS830=$P847,\"\",IF(AS830=$J840,\"\",IF(AS830=$G831,\"\",AS830)))","v":""},{"$f":"IF(AT830=$P847,\"\",IF(AT830=$J840,\"\",IF(AT830=$G831,\"\",AT830)))","v":""},null,null,null,null,null,null,19,{"$f":"BK862","v":0},0]
[null,null,null,32,"",{"$f":"AL836","v":""},"","",null,25,"",{"$f":"AL843","v":""},"","",null,null,null,null,null,null,null,null,null,null,null,null,null,null,null,null,null,null,null,null,null,null,null,null,null,null,null,null,null,null,null,null,null,null,null,null,null,null,null,null,null,null,null,null,null,null,null,25,{"$f":"BK868","v":0},0]
[null,null,null,34,"",{"$f":"AN836","v":""},"","",null,27,"",{"$f":"AN843","v":""},"","",null,null,null,null,null,null,null,null,null,null,null,null,null,null,null,null,null,null,null,null,null,null,null,null,null,null,null,null,null,null,null,null,null,null,null,null,null,null,null,null,null,null,null,null,null,null,null,27,{"$f":"BK870","v":0},0]
[null,null,null,37,"",{"$f":"AQ836","v":""},"","",null,30,"",{"$f":"AQ843","v":""},"","",null,null,null,null,null,null,null,null,null,null,null,null,null,null,null,null,null,null,null,null,null,null,null,null,null,null,null,null,null,null,null,null,null,null,null,null,null,null,null,null,null,null,null,null,null,null,null,30,{"$f":"BK873","v":0},0]
[null,null,null,null,null,null,null,null,null,35,"",{"$f":"AV843","v":""},"","",null,null,null,null,null,null,null,null,null,null,null,null,null,null,null,null,null,null,null,null,null,null,null,null,null,null,null,null,null,null,null,null,null,null,null,null,null,null,null,null,null,null,null,null,null,null,null,35,{"$f":"BK878","v":0},0]
[null,null,null,null,null,null,null,null,null,39,"",{"$f":"AZ843","v":""},"","",null,null,null,null,null,null,null,null,null,null,null,null,null,null,null,null,null,null,null,null,null,null,null,null,null,null,null,null,null,null,null,null,null,null,null,null,null,null,null,null,null,null,null,null,null,null,null,39,{"$f":"BK882","v":0},0]
[null,null,null,null,null,null,null,null,null,40,"",{"$f":"BA843","v":""},"","",null,null,null,null,null,null,null,null,null,null,null,null,null,null,null,null,null,null,null,null,null,null,null,null,null,null,null,null,null,null,null,null,null,null,null,null,null,null,null,null,null,null,null,null,null,null,null,40,{"$f":"BK883","v":0},0]
[null,null,"TIR",null,{"$f":"E829+1","v":15},null,{"$f":"P862","v":""},{"$f":"Q862","v":""},{"$f":"R862","v":""},{"$f":"S862","v":""},{"$f":"T862","v":""},{"$f":"U862","v":""},{"$f":"V862","v":""},{"$f":"W862","v":""},{"$f":"X862","v":""},{"$f":"Y862","v":""},{"$f":"Z862","v":""},{"$f":"AA862","v":""},{"$f":"AB862","v":""},{"$f":"AC862","v":""},{"$f":"AD862","v":""},{"$f":"AE862","v":""},{"$f":"AF862","v":""},{"$f":"AG862","v":""},{"$f":"AH862","v":""},{"$f":"AI862","v":""},{"$f":"AJ862","v":""},{"$f":"AK862","v":""},{"$f":"AL862","v":""},{"$f":"AM862","v":""},{"$f":"AN862","v":""},{"$f":"AO862","v":""},{"$f":"AP862","v":""},{"$f":"AQ862","v":""},{"$f":"AR862","v":""},{"$f":"AS862","v":""},{"$f":"AT862","v":""},{"$f":"AU862","v":""},{"$f":"AV862","v":""},{"$f":"AW862","v":""},{"$f":"AX862","v":""},{"$f":"AY862","v":""},{"$f":"AZ862","v":""},{"$f":"BA862","v":""},{"$f":"BB862","v":""},{"$f":"BC862","v":""}]
[null,null,null,null,null,null,{"$f":"G890","v":0},null,null,null,null,null,null,null,null,null,null,null,null,null,null,null,null,null,null,null,null,null,null,null,null,null,null,null,null,null,null,null,null,null,null,null,null,null,null,null,null,null,null,null,null,null,null,null,null,null,null,null,null,null,null,null,null,null,null,null,null,null,null,null,null,null,null,null,null,null,null,null,null,null,{"$f":"G890","v":0},null,null,{"$f":"IF(CC893=0,\"\",CC893)","v":""},null,{"$f":"IF(CF893=\"\",\"\",CC892)","v":""}]
[null,null,null,2,"",{"$f":"H895","v":""},{"$f":"IF(F898=\"\",\"\",IF(E898<=$C$74,\"X\",\"\"))","v":""},"",null,{"$f":"IF($J899=G895,G895,\"\")","v":""},{"$f":"IF($J899=H895,H895,\"\")","v":""},{"$f":"IF($J899=I895,I895,\"\")","v":""},{"$f":"IF($J899=J895,J895,\"\")","v":""},{"$f":"IF($J899=K895,K895,\"\")","v":""},{"$f":"IF($J899=L895,L895,\"\")","v":""},{"$f":"IF($J899=M895,M895,\"\")","v":""},{"$f":"IF($J899=N895,N895,\"\")","v":""},{"$f":"IF($J899=O895,O895,\"\")","v":""},{"$f":"IF($J899=P895,P895,\"\")","v":""},{"$f":"IF($J899=Q895,Q895,\"\")","v":""},{"$f":"IF($J899=R895,R895,\"\")","v":""},{"$f":"IF($J899=S895,S895,\"\")","v":""},{"$f":"IF($J899=T895,T895,\"\")","v":""},{"$f":"IF($J899=U895,U895,\"\")","v":""},{"$f":"IF($J899=V895,V895,\"\")","v":""},{"$f":"IF($J899=W895,W895,\"\")","v":""},{"$f":"IF($J899=X895,X895,\"\")","v":""},{"$f":"IF($J899=Y895,Y895,\"\")","v":""},{"$f":"IF($J899=Z895,Z895,\"\")","v":""},{"$f":"IF($J899=AA895,AA895,\"\")","v":""},{"$f":"IF($J899=AB895,AB895,\"\")","v":""},{"$f":"IF($J899=AC895,AC895,\"\")","v":""},{"$f":"IF($J899=AD895,AD895,\"\")","v":""},{"$f":"IF($J899=AE895,AE895,\"\")","v":""},{"$f":"IF($J899=AF895,AF895,\"\")","v":""},{"$f":"IF($J899=AG895,AG895,\"\")","v":""},{"$f":"IF($J899=AH895,AH895,\"\")","v":""},{"$f":"IF($J899=AI895,AI895,\"\")","v":""},{"$f":"IF($J899=AJ895,AJ895,\"\")","v":""},{"$f":"IF($J899=AK895,AK895,\"\")","v":""},{"$f":"IF($J899=AL895,AL895,\"\")","v":""},{"$f":"IF($J899=AM895,AM895,\"\")","v":""},{"$f":"IF($J899=AN895,AN895,\"\")","v":""},{"$f":"IF($J899=AO895,AO895,\"\")","v":""},{"$f":"IF($J899=AP895,AP895,\"\")","v":""},{"$f":"IF($J899=AQ895,AQ895,\"\")","v":""},{"$f":"IF($J899=AR895,AR895,\"\")","v":""},{"$f":"IF($J899=AS895,AS895,\"\")","v":""},{"$f":"IF($J899=AT895,AT895,\"\")","v":""},null,null,null,null,null,null,null,null,null,null,null,null,null,null,null,null,null,null,null,null,null,null,null,null,null,null,null,null,null,null,null,{"$f":"J899","v":0}]
[null,null,{"$f":"$P$3","v":200},4,"",{"$f":"J895","v":""},"","",null,null,null,null,null,null,null,null,null,null,null,null,null,null,null,null,null,null,null,null,null,null,null,null,null,null,null,null,null,null,null,null,null,null,null,null,null,null,null,null,null,null,null,null,null,null,null,null,null,null,null,null,null,null,null,null,null,null,null,null,null,null,null,null,null,null,null,null,null,null,null,null,null,null,null,{"$f":"IF(CD892>0,CF841+1,\"\")","v":""}]
[null,null,null,7,"",{"$f":"M895","v":""},"","",null,null,null,null,null,null,null,null,null,null,null,null,null,null,null,null,null,null,null,null,null,null,null,null,null,null,null,null,null,null,null,null,null,null,null,null,null,null,null,null,null,null,null,null,null,null,null,null,null,null,null,null,null,null,1,2,null,null,null,null,null,null,null,null,null,null,null,null,null,null,null,null,{"$f":"P906","v":0}]
[null,null,null,12,"",{"$f":"R895","v":""},"","",null,5,"",{"$f":"R902","v":""},"","",null,null,null,null,null,null,null,null,null,null,null,null,null,null,null,null,null,null,null,null,null,null,null,null,null,null,null,null,null,null,null,null,null,null,null,null,null,null,null,null,null,null,null,null,null,null,null,5,{"$f":"BK907","v":0},0,null,null,null,null,null,null,null,null,null,null,null,null,null,null,null,"RIMANE",null,null,null,null,{"$f":"CG906-CD892","v":200}]
[null,null,null,16,"",{"$f":"V895","v":""},"","",null,9,"",{"$f":"V902","v":""},"","",null,null,null,null,null,null,null,null,null,null,null,null,null,null,null,null,null,null,null,null,null,null,null,null,null,null,null,null,null,null,null,null,null,null,null,null,null,null,null,null,null,null,null,null,null,null,null,9,{"$f":"BK911","v":0},0]
[null,null,null,19,"",{"$f":"Y895","v":""},"","",null,12,"",{"$f":"Y902","v":""},"","",null,null,null,null,null,null,null,null,null,null,null,null,null,null,null,null,null,null,null,null,null,null,null,null,null,null,null,null,null,null,null,null,null,null,null,null,null,null,null,null,null,null,null,null,null,null,null,12,{"$f":"BK914","v":0},0]
[null,null,null,21,{"$f":"IF(F917<>\"\",F917+G$126,\"\")","v":""},{"$f":"AA895","v":""},"","",null,14,"",{"$f":"AA902","v":""},"","",null,null,null,null,null,null,null,null,null,null,null,null,null,null,null,null,null,null,null,null,null,null,null,null,null,null,null,null,null,null,null,null,null,null,null,null,null,null,null,null,null,null,null,null,null,null,null,14,{"$f":"BK916","v":0},0]
[null,null,null,26,"",{"$f":"AF895","v":""},"","",null,19,"",{"$f":"AF902","v":""},"","",null,{"$f":"IF(G889=$P906,\"\",IF(G889=$J899,\"\",IF(G889=$G890,\"\",G889)))","v":""},{"$f":"IF(H889=$P906,\"\",IF(H889=$J899,\"\",IF(H889=$G890,\"\",H889)))","v":""},{"$f":"IF(I889=$P906,\"\",IF(I889=$J899,\"\",IF(I889=$G890,\"\",I889)))","v":""},{"$f":"IF(J889=$P906,\"\",IF(J889=$J899,\"\",IF(J889=$G890,\"\",J889)))","v":""},{"$f":"IF(K889=$P906,\"\",IF(K889=$J899,\"\",IF(K889=$G890,\"\",K889)))","v":""},{"$f":"IF(L889=$P906,\"\",IF(L889=$J899,\"\",IF(L889=$G890,\"\",L889)))","v":""},{"$f":"IF(M889=$P906,\"\",IF(M889=$J899,\"\",IF(M889=$G890,\"\",M889)))","v":""},{"$f":"IF(N889=$P906,\"\",IF(N889=$J899,\"\",IF(N889=$G890,\"\",N889)))","v":""},{"$f":"IF(O889=$P906,\"\",IF(O889=$J899,\"\",IF(O889=$G890,\"\",O889)))","v":""},{"$f":"IF(P889=$P906,\"\",IF(P889=$J899,\"\",IF(P889=$G890,\"\",P889)))","v":""},{"$f":"IF(Q889=$P906,\"\",IF(Q889=$J899,\"\",IF(Q889=$G890,\"\",Q889)))","v":""},{"$f":"IF(R889=$P906,\"\",IF(R889=$J899,\"\",IF(R889=$G890,\"\",R889)))","v":""},{"$f":"IF(S889=$P906,\"\",IF(S889=$J899,\"\",IF(S889=$G890,\"\",S889)))","v":""},{"$f":"IF(T889=$P906,\"\",IF(T889=$J899,\"\",IF(T889=$G890,\"\",T889)))","v":""},{"$f":"IF(U889=$P906,\"\",IF(U889=$J899,\"\",IF(U889=$G890,\"\",U889)))","v":""},{"$f":"IF(V889=$P906,\"\",IF(V889=$J899,\"\",IF(V889=$G890,\"\",V889)))","v":""},{"$f":"IF(W889=$P906,\"\",IF(W889=$J899,\"\",IF(W889=$G890,\"\",W889)))","v":""},{"$f":"IF(X889=$P906,\"\",IF(X889=$J899,\"\",IF(X889=$G890,\"\",X889)))","v":""},{"$f":"IF(Y889=$P906,\"\",IF(Y889=$J899,\"\",IF(Y889=$G890,\"\",Y889)))","v":""},{"$f":"IF(Z889=$P906,\"\",IF(Z889=$J899,\"\",IF(Z889=$G890,\"\",Z889)))","v":""},{"$f":"IF(AA889=$P906,\"\",IF(AA889=$J899,\"\",IF(AA889=$G890,\"\",AA889)))","v":""},{"$f":"IF(AB889=$P906,\"\",IF(AB889=$J899,\"\",IF(AB889=$G890,\"\",AB889)))","v":""},{"$f":"IF(AC889=$P906,\"\",IF(AC889=$J899,\"\",IF(AC889=$G890,\"\",AC889)))","v":""},{"$f":"IF(AD889=$P906,\"\",IF(AD889=$J899,\"\",IF(AD889=$G890,\"\",AD889)))","v":""},{"$f":"IF(AE889=$P906,\"\",IF(AE889=$J899,\"\",IF(AE889=$G890,\"\",AE889)))","v":""},{"$f":"IF(AF889=$P906,\"\",IF(AF889=$J899,\"\",IF(AF889=$G890,\"\",AF889)))","v":""},{"$f":"IF(AG889=$P906,\"\",IF(AG889=$J899,\"\",IF(AG889=$G890,\"\",AG889)))","v":""},{"$f":"IF(AH889=$P906,\"\",IF(AH889=$J899,\"\",IF(AH889=$G890,\"\",AH889)))","v":""},{"$f":"IF(AI889=$P906,\"\",IF(AI889=$J899,\"\",IF(AI889=$G890,\"\",AI889)))","v":""},{"$f":"IF(AJ889=$P906,\"\",IF(AJ889=$J899,\"\",IF(AJ889=$G890,\"\",AJ889)))","v":""},{"$f":"IF(AK889=$P906,\"\",IF(AK889=$J899,\"\",IF(AK889=$G890,\"\",AK889)))","v":""},{"$f":"IF(AL889=$P906,\"\",IF(AL889=$J899,\"\",IF(AL889=$G890,\"\",AL889)))","v":""},{"$f":"IF(AM889=$P906,\"\",IF(AM889=$J899,\"\",IF(AM889=$G890,\"\",AM889)))","v":""},{"$f":"IF(AN889=$P906,\"\",IF(AN889=$J899,\"\",IF(AN889=$G890,\"\",AN889)))","v":""},{"$f":"IF(AO889=$P906,\"\",IF(AO889=$J899,\"\",IF(AO889=$G890,\"\",AO889)))","v":""},{"$f":"IF(AP889=$P906,\"\",IF(AP889=$J899,\"\",IF(AP889=$G890,\"\",AP889)))","v":""},{"$f":"IF(AQ889=$P906,\"\",IF(AQ889=$J899,\"\",IF(AQ889=$G890,\"\",AQ889)))","v":""},{"$f":"IF(AR889=$P906,\"\",IF(AR889=$J899,\"\",IF(AR889=$G890,\"\",AR889)))","v":""},{"$f":"IF(AS889=$P906,\"\",IF(AS889=$J899,\"\",IF(AS889=$G890,\"\",AS889)))","v":""},{"$f":"IF(AT889=$P906,\"\",IF(AT889=$J899,\"\",IF(AT889=$G890,\"\",AT889)))","v":""},null,null,null,null,null,null,19,{"$f":"BK921","v":0},0]
[null,null,null,29,"",{"$f":"AI895","v":""},"","",null,22,"",{"$f":"AI902","v":""},"","",null,null,null,null,null,null,null,null,null,null,null,null,null,null,null,null,null,null,null,null,null,null,null,null,null,null,null,null,null,null,null,null,null,null,null,null,null,null,null,null,null,null,null,null,null,null,null,22,{"$f":"BK924","v":0},0]
[null,null,null,31,"",{"$f":"AK895","v":""},"","",null,24,"",{"$f":"AK902","v":""},"","",null,null,null,null,null,null,null,null,null,null,null,null,null,null,null,null,null,null,null,null,null,null,null,null,null,null,null,null,null,null,null,null,null,null,null,null,null,null,null,null,null,null,null,null,null,null,null,24,{"$f":"BK926","v":0},0]
[null,null,null,36,"",{"$f":"AP895","v":""},"","",null,29,"",{"$f":"AP902","v":""},"","",null,null,null,null,null,null,null,null,null,null,null,null,null,null,null,null,null,null,null,null,null,null,null,null,null,null,null,null,null,null,null,null,null,null,null,null,null,null,null,null,null,null,null,null,null,null,null,29,{"$f":"BK931","v":0},0]
[null,null,null,40,"",{"$f":"AT895","v":""},"","",null,33,"",{"$f":"AT902","v":""},"","",null,null,null,null,null,null,null,null,null,null,null,null,null,null,null,null,null,null,null,null,null,null,null,null,null,null,null,null,null,null,null,null,null,null,null,null,null,null,null,null,null,null,null,null,null,null,null,33,{"$f":"BK935","v":0},0]
[null,null,null,null,null,null,null,null,null,38,"",{"$f":"AY902","v":""},"","",null,null,null,null,null,null,null,null,null,null,null,null,null,null,null,null,null,null,null,null,null,null,null,null,null,null,null,null,null,null,null,null,null,null,null,null,null,null,null,null,null,null,null,null,null,null,null,38,{"$f":"BK940","v":0},0]
[]
[null,null,null,null,null,null,1,2,3,4,5,6,7,8,9,10,11,12,13,14,15,16,17,18,19,20,21,22,23,24,25,26,27,28,29,30,31,32,33,34,35,36,37,38,39,40,null,null,null,null,null,null,null,null,null,null,null,null,null,null,null,"BLOCCHI CHE POSSONO ESSERE CARICATI IN COPPIA O A TRE PERCHE' IL LORO PESO COMPLESSIVO NON SUPERA IL PESO MASSIMO CONSENTITO NEL TRASPORTO"]
[null,null,"MASSIMO PESO",null,null,null,{"$f":"MAX(G948:AT948)","v":0}]
[null,null,null,null,null,null,null,null,null,null,null,null,null,null,null,null,null,null,null,null,null,null,null,null,null,null,null,null,null,null,null,null,null,null,null,null,null,null,null,null,null,null,null,null,null,null,null,null,null,null,null,null,null,null,null,null,null,null,null,null,null,null,null,null,null,null,null,null,null,null,null,null,null,null,null,null,null,null,null,null,null,null,null,"NUMERO TIR"]
[null,null,"Portata                Max.               TIR",1,{"$f":"IF(F956<>\"\",F956+G$126,\"\")","v":""},{"$f":"G954","v":""},{"$f":"IF(F956=\"\",\"\",IF(E956<=$C$74,\"X\",\"\"))","v":""},{"$f":"IF(G956=\"X\",F956,\"\")","v":""},{"$f":"MAX(H956:H995)","v":0},{"$f":"IF(J957=G954,G953,\"\")","v":""},{"$f":"IF(K957=H954,H953,\"\")","v":""},{"$f":"IF(L957=I954,I953,\"\")","v":""},{"$f":"IF(M957=J954,J953,\"\")","v":""},{"$f":"IF(N957=K954,K953,\"\")","v":""},{"$f":"IF(O957=L954,L953,\"\")","v":""},{"$f":"IF(P957=M954,M953,\"\")","v":""},{"$f":"IF(Q957=N954,N953,\"\")","v":""},{"$f":"IF(R957=O954,O953,\"\")","v":""},{"$f":"IF(S957=P954,P953,\"\")","v":""},{"$f":"IF(T957=Q954,Q953,\"\")","v":""},{"$f":"IF(U957=R954,R953,\"\")","v":""},{"$f":"IF(V957=S954,S953,\"\")","v":""},{"$f":"IF(W957=T954,T953,\"\")","v":""},{"$f":"IF(X957=U954,U953,\"\")","v":""},{"$f":"IF(Y957=V954,V953,\"\")","v":""},{"$f":"IF(Z957=W954,W953,\"\")","v":""},{"$f":"IF(AA957=X954,X953,\"\")","v":""},{"$f":"IF(AB957=Y954,Y953,\"\")","v":""},{"$f":"IF(AC957=Z954,Z953,\"\")","v":""},{"$f":"IF(AD957=AA954,AA953,\"\")","v":""},{"$f":"IF(AE957=AB954,AB953,\"\")","v":""},{"$f":"IF(AF957=AC954,AC953,\"\")","v":""},{"$f":"IF(AG957=AD954,AD953,\"\")","v":""},{"$f":"IF(AH957=AE954,AE953,\"\")","v":""},{"$f":"IF(AI957=AF954,AF953,\"\")","v":""},{"$f":"IF(AJ957=AG954,AG953,\"\")","v":""},{"$f":"IF(AK957=AH954,AH953,\"\")","v":""},{"$f":"IF(AL957=AI954,AI953,\"\")","v":""},{"$f":"IF(AM957=AJ954,AJ953,\"\")","v":""},{"$f":"IF(AN957=AK954,AK953,\"\")","v":""},{"$f":"IF(AO957=AL954,AL953,\"\")","v":""},{"$f":"IF(AP957=AM954,AM953,\"\")","v":""},{"$f":"IF(AQ957=AN954,AN953,\"\")","v":""},{"$f":"IF(AR957=AO954,AO953,\"\")","v":""},{"$f":"IF(AS957=AP954,AP953,\"\")","v":""},{"$f":"IF(AT957=AQ954,AQ953,\"\")","v":""},{"$f":"IF(AU957=AR954,AR953,\"\")","v":""},{"$f":"IF(AV957=AS954,AS953,\"\")","v":""},{"$f":"IF(AW957=AT954,AT953,\"\")","v":""},null,null,null,null,null,null,null,null,null,null,null,null,null,null,null,null,null,null,null,null,null,null,null,null,null,"Secondo Blocco",null,null,null,null,null,{"$f":"J956&K956&L956&M956&N956&O956&P956&Q956&R956&S956&T956&U956&V956&W956&X956&Y956&Z956&AA956&AB956&AC956&AD956&AE956&AF956&AG956&AH956&AI956&AJ956&AK956&AL956&AM956&AN956&AO956&AP956&AQ956&AR956&AS956&AT956&AU956&AV956&AW956","v":""}]
[null,null,null,6,"",{"$f":"L954","v":""},"","",null,"DISPONIBILI",null,null,null,{"$f":"IF(G954=\"\",\"\",IF(G954=J957,\"\",G954))","v":""},{"$f":"IF(H954=\"\",\"\",IF(H954=K957,\"\",H954))","v":""},{"$f":"IF(I954=\"\",\"\",IF(I954=L957,\"\",I954))","v":""},{"$f":"IF(J954=\"\",\"\",IF(J954=M957,\"\",J954))","v":""},{"$f":"IF(K954=\"\",\"\",IF(K954=N957,\"\",K954))","v":""},{"$f":"IF(L954=\"\",\"\",IF(L954=O957,\"\",L954))","v":""},{"$f":"IF(M954=\"\",\"\",IF(M954=P957,\"\",M954))","v":""},{"$f":"IF(N954=\"\",\"\",IF(N954=Q957,\"\",N954))","v":""},{"$f":"IF(O954=\"\",\"\",IF(O954=R957,\"\",O954))","v":""},{"$f":"IF(P954=\"\",\"\",IF(P954=S957,\"\",P954))","v":""},{"$f":"IF(Q954=\"\",\"\",IF(Q954=T957,\"\",Q954))","v":""},{"$f":"IF(R954=\"\",\"\",IF(R954=U957,\"\",R954))","v":""},{"$f":"IF(S954=\"\",\"\",IF(S954=V957,\"\",S954))","v":""},{"$f":"IF(T954=\"\",\"\",IF(T954=W957,\"\",T954))","v":""},{"$f":"IF(U954=\"\",\"\",IF(U954=X957,\"\",U954))","v":""},{"$f":"IF(V954=\"\",\"\",IF(V954=Y957,\"\",V954))","v":""},{"$f":"IF(W954=\"\",\"\",IF(W954=Z957,\"\",W954))","v":""},{"$f":"IF(X954=\"\",\"\",IF(X954=AA957,\"\",X954))","v":""},{"$f":"IF(Y954=\"\",\"\",IF(Y954=AB957,\"\",Y954))","v":""},{"$f":"IF(Z954=\"\",\"\",IF(Z954=AC957,\"\",Z954))","v":""},{"$f":"IF(AA954=\"\",\"\",IF(AA954=AD957,\"\",AA954))","v":""},{"$f":"IF(AB954=\"\",\"\",IF(AB954=AE957,\"\",AB954))","v":""},{"$f":"IF(AC954=\"\",\"\",IF(AC954=AF957,\"\",AC954))","v":""},{"$f":"IF(AD954=\"\",\"\",IF(AD954=AG957,\"\",AD954))","v":""},{"$f":"IF(AE954=\"\",\"\",IF(AE954=AH957,\"\",AE954))","v":""},{"$f":"IF(AF954=\"\",\"\",IF(AF954=AI957,\"\",AF954))","v":""},{"$f":"IF(AG954=\"\",\"\",IF(AG954=AJ957,\"\",AG954))","v":""},{"$f":"IF(AH954=\"\",\"\",IF(AH954=AK957,\"\",AH954))","v":""},{"$f":"IF(AI954=\"\",\"\",IF(AI954=AL957,\"\",AI954))","v":""},{"$f":"IF(AJ954=\"\",\"\",IF(AJ954=AM957,\"\",AJ954))","v":""},{"$f":"IF(AK954=\"\",\"\",IF(AK954=AN957,\"\",AK954))","v":""},{"$f":"IF(AL954=\"\",\"\",IF(AL954=AO957,\"\",AL954))","v":""},{"$f":"IF(AM954=\"\",\"\",IF(AM954=AP957,\"\",AM954))","v":""},{"$f":"IF(AN954=\"\",\"\",IF(AN954=AQ957,\"\",AN954))","v":""},{"$f":"IF(AO954=\"\",\"\",IF(AO954=AR957,\"\",AO954))","v":""},{"$f":"IF(AP954=\"\",\"\",IF(AP954=AS957,\"\",AP954))","v":""},{"$f":"IF(AQ954=\"\",\"\",IF(AQ954=AT957,\"\",AQ954))","v":""},{"$f":"IF(AR954=\"\",\"\",IF(AR954=AU957,\"\",AR954))","v":""},{"$f":"IF(AS954=\"\",\"\",IF(AS954=AV957,\"\",AS954))","v":""},{"$f":"IF(AT954=\"\",\"\",IF(AT954=AW957,\"\",AT954))","v":""},null,null,null,null,null,null,null,null,null,null,null,null,null,null,null,null,null,null,null,null,null,"Terzo Blocco",null,null,null,null,null,{"$f":"P963&Q963&R963&S963&T963&U963&V963&W963&X963&Y963&Z963&AA963&AB963&AC963&AD963&AE963&AF963&AG963&AH963&AI963&AJ963&AK963&AL963&AM963&AN963&AO963&AP963&AQ963&AR963&AS963&AT963&AU963&AV963&AW963&AX963&AY963&AZ963&BA963&BB963&BC963","v":""}]
[null,null,null,10,"",{"$f":"P954","v":""},{"$f":"IF(F965=\"\",\"\",IF(E965<=$C$74,\"X\",\"\"))","v":""},"",null,3,"",{"$f":"P961","v":""},"","",null,{"$f":"O963","v":0},null,null,null,null,null,null,null,null,null,null,null,null,null,null,null,null,null,null,null,null,null,null,null,null,null,null,null,null,null,null,null,null,null,null,null,null,null,null,null,null,null,null,null,null,null,3,{"$f":"BK964","v":0},0,null,null,null,null,null,null,null,null,null,null,null,null,null,null,null,"MASSIMO CARICO",null,null,null,null,{"$f":"C959","v":200}]
[null,null,null,14,"",{"$f":"T954","v":""},{"$f":"IF(F969=\"\",\"\",IF(E969<=$C$74,\"X\",\"\"))","v":""},"",null,7,"",{"$f":"T961","v":""},{"$f":"IF(L969=\"\",\"\",IF(K969<=$C$74,\"X\",\"\"))","v":""},{"$f":"IF(M969=\"X\",L969,\"\")","v":""},null,null,null,null,null,null,null,null,null,null,null,null,null,null,null,null,null,null,null,null,null,null,null,null,null,null,null,null,null,null,null,null,null,null,null,null,null,null,null,null,null,null,null,null,null,null,null,7,{"$f":"BK968","v":0},0]
[null,null,null,15,"",{"$f":"U954","v":""},{"$f":"IF(F970=\"\",\"\",IF(E970<=$C$74,\"X\",\"\"))","v":""},{"$f":"IF(G970=\"X\",F970,\"\")","v":""},null,8,"",{"$f":"U961","v":""},"","",null,null,null,null,null,null,null,null,null,null,null,null,null,null,null,null,null,null,null,null,null,null,null,null,null,null,null,null,null,null,null,null,null,null,null,null,null,null,null,null,null,null,null,null,null,null,null,8,{"$f":"BK969","v":0},0]
[null,null,null,19,"",{"$f":"Y954","v":""},{"$f":"IF(F974=\"\",\"\",IF(E974<=$C$74,\"X\",\"\"))","v":""},"",null,12,"",{"$f":"Y961","v":""},"","",null,null,null,null,null,null,null,null,null,null,null,null,null,null,null,null,null,null,null,null,null,null,null,null,null,null,null,null,null,null,null,null,null,null,null,null,null,null,null,null,null,null,null,null,null,null,null,12,{"$f":"BK973","v":0},0]
[null,null,null,24,"",{"$f":"AD954","v":""},{"$f":"IF(F979=\"\",\"\",IF(E979<=$C$74,\"X\",\"\"))","v":""},"",null,17,"",{"$f":"AD961","v":""},{"$f":"IF(L979=\"\",\"\",IF(K979<=$C$74,\"X\",\"\"))","v":""},{"$f":"IF(M979=\"X\",L979,\"\")","v":""},null,1,2,3,4,5,6,7,8,9,10,11,12,13,14,15,16,17,18,19,20,21,22,23,24,25,26,27,28,29,30,31,32,33,34,35,36,37,38,39,40,null,null,null,null,null,null,17,{"$f":"BK978","v":0},0]
[null,null,null,29,"",{"$f":"AI954","v":""},{"$f":"IF(F984=\"\",\"\",IF(E984<=$C$74,\"X\",\"\"))","v":""},"",null,22,"",{"$f":"AI961","v":""},{"$f":"IF(L984=\"\",\"\",IF(K984<=$C$74,\"X\",\"\"))","v":""},{"$f":"IF(M984=\"X\",L984,\"\")","v":""},null,null,null,null,null,null,null,null,null,null,null,null,null,null,null,null,null,null,null,null,null,null,null,null,null,null,null,null,null,null,null,null,null,null,null,null,null,null,null,null,null,null,null,null,null,null,null,22,{"$f":"BK983","v":0},0]
[null,null,null,31,"",{"$f":"AK954","v":""},{"$f":"IF(F986=\"\",\"\",IF(E986<=$C$74,\"X\",\"\"))","v":""},"",null,24,"",{"$f":"AK961","v":""},{"$f":"IF(L986=\"\",\"\",IF(K986<=$C$74,\"X\",\"\"))","v":""},{"$f":"IF(M986=\"X\",L986,\"\")","v":""},null,null,null,null,null,null,null,null,null,null,null,null,null,null,null,null,null,null,null,null,null,null,null,null,null,null,null,null,null,null,null,null,null,null,null,null,null,null,null,null,null,null,null,null,null,null,null,24,{"$f":"BK985","v":0},0]
[null,null,null,34,"",{"$f":"AN954","v":""},{"$f":"IF(F989=\"\",\"\",IF(E989<=$C$74,\"X\",\"\"))","v":""},"",null,27,"",{"$f":"AN961","v":""},{"$f":"IF(L989=\"\",\"\",IF(K989<=$C$74,\"X\",\"\"))","v":""},{"$f":"IF(M989=\"X\",L989,\"\")","v":""},null,null,null,null,null,null,null,null,null,null,null,null,null,null,null,null,null,null,null,null,null,null,null,null,null,null,null,null,null,null,null,null,null,null,null,null,null,null,null,null,null,null,null,null,null,null,null,27,{"$f":"BK988","v":0},0]
[null,null,null,39,"",{"$f":"AS954","v":""},{"$f":"IF(F994=\"\",\"\",IF(E994<=$C$74,\"X\",\"\"))","v":""},"",null,32,"",{"$f":"AS961","v":""},{"$f":"IF(L994=\"\",\"\",IF(K994<=$C$74,\"X\",\"\"))","v":""},{"$f":"IF(M994=\"X\",L994,\"\")","v":""},null,null,null,null,null,null,null,null,null,null,null,null,null,null,null,null,null,null,null,null,null,null,null,null,null,null,null,null,null,null,null,null,null,null,null,null,null,null,null,null,null,null,null,null,null,null,null,32,{"$f":"BK993","v":0},0]
[null,null,null,null,null,null,null,null,null,36,"",{"$f":"AW961","v":""},{"$f":"IF(L998=\"\",\"\",IF(K998<=$C$74,\"X\",\"\"))","v":""},{"$f":"IF(M998=\"X\",L998,\"\")","v":""},null,null,null,null,null,null,null,null,null,null,null,null,null,null,null,null,null,null,null,null,null,null,null,null,null,null,null,null,null,null,null,null,null,null,null,null,null,null,null,null,null,null,null,null,null,null,null,36,{"$f":"BK997","v":0},0]
[null,null,null,null,null,null,null,null,null,37,"",{"$f":"AX961","v":""},{"$f":"IF(L999=\"\",\"\",IF(K999<=$C$74,\"X\",\"\"))","v":""},{"$f":"IF(M999=\"X\",L999,\"\")","v":""},null,null,null,null,null,null,null,null,null,null,null,null,null,null,null,null,null,null,null,null,null,null,null,null,null,null,null,null,null,null,null,null,null,null,null,null,null,null,null,null,null,null,null,null,null,null,null,37,{"$f":"BK998","v":0},0]
[]
[null,null,"MASSIMO PESO",null,null,null,{"$f":"MAX(G1007:AT1007)","v":0}]
[null,null,null,null,null,null,{"$f":"G1008","v":0},null,null,null,null,null,null,null,null,null,null,null,null,null,null,null,null,null,null,null,null,null,null,null,null,null,null,null,null,null,null,null,null,null,null,null,null,null,null,null,null,null,null,null,null,null,null,null,null,null,null,null,null,null,null,null,null,null,null,null,null,null,null,null,null,null,null,null,null,null,null,null,null,null,{"$f":"G1008","v":0},null,null,{"$f":"IF(CC1011=0,\"\",CC1011)","v":""},null,{"$f":"IF(CF1011=\"\",\"\",CC1010)","v":""}]
[null,null,"DISPONIBILI",null,null,null,{"$f":"IF(G1007=$G1008,\"\",G1007)","v":""},{"$f":"IF(H1007=$G1008,\"\",H1007)","v":""},{"$f":"IF(I1007=$G1008,\"\",I1007)","v":""},{"$f":"IF(J1007=$G1008,\"\",J1007)","v":""},{"$f":"IF(K1007=$G1008,\"\",K1007)","v":""},{"$f":"IF(L1007=$G1008,\"\",L1007)","v":""},{"$f":"IF(M1007=$G1008,\"\",M1007)","v":""},{"$f":"IF(N1007=$G1008,\"\",N1007)","v":""},{"$f":"IF(O1007=$G1008,\"\",O1007)","v":""},{"$f":"IF(P1007=$G1008,\"\",P1007)","v":""},{"$f":"IF(Q1007=$G1008,\"\",Q1007)","v":""},{"$f":"IF(R1007=$G1008,\"\",R1007)","v":""},{"$f":"IF(S1007=$G1008,\"\",S1007)","v":""},{"$f":"IF(T1007=$G1008,\"\",T1007)","v":""},{"$f":"IF(U1007=$G1008,\"\",U1007)","v":""},{"$f":"IF(V1007=$G1008,\"\",V1007)","v":""},{"$f":"IF(W1007=$G1008,\"\",W1007)","v":""},{"$f":"IF(X1007=$G1008,\"\",X1007)","v":""},{"$f":"IF(Y1007=$G1008,\"\",Y1007)","v":""},{"$f":"IF(Z1007=$G1008,\"\",Z1007)","v":""},{"$f":"IF(AA1007=$G1008,\"\",AA1007)","v":""},{"$f":"IF(AB1007=$G1008,\"\",AB1007)","v":""},{"$f":"IF(AC1007=$G1008,\"\",AC1007)","v":""},{"$f":"IF(AD1007=$G1008,\"\",AD1007)","v":""},{"$f":"IF(AE1007=$G1008,\"\",AE1007)","v":""},{"$f":"IF(AF1007=$G1008,\"\",AF1007)","v":""},{"$f":"IF(AG1007=$G1008,\"\",AG1007)","v":""},{"$f":"IF(AH1007=$G1008,\"\",AH1007)","v":""},{"$f":"IF(AI1007=$G1008,\"\",AI1007)","v":""},{"$f":"IF(AJ1007=$G1008,\"\",AJ1007)","v":""},{"$f":"IF(AK1007=$G1008,\"\",AK1007)","v":""},{"$f":"IF(AL1007=$G1008,\"\",AL1007)","v":""},{"$f":"IF(AM1007=$G1008,\"\",AM1007)","v":""},{"$f":"IF(AN1007=$G1008,\"\",AN1007)","v":""},{"$f":"IF(AO1007=$G1008,\"\",AO1007)","v":""},{"$f":"IF(AP1007=$G1008,\"\",AP1007)","v":""},{"$f":"IF(AQ1007=$G1008,\"\",AQ1007)","v":""},{"$f":"IF(AR1007=$G1008,\"\",AR1007)","v":""},{"$f":"IF(AS1007=$G1008,\"\",AS1007)","v":""},{"$f":"IF(AT1007=$G1008,\"\",AT1007)","v":""},null,null,null,null,null,null,null,null,null,null,null,null,null,null,null,null,null,null,null,null,null,null,null,null,null,null,null,null,null,null,null,null,null,null,null,null,null,{"$f":"IF(CC1021=0,\"\",CC1021)","v":""},null,{"$f":"IF(CF1013=\"\",\"\",CC1020)","v":""}]
[null,null,null,5,"",{"$f":"K1013","v":""},"","",null,null,null,null,null,{"$f":"IF(N1020=G1013,G1012,\"\")","v":""},{"$f":"IF(O1020=H1013,H1012,\"\")","v":""},{"$f":"IF(P1020=I1013,I1012,\"\")","v":""},{"$f":"IF(Q1020=J1013,J1012,\"\")","v":""},{"$f":"IF(R1020=K1013,K1012,\"\")","v":""},{"$f":"IF(S1020=L1013,L1012,\"\")","v":""},{"$f":"IF(T1020=M1013,M1012,\"\")","v":""},{"$f":"IF(U1020=N1013,N1012,\"\")","v":""},{"$f":"IF(V1020=O1013,O1012,\"\")","v":""},{"$f":"IF(W1020=P1013,P1012,\"\")","v":""},{"$f":"IF(X1020=Q1013,Q1012,\"\")","v":""},{"$f":"IF(Y1020=R1013,R1012,\"\")","v":""},{"$f":"IF(Z1020=S1013,S1012,\"\")","v":""},{"$f":"IF(AA1020=T1013,T1012,\"\")","v":""},{"$f":"IF(AB1020=U1013,U1012,\"\")","v":""},{"$f":"IF(AC1020=V1013,V1012,\"\")","v":""},{"$f":"IF(AD1020=W1013,W1012,\"\")","v":""},{"$f":"IF(AE1020=X1013,X1012,\"\")","v":""},{"$f":"IF(AF1020=Y1013,Y1012,\"\")","v":""},{"$f":"IF(AG1020=Z1013,Z1012,\"\")","v":""},{"$f":"IF(AH1020=AA1013,AA1012,\"\")","v":""},{"$f":"IF(AI1020=AB1013,AB1012,\"\")","v":""},{"$f":"IF(AJ1020=AC1013,AC1012,\"\")","v":""},{"$f":"IF(AK1020=AD1013,AD1012,\"\")","v":""},{"$f":"IF(AL1020=AE1013,AE1012,\"\")","v":""},{"$f":"IF(AM1020=AF1013,AF1012,\"\")","v":""},{"$f":"IF(AN1020=AG1013,AG1012,\"\")","v":""},{"$f":"IF(AO1020=AH1013,AH1012,\"\")","v":""},{"$f":"IF(AP1020=AI1013,AI1012,\"\")","v":""},{"$f":"IF(AQ1020=AJ1013,AJ1012,\"\")","v":""},{"$f":"IF(AR1020=AK1013,AK1012,\"\")","v":""},{"$f":"IF(AS1020=AL1013,AL1012,\"\")","v":""},{"$f":"IF(AT1020=AM1013,AM1012,\"\")","v":""},{"$f":"IF(AU1020=AN1013,AN1012,\"\")","v":""},{"$f":"IF(AV1020=AO1013,AO1012,\"\")","v":""},{"$f":"IF(AW1020=AP1013,AP1012,\"\")","v":""},{"$f":"IF(AX1020=AQ1013,AQ1012,\"\")","v":""},{"$f":"IF(AY1020=AR1013,AR1012,\"\")","v":""},{"$f":"IF(AZ1020=AS1013,AS1012,\"\")","v":""},{"$f":"IF(BA1020=AT1013,AT1012,\"\")","v":""}]
[null,null,null,8,"",{"$f":"N1013","v":""},{"$f":"IF(F1022=\"\",\"\",IF(E1022<=$C$74,\"X\",\"\"))","v":""},"",null,1,{"$f":"IF(L1022<>\"\",BK1022+BL1022+L1022,\"\")","v":""},{"$f":"N1020","v":""},{"$f":"IF(L1022=\"\",\"\",IF(K1022<=$C$74,\"X\",\"\"))","v":""},{"$f":"IF(M1022=\"X\",L1022,\"\")","v":""},{"$f":"MAX(N1022:N1041)","v":0},{"$f":"IF(P1023=N1020,N1019,\"\")","v":""},{"$f":"IF(Q1023=O1020,O1019,\"\")","v":""},{"$f":"IF(R1023=P1020,P1019,\"\")","v":""},{"$f":"IF(S1023=Q1020,Q1019,\"\")","v":""},{"$f":"IF(T1023=R1020,R1019,\"\")","v":""},{"$f":"IF(U1023=S1020,S1019,\"\")","v":""},{"$f":"IF(V1023=T1020,T1019,\"\")","v":""},{"$f":"IF(W1023=U1020,U1019,\"\")","v":""},{"$f":"IF(X1023=V1020,V1019,\"\")","v":""},{"$f":"IF(Y1023=W1020,W1019,\"\")","v":""},{"$f":"IF(Z1023=X1020,X1019,\"\")","v":""},{"$f":"IF(AA1023=Y1020,Y1019,\"\")","v":""},{"$f":"IF(AB1023=Z1020,Z1019,\"\")","v":""},{"$f":"IF(AC1023=AA1020,AA1019,\"\")","v":""},{"$f":"IF(AD1023=AB1020,AB1019,\"\")","v":""},{"$f":"IF(AE1023=AC1020,AC1019,\"\")","v":""},{"$f":"IF(AF1023=AD1020,AD1019,\"\")","v":""},{"$f":"IF(AG1023=AE1020,AE1019,\"\")","v":""},{"$f":"IF(AH1023=AF1020,AF1019,\"\")","v":""},{"$f":"IF(AI1023=AG1020,AG1019,\"\")","v":""},{"$f":"IF(AJ1023=AH1020,AH1019,\"\")","v":""},{"$f":"IF(AK1023=AI1020,AI1019,\"\")","v":""},{"$f":"IF(AL1023=AJ1020,AJ1019,\"\")","v":""},{"$f":"IF(AM1023=AK1020,AK1019,\"\")","v":""},{"$f":"IF(AN1023=AL1020,AL1019,\"\")","v":""},{"$f":"IF(AO1023=AM1020,AM1019,\"\")","v":""},{"$f":"IF(AP1023=AN1020,AN1019,\"\")","v":""},{"$f":"IF(AQ1023=AO1020,AO1019,\"\")","v":""},{"$f":"IF(AR1023=AP1020,AP1019,\"\")","v":""},{"$f":"IF(AS1023=AQ1020,AQ1019,\"\")","v":""},{"$f":"IF(AT1023=AR1020,AR1019,\"\")","v":""},{"$f":"IF(AU1023=AS1020,AS1019,\"\")","v":""},{"$f":"IF(AV1023=AT1020,AT1019,\"\")","v":""},{"$f":"IF(AW1023=AU1020,AU1019,\"\")","v":""},{"$f":"IF(AX1023=AV1020,AV1019,\"\")","v":""},{"$f":"IF(AY1023=AW1020,AW1019,\"\")","v":""},{"$f":"IF(AZ1023=AX1020,AX1019,\"\")","v":""},{"$f":"IF(BA1023=AY1020,AY1019,\"\")","v":""},{"$f":"IF(BB1023=AZ1020,AZ1019,\"\")","v":""},{"$f":"IF(BC1023=BA1020,BA1019,\"\")","v":""},null,null,null,null,null,null,1,{"$f":"CC1011","v":0},{"$f":"CC1016","v":0}]
[null,null,null,13,"",{"$f":"S1013","v":""},{"$f":"IF(F1027=\"\",\"\",IF(E1027<=$C$74,\"X\",\"\"))","v":""},"",null,6,"",{"$f":"S1020","v":""},"","",null,null,null,null,null,null,null,null,null,null,null,null,null,null,null,null,null,null,null,null,null,null,null,null,null,null,null,null,null,null,null,null,null,null,null,null,null,null,null,null,null,null,null,null,null,null,null,6,{"$f":"BK1026","v":0},0]
[null,null,null,14,"",{"$f":"T1013","v":""},{"$f":"IF(F1028=\"\",\"\",IF(E1028<=$C$74,\"X\",\"\"))","v":""},"",null,7,"",{"$f":"T1020","v":""},{"$f":"IF(L1028=\"\",\"\",IF(K1028<=$C$74,\"X\",\"\"))","v":""},{"$f":"IF(M1028=\"X\",L1028,\"\")","v":""},null,null,null,null,null,null,null,null,null,null,null,null,null,null,null,null,null,null,null,null,null,null,null,null,null,null,null,null,null,null,null,null,null,null,null,null,null,null,null,null,null,null,null,null,null,null,null,7,{"$f":"BK1027","v":0},0]
[null,null,null,18,"",{"$f":"X1013","v":""},{"$f":"IF(F1032=\"\",\"\",IF(E1032<=$C$74,\"X\",\"\"))","v":""},"",null,11,"",{"$f":"X1020","v":""},"","",null,null,null,null,null,null,null,null,null,null,null,null,null,null,null,null,null,null,null,null,null,null,null,null,null,null,null,null,null,null,null,null,null,null,null,null,null,null,null,null,null,null,null,null,null,null,null,11,{"$f":"BK1031","v":0},0]
[null,null,null,21,{"$f":"IF(F1035<>\"\",F1035+G$126,\"\")","v":""},{"$f":"AA1013","v":""},{"$f":"IF(F1035=\"\",\"\",IF(E1035<=$C$74,\"X\",\"\"))","v":""},"",null,14,"",{"$f":"AA1020","v":""},"","",null,null,null,null,null,null,null,null,null,null,null,null,null,null,null,null,null,null,null,null,null,null,null,null,null,null,null,null,null,null,null,null,null,null,null,null,null,null,null,null,null,null,null,null,null,null,null,14,{"$f":"BK1034","v":0},0]
[null,null,null,27,"",{"$f":"AG1013","v":""},{"$f":"IF(F1041=\"\",\"\",IF(E1041<=$C$74,\"X\",\"\"))","v":""},"",null,20,"",{"$f":"AG1020","v":""},{"$f":"IF(L1041=\"\",\"\",IF(K1041<=$C$74,\"X\",\"\"))","v":""},{"$f":"IF(M1041=\"X\",L1041,\"\")","v":""},null,null,null,null,null,null,null,null,null,null,null,null,null,null,null,null,null,null,null,null,null,null,null,null,null,null,null,null,null,null,null,null,null,null,null,null,null,null,null,null,null,null,null,null,null,null,null,20,{"$f":"BK1040","v":0},0]
[null,null,null,28,"",{"$f":"AH1013","v":""},{"$f":"IF(F1042=\"\",\"\",IF(E1042<=$C$74,\"X\",\"\"))","v":""},"",null,21,{"$f":"IF(L1042<>\"\",BK1042+BL1042+L1042,\"\")","v":""},{"$f":"AH1020","v":""},{"$f":"IF(L1042=\"\",\"\",IF(K1042<=$C$74,\"X\",\"\"))","v":""},{"$f":"IF(M1042=\"X\",L1042,\"\")","v":""},null,null,null,null,null,null,null,null,null,null,null,null,null,null,null,null,null,null,null,null,null,null,null,null,null,null,null,null,null,null,null,null,null,null,null,null,null,null,null,null,null,null,null,null,null,null,null,21,{"$f":"BK1041","v":0},0]
[null,null,null,34,"",{"$f":"AN1013","v":""},{"$f":"IF(F1048=\"\",\"\",IF(E1048<=$C$74,\"X\",\"\"))","v":""},"",null,27,"",{"$f":"AN1020","v":""},{"$f":"IF(L1048=\"\",\"\",IF(K1048<=$C$74,\"X\",\"\"))","v":""},{"$f":"IF(M1048=\"X\",L1048,\"\")","v":""},null,null,null,null,null,null,null,null,null,null,null,null,null,null,null,null,null,null,null,null,null,null,null,null,null,null,null,null,null,null,null,null,null,null,null,null,null,null,null,null,null,null,null,null,null,null,null,27,{"$f":"BK1047","v":0},0]
[null,null,null,37,"",{"$f":"AQ1013","v":""},{"$f":"IF(F1051=\"\",\"\",IF(E1051<=$C$74,\"X\",\"\"))","v":""},"",null,30,"",{"$f":"AQ1020","v":""},{"$f":"IF(L1051=\"\",\"\",IF(K1051<=$C$74,\"X\",\"\"))","v":""},{"$f":"IF(M1051=\"X\",L1051,\"\")","v":""},null,null,null,null,null,null,null,null,null,null,null,null,null,null,null,null,null,null,null,null,null,null,null,null,null,null,null,null,null,null,null,null,null,null,null,null,null,null,null,null,null,null,null,null,null,null,null,30,{"$f":"BK1050","v":0},0]
[null,null,null,null,null,null,null,null,null,34,"",{"$f":"AU1020","v":""},{"$f":"IF(L1055=\"\",\"\",IF(K1055<=$C$74,\"X\",\"\"))","v":""},{"$f":"IF(M1055=\"X\",L1055,\"\")","v":""},null,null,null,null,null,null,null,null,null,null,null,null,null,null,null,null,null,null,null,null,null,null,null,null,null,null,null,null,null,null,null,null,null,null,null,null,null,null,null,null,null,null,null,null,null,null,null,34,{"$f":"BK1054","v":0},0]
[null,null,null,null,null,null,null,null,null,35,"",{"$f":"AV1020","v":""},{"$f":"IF(L1056=\"\",\"\",IF(K1056<=$C$74,\"X\",\"\"))","v":""},{"$f":"IF(M1056=\"X\",L1056,\"\")","v":""},null,null,null,null,null,null,null,null,null,null,null,null,null,null,null,null,null,null,null,null,null,null,null,null,null,null,null,null,null,null,null,null,null,null,null,null,null,null,null,null,null,null,null,null,null,null,null,35,{"$f":"BK1055","v":0},0]
[null,null,null,null,null,null,null,null,null,40,"",{"$f":"BA1020","v":""},{"$f":"IF(L1061=\"\",\"\",IF(K1061<=$C$74,\"X\",\"\"))","v":""},{"$f":"IF(M1061=\"X\",L1061,\"\")","v":""},null,null,null,null,null,null,null,null,null,null,null,null,null,null,null,null,null,null,null,null,null,null,null,null,null,null,null,null,null,null,null,null,null,null,null,null,null,null,null,null,null,null,null,null,null,null,null,40,{"$f":"BK1060","v":0},0]
[null,null,null,null,null,null,1,2,3,4,5,6,7,8,9,10,11,12,13,14,15,16,17,18,19,20,21,22,23,24,25,26,27,28,29,30,31,32,33,34,35,36,37,38,39,40,null,null,null,null,null,null,null,null,null,null,null,null,null,null,null,"BLOCCHI CHE POSSONO ESSERE CARICATI IN COPPIA O A TRE PERCHE' IL LORO PESO COMPLESSIVO NON SUPERA IL PESO MASSIMO CONSENTITO NEL TRASPORTO"]
[null,null,null,null,null,null,{"$f":"G1067","v":0},null,null,null,null,null,null,null,null,null,null,null,null,null,null,null,null,null,null,null,null,null,null,null,null,null,null,null,null,null,null,null,null,null,null,null,null,null,null,null,null,null,null,null,null,null,null,null,null,null,null,null,null,null,null,null,null,null,null,null,null,null,null,null,null,null,null,null,null,null,null,null,null,null,{"$f":"G1067","v":0},null,null,{"$f":"IF(CC1070=0,\"\",CC1070)","v":""},null,{"$f":"IF(CF1070=\"\",\"\",CC1069)","v":""}]
[null,null,"DISPONIBILI",null,null,null,{"$f":"IF(G1066=$G1067,\"\",G1066)","v":""},{"$f":"IF(H1066=$G1067,\"\",H1066)","v":""},{"$f":"IF(I1066=$G1067,\"\",I1066)","v":""},{"$f":"IF(J1066=$G1067,\"\",J1066)","v":""},{"$f":"IF(K1066=$G1067,\"\",K1066)","v":""},{"$f":"IF(L1066=$G1067,\"\",L1066)","v":""},{"$f":"IF(M1066=$G1067,\"\",M1066)","v":""},{"$f":"IF(N1066=$G1067,\"\",N1066)","v":""},{"$f":"IF(O1066=$G1067,\"\",O1066)","v":""},{"$f":"IF(P1066=$G1067,\"\",P1066)","v":""},{"$f":"IF(Q1066=$G1067,\"\",Q1066)","v":""},{"$f":"IF(R1066=$G1067,\"\",R1066)","v":""},{"$f":"IF(S1066=$G1067,\"\",S1066)","v":""},{"$f":"IF(T1066=$G1067,\"\",T1066)","v":""},{"$f":"IF(U1066=$G1067,\"\",U1066)","v":""},{"$f":"IF(V1066=$G1067,\"\",V1066)","v":""},{"$f":"IF(W1066=$G1067,\"\",W1066)","v":""},{"$f":"IF(X1066=$G1067,\"\",X1066)","v":""},{"$f":"IF(Y1066=$G1067,\"\",Y1066)","v":""},{"$f":"IF(Z1066=$G1067,\"\",Z1066)","v":""},{"$f":"IF(AA1066=$G1067,\"\",AA1066)","v":""},{"$f":"IF(AB1066=$G1067,\"\",AB1066)","v":""},{"$f":"IF(AC1066=$G1067,\"\",AC1066)","v":""},{"$f":"IF(AD1066=$G1067,\"\",AD1066)","v":""},{"$f":"IF(AE1066=$G1067,\"\",AE1066)","v":""},{"$f":"IF(AF1066=$G1067,\"\",AF1066)","v":""},{"$f":"IF(AG1066=$G1067,\"\",AG1066)","v":""},{"$f":"IF(AH1066=$G1067,\"\",AH1066)","v":""},{"$f":"IF(AI1066=$G1067,\"\",AI1066)","v":""},{"$f":"IF(AJ1066=$G1067,\"\",AJ1066)","v":""},{"$f":"IF(AK1066=$G1067,\"\",AK1066)","v":""},{"$f":"IF(AL1066=$G1067,\"\",AL1066)","v":""},{"$f":"IF(AM1066=$G1067,\"\",AM1066)","v":""},{"$f":"IF(AN1066=$G1067,\"\",AN1066)","v":""},{"$f":"IF(AO1066=$G1067,\"\",AO1066)","v":""},{"$f":"IF(AP1066=$G1067,\"\",AP1066)","v":""},{"$f":"IF(AQ1066=$G1067,\"\",AQ1066)","v":""},{"$f":"IF(AR1066=$G1067,\"\",AR1066)","v":""},{"$f":"IF(AS1066=$G1067,\"\",AS1066)","v":""},{"$f":"IF(AT1066=$G1067,\"\",AT1066)","v":""},null,null,null,null,null,null,null,null,null,null,null,null,null,null,null,null,null,null,null,null,null,null,null,null,null,null,null,null,null,null,null,null,null,null,null,null,null,{"$f":"IF(CC1080=0,\"\",CC1080)","v":""},null,{"$f":"IF(CF1072=\"\",\"\",CC1079)","v":""}]
[null,null,null,2,"",{"$f":"H1072","v":""},{"$f":"IF(F1075=\"\",\"\",IF(E1075<=$C$74,\"X\",\"\"))","v":""},"",null,{"$f":"IF($J1076=G1072,G1072,\"\")","v":""},{"$f":"IF($J1076=H1072,H1072,\"\")","v":""},{"$f":"IF($J1076=I1072,I1072,\"\")","v":""},{"$f":"IF($J1076=J1072,J1072,\"\")","v":""},{"$f":"IF($J1076=K1072,K1072,\"\")","v":""},{"$f":"IF($J1076=L1072,L1072,\"\")","v":""},{"$f":"IF($J1076=M1072,M1072,\"\")","v":""},{"$f":"IF($J1076=N1072,N1072,\"\")","v":""},{"$f":"IF($J1076=O1072,O1072,\"\")","v":""},{"$f":"IF($J1076=P1072,P1072,\"\")","v":""},{"$f":"IF($J1076=Q1072,Q1072,\"\")","v":""},{"$f":"IF($J1076=R1072,R1072,\"\")","v":""},{"$f":"IF($J1076=S1072,S1072,\"\")","v":""},{"$f":"IF($J1076=T1072,T1072,\"\")","v":""},{"$f":"IF($J1076=U1072,U1072,\"\")","v":""},{"$f":"IF($J1076=V1072,V1072,\"\")","v":""},{"$f":"IF($J1076=W1072,W1072,\"\")","v":""},{"$f":"IF($J1076=X1072,X1072,\"\")","v":""},{"$f":"IF($J1076=Y1072,Y1072,\"\")","v":""},{"$f":"IF($J1076=Z1072,Z1072,\"\")","v":""},{"$f":"IF($J1076=AA1072,AA1072,\"\")","v":""},{"$f":"IF($J1076=AB1072,AB1072,\"\")","v":""},{"$f":"IF($J1076=AC1072,AC1072,\"\")","v":""},{"$f":"IF($J1076=AD1072,AD1072,\"\")","v":""},{"$f":"IF($J1076=AE1072,AE1072,\"\")","v":""},{"$f":"IF($J1076=AF1072,AF1072,\"\")","v":""},{"$f":"IF($J1076=AG1072,AG1072,\"\")","v":""},{"$f":"IF($J1076=AH1072,AH1072,\"\")","v":""},{"$f":"IF($J1076=AI1072,AI1072,\"\")","v":""},{"$f":"IF($J1076=AJ1072,AJ1072,\"\")","v":""},{"$f":"IF($J1076=AK1072,AK1072,\"\")","v":""},{"$f":"IF($J1076=AL1072,AL1072,\"\")","v":""},{"$f":"IF($J1076=AM1072,AM1072,\"\")","v":""},{"$f":"IF($J1076=AN1072,AN1072,\"\")","v":""},{"$f":"IF($J1076=AO1072,AO1072,\"\")","v":""},{"$f":"IF($J1076=AP1072,AP1072,\"\")","v":""},{"$f":"IF($J1076=AQ1072,AQ1072,\"\")","v":""},{"$f":"IF($J1076=AR1072,AR1072,\"\")","v":""},{"$f":"IF($J1076=AS1072,AS1072,\"\")","v":""},{"$f":"IF($J1076=AT1072,AT1072,\"\")","v":""},null,null,null,null,null,null,null,null,null,null,null,null,null,null,null,null,null,null,null,null,null,null,null,null,null,null,null,null,null,null,null,{"$f":"J1076","v":0}]
[null,null,null,7,"",{"$f":"M1072","v":""},{"$f":"IF(F1080=\"\",\"\",IF(E1080<=$C$74,\"X\",\"\"))","v":""},"",null,null,null,null,null,null,null,null,null,null,null,null,null,null,null,null,null,null,null,null,null,null,null,null,null,null,null,null,null,null,null,null,null,null,null,null,null,null,null,null,null,null,null,null,null,null,null,null,null,null,null,null,null,null,1,2,null,null,null,null,null,null,null,null,null,null,null,null,null,null,null,null,{"$f":"P1083","v":0}]
[null,null,null,11,"",{"$f":"Q1072","v":""},{"$f":"IF(F1084=\"\",\"\",IF(E1084<=$C$74,\"X\",\"\"))","v":""},"",null,4,"",{"$f":"Q1079","v":""},"","",null,null,null,null,null,null,null,null,null,null,null,null,null,null,null,null,null,null,null,null,null,null,null,null,null,null,null,null,null,null,null,null,null,null,null,null,null,null,null,null,null,null,null,null,null,null,null,4,{"$f":"BK1083","v":0},0]
[null,null,null,12,"",{"$f":"R1072","v":""},{"$f":"IF(F1085=\"\",\"\",IF(E1085<=$C$74,\"X\",\"\"))","v":""},"",null,5,"",{"$f":"R1079","v":""},"","",null,null,null,null,null,null,null,null,null,null,null,null,null,null,null,null,null,null,null,null,null,null,null,null,null,null,null,null,null,null,null,null,null,null,null,null,null,null,null,null,null,null,null,null,null,null,null,5,{"$f":"BK1084","v":0},0,null,null,null,null,null,null,null,null,null,null,null,null,null,null,null,"RIMANE",null,null,null,null,{"$f":"CG1083-CD1069","v":200}]
[null,null,null,16,"",{"$f":"V1072","v":""},{"$f":"IF(F1089=\"\",\"\",IF(E1089<=$C$74,\"X\",\"\"))","v":""},"",null,9,"",{"$f":"V1079","v":""},"","",null,null,null,null,null,null,null,null,null,null,null,null,null,null,null,null,null,null,null,null,null,null,null,null,null,null,null,null,null,null,null,null,null,null,null,null,null,null,null,null,null,null,null,null,null,null,null,9,{"$f":"BK1088","v":0},0]
[null,null,null,21,{"$f":"IF(F1094<>\"\",F1094+G$126,\"\")","v":""},{"$f":"AA1072","v":""},{"$f":"IF(F1094=\"\",\"\",IF(E1094<=$C$74,\"X\",\"\"))","v":""},"",null,14,"",{"$f":"AA1079","v":""},"","",null,null,null,null,null,null,null,null,null,null,null,null,null,null,null,null,null,null,null,null,null,null,null,null,null,null,null,null,null,null,null,null,null,null,null,null,null,null,null,null,null,null,null,null,null,null,null,14,{"$f":"BK1093","v":0},0]
[null,null,null,24,"",{"$f":"AD1072","v":""},{"$f":"IF(F1097=\"\",\"\",IF(E1097<=$C$74,\"X\",\"\"))","v":""},"",null,17,"",{"$f":"AD1079","v":""},{"$f":"IF(L1097=\"\",\"\",IF(K1097<=$C$74,\"X\",\"\"))","v":""},{"$f":"IF(M1097=\"X\",L1097,\"\")","v":""},null,1,2,3,4,5,6,7,8,9,10,11,12,13,14,15,16,17,18,19,20,21,22,23,24,25,26,27,28,29,30,31,32,33,34,35,36,37,38,39,40,null,null,null,null,null,null,17,{"$f":"BK1096","v":0},0]
[null,null,null,26,"",{"$f":"AF1072","v":""},{"$f":"IF(F1099=\"\",\"\",IF(E1099<=$C$74,\"X\",\"\"))","v":""},"",null,19,"",{"$f":"AF1079","v":""},{"$f":"IF(L1099=\"\",\"\",IF(K1099<=$C$74,\"X\",\"\"))","v":""},{"$f":"IF(M1099=\"X\",L1099,\"\")","v":""},null,{"$f":"IF(G1066=$P1083,\"\",IF(G1066=$J1076,\"\",IF(G1066=$G1067,\"\",G1066)))","v":""},{"$f":"IF(H1066=$P1083,\"\",IF(H1066=$J1076,\"\",IF(H1066=$G1067,\"\",H1066)))","v":""},{"$f":"IF(I1066=$P1083,\"\",IF(I1066=$J1076,\"\",IF(I1066=$G1067,\"\",I1066)))","v":""},{"$f":"IF(J1066=$P1083,\"\",IF(J1066=$J1076,\"\",IF(J1066=$G1067,\"\",J1066)))","v":""},{"$f":"IF(K1066=$P1083,\"\",IF(K1066=$J1076,\"\",IF(K1066=$G1067,\"\",K1066)))","v":""},{"$f":"IF(L1066=$P1083,\"\",IF(L1066=$J1076,\"\",IF(L1066=$G1067,\"\",L1066)))","v":""},{"$f":"IF(M1066=$P1083,\"\",IF(M1066=$J1076,\"\",IF(M1066=$G1067,\"\",M1066)))","v":""},{"$f":"IF(N1066=$P1083,\"\",IF(N1066=$J1076,\"\",IF(N1066=$G1067,\"\",N1066)))","v":""},{"$f":"IF(O1066=$P1083,\"\",IF(O1066=$J1076,\"\",IF(O1066=$G1067,\"\",O1066)))","v":""},{"$f":"IF(P1066=$P1083,\"\",IF(P1066=$J1076,\"\",IF(P1066=$G1067,\"\",P1066)))","v":""},{"$f":"IF(Q1066=$P1083,\"\",IF(Q1066=$J1076,\"\",IF(Q1066=$G1067,\"\",Q1066)))","v":""},{"$f":"IF(R1066=$P1083,\"\",IF(R1066=$J1076,\"\",IF(R1066=$G1067,\"\",R1066)))","v":""},{"$f":"IF(S1066=$P1083,\"\",IF(S1066=$J1076,\"\",IF(S1066=$G1067,\"\",S1066)))","v":""},{"$f":"IF(T1066=$P1083,\"\",IF(T1066=$J1076,\"\",IF(T1066=$G1067,\"\",T1066)))","v":""},{"$f":"IF(U1066=$P1083,\"\",IF(U1066=$J1076,\"\",IF(U1066=$G1067,\"\",U1066)))","v":""},{"$f":"IF(V1066=$P1083,\"\",IF(V1066=$J1076,\"\",IF(V1066=$G1067,\"\",V1066)))","v":""},{"$f":"IF(W1066=$P1083,\"\",IF(W1066=$J1076,\"\",IF(W1066=$G1067,\"\",W1066)))","v":""},{"$f":"IF(X1066=$P1083,\"\",IF(X1066=$J1076,\"\",IF(X1066=$G1067,\"\",X1066)))","v":""},{"$f":"IF(Y1066=$P1083,\"\",IF(Y1066=$J1076,\"\",IF(Y1066=$G1067,\"\",Y1066)))","v":""},{"$f":"IF(Z1066=$P1083,\"\",IF(Z1066=$J1076,\"\",IF(Z1066=$G1067,\"\",Z1066)))","v":""},{"$f":"IF(AA1066=$P1083,\"\",IF(AA1066=$J1076,\"\",IF(AA1066=$G1067,\"\",AA1066)))","v":""},{"$f":"IF(AB1066=$P1083,\"\",IF(AB1066=$J1076,\"\",IF(AB1066=$G1067,\"\",AB1066)))","v":""},{"$f":"IF(AC1066=$P1083,\"\",IF(AC1066=$J1076,\"\",IF(AC1066=$G1067,\"\",AC1066)))","v":""},{"$f":"IF(AD1066=$P1083,\"\",IF(AD1066=$J1076,\"\",IF(AD1066=$G1067,\"\",AD1066)))","v":""},{"$f":"IF(AE1066=$P1083,\"\",IF(AE1066=$J1076,\"\",IF(AE1066=$G1067,\"\",AE1066)))","v":""},{"$f":"IF(AF1066=$P1083,\"\",IF(AF1066=$J1076,\"\",IF(AF1066=$G1067,\"\",AF1066)))","v":""},{"$f":"IF(AG1066=$P1083,\"\",IF(AG1066=$J1076,\"\",IF(AG1066=$G1067,\"\",AG1066)))","v":""},{"$f":"IF(AH1066=$P1083,\"\",IF(AH1066=$J1076,\"\",IF(AH1066=$G1067,\"\",AH1066)))","v":""},{"$f":"IF(AI1066=$P1083,\"\",IF(AI1066=$J1076,\"\",IF(AI1066=$G1067,\"\",AI1066)))","v":""},{"$f":"IF(AJ1066=$P1083,\"\",IF(AJ1066=$J1076,\"\",IF(AJ1066=$G1067,\"\",AJ1066)))","v":""},{"$f":"IF(AK1066=$P1083,\"\",IF(AK1066=$J1076,\"\",IF(AK1066=$G1067,\"\",AK1066)))","v":""},{"$f":"IF(AL1066=$P1083,\"\",IF(AL1066=$J1076,\"\",IF(AL1066=$G1067,\"\",AL1066)))","v":""},{"$f":"IF(AM1066=$P1083,\"\",IF(AM1066=$J1076,\"\",IF(AM1066=$G1067,\"\",AM1066)))","v":""},{"$f":"IF(AN1066=$P1083,\"\",IF(AN1066=$J1076,\"\",IF(AN1066=$G1067,\"\",AN1066)))","v":""},{"$f":"IF(AO1066=$P1083,\"\",IF(AO1066=$J1076,\"\",IF(AO1066=$G1067,\"\",AO1066)))","v":""},{"$f":"IF(AP1066=$P1083,\"\",IF(AP1066=$J1076,\"\",IF(AP1066=$G1067,\"\",AP1066)))","v":""},{"$f":"IF(AQ1066=$P1083,\"\",IF(AQ1066=$J1076,\"\",IF(AQ1066=$G1067,\"\",AQ1066)))","v":""},{"$f":"IF(AR1066=$P1083,\"\",IF(AR1066=$J1076,\"\",IF(AR1066=$G1067,\"\",AR1066)))","v":""},{"$f":"IF(AS1066=$P1083,\"\",IF(AS1066=$J1076,\"\",IF(AS1066=$G1067,\"\",AS1066)))","v":""},{"$f":"IF(AT1066=$P1083,\"\",IF(AT1066=$J1076,\"\",IF(AT1066=$G1067,\"\",AT1066)))","v":""},null,null,null,null,null,null,19,{"$f":"BK1098","v":0},0]
[null,null,null,31,"",{"$f":"AK1072","v":""},{"$f":"IF(F1104=\"\",\"\",IF(E1104<=$C$74,\"X\",\"\"))","v":""},"",null,24,"",{"$f":"AK1079","v":""},{"$f":"IF(L1104=\"\",\"\",IF(K1104<=$C$74,\"X\",\"\"))","v":""},{"$f":"IF(M1104=\"X\",L1104,\"\")","v":""},null,null,null,null,null,null,null,null,null,null,null,null,null,null,null,null,null,null,null,null,null,null,null,null,null,null,null,null,null,null,null,null,null,null,null,null,null,null,null,null,null,null,null,null,null,null,null,24,{"$f":"BK1103","v":0},0]
[null,null,null,36,"",{"$f":"AP1072","v":""},{"$f":"IF(F1109=\"\",\"\",IF(E1109<=$C$74,\"X\",\"\"))","v":""},"",null,29,"",{"$f":"AP1079","v":""},{"$f":"IF(L1109=\"\",\"\",IF(K1109<=$C$74,\"X\",\"\"))","v":""},{"$f":"IF(M1109=\"X\",L1109,\"\")","v":""},null,null,null,null,null,null,null,null,null,null,null,null,null,null,null,null,null,null,null,null,null,null,null,null,null,null,null,null,null,null,null,null,null,null,null,null,null,null,null,null,null,null,null,null,null,null,null,29,{"$f":"BK1108","v":0},0]
[null,null,null,40,"",{"$f":"AT1072","v":""},{"$f":"IF(F1113=\"\",\"\",IF(E1113<=$C$74,\"X\",\"\"))","v":""},"",null,33,"",{"$f":"AT1079","v":""},{"$f":"IF(L1113=\"\",\"\",IF(K1113<=$C$74,\"X\",\"\"))","v":""},{"$f":"IF(M1113=\"X\",L1113,\"\")","v":""},null,null,null,null,null,null,null,null,null,null,null,null,null,null,null,null,null,null,null,null,null,null,null,null,null,null,null,null,null,null,null,null,null,null,null,null,null,null,null,null,null,null,null,null,null,null,null,33,{"$f":"BK1112","v":0},0]
[null,null,null,null,null,null,null,null,null,34,"",{"$f":"AU1079","v":""},{"$f":"IF(L1114=\"\",\"\",IF(K1114<=$C$74,\"X\",\"\"))","v":""},{"$f":"IF(M1114=\"X\",L1114,\"\")","v":""},null,null,null,null,null,null,null,null,null,null,null,null,null,null,null,null,null,null,null,null,null,null,null,null,null,null,null,null,null,null,null,null,null,null,null,null,null,null,null,null,null,null,null,null,null,null,null,34,{"$f":"BK1113","v":0},0]
[null,null,null,null,null,null,null,null,null,38,"",{"$f":"AY1079","v":""},{"$f":"IF(L1118=\"\",\"\",IF(K1118<=$C$74,\"X\",\"\"))","v":""},{"$f":"IF(M1118=\"X\",L1118,\"\")","v":""},null,null,null,null,null,null,null,null,null,null,null,null,null,null,null,null,null,null,null,null,null,null,null,null,null,null,null,null,null,null,null,null,null,null,null,null,null,null,null,null,null,null,null,null,null,null,null,38,{"$f":"BK1117","v":0},0]
[]
[null,null,null,null,null,null,{"$f":"IF(G1125=$G1126,G1124,\"\")","v":""},{"$f":"IF(H1125=$G1126,H1124,\"\")","v":""},{"$f":"IF(I1125=$G1126,I1124,\"\")","v":""},{"$f":"IF(J1125=$G1126,J1124,\"\")","v":""},{"$f":"IF(K1125=$G1126,K1124,\"\")","v":""},{"$f":"IF(L1125=$G1126,L1124,\"\")","v":""},{"$f":"IF(M1125=$G1126,M1124,\"\")","v":""},{"$f":"IF(N1125=$G1126,N1124,\"\")","v":""},{"$f":"IF(O1125=$G1126,O1124,\"\")","v":""},{"$f":"IF(P1125=$G1126,P1124,\"\")","v":""},{"$f":"IF(Q1125=$G1126,Q1124,\"\")","v":""},{"$f":"IF(R1125=$G1126,R1124,\"\")","v":""},{"$f":"IF(S1125=$G1126,S1124,\"\")","v":""},{"$f":"IF(T1125=$G1126,T1124,\"\")","v":""},{"$f":"IF(U1125=$G1126,U1124,\"\")","v":""},{"$f":"IF(V1125=$G1126,V1124,\"\")","v":""},{"$f":"IF(W1125=$G1126,W1124,\"\")","v":""},{"$f":"IF(X1125=$G1126,X1124,\"\")","v":""},{"$f":"IF(Y1125=$G1126,Y1124,\"\")","v":""},{"$f":"IF(Z1125=$G1126,Z1124,\"\")","v":""},{"$f":"IF(AA1125=$G1126,AA1124,\"\")","v":""},{"$f":"IF(AB1125=$G1126,AB1124,\"\")","v":""},{"$f":"IF(AC1125=$G1126,AC1124,\"\")","v":""},{"$f":"IF(AD1125=$G1126,AD1124,\"\")","v":""},{"$f":"IF(AE1125=$G1126,AE1124,\"\")","v":""},{"$f":"IF(AF1125=$G1126,AF1124,\"\")","v":""},{"$f":"IF(AG1125=$G1126,AG1124,\"\")","v":""},{"$f":"IF(AH1125=$G1126,AH1124,\"\")","v":""},{"$f":"IF(AI1125=$G1126,AI1124,\"\")","v":""},{"$f":"IF(AJ1125=$G1126,AJ1124,\"\")","v":""},{"$f":"IF(AK1125=$G1126,AK1124,\"\")","v":""},{"$f":"IF(AL1125=$G1126,AL1124,\"\")","v":""},{"$f":"IF(AM1125=$G1126,AM1124,\"\")","v":""},{"$f":"IF(AN1125=$G1126,AN1124,\"\")","v":""},{"$f":"IF(AO1125=$G1126,AO1124,\"\")","v":""},{"$f":"IF(AP1125=$G1126,AP1124,\"\")","v":""},{"$f":"IF(AQ1125=$G1126,AQ1124,\"\")","v":""},{"$f":"IF(AR1125=$G1126,AR1124,\"\")","v":""},{"$f":"IF(AS1125=$G1126,AS1124,\"\")","v":""},{"$f":"IF(AT1125=$G1126,AT1124,\"\")","v":""}]
[null,null,null,null,null,null,{"$f":"G1127&H1127&I1127&J1127&K1127&L1127&M1127&N1127&O1127&P1127&Q1127&R1127&S1127&T1127&U1127&V1127&W1127&X1127&Y1127&Z1127&AA1127&AB1127&AC1127&AD1127&AE1127&AF1127&AG1127&AH1127&AI1127&AJ1127&AK1127&AL1127&AM1127&AN1127&AO1127&AP1127&AQ1127&AR1127&AS1127&AT1127","v":""},null,null,null,null,null,null,null,null,null,null,null,null,null,null,null,null,null,null,null,null,null,null,null,null,null,null,null,null,null,null,null,null,null,null,null,null,null,null,null,null,null,null,null,null,null,null,null,null,null,null,null,null,null,null,null,null,null,null,null,null,null,null,null,null,null,null,null,"Primo Blocco",null,null,null,null,null,{"$f":"G1128","v":""},{"$f":"CC1129+CC1134+CC1139","v":0},null,"Quintali",null,"N° Blocco"]
[null,null,null,2,"",{"$f":"H1131","v":""},{"$f":"IF(F1134=\"\",\"\",IF(E1134<=$C$74,\"X\",\"\"))","v":""},"",null,{"$f":"IF($J1135=G1131,G1131,\"\")","v":""},{"$f":"IF($J1135=H1131,H1131,\"\")","v":""},{"$f":"IF($J1135=I1131,I1131,\"\")","v":""},{"$f":"IF($J1135=J1131,J1131,\"\")","v":""},{"$f":"IF($J1135=K1131,K1131,\"\")","v":""},{"$f":"IF($J1135=L1131,L1131,\"\")","v":""},{"$f":"IF($J1135=M1131,M1131,\"\")","v":""},{"$f":"IF($J1135=N1131,N1131,\"\")","v":""},{"$f":"IF($J1135=O1131,O1131,\"\")","v":""},{"$f":"IF($J1135=P1131,P1131,\"\")","v":""},{"$f":"IF($J1135=Q1131,Q1131,\"\")","v":""},{"$f":"IF($J1135=R1131,R1131,\"\")","v":""},{"$f":"IF($J1135=S1131,S1131,\"\")","v":""},{"$f":"IF($J1135=T1131,T1131,\"\")","v":""},{"$f":"IF($J1135=U1131,U1131,\"\")","v":""},{"$f":"IF($J1135=V1131,V1131,\"\")","v":""},{"$f":"IF($J1135=W1131,W1131,\"\")","v":""},{"$f":"IF($J1135=X1131,X1131,\"\")","v":""},{"$f":"IF($J1135=Y1131,Y1131,\"\")","v":""},{"$f":"IF($J1135=Z1131,Z1131,\"\")","v":""},{"$f":"IF($J1135=AA1131,AA1131,\"\")","v":""},{"$f":"IF($J1135=AB1131,AB1131,\"\")","v":""},{"$f":"IF($J1135=AC1131,AC1131,\"\")","v":""},{"$f":"IF($J1135=AD1131,AD1131,\"\")","v":""},{"$f":"IF($J1135=AE1131,AE1131,\"\")","v":""},{"$f":"IF($J1135=AF1131,AF1131,\"\")","v":""},{"$f":"IF($J1135=AG1131,AG1131,\"\")","v":""},{"$f":"IF($J1135=AH1131,AH1131,\"\")","v":""},{"$f":"IF($J1135=AI1131,AI1131,\"\")","v":""},{"$f":"IF($J1135=AJ1131,AJ1131,\"\")","v":""},{"$f":"IF($J1135=AK1131,AK1131,\"\")","v":""},{"$f":"IF($J1135=AL1131,AL1131,\"\")","v":""},{"$f":"IF($J1135=AM1131,AM1131,\"\")","v":""},{"$f":"IF($J1135=AN1131,AN1131,\"\")","v":""},{"$f":"IF($J1135=AO1131,AO1131,\"\")","v":""},{"$f":"IF($J1135=AP1131,AP1131,\"\")","v":""},{"$f":"IF($J1135=AQ1131,AQ1131,\"\")","v":""},{"$f":"IF($J1135=AR1131,AR1131,\"\")","v":""},{"$f":"IF($J1135=AS1131,AS1131,\"\")","v":""},{"$f":"IF($J1135=AT1131,AT1131,\"\")","v":""},null,null,null,null,null,null,null,null,null,null,null,null,null,null,null,null,null,null,null,null,null,null,null,null,null,null,null,null,null,null,null,{"$f":"J1135","v":0}]
[null,null,null,5,"",{"$f":"K1131","v":""},"","",null,null,null,null,null,{"$f":"IF(N1138=G1131,G1130,\"\")","v":""},{"$f":"IF(O1138=H1131,H1130,\"\")","v":""},{"$f":"IF(P1138=I1131,I1130,\"\")","v":""},{"$f":"IF(Q1138=J1131,J1130,\"\")","v":""},{"$f":"IF(R1138=K1131,K1130,\"\")","v":""},{"$f":"IF(S1138=L1131,L1130,\"\")","v":""},{"$f":"IF(T1138=M1131,M1130,\"\")","v":""},{"$f":"IF(U1138=N1131,N1130,\"\")","v":""},{"$f":"IF(V1138=O1131,O1130,\"\")","v":""},{"$f":"IF(W1138=P1131,P1130,\"\")","v":""},{"$f":"IF(X1138=Q1131,Q1130,\"\")","v":""},{"$f":"IF(Y1138=R1131,R1130,\"\")","v":""},{"$f":"IF(Z1138=S1131,S1130,\"\")","v":""},{"$f":"IF(AA1138=T1131,T1130,\"\")","v":""},{"$f":"IF(AB1138=U1131,U1130,\"\")","v":""},{"$f":"IF(AC1138=V1131,V1130,\"\")","v":""},{"$f":"IF(AD1138=W1131,W1130,\"\")","v":""},{"$f":"IF(AE1138=X1131,X1130,\"\")","v":""},{"$f":"IF(AF1138=Y1131,Y1130,\"\")","v":""},{"$f":"IF(AG1138=Z1131,Z1130,\"\")","v":""},{"$f":"IF(AH1138=AA1131,AA1130,\"\")","v":""},{"$f":"IF(AI1138=AB1131,AB1130,\"\")","v":""},{"$f":"IF(AJ1138=AC1131,AC1130,\"\")","v":""},{"$f":"IF(AK1138=AD1131,AD1130,\"\")","v":""},{"$f":"IF(AL1138=AE1131,AE1130,\"\")","v":""},{"$f":"IF(AM1138=AF1131,AF1130,\"\")","v":""},{"$f":"IF(AN1138=AG1131,AG1130,\"\")","v":""},{"$f":"IF(AO1138=AH1131,AH1130,\"\")","v":""},{"$f":"IF(AP1138=AI1131,AI1130,\"\")","v":""},{"$f":"IF(AQ1138=AJ1131,AJ1130,\"\")","v":""},{"$f":"IF(AR1138=AK1131,AK1130,\"\")","v":""},{"$f":"IF(AS1138=AL1131,AL1130,\"\")","v":""},{"$f":"IF(AT1138=AM1131,AM1130,\"\")","v":""},{"$f":"IF(AU1138=AN1131,AN1130,\"\")","v":""},{"$f":"IF(AV1138=AO1131,AO1130,\"\")","v":""},{"$f":"IF(AW1138=AP1131,AP1130,\"\")","v":""},{"$f":"IF(AX1138=AQ1131,AQ1130,\"\")","v":""},{"$f":"IF(AY1138=AR1131,AR1130,\"\")","v":""},{"$f":"IF(AZ1138=AS1131,AS1130,\"\")","v":""},{"$f":"IF(BA1138=AT1131,AT1130,\"\")","v":""}]
[null,null,null,9,"",{"$f":"O1131","v":""},{"$f":"IF(F1141=\"\",\"\",IF(E1141<=$C$74,\"X\",\"\"))","v":""},"",null,2,"",{"$f":"O1138","v":""},{"$f":"IF(L1141=\"\",\"\",IF(K1141<=$C$74,\"X\",\"\"))","v":""},{"$f":"IF(M1141=\"X\",L1141,\"\")","v":""},null,{"$f":"IF($P1142=N1138,N1138,\"\")","v":""},{"$f":"IF($P1142=O1138,O1138,\"\")","v":""},{"$f":"IF($P1142=P1138,P1138,\"\")","v":""},{"$f":"IF($P1142=Q1138,Q1138,\"\")","v":""},{"$f":"IF($P1142=R1138,R1138,\"\")","v":""},{"$f":"IF($P1142=S1138,S1138,\"\")","v":""},{"$f":"IF($P1142=T1138,T1138,\"\")","v":""},{"$f":"IF($P1142=U1138,U1138,\"\")","v":""},{"$f":"IF($P1142=V1138,V1138,\"\")","v":""},{"$f":"IF($P1142=W1138,W1138,\"\")","v":""},{"$f":"IF($P1142=X1138,X1138,\"\")","v":""},{"$f":"IF($P1142=Y1138,Y1138,\"\")","v":""},{"$f":"IF($P1142=Z1138,Z1138,\"\")","v":""},{"$f":"IF($P1142=AA1138,AA1138,\"\")","v":""},{"$f":"IF($P1142=AB1138,AB1138,\"\")","v":""},{"$f":"IF($P1142=AC1138,AC1138,\"\")","v":""},{"$f":"IF($P1142=AD1138,AD1138,\"\")","v":""},{"$f":"IF($P1142=AE1138,AE1138,\"\")","v":""},{"$f":"IF($P1142=AF1138,AF1138,\"\")","v":""},{"$f":"IF($P1142=AG1138,AG1138,\"\")","v":""},{"$f":"IF($P1142=AH1138,AH1138,\"\")","v":""},{"$f":"IF($P1142=AI1138,AI1138,\"\")","v":""},{"$f":"IF($P1142=AJ1138,AJ1138,\"\")","v":""},{"$f":"IF($P1142=AK1138,AK1138,\"\")","v":""},{"$f":"IF($P1142=AL1138,AL1138,\"\")","v":""},{"$f":"IF($P1142=AM1138,AM1138,\"\")","v":""},{"$f":"IF($P1142=AN1138,AN1138,\"\")","v":""},{"$f":"IF($P1142=AO1138,AO1138,\"\")","v":""},{"$f":"IF($P1142=AP1138,AP1138,\"\")","v":""},{"$f":"IF($P1142=AQ1138,AQ1138,\"\")","v":""},{"$f":"IF($P1142=AR1138,AR1138,\"\")","v":""},{"$f":"IF($P1142=AS1138,AS1138,\"\")","v":""},{"$f":"IF($P1142=AT1138,AT1138,\"\")","v":""},{"$f":"IF($P1142=AU1138,AU1138,\"\")","v":""},{"$f":"IF($P1142=AV1138,AV1138,\"\")","v":""},{"$f":"IF($P1142=AW1138,AW1138,\"\")","v":""},{"$f":"IF($P1142=AX1138,AX1138,\"\")","v":""},{"$f":"IF($P1142=AY1138,AY1138,\"\")","v":""},{"$f":"IF($P1142=AZ1138,AZ1138,\"\")","v":""},{"$f":"IF($P1142=BA1138,BA1138,\"\")","v":""},null,null,null,null,null,null,2,{"$f":"BK1140","v":0},{"$f":"BL1140","v":0}]
[null,null,null,10,"",{"$f":"P1131","v":""},{"$f":"IF(F1142=\"\",\"\",IF(E1142<=$C$74,\"X\",\"\"))","v":""},"",null,3,"",{"$f":"P1138","v":""},"","",null,{"$f":"O1140","v":0},null,null,null,null,null,null,null,null,null,null,null,null,null,null,null,null,null,null,null,null,null,null,null,null,null,null,null,null,null,null,null,null,null,null,null,null,null,null,null,null,null,null,null,null,null,3,{"$f":"BK1141","v":0},0,null,null,null,null,null,null,null,null,null,null,null,null,null,null,null,"MASSIMO CARICO",null,null,null,null,{"$f":"C1136","v":200}]
[null,null,null,15,"",{"$f":"U1131","v":""},{"$f":"IF(F1147=\"\",\"\",IF(E1147<=$C$74,\"X\",\"\"))","v":""},{"$f":"IF(G1147=\"X\",F1147,\"\")","v":""},null,8,"",{"$f":"U1138","v":""},"","",null,null,null,null,null,null,null,null,null,null,null,null,null,null,null,null,null,null,null,null,null,null,null,null,null,null,null,null,null,null,null,null,null,null,null,null,null,null,null,null,null,null,null,null,null,null,null,8,{"$f":"BK1146","v":0},0]
[null,null,null,19,"",{"$f":"Y1131","v":""},{"$f":"IF(F1151=\"\",\"\",IF(E1151<=$C$74,\"X\",\"\"))","v":""},"",null,12,"",{"$f":"Y1138","v":""},"","",null,null,null,null,null,null,null,null,null,null,null,null,null,null,null,null,null,null,null,null,null,null,null,null,null,null,null,null,null,null,null,null,null,null,null,null,null,null,null,null,null,null,null,null,null,null,null,12,{"$f":"BK1150","v":0},0]
[null,null,null,24,"",{"$f":"AD1131","v":""},{"$f":"IF(F1156=\"\",\"\",IF(E1156<=$C$74,\"X\",\"\"))","v":""},"",null,17,"",{"$f":"AD1138","v":""},{"$f":"IF(L1156=\"\",\"\",IF(K1156<=$C$74,\"X\",\"\"))","v":""},{"$f":"IF(M1156=\"X\",L1156,\"\")","v":""},null,1,2,3,4,5,6,7,8,9,10,11,12,13,14,15,16,17,18,19,20,21,22,23,24,25,26,27,28,29,30,31,32,33,34,35,36,37,38,39,40,null,null,null,null,null,null,17,{"$f":"BK1155","v":0},0]
[null,null,null,26,"",{"$f":"AF1131","v":""},{"$f":"IF(F1158=\"\",\"\",IF(E1158<=$C$74,\"X\",\"\"))","v":""},"",null,19,"",{"$f":"AF1138","v":""},{"$f":"IF(L1158=\"\",\"\",IF(K1158<=$C$74,\"X\",\"\"))","v":""},{"$f":"IF(M1158=\"X\",L1158,\"\")","v":""},null,{"$f":"IF(G1125=$P1142,\"\",IF(G1125=$J1135,\"\",IF(G1125=$G1126,\"\",G1125)))","v":""},{"$f":"IF(H1125=$P1142,\"\",IF(H1125=$J1135,\"\",IF(H1125=$G1126,\"\",H1125)))","v":""},{"$f":"IF(I1125=$P1142,\"\",IF(I1125=$J1135,\"\",IF(I1125=$G1126,\"\",I1125)))","v":""},{"$f":"IF(J1125=$P1142,\"\",IF(J1125=$J1135,\"\",IF(J1125=$G1126,\"\",J1125)))","v":""},{"$f":"IF(K1125=$P1142,\"\",IF(K1125=$J1135,\"\",IF(K1125=$G1126,\"\",K1125)))","v":""},{"$f":"IF(L1125=$P1142,\"\",IF(L1125=$J1135,\"\",IF(L1125=$G1126,\"\",L1125)))","v":""},{"$f":"IF(M1125=$P1142,\"\",IF(M1125=$J1135,\"\",IF(M1125=$G1126,\"\",M1125)))","v":""},{"$f":"IF(N1125=$P1142,\"\",IF(N1125=$J1135,\"\",IF(N1125=$G1126,\"\",N1125)))","v":""},{"$f":"IF(O1125=$P1142,\"\",IF(O1125=$J1135,\"\",IF(O1125=$G1126,\"\",O1125)))","v":""},{"$f":"IF(P1125=$P1142,\"\",IF(P1125=$J1135,\"\",IF(P1125=$G1126,\"\",P1125)))","v":""},{"$f":"IF(Q1125=$P1142,\"\",IF(Q1125=$J1135,\"\",IF(Q1125=$G1126,\"\",Q1125)))","v":""},{"$f":"IF(R1125=$P1142,\"\",IF(R1125=$J1135,\"\",IF(R1125=$G1126,\"\",R1125)))","v":""},{"$f":"IF(S1125=$P1142,\"\",IF(S1125=$J1135,\"\",IF(S1125=$G1126,\"\",S1125)))","v":""},{"$f":"IF(T1125=$P1142,\"\",IF(T1125=$J1135,\"\",IF(T1125=$G1126,\"\",T1125)))","v":""},{"$f":"IF(U1125=$P1142,\"\",IF(U1125=$J1135,\"\",IF(U1125=$G1126,\"\",U1125)))","v":""},{"$f":"IF(V1125=$P1142,\"\",IF(V1125=$J1135,\"\",IF(V1125=$G1126,\"\",V1125)))","v":""},{"$f":"IF(W1125=$P1142,\"\",IF(W1125=$J1135,\"\",IF(W1125=$G1126,\"\",W1125)))","v":""},{"$f":"IF(X1125=$P1142,\"\",IF(X1125=$J1135,\"\",IF(X1125=$G1126,\"\",X1125)))","v":""},{"$f":"IF(Y1125=$P1142,\"\",IF(Y1125=$J1135,\"\",IF(Y1125=$G1126,\"\",Y1125)))","v":""},{"$f":"IF(Z1125=$P1142,\"\",IF(Z1125=$J1135,\"\",IF(Z1125=$G1126,\"\",Z1125)))","v":""},{"$f":"IF(AA1125=$P1142,\"\",IF(AA1125=$J1135,\"\",IF(AA1125=$G1126,\"\",AA1125)))","v":""},{"$f":"IF(AB1125=$P1142,\"\",IF(AB1125=$J1135,\"\",IF(AB1125=$G1126,\"\",AB1125)))","v":""},{"$f":"IF(AC1125=$P1142,\"\",IF(AC1125=$J1135,\"\",IF(AC1125=$G1126,\"\",AC1125)))","v":""},{"$f":"IF(AD1125=$P1142,\"\",IF(AD1125=$J1135,\"\",IF(AD1125=$G1126,\"\",AD1125)))","v":""},{"$f":"IF(AE1125=$P1142,\"\",IF(AE1125=$J1135,\"\",IF(AE1125=$G1126,\"\",AE1125)))","v":""},{"$f":"IF(AF1125=$P1142,\"\",IF(AF1125=$J1135,\"\",IF(AF1125=$G1126,\"\",AF1125)))","v":""},{"$f":"IF(AG1125=$P1142,\"\",IF(AG1125=$J1135,\"\",IF(AG1125=$G1126,\"\",AG1125)))","v":""},{"$f":"IF(AH1125=$P1142,\"\",IF(AH1125=$J1135,\"\",IF(AH1125=$G1126,\"\",AH1125)))","v":""},{"$f":"IF(AI1125=$P1142,\"\",IF(AI1125=$J1135,\"\",IF(AI1125=$G1126,\"\",AI1125)))","v":""},{"$f":"IF(AJ1125=$P1142,\"\",IF(AJ1125=$J1135,\"\",IF(AJ1125=$G1126,\"\",AJ1125)))","v":""},{"$f":"IF(AK1125=$P1142,\"\",IF(AK1125=$J1135,\"\",IF(AK1125=$G1126,\"\",AK1125)))","v":""},{"$f":"IF(AL1125=$P1142,\"\",IF(AL1125=$J1135,\"\",IF(AL1125=$G1126,\"\",AL1125)))","v":""},{"$f":"IF(AM1125=$P1142,\"\",IF(AM1125=$J1135,\"\",IF(AM1125=$G1126,\"\",AM1125)))","v":""},{"$f":"IF(AN1125=$P1142,\"\",IF(AN1125=$J1135,\"\",IF(AN1125=$G1126,\"\",AN1125)))","v":""},{"$f":"IF(AO1125=$P1142,\"\",IF(AO1125=$J1135,\"\",IF(AO1125=$G1126,\"\",AO1125)))","v":""},{"$f":"IF(AP1125=$P1142,\"\",IF(AP1125=$J1135,\"\",IF(AP1125=$G1126,\"\",AP1125)))","v":""},{"$f":"IF(AQ1125=$P1142,\"\",IF(AQ1125=$J1135,\"\",IF(AQ1125=$G1126,\"\",AQ1125)))","v":""},{"$f":"IF(AR1125=$P1142,\"\",IF(AR1125=$J1135,\"\",IF(AR1125=$G1126,\"\",AR1125)))","v":""},{"$f":"IF(AS1125=$P1142,\"\",IF(AS1125=$J1135,\"\",IF(AS1125=$G1126,\"\",AS1125)))","v":""},{"$f":"IF(AT1125=$P1142,\"\",IF(AT1125=$J1135,\"\",IF(AT1125=$G1126,\"\",AT1125)))","v":""},null,null,null,null,null,null,19,{"$f":"BK1157","v":0},0]
[null,null,null,29,"",{"$f":"AI1131","v":""},{"$f":"IF(F1161=\"\",\"\",IF(E1161<=$C$74,\"X\",\"\"))","v":""},"",null,22,"",{"$f":"AI1138","v":""},{"$f":"IF(L1161=\"\",\"\",IF(K1161<=$C$74,\"X\",\"\"))","v":""},{"$f":"IF(M1161=\"X\",L1161,\"\")","v":""},null,null,null,null,null,null,null,null,null,null,null,null,null,null,null,null,null,null,null,null,null,null,null,null,null,null,null,null,null,null,null,null,null,null,null,null,null,null,null,null,null,null,null,null,null,null,null,22,{"$f":"BK1160","v":0},0]
[null,null,null,34,"",{"$f":"AN1131","v":""},{"$f":"IF(F1166=\"\",\"\",IF(E1166<=$C$74,\"X\",\"\"))","v":""},"",null,27,"",{"$f":"AN1138","v":""},{"$f":"IF(L1166=\"\",\"\",IF(K1166<=$C$74,\"X\",\"\"))","v":""},{"$f":"IF(M1166=\"X\",L1166,\"\")","v":""},null,null,null,null,null,null,null,null,null,null,null,null,null,null,null,null,null,null,null,null,null,null,null,null,null,null,null,null,null,null,null,null,null,null,null,null,null,null,null,null,null,null,null,null,null,null,null,27,{"$f":"BK1165","v":0},0]
[null,null,null,38,"",{"$f":"AR1131","v":""},{"$f":"IF(F1170=\"\",\"\",IF(E1170<=$C$74,\"X\",\"\"))","v":""},"",null,31,"",{"$f":"AR1138","v":""},{"$f":"IF(L1170=\"\",\"\",IF(K1170<=$C$74,\"X\",\"\"))","v":""},{"$f":"IF(M1170=\"X\",L1170,\"\")","v":""},null,null,null,null,null,null,null,null,null,null,null,null,null,null,null,null,null,null,null,null,null,null,null,null,null,null,null,null,null,null,null,null,null,null,null,null,null,null,null,null,null,null,null,null,null,null,null,31,{"$f":"BK1169","v":0},0]
[null,null,null,39,"",{"$f":"AS1131","v":""},{"$f":"IF(F1171=\"\",\"\",IF(E1171<=$C$74,\"X\",\"\"))","v":""},"",null,32,"",{"$f":"AS1138","v":""},{"$f":"IF(L1171=\"\",\"\",IF(K1171<=$C$74,\"X\",\"\"))","v":""},{"$f":"IF(M1171=\"X\",L1171,\"\")","v":""},null,null,null,null,null,null,null,null,null,null,null,null,null,null,null,null,null,null,null,null,null,null,null,null,null,null,null,null,null,null,null,null,null,null,null,null,null,null,null,null,null,null,null,null,null,null,null,32,{"$f":"BK1170","v":0},0]
[null,null,null,null,null,null,null,null,null,36,"",{"$f":"AW1138","v":""},{"$f":"IF(L1175=\"\",\"\",IF(K1175<=$C$74,\"X\",\"\"))","v":""},{"$f":"IF(M1175=\"X\",L1175,\"\")","v":""},null,null,null,null,null,null,null,null,null,null,null,null,null,null,null,null,null,null,null,null,null,null,null,null,null,null,null,null,null,null,null,null,null,null,null,null,null,null,null,null,null,null,null,null,null,null,null,36,{"$f":"BK1174","v":0},0]
[]
[null,null,"TIR",null,{"$f":"E1124+1","v":20},null,{"$f":"P1157","v":""},{"$f":"Q1157","v":""},{"$f":"R1157","v":""},{"$f":"S1157","v":""},{"$f":"T1157","v":""},{"$f":"U1157","v":""},{"$f":"V1157","v":""},{"$f":"W1157","v":""},{"$f":"X1157","v":""},{"$f":"Y1157","v":""},{"$f":"Z1157","v":""},{"$f":"AA1157","v":""},{"$f":"AB1157","v":""},{"$f":"AC1157","v":""},{"$f":"AD1157","v":""},{"$f":"AE1157","v":""},{"$f":"AF1157","v":""},{"$f":"AG1157","v":""},{"$f":"AH1157","v":""},{"$f":"AI1157","v":""},{"$f":"AJ1157","v":""},{"$f":"AK1157","v":""},{"$f":"AL1157","v":""},{"$f":"AM1157","v":""},{"$f":"AN1157","v":""},{"$f":"AO1157","v":""},{"$f":"AP1157","v":""},{"$f":"AQ1157","v":""},{"$f":"AR1157","v":""},{"$f":"AS1157","v":""},{"$f":"AT1157","v":""},{"$f":"AU1157","v":""},{"$f":"AV1157","v":""},{"$f":"AW1157","v":""},{"$f":"AX1157","v":""},{"$f":"AY1157","v":""},{"$f":"AZ1157","v":""},{"$f":"BA1157","v":""},{"$f":"BB1157","v":""},{"$f":"BC1157","v":""}]
[null,null,"MASSIMO PESO",null,null,null,{"$f":"MAX(G1184:AT1184)","v":0}]
[null,null,"DISPONIBILI",null,null,null,{"$f":"IF(G1184=$G1185,\"\",G1184)","v":""},{"$f":"IF(H1184=$G1185,\"\",H1184)","v":""},{"$f":"IF(I1184=$G1185,\"\",I1184)","v":""},{"$f":"IF(J1184=$G1185,\"\",J1184)","v":""},{"$f":"IF(K1184=$G1185,\"\",K1184)","v":""},{"$f":"IF(L1184=$G1185,\"\",L1184)","v":""},{"$f":"IF(M1184=$G1185,\"\",M1184)","v":""},{"$f":"IF(N1184=$G1185,\"\",N1184)","v":""},{"$f":"IF(O1184=$G1185,\"\",O1184)","v":""},{"$f":"IF(P1184=$G1185,\"\",P1184)","v":""},{"$f":"IF(Q1184=$G1185,\"\",Q1184)","v":""},{"$f":"IF(R1184=$G1185,\"\",R1184)","v":""},{"$f":"IF(S1184=$G1185,\"\",S1184)","v":""},{"$f":"IF(T1184=$G1185,\"\",T1184)","v":""},{"$f":"IF(U1184=$G1185,\"\",U1184)","v":""},{"$f":"IF(V1184=$G1185,\"\",V1184)","v":""},{"$f":"IF(W1184=$G1185,\"\",W1184)","v":""},{"$f":"IF(X1184=$G1185,\"\",X1184)","v":""},{"$f":"IF(Y1184=$G1185,\"\",Y1184)","v":""},{"$f":"IF(Z1184=$G1185,\"\",Z1184)","v":""},{"$f":"IF(AA1184=$G1185,\"\",AA1184)","v":""},{"$f":"IF(AB1184=$G1185,\"\",AB1184)","v":""},{"$f":"IF(AC1184=$G1185,\"\",AC1184)","v":""},{"$f":"IF(AD1184=$G1185,\"\",AD1184)","v":""},{"$f":"IF(AE1184=$G1185,\"\",AE1184)","v":""},{"$f":"IF(AF1184=$G1185,\"\",AF1184)","v":""},{"$f":"IF(AG1184=$G1185,\"\",AG1184)","v":""},{"$f":"IF(AH1184=$G1185,\"\",AH1184)","v":""},{"$f":"IF(AI1184=$G1185,\"\",AI1184)","v":""},{"$f":"IF(AJ1184=$G1185,\"\",AJ1184)","v":""},{"$f":"IF(AK1184=$G1185,\"\",AK1184)","v":""},{"$f":"IF(AL1184=$G1185,\"\",AL1184)","v":""},{"$f":"IF(AM1184=$G1185,\"\",AM1184)","v":""},{"$f":"IF(AN1184=$G1185,\"\",AN1184)","v":""},{"$f":"IF(AO1184=$G1185,\"\",AO1184)","v":""},{"$f":"IF(AP1184=$G1185,\"\",AP1184)","v":""},{"$f":"IF(AQ1184=$G1185,\"\",AQ1184)","v":""},{"$f":"IF(AR1184=$G1185,\"\",AR1184)","v":""},{"$f":"IF(AS1184=$G1185,\"\",AS1184)","v":""},{"$f":"IF(AT1184=$G1185,\"\",AT1184)","v":""},null,null,null,null,null,null,null,null,null,null,null,null,null,null,null,null,null,null,null,null,null,null,null,null,null,null,null,null,null,null,null,null,null,null,null,null,null,{"$f":"IF(CC1198=0,\"\",CC1198)","v":""},null,{"$f":"IF(CF1190=\"\",\"\",CC1197)","v":""}]
[null,null,{"$f":"$P$3","v":200},4,"",{"$f":"J1190","v":""},"","",null,null,null,null,null,null,null,null,null,null,null,null,null,null,null,null,null,null,null,null,null,null,null,null,null,null,null,null,null,null,null,null,null,null,null,null,null,null,null,null,null,null,null,null,null,null,null,null,null,null,null,null,null,null,null,null,null,null,null,null,null,null,null,null,null,null,null,null,null,null,null,null,null,null,null,{"$f":"IF(CD1187>0,CF1136+1,\"\")","v":""}]
[null,null,null,8,"",{"$f":"N1190","v":""},{"$f":"IF(F1199=\"\",\"\",IF(E1199<=$C$74,\"X\",\"\"))","v":""},"",null,1,{"$f":"IF(L1199<>\"\",BK1199+BL1199+L1199,\"\")","v":""},{"$f":"N1197","v":""},{"$f":"IF(L1199=\"\",\"\",IF(K1199<=$C$74,\"X\",\"\"))","v":""},{"$f":"IF(M1199=\"X\",L1199,\"\")","v":""},{"$f":"MAX(N1199:N1218)","v":0},{"$f":"IF(P1200=N1197,N1196,\"\")","v":""},{"$f":"IF(Q1200=O1197,O1196,\"\")","v":""},{"$f":"IF(R1200=P1197,P1196,\"\")","v":""},{"$f":"IF(S1200=Q1197,Q1196,\"\")","v":""},{"$f":"IF(T1200=R1197,R1196,\"\")","v":""},{"$f":"IF(U1200=S1197,S1196,\"\")","v":""},{"$f":"IF(V1200=T1197,T1196,\"\")","v":""},{"$f":"IF(W1200=U1197,U1196,\"\")","v":""},{"$f":"IF(X1200=V1197,V1196,\"\")","v":""},{"$f":"IF(Y1200=W1197,W1196,\"\")","v":""},{"$f":"IF(Z1200=X1197,X1196,\"\")","v":""},{"$f":"IF(AA1200=Y1197,Y1196,\"\")","v":""},{"$f":"IF(AB1200=Z1197,Z1196,\"\")","v":""},{"$f":"IF(AC1200=AA1197,AA1196,\"\")","v":""},{"$f":"IF(AD1200=AB1197,AB1196,\"\")","v":""},{"$f":"IF(AE1200=AC1197,AC1196,\"\")","v":""},{"$f":"IF(AF1200=AD1197,AD1196,\"\")","v":""},{"$f":"IF(AG1200=AE1197,AE1196,\"\")","v":""},{"$f":"IF(AH1200=AF1197,AF1196,\"\")","v":""},{"$f":"IF(AI1200=AG1197,AG1196,\"\")","v":""},{"$f":"IF(AJ1200=AH1197,AH1196,\"\")","v":""},{"$f":"IF(AK1200=AI1197,AI1196,\"\")","v":""},{"$f":"IF(AL1200=AJ1197,AJ1196,\"\")","v":""},{"$f":"IF(AM1200=AK1197,AK1196,\"\")","v":""},{"$f":"IF(AN1200=AL1197,AL1196,\"\")","v":""},{"$f":"IF(AO1200=AM1197,AM1196,\"\")","v":""},{"$f":"IF(AP1200=AN1197,AN1196,\"\")","v":""},{"$f":"IF(AQ1200=AO1197,AO1196,\"\")","v":""},{"$f":"IF(AR1200=AP1197,AP1196,\"\")","v":""},{"$f":"IF(AS1200=AQ1197,AQ1196,\"\")","v":""},{"$f":"IF(AT1200=AR1197,AR1196,\"\")","v":""},{"$f":"IF(AU1200=AS1197,AS1196,\"\")","v":""},{"$f":"IF(AV1200=AT1197,AT1196,\"\")","v":""},{"$f":"IF(AW1200=AU1197,AU1196,\"\")","v":""},{"$f":"IF(AX1200=AV1197,AV1196,\"\")","v":""},{"$f":"IF(AY1200=AW1197,AW1196,\"\")","v":""},{"$f":"IF(AZ1200=AX1197,AX1196,\"\")","v":""},{"$f":"IF(BA1200=AY1197,AY1196,\"\")","v":""},{"$f":"IF(BB1200=AZ1197,AZ1196,\"\")","v":""},{"$f":"IF(BC1200=BA1197,BA1196,\"\")","v":""},null,null,null,null,null,null,1,{"$f":"CC1188","v":0},{"$f":"CC1193","v":0}]
[null,null,null,9,"",{"$f":"O1190","v":""},{"$f":"IF(F1200=\"\",\"\",IF(E1200<=$C$74,\"X\",\"\"))","v":""},"",null,2,"",{"$f":"O1197","v":""},{"$f":"IF(L1200=\"\",\"\",IF(K1200<=$C$74,\"X\",\"\"))","v":""},{"$f":"IF(M1200=\"X\",L1200,\"\")","v":""},null,{"$f":"IF($P1201=N1197,N1197,\"\")","v":""},{"$f":"IF($P1201=O1197,O1197,\"\")","v":""},{"$f":"IF($P1201=P1197,P1197,\"\")","v":""},{"$f":"IF($P1201=Q1197,Q1197,\"\")","v":""},{"$f":"IF($P1201=R1197,R1197,\"\")","v":""},{"$f":"IF($P1201=S1197,S1197,\"\")","v":""},{"$f":"IF($P1201=T1197,T1197,\"\")","v":""},{"$f":"IF($P1201=U1197,U1197,\"\")","v":""},{"$f":"IF($P1201=V1197,V1197,\"\")","v":""},{"$f":"IF($P1201=W1197,W1197,\"\")","v":""},{"$f":"IF($P1201=X1197,X1197,\"\")","v":""},{"$f":"IF($P1201=Y1197,Y1197,\"\")","v":""},{"$f":"IF($P1201=Z1197,Z1197,\"\")","v":""},{"$f":"IF($P1201=AA1197,AA1197,\"\")","v":""},{"$f":"IF($P1201=AB1197,AB1197,\"\")","v":""},{"$f":"IF($P1201=AC1197,AC1197,\"\")","v":""},{"$f":"IF($P1201=AD1197,AD1197,\"\")","v":""},{"$f":"IF($P1201=AE1197,AE1197,\"\")","v":""},{"$f":"IF($P1201=AF1197,AF1197,\"\")","v":""},{"$f":"IF($P1201=AG1197,AG1197,\"\")","v":""},{"$f":"IF($P1201=AH1197,AH1197,\"\")","v":""},{"$f":"IF($P1201=AI1197,AI1197,\"\")","v":""},{"$f":"IF($P1201=AJ1197,AJ1197,\"\")","v":""},{"$f":"IF($P1201=AK1197,AK1197,\"\")","v":""},{"$f":"IF($P1201=AL1197,AL1197,\"\")","v":""},{"$f":"IF($P1201=AM1197,AM1197,\"\")","v":""},{"$f":"IF($P1201=AN1197,AN1197,\"\")","v":""},{"$f":"IF($P1201=AO1197,AO1197,\"\")","v":""},{"$f":"IF($P1201=AP1197,AP1197,\"\")","v":""},{"$f":"IF($P1201=AQ1197,AQ1197,\"\")","v":""},{"$f":"IF($P1201=AR1197,AR1197,\"\")","v":""},{"$f":"IF($P1201=AS1197,AS1197,\"\")","v":""},{"$f":"IF($P1201=AT1197,AT1197,\"\")","v":""},{"$f":"IF($P1201=AU1197,AU1197,\"\")","v":""},{"$f":"IF($P1201=AV1197,AV1197,\"\")","v":""},{"$f":"IF($P1201=AW1197,AW1197,\"\")","v":""},{"$f":"IF($P1201=AX1197,AX1197,\"\")","v":""},{"$f":"IF($P1201=AY1197,AY1197,\"\")","v":""},{"$f":"IF($P1201=AZ1197,AZ1197,\"\")","v":""},{"$f":"IF($P1201=BA1197,BA1197,\"\")","v":""},null,null,null,null,null,null,2,{"$f":"BK1199","v":0},{"$f":"BL1199","v":0}]
[null,null,null,13,"",{"$f":"S1190","v":""},{"$f":"IF(F1204=\"\",\"\",IF(E1204<=$C$74,\"X\",\"\"))","v":""},"",null,6,"",{"$f":"S1197","v":""},"","",null,null,null,null,null,null,null,null,null,null,null,null,null,null,null,null,null,null,null,null,null,null,null,null,null,null,null,null,null,null,null,null,null,null,null,null,null,null,null,null,null,null,null,null,null,null,null,6,{"$f":"BK1203","v":0},0]
[null,null,null,18,"",{"$f":"X1190","v":""},{"$f":"IF(F1209=\"\",\"\",IF(E1209<=$C$74,\"X\",\"\"))","v":""},"",null,11,"",{"$f":"X1197","v":""},"","",null,null,null,null,null,null,null,null,null,null,null,null,null,null,null,null,null,null,null,null,null,null,null,null,null,null,null,null,null,null,null,null,null,null,null,null,null,null,null,null,null,null,null,null,null,null,null,11,{"$f":"BK1208","v":0},0]
[null,null,null,21,{"$f":"IF(F1212<>\"\",F1212+G$126,\"\")","v":""},{"$f":"AA1190","v":""},{"$f":"IF(F1212=\"\",\"\",IF(E1212<=$C$74,\"X\",\"\"))","v":""},"",null,14,"",{"$f":"AA1197","v":""},"","",null,null,null,null,null,null,null,null,null,null,null,null,null,null,null,null,null,null,null,null,null,null,null,null,null,null,null,null,null,null,null,null,null,null,null,null,null,null,null,null,null,null,null,null,null,null,null,14,{"$f":"BK1211","v":0},0]
[null,null,null,23,"",{"$f":"AC1190","v":""},{"$f":"IF(F1214=\"\",\"\",IF(E1214<=$C$74,\"X\",\"\"))","v":""},"",null,16,"",{"$f":"AC1197","v":""},"","",null,null,null,null,null,null,null,null,null,null,null,null,null,null,null,null,null,null,null,null,null,null,null,null,null,null,null,null,null,null,null,null,null,null,null,null,null,null,null,null,null,null,null,null,null,null,null,16,{"$f":"BK1213","v":0},0]
[null,null,null,29,"",{"$f":"AI1190","v":""},{"$f":"IF(F1220=\"\",\"\",IF(E1220<=$C$74,\"X\",\"\"))","v":""},"",null,22,"",{"$f":"AI1197","v":""},{"$f":"IF(L1220=\"\",\"\",IF(K1220<=$C$74,\"X\",\"\"))","v":""},{"$f":"IF(M1220=\"X\",L1220,\"\")","v":""},null,null,null,null,null,null,null,null,null,null,null,null,null,null,null,null,null,null,null,null,null,null,null,null,null,null,null,null,null,null,null,null,null,null,null,null,null,null,null,null,null,null,null,null,null,null,null,22,{"$f":"BK1219","v":0},0]
[null,null,null,32,"",{"$f":"AL1190","v":""},{"$f":"IF(F1223=\"\",\"\",IF(E1223<=$C$74,\"X\",\"\"))","v":""},"",null,25,"",{"$f":"AL1197","v":""},{"$f":"IF(L1223=\"\",\"\",IF(K1223<=$C$74,\"X\",\"\"))","v":""},{"$f":"IF(M1223=\"X\",L1223,\"\")","v":""},null,null,null,null,null,null,null,null,null,null,null,null,null,null,null,null,null,null,null,null,null,null,null,null,null,null,null,null,null,null,null,null,null,null,null,null,null,null,null,null,null,null,null,null,null,null,null,25,{"$f":"BK1222","v":0},0]
[null,null,null,34,"",{"$f":"AN1190","v":""},{"$f":"IF(F1225=\"\",\"\",IF(E1225<=$C$74,\"X\",\"\"))","v":""},"",null,27,"",{"$f":"AN1197","v":""},{"$f":"IF(L1225=\"\",\"\",IF(K1225<=$C$74,\"X\",\"\"))","v":""},{"$f":"IF(M1225=\"X\",L1225,\"\")","v":""},null,null,null,null,null,null,null,null,null,null,null,null,null,null,null,null,null,null,null,null,null,null,null,null,null,null,null,null,null,null,null,null,null,null,null,null,null,null,null,null,null,null,null,null,null,null,null,27,{"$f":"BK1224","v":0},0]
[null,null,null,37,"",{"$f":"AQ1190","v":""},{"$f":"IF(F1228=\"\",\"\",IF(E1228<=$C$74,\"X\",\"\"))","v":""},"",null,30,"",{"$f":"AQ1197","v":""},{"$f":"IF(L1228=\"\",\"\",IF(K1228<=$C$74,\"X\",\"\"))","v":""},{"$f":"IF(M1228=\"X\",L1228,\"\")","v":""},null,null,null,null,null,null,null,null,null,null,null,null,null,null,null,null,null,null,null,null,null,null,null,null,null,null,null,null,null,null,null,null,null,null,null,null,null,null,null,null,null,null,null,null,null,null,null,30,{"$f":"BK1227","v":0},0]
[null,null,null,null,null,null,null,null,null,35,"",{"$f":"AV1197","v":""},{"$f":"IF(L1233=\"\",\"\",IF(K1233<=$C$74,\"X\",\"\"))","v":""},{"$f":"IF(M1233=\"X\",L1233,\"\")","v":""},null,null,null,null,null,null,null,null,null,null,null,null,null,null,null,null,null,null,null,null,null,null,null,null,null,null,null,null,null,null,null,null,null,null,null,null,null,null,null,null,null,null,null,null,null,null,null,35,{"$f":"BK1232","v":0},0]
[null,null,null,null,null,null,null,null,null,39,"",{"$f":"AZ1197","v":""},"","",null,null,null,null,null,null,null,null,null,null,null,null,null,null,null,null,null,null,null,null,null,null,null,null,null,null,null,null,null,null,null,null,null,null,null,null,null,null,null,null,null,null,null,null,null,null,null,39,{"$f":"BK1236","v":0},0]
[null,null,"TIR",null,{"$f":"E1183+1","v":21},null,{"$f":"P1216","v":""},{"$f":"Q1216","v":""},{"$f":"R1216","v":""},{"$f":"S1216","v":""},{"$f":"T1216","v":""},{"$f":"U1216","v":""},{"$f":"V1216","v":""},{"$f":"W1216","v":""},{"$f":"X1216","v":""},{"$f":"Y1216","v":""},{"$f":"Z1216","v":""},{"$f":"AA1216","v":""},{"$f":"AB1216","v":""},{"$f":"AC1216","v":""},{"$f":"AD1216","v":""},{"$f":"AE1216","v":""},{"$f":"AF1216","v":""},{"$f":"AG1216","v":""},{"$f":"AH1216","v":""},{"$f":"AI1216","v":""},{"$f":"AJ1216","v":""},{"$f":"AK1216","v":""},{"$f":"AL1216","v":""},{"$f":"AM1216","v":""},{"$f":"AN1216","v":""},{"$f":"AO1216","v":""},{"$f":"AP1216","v":""},{"$f":"AQ1216","v":""},{"$f":"AR1216","v":""},{"$f":"AS1216","v":""},{"$f":"AT1216","v":""},{"$f":"AU1216","v":""},{"$f":"AV1216","v":""},{"$f":"AW1216","v":""},{"$f":"AX1216","v":""},{"$f":"AY1216","v":""},{"$f":"AZ1216","v":""},{"$f":"BA1216","v":""},{"$f":"BB1216","v":""},{"$f":"BC1216","v":""}]
[null,null,null,null,null,null,{"$f":"IF(G1243=$G1244,G1242,\"\")","v":""},{"$f":"IF(H1243=$G1244,H1242,\"\")","v":""},{"$f":"IF(I1243=$G1244,I1242,\"\")","v":""},{"$f":"IF(J1243=$G1244,J1242,\"\")","v":""},{"$f":"IF(K1243=$G1244,K1242,\"\")","v":""},{"$f":"IF(L1243=$G1244,L1242,\"\")","v":""},{"$f":"IF(M1243=$G1244,M1242,\"\")","v":""},{"$f":"IF(N1243=$G1244,N1242,\"\")","v":""},{"$f":"IF(O1243=$G1244,O1242,\"\")","v":""},{"$f":"IF(P1243=$G1244,P1242,\"\")","v":""},{"$f":"IF(Q1243=$G1244,Q1242,\"\")","v":""},{"$f":"IF(R1243=$G1244,R1242,\"\")","v":""},{"$f":"IF(S1243=$G1244,S1242,\"\")","v":""},{"$f":"IF(T1243=$G1244,T1242,\"\")","v":""},{"$f":"IF(U1243=$G1244,U1242,\"\")","v":""},{"$f":"IF(V1243=$G1244,V1242,\"\")","v":""},{"$f":"IF(W1243=$G1244,W1242,\"\")","v":""},{"$f":"IF(X1243=$G1244,X1242,\"\")","v":""},{"$f":"IF(Y1243=$G1244,Y1242,\"\")","v":""},{"$f":"IF(Z1243=$G1244,Z1242,\"\")","v":""},{"$f":"IF(AA1243=$G1244,AA1242,\"\")","v":""},{"$f":"IF(AB1243=$G1244,AB1242,\"\")","v":""},{"$f":"IF(AC1243=$G1244,AC1242,\"\")","v":""},{"$f":"IF(AD1243=$G1244,AD1242,\"\")","v":""},{"$f":"IF(AE1243=$G1244,AE1242,\"\")","v":""},{"$f":"IF(AF1243=$G1244,AF1242,\"\")","v":""},{"$f":"IF(AG1243=$G1244,AG1242,\"\")","v":""},{"$f":"IF(AH1243=$G1244,AH1242,\"\")","v":""},{"$f":"IF(AI1243=$G1244,AI1242,\"\")","v":""},{"$f":"IF(AJ1243=$G1244,AJ1242,\"\")","v":""},{"$f":"IF(AK1243=$G1244,AK1242,\"\")","v":""},{"$f":"IF(AL1243=$G1244,AL1242,\"\")","v":""},{"$f":"IF(AM1243=$G1244,AM1242,\"\")","v":""},{"$f":"IF(AN1243=$G1244,AN1242,\"\")","v":""},{"$f":"IF(AO1243=$G1244,AO1242,\"\")","v":""},{"$f":"IF(AP1243=$G1244,AP1242,\"\")","v":""},{"$f":"IF(AQ1243=$G1244,AQ1242,\"\")","v":""},{"$f":"IF(AR1243=$G1244,AR1242,\"\")","v":""},{"$f":"IF(AS1243=$G1244,AS1242,\"\")","v":""},{"$f":"IF(AT1243=$G1244,AT1242,\"\")","v":""}]
[null,null,null,null,null,null,{"$f":"G1244","v":0},null,null,null,null,null,null,null,null,null,null,null,null,null,null,null,null,null,null,null,null,null,null,null,null,null,null,null,null,null,null,null,null,null,null,null,null,null,null,null,null,null,null,null,null,null,null,null,null,null,null,null,null,null,null,null,null,null,null,null,null,null,null,null,null,null,null,null,null,null,null,null,null,null,{"$f":"G1244","v":0},null,null,{"$f":"IF(CC1247=0,\"\",CC1247)","v":""},null,{"$f":"IF(CF1247=\"\",\"\",CC1246)","v":""}]
[null,null,null,2,"",{"$f":"H1249","v":""},{"$f":"IF(F1252=\"\",\"\",IF(E1252<=$C$74,\"X\",\"\"))","v":""},"",null,{"$f":"IF($J1253=G1249,G1249,\"\")","v":""},{"$f":"IF($J1253=H1249,H1249,\"\")","v":""},{"$f":"IF($J1253=I1249,I1249,\"\")","v":""},{"$f":"IF($J1253=J1249,J1249,\"\")","v":""},{"$f":"IF($J1253=K1249,K1249,\"\")","v":""},{"$f":"IF($J1253=L1249,L1249,\"\")","v":""},{"$f":"IF($J1253=M1249,M1249,\"\")","v":""},{"$f":"IF($J1253=N1249,N1249,\"\")","v":""},{"$f":"IF($J1253=O1249,O1249,\"\")","v":""},{"$f":"IF($J1253=P1249,P1249,\"\")","v":""},{"$f":"IF($J1253=Q1249,Q1249,\"\")","v":""},{"$f":"IF($J1253=R1249,R1249,\"\")","v":""},{"$f":"IF($J1253=S1249,S1249,\"\")","v":""},{"$f":"IF($J1253=T1249,T1249,\"\")","v":""},{"$f":"IF($J1253=U1249,U1249,\"\")","v":""},{"$f":"IF($J1253=V1249,V1249,\"\")","v":""},{"$f":"IF($J1253=W1249,W1249,\"\")","v":""},{"$f":"IF($J1253=X1249,X1249,\"\")","v":""},{"$f":"IF($J1253=Y1249,Y1249,\"\")","v":""},{"$f":"IF($J1253=Z1249,Z1249,\"\")","v":""},{"$f":"IF($J1253=AA1249,AA1249,\"\")","v":""},{"$f":"IF($J1253=AB1249,AB1249,\"\")","v":""},{"$f":"IF($J1253=AC1249,AC1249,\"\")","v":""},{"$f":"IF($J1253=AD1249,AD1249,\"\")","v":""},{"$f":"IF($J1253=AE1249,AE1249,\"\")","v":""},{"$f":"IF($J1253=AF1249,AF1249,\"\")","v":""},{"$f":"IF($J1253=AG1249,AG1249,\"\")","v":""},{"$f":"IF($J1253=AH1249,AH1249,\"\")","v":""},{"$f":"IF($J1253=AI1249,AI1249,\"\")","v":""},{"$f":"IF($J1253=AJ1249,AJ1249,\"\")","v":""},{"$f":"IF($J1253=AK1249,AK1249,\"\")","v":""},{"$f":"IF($J1253=AL1249,AL1249,\"\")","v":""},{"$f":"IF($J1253=AM1249,AM1249,\"\")","v":""},{"$f":"IF($J1253=AN1249,AN1249,\"\")","v":""},{"$f":"IF($J1253=AO1249,AO1249,\"\")","v":""},{"$f":"IF($J1253=AP1249,AP1249,\"\")","v":""},{"$f":"IF($J1253=AQ1249,AQ1249,\"\")","v":""},{"$f":"IF($J1253=AR1249,AR1249,\"\")","v":""},{"$f":"IF($J1253=AS1249,AS1249,\"\")","v":""},{"$f":"IF($J1253=AT1249,AT1249,\"\")","v":""},null,null,null,null,null,null,null,null,null,null,null,null,null,null,null,null,null,null,null,null,null,null,null,null,null,null,null,null,null,null,null,{"$f":"J1253","v":0}]
[null,null,{"$f":"$P$3","v":200},4,"",{"$f":"J1249","v":""},"","",null,null,null,null,null,null,null,null,null,null,null,null,null,null,null,null,null,null,null,null,null,null,null,null,null,null,null,null,null,null,null,null,null,null,null,null,null,null,null,null,null,null,null,null,null,null,null,null,null,null,null,null,null,null,null,null,null,null,null,null,null,null,null,null,null,null,null,null,null,null,null,null,null,null,null,{"$f":"IF(CD1246>0,CF1195+1,\"\")","v":""}]
[null,null,null,7,"",{"$f":"M1249","v":""},"","",null,null,null,null,null,null,null,null,null,null,null,null,null,null,null,null,null,null,null,null,null,null,null,null,null,null,null,null,null,null,null,null,null,null,null,null,null,null,null,null,null,null,null,null,null,null,null,null,null,null,null,null,null,null,1,2,null,null,null,null,null,null,null,null,null,null,null,null,null,null,null,null,{"$f":"P1260","v":0}]
[null,null,null,11,"",{"$f":"Q1249","v":""},"","",null,4,"",{"$f":"Q1256","v":""},"","",null,null,null,null,null,null,null,null,null,null,null,null,null,null,null,null,null,null,null,null,null,null,null,null,null,null,null,null,null,null,null,null,null,null,null,null,null,null,null,null,null,null,null,null,null,null,null,4,{"$f":"BK1260","v":0},0]
[null,null,null,16,"",{"$f":"V1249","v":""},"","",null,9,"",{"$f":"V1256","v":""},"","",null,null,null,null,null,null,null,null,null,null,null,null,null,null,null,null,null,null,null,null,null,null,null,null,null,null,null,null,null,null,null,null,null,null,null,null,null,null,null,null,null,null,null,null,null,null,null,9,{"$f":"BK1265","v":0},0]
[null,null,null,19,"",{"$f":"Y1249","v":""},"","",null,12,"",{"$f":"Y1256","v":""},"","",null,null,null,null,null,null,null,null,null,null,null,null,null,null,null,null,null,null,null,null,null,null,null,null,null,null,null,null,null,null,null,null,null,null,null,null,null,null,null,null,null,null,null,null,null,null,null,12,{"$f":"BK1268","v":0},0]
[null,null,null,21,{"$f":"IF(F1271<>\"\",F1271+G$126,\"\")","v":""},{"$f":"AA1249","v":""},"","",null,14,"",{"$f":"AA1256","v":""},"","",null,null,null,null,null,null,null,null,null,null,null,null,null,null,null,null,null,null,null,null,null,null,null,null,null,null,null,null,null,null,null,null,null,null,null,null,null,null,null,null,null,null,null,null,null,null,null,14,{"$f":"BK1270","v":0},0]
[null,null,null,26,"",{"$f":"AF1249","v":""},"","",null,19,"",{"$f":"AF1256","v":""},"","",null,{"$f":"IF(G1243=$P1260,\"\",IF(G1243=$J1253,\"\",IF(G1243=$G1244,\"\",G1243)))","v":""},{"$f":"IF(H1243=$P1260,\"\",IF(H1243=$J1253,\"\",IF(H1243=$G1244,\"\",H1243)))","v":""},{"$f":"IF(I1243=$P1260,\"\",IF(I1243=$J1253,\"\",IF(I1243=$G1244,\"\",I1243)))","v":""},{"$f":"IF(J1243=$P1260,\"\",IF(J1243=$J1253,\"\",IF(J1243=$G1244,\"\",J1243)))","v":""},{"$f":"IF(K1243=$P1260,\"\",IF(K1243=$J1253,\"\",IF(K1243=$G1244,\"\",K1243)))","v":""},{"$f":"IF(L1243=$P1260,\"\",IF(L1243=$J1253,\"\",IF(L1243=$G1244,\"\",L1243)))","v":""},{"$f":"IF(M1243=$P1260,\"\",IF(M1243=$J1253,\"\",IF(M1243=$G1244,\"\",M1243)))","v":""},{"$f":"IF(N1243=$P1260,\"\",IF(N1243=$J1253,\"\",IF(N1243=$G1244,\"\",N1243)))","v":""},{"$f":"IF(O1243=$P1260,\"\",IF(O1243=$J1253,\"\",IF(O1243=$G1244,\"\",O1243)))","v":""},{"$f":"IF(P1243=$P1260,\"\",IF(P1243=$J1253,\"\",IF(P1243=$G1244,\"\",P1243)))","v":""},{"$f":"IF(Q1243=$P1260,\"\",IF(Q1243=$J1253,\"\",IF(Q1243=$G1244,\"\",Q1243)))","v":""},{"$f":"IF(R1243=$P1260,\"\",IF(R1243=$J1253,\"\",IF(R1243=$G1244,\"\",R1243)))","v":""},{"$f":"IF(S1243=$P1260,\"\",IF(S1243=$J1253,\"\",IF(S1243=$G1244,\"\",S1243)))","v":""},{"$f":"IF(T1243=$P1260,\"\",IF(T1243=$J1253,\"\",IF(T1243=$G1244,\"\",T1243)))","v":""},{"$f":"IF(U1243=$P1260,\"\",IF(U1243=$J1253,\"\",IF(U1243=$G1244,\"\",U1243)))","v":""},{"$f":"IF(V1243=$P1260,\"\",IF(V1243=$J1253,\"\",IF(V1243=$G1244,\"\",V1243)))","v":""},{"$f":"IF(W1243=$P1260,\"\",IF(W1243=$J1253,\"\",IF(W1243=$G1244,\"\",W1243)))","v":""},{"$f":"IF(X1243=$P1260,\"\",IF(X1243=$J1253,\"\",IF(X1243=$G1244,\"\",X1243)))","v":""},{"$f":"IF(Y1243=$P1260,\"\",IF(Y1243=$J1253,\"\",IF(Y1243=$G1244,\"\",Y1243)))","v":""},{"$f":"IF(Z1243=$P1260,\"\",IF(Z1243=$J1253,\"\",IF(Z1243=$G1244,\"\",Z1243)))","v":""},{"$f":"IF(AA1243=$P1260,\"\",IF(AA1243=$J1253,\"\",IF(AA1243=$G1244,\"\",AA1243)))","v":""},{"$f":"IF(AB1243=$P1260,\"\",IF(AB1243=$J1253,\"\",IF(AB1243=$G1244,\"\",AB1243)))","v":""},{"$f":"IF(AC1243=$P1260,\"\",IF(AC1243=$J1253,\"\",IF(AC1243=$G1244,\"\",AC1243)))","v":""},{"$f":"IF(AD1243=$P1260,\"\",IF(AD1243=$J1253,\"\",IF(AD1243=$G1244,\"\",AD1243)))","v":""},{"$f":"IF(AE1243=$P1260,\"\",IF(AE1243=$J1253,\"\",IF(AE1243=$G1244,\"\",AE1243)))","v":""},{"$f":"IF(AF1243=$P1260,\"\",IF(AF1243=$J1253,\"\",IF(AF1243=$G1244,\"\",AF1243)))","v":""},{"$f":"IF(AG1243=$P1260,\"\",IF(AG1243=$J1253,\"\",IF(AG1243=$G1244,\"\",AG1243)))","v":""},{"$f":"IF(AH1243=$P1260,\"\",IF(AH1243=$J1253,\"\",IF(AH1243=$G1244,\"\",AH1243)))","v":""},{"$f":"IF(AI1243=$P1260,\"\",IF(AI1243=$J1253,\"\",IF(AI1243=$G1244,\"\",AI1243)))","v":""},{"$f":"IF(AJ1243=$P1260,\"\",IF(AJ1243=$J1253,\"\",IF(AJ1243=$G1244,\"\",AJ1243)))","v":""},{"$f":"IF(AK1243=$P1260,\"\",IF(AK1243=$J1253,\"\",IF(AK1243=$G1244,\"\",AK1243)))","v":""},{"$f":"IF(AL1243=$P1260,\"\",IF(AL1243=$J1253,\"\",IF(AL1243=$G1244,\"\",AL1243)))","v":""},{"$f":"IF(AM1243=$P1260,\"\",IF(AM1243=$J1253,\"\",IF(AM1243=$G1244,\"\",AM1243)))","v":""},{"$f":"IF(AN1243=$P1260,\"\",IF(AN1243=$J1253,\"\",IF(AN1243=$G1244,\"\",AN1243)))","v":""},{"$f":"IF(AO1243=$P1260,\"\",IF(AO1243=$J1253,\"\",IF(AO1243=$G1244,\"\",AO1243)))","v":""},{"$f":"IF(AP1243=$P1260,\"\",IF(AP1243=$J1253,\"\",IF(AP1243=$G1244,\"\",AP1243)))","v":""},{"$f":"IF(AQ1243=$P1260,\"\",IF(AQ1243=$J1253,\"\",IF(AQ1243=$G1244,\"\",AQ1243)))","v":""},{"$f":"IF(AR1243=$P1260,\"\",IF(AR1243=$J1253,\"\",IF(AR1243=$G1244,\"\",AR1243)))","v":""},{"$f":"IF(AS1243=$P1260,\"\",IF(AS1243=$J1253,\"\",IF(AS1243=$G1244,\"\",AS1243)))","v":""},{"$f":"IF(AT1243=$P1260,\"\",IF(AT1243=$J1253,\"\",IF(AT1243=$G1244,\"\",AT1243)))","v":""},null,null,null,null,null,null,19,{"$f":"BK1275","v":0},0]
[null,null,null,31,"",{"$f":"AK1249","v":""},"","",null,24,"",{"$f":"AK1256","v":""},"","",null,null,null,null,null,null,null,null,null,null,null,null,null,null,null,null,null,null,null,null,null,null,null,null,null,null,null,null,null,null,null,null,null,null,null,null,null,null,null,null,null,null,null,null,null,null,null,24,{"$f":"BK1280","v":0},0]
[null,null,null,35,"",{"$f":"AO1249","v":""},"","",null,28,"",{"$f":"AO1256","v":""},"","",null,null,null,null,null,null,null,null,null,null,null,null,null,null,null,null,null,null,null,null,null,null,null,null,null,null,null,null,null,null,null,null,null,null,null,null,null,null,null,null,null,null,null,null,null,null,null,28,{"$f":"BK1284","v":0},0]
[null,null,null,36,"",{"$f":"AP1249","v":""},"","",null,29,"",{"$f":"AP1256","v":""},"","",null,null,null,null,null,null,null,null,null,null,null,null,null,null,null,null,null,null,null,null,null,null,null,null,null,null,null,null,null,null,null,null,null,null,null,null,null,null,null,null,null,null,null,null,null,null,null,29,{"$f":"BK1285","v":0},0]
[null,null,null,40,"",{"$f":"AT1249","v":""},"","",null,33,"",{"$f":"AT1256","v":""},"","",null,null,null,null,null,null,null,null,null,null,null,null,null,null,null,null,null,null,null,null,null,null,null,null,null,null,null,null,null,null,null,null,null,null,null,null,null,null,null,null,null,null,null,null,null,null,null,33,{"$f":"BK1289","v":0},0]
[null,null,null,null,null,null,null,null,null,38,"",{"$f":"AY1256","v":""},"","",null,null,null,null,null,null,null,null,null,null,null,null,null,null,null,null,null,null,null,null,null,null,null,null,null,null,null,null,null,null,null,null,null,null,null,null,null,null,null,null,null,null,null,null,null,null,null,38,{"$f":"BK1294","v":0},0]
[]
[null,null,null,null,null,null,1,2,3,4,5,6,7,8,9,10,11,12,13,14,15,16,17,18,19,20,21,22,23,24,25,26,27,28,29,30,31,32,33,34,35,36,37,38,39,40,null,null,null,null,null,null,null,null,null,null,null,null,null,null,null,"BLOCCHI CHE POSSONO ESSERE CARICATI IN COPPIA O A TRE PERCHE' IL LORO PESO COMPLESSIVO NON SUPERA IL PESO MASSIMO CONSENTITO NEL TRASPORTO"]
[null,null,null,null,null,null,{"$f":"G1303","v":0},null,null,null,null,null,null,null,null,null,null,null,null,null,null,null,null,null,null,null,null,null,null,null,null,null,null,null,null,null,null,null,null,null,null,null,null,null,null,null,null,null,null,null,null,null,null,null,null,null,null,null,null,null,null,null,null,null,null,null,null,null,null,null,null,null,null,null,null,null,null,null,null,null,{"$f":"G1303","v":0},null,null,{"$f":"IF(CC1306=0,\"\",CC1306)","v":""},null,{"$f":"IF(CF1306=\"\",\"\",CC1305)","v":""}]
[null,null,null,null,null,null,null,null,null,null,null,null,null,null,null,null,null,null,null,null,null,null,null,null,null,null,null,null,null,null,null,null,null,null,null,null,null,null,null,null,null,null,null,null,null,null,null,null,null,null,null,null,null,null,null,null,null,null,null,null,null,null,null,null,null,null,null,null,null,null,null,null,null,null,null,null,null,null,null,null,null,null,null,"NUMERO TIR"]
[null,null,null,5,"",{"$f":"K1308","v":""},"","",null,null,null,null,null,{"$f":"IF(N1315=G1308,G1307,\"\")","v":""},{"$f":"IF(O1315=H1308,H1307,\"\")","v":""},{"$f":"IF(P1315=I1308,I1307,\"\")","v":""},{"$f":"IF(Q1315=J1308,J1307,\"\")","v":""},{"$f":"IF(R1315=K1308,K1307,\"\")","v":""},{"$f":"IF(S1315=L1308,L1307,\"\")","v":""},{"$f":"IF(T1315=M1308,M1307,\"\")","v":""},{"$f":"IF(U1315=N1308,N1307,\"\")","v":""},{"$f":"IF(V1315=O1308,O1307,\"\")","v":""},{"$f":"IF(W1315=P1308,P1307,\"\")","v":""},{"$f":"IF(X1315=Q1308,Q1307,\"\")","v":""},{"$f":"IF(Y1315=R1308,R1307,\"\")","v":""},{"$f":"IF(Z1315=S1308,S1307,\"\")","v":""},{"$f":"IF(AA1315=T1308,T1307,\"\")","v":""},{"$f":"IF(AB1315=U1308,U1307,\"\")","v":""},{"$f":"IF(AC1315=V1308,V1307,\"\")","v":""},{"$f":"IF(AD1315=W1308,W1307,\"\")","v":""},{"$f":"IF(AE1315=X1308,X1307,\"\")","v":""},{"$f":"IF(AF1315=Y1308,Y1307,\"\")","v":""},{"$f":"IF(AG1315=Z1308,Z1307,\"\")","v":""},{"$f":"IF(AH1315=AA1308,AA1307,\"\")","v":""},{"$f":"IF(AI1315=AB1308,AB1307,\"\")","v":""},{"$f":"IF(AJ1315=AC1308,AC1307,\"\")","v":""},{"$f":"IF(AK1315=AD1308,AD1307,\"\")","v":""},{"$f":"IF(AL1315=AE1308,AE1307,\"\")","v":""},{"$f":"IF(AM1315=AF1308,AF1307,\"\")","v":""},{"$f":"IF(AN1315=AG1308,AG1307,\"\")","v":""},{"$f":"IF(AO1315=AH1308,AH1307,\"\")","v":""},{"$f":"IF(AP1315=AI1308,AI1307,\"\")","v":""},{"$f":"IF(AQ1315=AJ1308,AJ1307,\"\")","v":""},{"$f":"IF(AR1315=AK1308,AK1307,\"\")","v":""},{"$f":"IF(AS1315=AL1308,AL1307,\"\")","v":""},{"$f":"IF(AT1315=AM1308,AM1307,\"\")","v":""},{"$f":"IF(AU1315=AN1308,AN1307,\"\")","v":""},{"$f":"IF(AV1315=AO1308,AO1307,\"\")","v":""},{"$f":"IF(AW1315=AP1308,AP1307,\"\")","v":""},{"$f":"IF(AX1315=AQ1308,AQ1307,\"\")","v":""},{"$f":"IF(AY1315=AR1308,AR1307,\"\")","v":""},{"$f":"IF(AZ1315=AS1308,AS1307,\"\")","v":""},{"$f":"IF(BA1315=AT1308,AT1307,\"\")","v":""}]
[null,null,null,6,"",{"$f":"L1308","v":""},"","",null,"DISPONIBILI",null,null,null,{"$f":"IF(G1308=\"\",\"\",IF(G1308=J1311,\"\",G1308))","v":""},{"$f":"IF(H1308=\"\",\"\",IF(H1308=K1311,\"\",H1308))","v":""},{"$f":"IF(I1308=\"\",\"\",IF(I1308=L1311,\"\",I1308))","v":""},{"$f":"IF(J1308=\"\",\"\",IF(J1308=M1311,\"\",J1308))","v":""},{"$f":"IF(K1308=\"\",\"\",IF(K1308=N1311,\"\",K1308))","v":""},{"$f":"IF(L1308=\"\",\"\",IF(L1308=O1311,\"\",L1308))","v":""},{"$f":"IF(M1308=\"\",\"\",IF(M1308=P1311,\"\",M1308))","v":""},{"$f":"IF(N1308=\"\",\"\",IF(N1308=Q1311,\"\",N1308))","v":""},{"$f":"IF(O1308=\"\",\"\",IF(O1308=R1311,\"\",O1308))","v":""},{"$f":"IF(P1308=\"\",\"\",IF(P1308=S1311,\"\",P1308))","v":""},{"$f":"IF(Q1308=\"\",\"\",IF(Q1308=T1311,\"\",Q1308))","v":""},{"$f":"IF(R1308=\"\",\"\",IF(R1308=U1311,\"\",R1308))","v":""},{"$f":"IF(S1308=\"\",\"\",IF(S1308=V1311,\"\",S1308))","v":""},{"$f":"IF(T1308=\"\",\"\",IF(T1308=W1311,\"\",T1308))","v":""},{"$f":"IF(U1308=\"\",\"\",IF(U1308=X1311,\"\",U1308))","v":""},{"$f":"IF(V1308=\"\",\"\",IF(V1308=Y1311,\"\",V1308))","v":""},{"$f":"IF(W1308=\"\",\"\",IF(W1308=Z1311,\"\",W1308))","v":""},{"$f":"IF(X1308=\"\",\"\",IF(X1308=AA1311,\"\",X1308))","v":""},{"$f":"IF(Y1308=\"\",\"\",IF(Y1308=AB1311,\"\",Y1308))","v":""},{"$f":"IF(Z1308=\"\",\"\",IF(Z1308=AC1311,\"\",Z1308))","v":""},{"$f":"IF(AA1308=\"\",\"\",IF(AA1308=AD1311,\"\",AA1308))","v":""},{"$f":"IF(AB1308=\"\",\"\",IF(AB1308=AE1311,\"\",AB1308))","v":""},{"$f":"IF(AC1308=\"\",\"\",IF(AC1308=AF1311,\"\",AC1308))","v":""},{"$f":"IF(AD1308=\"\",\"\",IF(AD1308=AG1311,\"\",AD1308))","v":""},{"$f":"IF(AE1308=\"\",\"\",IF(AE1308=AH1311,\"\",AE1308))","v":""},{"$f":"IF(AF1308=\"\",\"\",IF(AF1308=AI1311,\"\",AF1308))","v":""},{"$f":"IF(AG1308=\"\",\"\",IF(AG1308=AJ1311,\"\",AG1308))","v":""},{"$f":"IF(AH1308=\"\",\"\",IF(AH1308=AK1311,\"\",AH1308))","v":""},{"$f":"IF(AI1308=\"\",\"\",IF(AI1308=AL1311,\"\",AI1308))","v":""},{"$f":"IF(AJ1308=\"\",\"\",IF(AJ1308=AM1311,\"\",AJ1308))","v":""},{"$f":"IF(AK1308=\"\",\"\",IF(AK1308=AN1311,\"\",AK1308))","v":""},{"$f":"IF(AL1308=\"\",\"\",IF(AL1308=AO1311,\"\",AL1308))","v":""},{"$f":"IF(AM1308=\"\",\"\",IF(AM1308=AP1311,\"\",AM1308))","v":""},{"$f":"IF(AN1308=\"\",\"\",IF(AN1308=AQ1311,\"\",AN1308))","v":""},{"$f":"IF(AO1308=\"\",\"\",IF(AO1308=AR1311,\"\",AO1308))","v":""},{"$f":"IF(AP1308=\"\",\"\",IF(AP1308=AS1311,\"\",AP1308))","v":""},{"$f":"IF(AQ1308=\"\",\"\",IF(AQ1308=AT1311,\"\",AQ1308))","v":""},{"$f":"IF(AR1308=\"\",\"\",IF(AR1308=AU1311,\"\",AR1308))","v":""},{"$f":"IF(AS1308=\"\",\"\",IF(AS1308=AV1311,\"\",AS1308))","v":""},{"$f":"IF(AT1308=\"\",\"\",IF(AT1308=AW1311,\"\",AT1308))","v":""},null,null,null,null,null,null,null,null,null,null,null,null,null,null,null,null,null,null,null,null,null,"Terzo Blocco",null,null,null,null,null,{"$f":"P1317&Q1317&R1317&S1317&T1317&U1317&V1317&W1317&X1317&Y1317&Z1317&AA1317&AB1317&AC1317&AD1317&AE1317&AF1317&AG1317&AH1317&AI1317&AJ1317&AK1317&AL1317&AM1317&AN1317&AO1317&AP1317&AQ1317&AR1317&AS1317&AT1317&AU1317&AV1317&AW1317&AX1317&AY1317&AZ1317&BA1317&BB1317&BC1317","v":""}]
[null,null,null,10,"",{"$f":"P1308","v":""},{"$f":"IF(F1319=\"\",\"\",IF(E1319<=$C$74,\"X\",\"\"))","v":""},"",null,3,"",{"$f":"P1315","v":""},"","",null,{"$f":"O1317","v":0},null,null,null,null,null,null,null,null,null,null,null,null,null,null,null,null,null,null,null,null,null,null,null,null,null,null,null,null,null,null,null,null,null,null,null,null,null,null,null,null,null,null,null,null,null,3,{"$f":"BK1318","v":0},0,null,null,null,null,null,null,null,null,null,null,null,null,null,null,null,"MASSIMO CARICO",null,null,null,null,{"$f":"C1313","v":200}]
[null,null,null,14,"",{"$f":"T1308","v":""},{"$f":"IF(F1323=\"\",\"\",IF(E1323<=$C$74,\"X\",\"\"))","v":""},"",null,7,"",{"$f":"T1315","v":""},{"$f":"IF(L1323=\"\",\"\",IF(K1323<=$C$74,\"X\",\"\"))","v":""},{"$f":"IF(M1323=\"X\",L1323,\"\")","v":""},null,null,null,null,null,null,null,null,null,null,null,null,null,null,null,null,null,null,null,null,null,null,null,null,null,null,null,null,null,null,null,null,null,null,null,null,null,null,null,null,null,null,null,null,null,null,null,7,{"$f":"BK1322","v":0},0]
[null,null,null,19,"",{"$f":"Y1308","v":""},{"$f":"IF(F1328=\"\",\"\",IF(E1328<=$C$74,\"X\",\"\"))","v":""},"",null,12,"",{"$f":"Y1315","v":""},{"$f":"IF(L1328=\"\",\"\",IF(K1328<=$C$74,\"X\",\"\"))","v":""},{"$f":"IF(M1328=\"X\",L1328,\"\")","v":""},null,null,null,null,null,null,null,null,null,null,null,null,null,null,null,null,null,null,null,null,null,null,null,null,null,null,null,null,null,null,null,null,null,null,null,null,null,null,null,null,null,null,null,null,null,null,null,12,{"$f":"BK1327","v":0},0]
[null,null,null,22,"",{"$f":"AB1308","v":""},{"$f":"IF(F1331=\"\",\"\",IF(E1331<=$C$74,\"X\",\"\"))","v":""},"",null,15,"",{"$f":"AB1315","v":""},{"$f":"IF(L1331=\"\",\"\",IF(K1331<=$C$74,\"X\",\"\"))","v":""},{"$f":"IF(M1331=\"X\",L1331,\"\")","v":""},null,"RIMASTI A DISPOSIZIONE",null,null,null,null,null,null,null,null,null,null,null,null,null,null,null,null,null,null,null,null,null,null,null,null,null,null,null,null,null,null,null,null,null,null,null,null,null,null,null,null,null,null,null,null,null,15,{"$f":"BK1330","v":0},0]
[null,null,null,24,"",{"$f":"AD1308","v":""},{"$f":"IF(F1333=\"\",\"\",IF(E1333<=$C$74,\"X\",\"\"))","v":""},"",null,17,"",{"$f":"AD1315","v":""},{"$f":"IF(L1333=\"\",\"\",IF(K1333<=$C$74,\"X\",\"\"))","v":""},{"$f":"IF(M1333=\"X\",L1333,\"\")","v":""},null,1,2,3,4,5,6,7,8,9,10,11,12,13,14,15,16,17,18,19,20,21,22,23,24,25,26,27,28,29,30,31,32,33,34,35,36,37,38,39,40,null,null,null,null,null,null,17,{"$f":"BK1332","v":0},0]
[null,null,null,29,"",{"$f":"AI1308","v":""},{"$f":"IF(F1338=\"\",\"\",IF(E1338<=$C$74,\"X\",\"\"))","v":""},"",null,22,"",{"$f":"AI1315","v":""},{"$f":"IF(L1338=\"\",\"\",IF(K1338<=$C$74,\"X\",\"\"))","v":""},{"$f":"IF(M1338=\"X\",L1338,\"\")","v":""},null,null,null,null,null,null,null,null,null,null,null,null,null,null,null,null,null,null,null,null,null,null,null,null,null,null,null,null,null,null,null,null,null,null,null,null,null,null,null,null,null,null,null,null,null,null,null,22,{"$f":"BK1337","v":0},0]
[null,null,null,31,"",{"$f":"AK1308","v":""},{"$f":"IF(F1340=\"\",\"\",IF(E1340<=$C$74,\"X\",\"\"))","v":""},"",null,24,"",{"$f":"AK1315","v":""},{"$f":"IF(L1340=\"\",\"\",IF(K1340<=$C$74,\"X\",\"\"))","v":""},{"$f":"IF(M1340=\"X\",L1340,\"\")","v":""},null,null,null,null,null,null,null,null,null,null,null,null,null,null,null,null,null,null,null,null,null,null,null,null,null,null,null,null,null,null,null,null,null,null,null,null,null,null,null,null,null,null,null,null,null,null,null,24,{"$f":"BK1339","v":0},0]
[null,null,null,34,"",{"$f":"AN1308","v":""},{"$f":"IF(F1343=\"\",\"\",IF(E1343<=$C$74,\"X\",\"\"))","v":""},"",null,27,"",{"$f":"AN1315","v":""},{"$f":"IF(L1343=\"\",\"\",IF(K1343<=$C$74,\"X\",\"\"))","v":""},{"$f":"IF(M1343=\"X\",L1343,\"\")","v":""},null,null,null,null,null,null,null,null,null,null,null,null,null,null,null,null,null,null,null,null,null,null,null,null,null,null,null,null,null,null,null,null,null,null,null,null,null,null,null,null,null,null,null,null,null,null,null,27,{"$f":"BK1342","v":0},0]
[null,null,null,39,"",{"$f":"AS1308","v":""},{"$f":"IF(F1348=\"\",\"\",IF(E1348<=$C$74,\"X\",\"\"))","v":""},"",null,32,"",{"$f":"AS1315","v":""},{"$f":"IF(L1348=\"\",\"\",IF(K1348<=$C$74,\"X\",\"\"))","v":""},{"$f":"IF(M1348=\"X\",L1348,\"\")","v":""},null,null,null,null,null,null,null,null,null,null,null,null,null,null,null,null,null,null,null,null,null,null,null,null,null,null,null,null,null,null,null,null,null,null,null,null,null,null,null,null,null,null,null,null,null,null,null,32,{"$f":"BK1347","v":0},0]
[null,null,null,null,null,null,null,null,null,36,"",{"$f":"AW1315","v":""},{"$f":"IF(L1352=\"\",\"\",IF(K1352<=$C$74,\"X\",\"\"))","v":""},{"$f":"IF(M1352=\"X\",L1352,\"\")","v":""},null,null,null,null,null,null,null,null,null,null,null,null,null,null,null,null,null,null,null,null,null,null,null,null,null,null,null,null,null,null,null,null,null,null,null,null,null,null,null,null,null,null,null,null,null,null,null,36,{"$f":"BK1351","v":0},0]
[]
[null,null,"TIR",null,{"$f":"E1301+1","v":23},null,{"$f":"P1334","v":""},{"$f":"Q1334","v":""},{"$f":"R1334","v":""},{"$f":"S1334","v":""},{"$f":"T1334","v":""},{"$f":"U1334","v":""},{"$f":"V1334","v":""},{"$f":"W1334","v":""},{"$f":"X1334","v":""},{"$f":"Y1334","v":""},{"$f":"Z1334","v":""},{"$f":"AA1334","v":""},{"$f":"AB1334","v":""},{"$f":"AC1334","v":""},{"$f":"AD1334","v":""},{"$f":"AE1334","v":""},{"$f":"AF1334","v":""},{"$f":"AG1334","v":""},{"$f":"AH1334","v":""},{"$f":"AI1334","v":""},{"$f":"AJ1334","v":""},{"$f":"AK1334","v":""},{"$f":"AL1334","v":""},{"$f":"AM1334","v":""},{"$f":"AN1334","v":""},{"$f":"AO1334","v":""},{"$f":"AP1334","v":""},{"$f":"AQ1334","v":""},{"$f":"AR1334","v":""},{"$f":"AS1334","v":""},{"$f":"AT1334","v":""},{"$f":"AU1334","v":""},{"$f":"AV1334","v":""},{"$f":"AW1334","v":""},{"$f":"AX1334","v":""},{"$f":"AY1334","v":""},{"$f":"AZ1334","v":""},{"$f":"BA1334","v":""},{"$f":"BB1334","v":""},{"$f":"BC1334","v":""}]
[null,null,"MASSIMO PESO",null,null,null,{"$f":"MAX(G1361:AT1361)","v":0}]
[null,null,null,null,null,null,{"$f":"G1362","v":0},null,null,null,null,null,null,null,null,null,null,null,null,null,null,null,null,null,null,null,null,null,null,null,null,null,null,null,null,null,null,null,null,null,null,null,null,null,null,null,null,null,null,null,null,null,null,null,null,null,null,null,null,null,null,null,null,null,null,null,null,null,null,null,null,null,null,null,null,null,null,null,null,null,{"$f":"G1362","v":0},null,null,{"$f":"IF(CC1365=0,\"\",CC1365)","v":""},null,{"$f":"IF(CF1365=\"\",\"\",CC1364)","v":""}]
[null,null,null,3,"",{"$f":"I1367","v":""},"","",null,{"$f":"I1369","v":0}]
[null,null,{"$f":"$P$3","v":200},4,"",{"$f":"J1367","v":""},"","",null,null,null,null,null,null,null,null,null,null,null,null,null,null,null,null,null,null,null,null,null,null,null,null,null,null,null,null,null,null,null,null,null,null,null,null,null,null,null,null,null,null,null,null,null,null,null,null,null,null,null,null,null,null,null,null,null,null,null,null,null,null,null,null,null,null,null,null,null,null,null,null,null,null,null,{"$f":"IF(CD1364>0,CF1313+1,\"\")","v":""}]
[null,null,null,8,"",{"$f":"N1367","v":""},{"$f":"IF(F1376=\"\",\"\",IF(E1376<=$C$74,\"X\",\"\"))","v":""},"",null,1,{"$f":"IF(L1376<>\"\",BK1376+BL1376+L1376,\"\")","v":""},{"$f":"N1374","v":""},{"$f":"IF(L1376=\"\",\"\",IF(K1376<=$C$74,\"X\",\"\"))","v":""},{"$f":"IF(M1376=\"X\",L1376,\"\")","v":""},{"$f":"MAX(N1376:N1395)","v":0},{"$f":"IF(P1377=N1374,N1373,\"\")","v":""},{"$f":"IF(Q1377=O1374,O1373,\"\")","v":""},{"$f":"IF(R1377=P1374,P1373,\"\")","v":""},{"$f":"IF(S1377=Q1374,Q1373,\"\")","v":""},{"$f":"IF(T1377=R1374,R1373,\"\")","v":""},{"$f":"IF(U1377=S1374,S1373,\"\")","v":""},{"$f":"IF(V1377=T1374,T1373,\"\")","v":""},{"$f":"IF(W1377=U1374,U1373,\"\")","v":""},{"$f":"IF(X1377=V1374,V1373,\"\")","v":""},{"$f":"IF(Y1377=W1374,W1373,\"\")","v":""},{"$f":"IF(Z1377=X1374,X1373,\"\")","v":""},{"$f":"IF(AA1377=Y1374,Y1373,\"\")","v":""},{"$f":"IF(AB1377=Z1374,Z1373,\"\")","v":""},{"$f":"IF(AC1377=AA1374,AA1373,\"\")","v":""},{"$f":"IF(AD1377=AB1374,AB1373,\"\")","v":""},{"$f":"IF(AE1377=AC1374,AC1373,\"\")","v":""},{"$f":"IF(AF1377=AD1374,AD1373,\"\")","v":""},{"$f":"IF(AG1377=AE1374,AE1373,\"\")","v":""},{"$f":"IF(AH1377=AF1374,AF1373,\"\")","v":""},{"$f":"IF(AI1377=AG1374,AG1373,\"\")","v":""},{"$f":"IF(AJ1377=AH1374,AH1373,\"\")","v":""},{"$f":"IF(AK1377=AI1374,AI1373,\"\")","v":""},{"$f":"IF(AL1377=AJ1374,AJ1373,\"\")","v":""},{"$f":"IF(AM1377=AK1374,AK1373,\"\")","v":""},{"$f":"IF(AN1377=AL1374,AL1373,\"\")","v":""},{"$f":"IF(AO1377=AM1374,AM1373,\"\")","v":""},{"$f":"IF(AP1377=AN1374,AN1373,\"\")","v":""},{"$f":"IF(AQ1377=AO1374,AO1373,\"\")","v":""},{"$f":"IF(AR1377=AP1374,AP1373,\"\")","v":""},{"$f":"IF(AS1377=AQ1374,AQ1373,\"\")","v":""},{"$f":"IF(AT1377=AR1374,AR1373,\"\")","v":""},{"$f":"IF(AU1377=AS1374,AS1373,\"\")","v":""},{"$f":"IF(AV1377=AT1374,AT1373,\"\")","v":""},{"$f":"IF(AW1377=AU1374,AU1373,\"\")","v":""},{"$f":"IF(AX1377=AV1374,AV1373,\"\")","v":""},{"$f":"IF(AY1377=AW1374,AW1373,\"\")","v":""},{"$f":"IF(AZ1377=AX1374,AX1373,\"\")","v":""},{"$f":"IF(BA1377=AY1374,AY1373,\"\")","v":""},{"$f":"IF(BB1377=AZ1374,AZ1373,\"\")","v":""},{"$f":"IF(BC1377=BA1374,BA1373,\"\")","v":""},null,null,null,null,null,null,1,{"$f":"CC1365","v":0},{"$f":"CC1370","v":0}]
[null,null,null,13,"",{"$f":"S1367","v":""},{"$f":"IF(F1381=\"\",\"\",IF(E1381<=$C$74,\"X\",\"\"))","v":""},"",null,6,"",{"$f":"S1374","v":""},"","",null,null,null,null,null,null,null,null,null,null,null,null,null,null,null,null,null,null,null,null,null,null,null,null,null,null,null,null,null,null,null,null,null,null,null,null,null,null,null,null,null,null,null,null,null,null,null,6,{"$f":"BK1380","v":0},0]
[null,null,null,16,"",{"$f":"V1367","v":""},{"$f":"IF(F1384=\"\",\"\",IF(E1384<=$C$74,\"X\",\"\"))","v":""},"",null,9,"",{"$f":"V1374","v":""},{"$f":"IF(L1384=\"\",\"\",IF(K1384<=$C$74,\"X\",\"\"))","v":""},{"$f":"IF(M1384=\"X\",L1384,\"\")","v":""},null,null,null,null,null,null,null,null,null,null,null,null,null,null,null,null,null,null,null,null,null,null,null,null,null,null,null,null,null,null,null,null,null,null,null,null,null,null,null,null,null,null,null,null,null,null,null,9,{"$f":"BK1383","v":0},0]
[null,null,null,18,"",{"$f":"X1367","v":""},{"$f":"IF(F1386=\"\",\"\",IF(E1386<=$C$74,\"X\",\"\"))","v":""},"",null,11,"",{"$f":"X1374","v":""},{"$f":"IF(L1386=\"\",\"\",IF(K1386<=$C$74,\"X\",\"\"))","v":""},{"$f":"IF(M1386=\"X\",L1386,\"\")","v":""},null,null,null,null,null,null,null,null,null,null,null,null,null,null,null,null,null,null,null,null,null,null,null,null,null,null,null,null,null,null,null,null,null,null,null,null,null,null,null,null,null,null,null,null,null,null,null,11,{"$f":"BK1385","v":0},0]
[null,null,null,24,"",{"$f":"AD1367","v":""},{"$f":"IF(F1392=\"\",\"\",IF(E1392<=$C$74,\"X\",\"\"))","v":""},"",null,17,"",{"$f":"AD1374","v":""},{"$f":"IF(L1392=\"\",\"\",IF(K1392<=$C$74,\"X\",\"\"))","v":""},{"$f":"IF(M1392=\"X\",L1392,\"\")","v":""},null,1,2,3,4,5,6,7,8,9,10,11,12,13,14,15,16,17,18,19,20,21,22,23,24,25,26,27,28,29,30,31,32,33,34,35,36,37,38,39,40,null,null,null,null,null,null,17,{"$f":"BK1391","v":0},0]
[null,null,null,27,"",{"$f":"AG1367","v":""},{"$f":"IF(F1395=\"\",\"\",IF(E1395<=$C$74,\"X\",\"\"))","v":""},"",null,20,"",{"$f":"AG1374","v":""},{"$f":"IF(L1395=\"\",\"\",IF(K1395<=$C$74,\"X\",\"\"))","v":""},{"$f":"IF(M1395=\"X\",L1395,\"\")","v":""},null,null,null,null,null,null,null,null,null,null,null,null,null,null,null,null,null,null,null,null,null,null,null,null,null,null,null,null,null,null,null,null,null,null,null,null,null,null,null,null,null,null,null,null,null,null,null,20,{"$f":"BK1394","v":0},0]
[null,null,null,32,"",{"$f":"AL1367","v":""},{"$f":"IF(F1400=\"\",\"\",IF(E1400<=$C$74,\"X\",\"\"))","v":""},"",null,25,"",{"$f":"AL1374","v":""},{"$f":"IF(L1400=\"\",\"\",IF(K1400<=$C$74,\"X\",\"\"))","v":""},{"$f":"IF(M1400=\"X\",L1400,\"\")","v":""},null,null,null,null,null,null,null,null,null,null,null,null,null,null,null,null,null,null,null,null,null,null,null,null,null,null,null,null,null,null,null,null,null,null,null,null,null,null,null,null,null,null,null,null,null,null,null,25,{"$f":"BK1399","v":0},0]
[null,null,null,33,"",{"$f":"AM1367","v":""},{"$f":"IF(F1401=\"\",\"\",IF(E1401<=$C$74,\"X\",\"\"))","v":""},"",null,26,"",{"$f":"AM1374","v":""},{"$f":"IF(L1401=\"\",\"\",IF(K1401<=$C$74,\"X\",\"\"))","v":""},{"$f":"IF(M1401=\"X\",L1401,\"\")","v":""},null,null,null,null,null,null,null,null,null,null,null,null,null,null,null,null,null,null,null,null,null,null,null,null,null,null,null,null,null,null,null,null,null,null,null,null,null,null,null,null,null,null,null,null,null,null,null,26,{"$f":"BK1400","v":0},0]
[null,null,null,37,"",{"$f":"AQ1367","v":""},{"$f":"IF(F1405=\"\",\"\",IF(E1405<=$C$74,\"X\",\"\"))","v":""},"",null,30,"",{"$f":"AQ1374","v":""},{"$f":"IF(L1405=\"\",\"\",IF(K1405<=$C$74,\"X\",\"\"))","v":""},{"$f":"IF(M1405=\"X\",L1405,\"\")","v":""},null,null,null,null,null,null,null,null,null,null,null,null,null,null,null,null,null,null,null,null,null,null,null,null,null,null,null,null,null,null,null,null,null,null,null,null,null,null,null,null,null,null,null,null,null,null,null,30,{"$f":"BK1404","v":0},0]
[null,null,null,null,null,null,null,null,null,34,"",{"$f":"AU1374","v":""},{"$f":"IF(L1409=\"\",\"\",IF(K1409<=$C$74,\"X\",\"\"))","v":""},{"$f":"IF(M1409=\"X\",L1409,\"\")","v":""},null,null,null,null,null,null,null,null,null,null,null,null,null,null,null,null,null,null,null,null,null,null,null,null,null,null,null,null,null,null,null,null,null,null,null,null,null,null,null,null,null,null,null,null,null,null,null,34,{"$f":"BK1408","v":0},0]
[null,null,null,null,null,null,null,null,null,39,"",{"$f":"AZ1374","v":""},{"$f":"IF(L1414=\"\",\"\",IF(K1414<=$C$74,\"X\",\"\"))","v":""},{"$f":"IF(M1414=\"X\",L1414,\"\")","v":""},null,null,null,null,null,null,null,null,null,null,null,null,null,null,null,null,null,null,null,null,null,null,null,null,null,null,null,null,null,null,null,null,null,null,null,null,null,null,null,null,null,null,null,null,null,null,null,39,{"$f":"BK1413","v":0},0]
[null,null,null,null,null,null,null,null,null,40,"",{"$f":"BA1374","v":""},{"$f":"IF(L1415=\"\",\"\",IF(K1415<=$C$74,\"X\",\"\"))","v":""},{"$f":"IF(M1415=\"X\",L1415,\"\")","v":""},null,null,null,null,null,null,null,null,null,null,null,null,null,null,null,null,null,null,null,null,null,null,null,null,null,null,null,null,null,null,null,null,null,null,null,null,null,null,null,null,null,null,null,null,null,null,null,40,{"$f":"BK1414","v":0},0]
[null,null,"MASSIMO PESO",null,null,null,{"$f":"MAX(G1420:AT1420)","v":0}]
[null,null,null,null,null,null,{"$f":"G1421","v":0},null,null,null,null,null,null,null,null,null,null,null,null,null,null,null,null,null,null,null,null,null,null,null,null,null,null,null,null,null,null,null,null,null,null,null,null,null,null,null,null,null,null,null,null,null,null,null,null,null,null,null,null,null,null,null,null,null,null,null,null,null,null,null,null,null,null,null,null,null,null,null,null,null,{"$f":"G1421","v":0},null,null,{"$f":"IF(CC1424=0,\"\",CC1424)","v":""},null,{"$f":"IF(CF1424=\"\",\"\",CC1423)","v":""}]
[null,null,"DISPONIBILI",null,null,null,{"$f":"IF(G1420=$G1421,\"\",G1420)","v":""},{"$f":"IF(H1420=$G1421,\"\",H1420)","v":""},{"$f":"IF(I1420=$G1421,\"\",I1420)","v":""},{"$f":"IF(J1420=$G1421,\"\",J1420)","v":""},{"$f":"IF(K1420=$G1421,\"\",K1420)","v":""},{"$f":"IF(L1420=$G1421,\"\",L1420)","v":""},{"$f":"IF(M1420=$G1421,\"\",M1420)","v":""},{"$f":"IF(N1420=$G1421,\"\",N1420)","v":""},{"$f":"IF(O1420=$G1421,\"\",O1420)","v":""},{"$f":"IF(P1420=$G1421,\"\",P1420)","v":""},{"$f":"IF(Q1420=$G1421,\"\",Q1420)","v":""},{"$f":"IF(R1420=$G1421,\"\",R1420)","v":""},{"$f":"IF(S1420=$G1421,\"\",S1420)","v":""},{"$f":"IF(T1420=$G1421,\"\",T1420)","v":""},{"$f":"IF(U1420=$G1421,\"\",U1420)","v":""},{"$f":"IF(V1420=$G1421,\"\",V1420)","v":""},{"$f":"IF(W1420=$G1421,\"\",W1420)","v":""},{"$f":"IF(X1420=$G1421,\"\",X1420)","v":""},{"$f":"IF(Y1420=$G1421,\"\",Y1420)","v":""},{"$f":"IF(Z1420=$G1421,\"\",Z1420)","v":""},{"$f":"IF(AA1420=$G1421,\"\",AA1420)","v":""},{"$f":"IF(AB1420=$G1421,\"\",AB1420)","v":""},{"$f":"IF(AC1420=$G1421,\"\",AC1420)","v":""},{"$f":"IF(AD1420=$G1421,\"\",AD1420)","v":""},{"$f":"IF(AE1420=$G1421,\"\",AE1420)","v":""},{"$f":"IF(AF1420=$G1421,\"\",AF1420)","v":""},{"$f":"IF(AG1420=$G1421,\"\",AG1420)","v":""},{"$f":"IF(AH1420=$G1421,\"\",AH1420)","v":""},{"$f":"IF(AI1420=$G1421,\"\",AI1420)","v":""},{"$f":"IF(AJ1420=$G1421,\"\",AJ1420)","v":""},{"$f":"IF(AK1420=$G1421,\"\",AK1420)","v":""},{"$f":"IF(AL1420=$G1421,\"\",AL1420)","v":""},{"$f":"IF(AM1420=$G1421,\"\",AM1420)","v":""},{"$f":"IF(AN1420=$G1421,\"\",AN1420)","v":""},{"$f":"IF(AO1420=$G1421,\"\",AO1420)","v":""},{"$f":"IF(AP1420=$G1421,\"\",AP1420)","v":""},{"$f":"IF(AQ1420=$G1421,\"\",AQ1420)","v":""},{"$f":"IF(AR1420=$G1421,\"\",AR1420)","v":""},{"$f":"IF(AS1420=$G1421,\"\",AS1420)","v":""},{"$f":"IF(AT1420=$G1421,\"\",AT1420)","v":""},null,null,null,null,null,null,null,null,null,null,null,null,null,null,null,null,null,null,null,null,null,null,null,null,null,null,null,null,null,null,null,null,null,null,null,null,null,{"$f":"IF(CC1434=0,\"\",CC1434)","v":""},null,{"$f":"IF(CF1426=\"\",\"\",CC1433)","v":""}]
[null,null,null,2,"",{"$f":"H1426","v":""},{"$f":"IF(F1429=\"\",\"\",IF(E1429<=$C$74,\"X\",\"\"))","v":""},"",null,{"$f":"IF($J1430=G1426,G1426,\"\")","v":""},{"$f":"IF($J1430=H1426,H1426,\"\")","v":""},{"$f":"IF($J1430=I1426,I1426,\"\")","v":""},{"$f":"IF($J1430=J1426,J1426,\"\")","v":""},{"$f":"IF($J1430=K1426,K1426,\"\")","v":""},{"$f":"IF($J1430=L1426,L1426,\"\")","v":""},{"$f":"IF($J1430=M1426,M1426,\"\")","v":""},{"$f":"IF($J1430=N1426,N1426,\"\")","v":""},{"$f":"IF($J1430=O1426,O1426,\"\")","v":""},{"$f":"IF($J1430=P1426,P1426,\"\")","v":""},{"$f":"IF($J1430=Q1426,Q1426,\"\")","v":""},{"$f":"IF($J1430=R1426,R1426,\"\")","v":""},{"$f":"IF($J1430=S1426,S1426,\"\")","v":""},{"$f":"IF($J1430=T1426,T1426,\"\")","v":""},{"$f":"IF($J1430=U1426,U1426,\"\")","v":""},{"$f":"IF($J1430=V1426,V1426,\"\")","v":""},{"$f":"IF($J1430=W1426,W1426,\"\")","v":""},{"$f":"IF($J1430=X1426,X1426,\"\")","v":""},{"$f":"IF($J1430=Y1426,Y1426,\"\")","v":""},{"$f":"IF($J1430=Z1426,Z1426,\"\")","v":""},{"$f":"IF($J1430=AA1426,AA1426,\"\")","v":""},{"$f":"IF($J1430=AB1426,AB1426,\"\")","v":""},{"$f":"IF($J1430=AC1426,AC1426,\"\")","v":""},{"$f":"IF($J1430=AD1426,AD1426,\"\")","v":""},{"$f":"IF($J1430=AE1426,AE1426,\"\")","v":""},{"$f":"IF($J1430=AF1426,AF1426,\"\")","v":""},{"$f":"IF($J1430=AG1426,AG1426,\"\")","v":""},{"$f":"IF($J1430=AH1426,AH1426,\"\")","v":""},{"$f":"IF($J1430=AI1426,AI1426,\"\")","v":""},{"$f":"IF($J1430=AJ1426,AJ1426,\"\")","v":""},{"$f":"IF($J1430=AK1426,AK1426,\"\")","v":""},{"$f":"IF($J1430=AL1426,AL1426,\"\")","v":""},{"$f":"IF($J1430=AM1426,AM1426,\"\")","v":""},{"$f":"IF($J1430=AN1426,AN1426,\"\")","v":""},{"$f":"IF($J1430=AO1426,AO1426,\"\")","v":""},{"$f":"IF($J1430=AP1426,AP1426,\"\")","v":""},{"$f":"IF($J1430=AQ1426,AQ1426,\"\")","v":""},{"$f":"IF($J1430=AR1426,AR1426,\"\")","v":""},{"$f":"IF($J1430=AS1426,AS1426,\"\")","v":""},{"$f":"IF($J1430=AT1426,AT1426,\"\")","v":""},null,null,null,null,null,null,null,null,null,null,null,null,null,null,null,null,null,null,null,null,null,null,null,null,null,null,null,null,null,null,null,{"$f":"J1430","v":0}]
[null,null,null,7,"",{"$f":"M1426","v":""},{"$f":"IF(F1434=\"\",\"\",IF(E1434<=$C$74,\"X\",\"\"))","v":""},"",null,null,null,null,null,null,null,null,null,null,null,null,null,null,null,null,null,null,null,null,null,null,null,null,null,null,null,null,null,null,null,null,null,null,null,null,null,null,null,null,null,null,null,null,null,null,null,null,null,null,null,null,null,null,1,2,null,null,null,null,null,null,null,null,null,null,null,null,null,null,null,null,{"$f":"P1437","v":0}]
[null,null,null,11,"",{"$f":"Q1426","v":""},{"$f":"IF(F1438=\"\",\"\",IF(E1438<=$C$74,\"X\",\"\"))","v":""},"",null,4,"",{"$f":"Q1433","v":""},"","",null,null,null,null,null,null,null,null,null,null,null,null,null,null,null,null,null,null,null,null,null,null,null,null,null,null,null,null,null,null,null,null,null,null,null,null,null,null,null,null,null,null,null,null,null,null,null,4,{"$f":"BK1437","v":0},0]
[null,null,null,16,"",{"$f":"V1426","v":""},{"$f":"IF(F1443=\"\",\"\",IF(E1443<=$C$74,\"X\",\"\"))","v":""},"",null,9,"",{"$f":"V1433","v":""},{"$f":"IF(L1443=\"\",\"\",IF(K1443<=$C$74,\"X\",\"\"))","v":""},{"$f":"IF(M1443=\"X\",L1443,\"\")","v":""},null,null,null,null,null,null,null,null,null,null,null,null,null,null,null,null,null,null,null,null,null,null,null,null,null,null,null,null,null,null,null,null,null,null,null,null,null,null,null,null,null,null,null,null,null,null,null,9,{"$f":"BK1442","v":0},0]
[null,null,null,19,"",{"$f":"Y1426","v":""},{"$f":"IF(F1446=\"\",\"\",IF(E1446<=$C$74,\"X\",\"\"))","v":""},"",null,12,"",{"$f":"Y1433","v":""},{"$f":"IF(L1446=\"\",\"\",IF(K1446<=$C$74,\"X\",\"\"))","v":""},{"$f":"IF(M1446=\"X\",L1446,\"\")","v":""},null,null,null,null,null,null,null,null,null,null,null,null,null,null,null,null,null,null,null,null,null,null,null,null,null,null,null,null,null,null,null,null,null,null,null,null,null,null,null,null,null,null,null,null,null,null,null,12,{"$f":"BK1445","v":0},0]
[null,null,null,21,{"$f":"IF(F1448<>\"\",F1448+G$126,\"\")","v":""},{"$f":"AA1426","v":""},{"$f":"IF(F1448=\"\",\"\",IF(E1448<=$C$74,\"X\",\"\"))","v":""},"",null,14,"",{"$f":"AA1433","v":""},{"$f":"IF(L1448=\"\",\"\",IF(K1448<=$C$74,\"X\",\"\"))","v":""},{"$f":"IF(M1448=\"X\",L1448,\"\")","v":""},null,null,null,null,null,null,null,null,null,null,null,null,null,null,null,null,null,null,null,null,null,null,null,null,null,null,null,null,null,null,null,null,null,null,null,null,null,null,null,null,null,null,null,null,null,null,null,14,{"$f":"BK1447","v":0},0]
[null,null,null,24,"",{"$f":"AD1426","v":""},{"$f":"IF(F1451=\"\",\"\",IF(E1451<=$C$74,\"X\",\"\"))","v":""},"",null,17,"",{"$f":"AD1433","v":""},{"$f":"IF(L1451=\"\",\"\",IF(K1451<=$C$74,\"X\",\"\"))","v":""},{"$f":"IF(M1451=\"X\",L1451,\"\")","v":""},null,1,2,3,4,5,6,7,8,9,10,11,12,13,14,15,16,17,18,19,20,21,22,23,24,25,26,27,28,29,30,31,32,33,34,35,36,37,38,39,40,null,null,null,null,null,null,17,{"$f":"BK1450","v":0},0]
[null,null,null,30,"",{"$f":"AJ1426","v":""},{"$f":"IF(F1457=\"\",\"\",IF(E1457<=$C$74,\"X\",\"\"))","v":""},"",null,23,"",{"$f":"AJ1433","v":""},{"$f":"IF(L1457=\"\",\"\",IF(K1457<=$C$74,\"X\",\"\"))","v":""},{"$f":"IF(M1457=\"X\",L1457,\"\")","v":""},null,null,null,null,null,null,null,null,null,null,null,null,null,null,null,null,null,null,null,null,null,null,null,null,null,null,null,null,null,null,null,null,null,null,null,null,null,null,null,null,null,null,null,null,null,null,null,23,{"$f":"BK1456","v":0},0]
[null,null,null,31,"",{"$f":"AK1426","v":""},{"$f":"IF(F1458=\"\",\"\",IF(E1458<=$C$74,\"X\",\"\"))","v":""},"",null,24,"",{"$f":"AK1433","v":""},{"$f":"IF(L1458=\"\",\"\",IF(K1458<=$C$74,\"X\",\"\"))","v":""},{"$f":"IF(M1458=\"X\",L1458,\"\")","v":""},null,null,null,null,null,null,null,null,null,null,null,null,null,null,null,null,null,null,null,null,null,null,null,null,null,null,null,null,null,null,null,null,null,null,null,null,null,null,null,null,null,null,null,null,null,null,null,24,{"$f":"BK1457","v":0},0]
[null,null,null,36,"",{"$f":"AP1426","v":""},{"$f":"IF(F1463=\"\",\"\",IF(E1463<=$C$74,\"X\",\"\"))","v":""},"",null,29,"",{"$f":"AP1433","v":""},{"$f":"IF(L1463=\"\",\"\",IF(K1463<=$C$74,\"X\",\"\"))","v":""},{"$f":"IF(M1463=\"X\",L1463,\"\")","v":""},null,null,null,null,null,null,null,null,null,null,null,null,null,null,null,null,null,null,null,null,null,null,null,null,null,null,null,null,null,null,null,null,null,null,null,null,null,null,null,null,null,null,null,null,null,null,null,29,{"$f":"BK1462","v":0},0]
[null,null,null,40,"",{"$f":"AT1426","v":""},{"$f":"IF(F1467=\"\",\"\",IF(E1467<=$C$74,\"X\",\"\"))","v":""},"",null,33,"",{"$f":"AT1433","v":""},{"$f":"IF(L1467=\"\",\"\",IF(K1467<=$C$74,\"X\",\"\"))","v":""},{"$f":"IF(M1467=\"X\",L1467,\"\")","v":""},null,null,null,null,null,null,null,null,null,null,null,null,null,null,null,null,null,null,null,null,null,null,null,null,null,null,null,null,null,null,null,null,null,null,null,null,null,null,null,null,null,null,null,null,null,null,null,33,{"$f":"BK1466","v":0},0]
[null,null,null,null,null,null,null,null,null,37,"",{"$f":"AX1433","v":""},{"$f":"IF(L1471=\"\",\"\",IF(K1471<=$C$74,\"X\",\"\"))","v":""},{"$f":"IF(M1471=\"X\",L1471,\"\")","v":""},null,null,null,null,null,null,null,null,null,null,null,null,null,null,null,null,null,null,null,null,null,null,null,null,null,null,null,null,null,null,null,null,null,null,null,null,null,null,null,null,null,null,null,null,null,null,null,37,{"$f":"BK1470","v":0},0]
[null,null,null,null,null,null,null,null,null,38,"",{"$f":"AY1433","v":""},{"$f":"IF(L1472=\"\",\"\",IF(K1472<=$C$74,\"X\",\"\"))","v":""},{"$f":"IF(M1472=\"X\",L1472,\"\")","v":""},null,null,null,null,null,null,null,null,null,null,null,null,null,null,null,null,null,null,null,null,null,null,null,null,null,null,null,null,null,null,null,null,null,null,null,null,null,null,null,null,null,null,null,null,null,null,null,38,{"$f":"BK1471","v":0},0]
[null,null,"TIR",null,{"$f":"E1419+1","v":25},null,{"$f":"P1452","v":""},{"$f":"Q1452","v":""},{"$f":"R1452","v":""},{"$f":"S1452","v":""},{"$f":"T1452","v":""},{"$f":"U1452","v":""},{"$f":"V1452","v":""},{"$f":"W1452","v":""},{"$f":"X1452","v":""},{"$f":"Y1452","v":""},{"$f":"Z1452","v":""},{"$f":"AA1452","v":""},{"$f":"AB1452","v":""},{"$f":"AC1452","v":""},{"$f":"AD1452","v":""},{"$f":"AE1452","v":""},{"$f":"AF1452","v":""},{"$f":"AG1452","v":""},{"$f":"AH1452","v":""},{"$f":"AI1452","v":""},{"$f":"AJ1452","v":""},{"$f":"AK1452","v":""},{"$f":"AL1452","v":""},{"$f":"AM1452","v":""},{"$f":"AN1452","v":""},{"$f":"AO1452","v":""},{"$f":"AP1452","v":""},{"$f":"AQ1452","v":""},{"$f":"AR1452","v":""},{"$f":"AS1452","v":""},{"$f":"AT1452","v":""},{"$f":"AU1452","v":""},{"$f":"AV1452","v":""},{"$f":"AW1452","v":""},{"$f":"AX1452","v":""},{"$f":"AY1452","v":""},{"$f":"AZ1452","v":""},{"$f":"BA1452","v":""},{"$f":"BB1452","v":""},{"$f":"BC1452","v":""}]
[null,null,null,null,null,null,{"$f":"IF(G1479=$G1480,G1478,\"\")","v":""},{"$f":"IF(H1479=$G1480,H1478,\"\")","v":""},{"$f":"IF(I1479=$G1480,I1478,\"\")","v":""},{"$f":"IF(J1479=$G1480,J1478,\"\")","v":""},{"$f":"IF(K1479=$G1480,K1478,\"\")","v":""},{"$f":"IF(L1479=$G1480,L1478,\"\")","v":""},{"$f":"IF(M1479=$G1480,M1478,\"\")","v":""},{"$f":"IF(N1479=$G1480,N1478,\"\")","v":""},{"$f":"IF(O1479=$G1480,O1478,\"\")","v":""},{"$f":"IF(P1479=$G1480,P1478,\"\")","v":""},{"$f":"IF(Q1479=$G1480,Q1478,\"\")","v":""},{"$f":"IF(R1479=$G1480,R1478,\"\")","v":""},{"$f":"IF(S1479=$G1480,S1478,\"\")","v":""},{"$f":"IF(T1479=$G1480,T1478,\"\")","v":""},{"$f":"IF(U1479=$G1480,U1478,\"\")","v":""},{"$f":"IF(V1479=$G1480,V1478,\"\")","v":""},{"$f":"IF(W1479=$G1480,W1478,\"\")","v":""},{"$f":"IF(X1479=$G1480,X1478,\"\")","v":""},{"$f":"IF(Y1479=$G1480,Y1478,\"\")","v":""},{"$f":"IF(Z1479=$G1480,Z1478,\"\")","v":""},{"$f":"IF(AA1479=$G1480,AA1478,\"\")","v":""},{"$f":"IF(AB1479=$G1480,AB1478,\"\")","v":""},{"$f":"IF(AC1479=$G1480,AC1478,\"\")","v":""},{"$f":"IF(AD1479=$G1480,AD1478,\"\")","v":""},{"$f":"IF(AE1479=$G1480,AE1478,\"\")","v":""},{"$f":"IF(AF1479=$G1480,AF1478,\"\")","v":""},{"$f":"IF(AG1479=$G1480,AG1478,\"\")","v":""},{"$f":"IF(AH1479=$G1480,AH1478,\"\")","v":""},{"$f":"IF(AI1479=$G1480,AI1478,\"\")","v":""},{"$f":"IF(AJ1479=$G1480,AJ1478,\"\")","v":""},{"$f":"IF(AK1479=$G1480,AK1478,\"\")","v":""},{"$f":"IF(AL1479=$G1480,AL1478,\"\")","v":""},{"$f":"IF(AM1479=$G1480,AM1478,\"\")","v":""},{"$f":"IF(AN1479=$G1480,AN1478,\"\")","v":""},{"$f":"IF(AO1479=$G1480,AO1478,\"\")","v":""},{"$f":"IF(AP1479=$G1480,AP1478,\"\")","v":""},{"$f":"IF(AQ1479=$G1480,AQ1478,\"\")","v":""},{"$f":"IF(AR1479=$G1480,AR1478,\"\")","v":""},{"$f":"IF(AS1479=$G1480,AS1478,\"\")","v":""},{"$f":"IF(AT1479=$G1480,AT1478,\"\")","v":""}]
[null,null,null,null,null,null,null,null,null,null,null,null,null,null,null,null,null,null,null,null,null,null,null,null,null,null,null,null,null,null,null,null,null,null,null,null,null,null,null,null,null,null,null,null,null,null,null,null,null,null,null,null,null,null,null,null,null,null,null,null,null,null,null,null,null,null,null,null,null,null,null,null,null,null,null,null,null,null,null,null,null,null,null,"NUMERO TIR"]
[null,null,null,2,"",{"$f":"H1485","v":""},{"$f":"IF(F1488=\"\",\"\",IF(E1488<=$C$74,\"X\",\"\"))","v":""},"",null,{"$f":"IF($J1489=G1485,G1485,\"\")","v":""},{"$f":"IF($J1489=H1485,H1485,\"\")","v":""},{"$f":"IF($J1489=I1485,I1485,\"\")","v":""},{"$f":"IF($J1489=J1485,J1485,\"\")","v":""},{"$f":"IF($J1489=K1485,K1485,\"\")","v":""},{"$f":"IF($J1489=L1485,L1485,\"\")","v":""},{"$f":"IF($J1489=M1485,M1485,\"\")","v":""},{"$f":"IF($J1489=N1485,N1485,\"\")","v":""},{"$f":"IF($J1489=O1485,O1485,\"\")","v":""},{"$f":"IF($J1489=P1485,P1485,\"\")","v":""},{"$f":"IF($J1489=Q1485,Q1485,\"\")","v":""},{"$f":"IF($J1489=R1485,R1485,\"\")","v":""},{"$f":"IF($J1489=S1485,S1485,\"\")","v":""},{"$f":"IF($J1489=T1485,T1485,\"\")","v":""},{"$f":"IF($J1489=U1485,U1485,\"\")","v":""},{"$f":"IF($J1489=V1485,V1485,\"\")","v":""},{"$f":"IF($J1489=W1485,W1485,\"\")","v":""},{"$f":"IF($J1489=X1485,X1485,\"\")","v":""},{"$f":"IF($J1489=Y1485,Y1485,\"\")","v":""},{"$f":"IF($J1489=Z1485,Z1485,\"\")","v":""},{"$f":"IF($J1489=AA1485,AA1485,\"\")","v":""},{"$f":"IF($J1489=AB1485,AB1485,\"\")","v":""},{"$f":"IF($J1489=AC1485,AC1485,\"\")","v":""},{"$f":"IF($J1489=AD1485,AD1485,\"\")","v":""},{"$f":"IF($J1489=AE1485,AE1485,\"\")","v":""},{"$f":"IF($J1489=AF1485,AF1485,\"\")","v":""},{"$f":"IF($J1489=AG1485,AG1485,\"\")","v":""},{"$f":"IF($J1489=AH1485,AH1485,\"\")","v":""},{"$f":"IF($J1489=AI1485,AI1485,\"\")","v":""},{"$f":"IF($J1489=AJ1485,AJ1485,\"\")","v":""},{"$f":"IF($J1489=AK1485,AK1485,\"\")","v":""},{"$f":"IF($J1489=AL1485,AL1485,\"\")","v":""},{"$f":"IF($J1489=AM1485,AM1485,\"\")","v":""},{"$f":"IF($J1489=AN1485,AN1485,\"\")","v":""},{"$f":"IF($J1489=AO1485,AO1485,\"\")","v":""},{"$f":"IF($J1489=AP1485,AP1485,\"\")","v":""},{"$f":"IF($J1489=AQ1485,AQ1485,\"\")","v":""},{"$f":"IF($J1489=AR1485,AR1485,\"\")","v":""},{"$f":"IF($J1489=AS1485,AS1485,\"\")","v":""},{"$f":"IF($J1489=AT1485,AT1485,\"\")","v":""},null,null,null,null,null,null,null,null,null,null,null,null,null,null,null,null,null,null,null,null,null,null,null,null,null,null,null,null,null,null,null,{"$f":"J1489","v":0}]
[null,null,null,5,"",{"$f":"K1485","v":""},"","",null,null,null,null,null,{"$f":"IF(N1492=G1485,G1484,\"\")","v":""},{"$f":"IF(O1492=H1485,H1484,\"\")","v":""},{"$f":"IF(P1492=I1485,I1484,\"\")","v":""},{"$f":"IF(Q1492=J1485,J1484,\"\")","v":""},{"$f":"IF(R1492=K1485,K1484,\"\")","v":""},{"$f":"IF(S1492=L1485,L1484,\"\")","v":""},{"$f":"IF(T1492=M1485,M1484,\"\")","v":""},{"$f":"IF(U1492=N1485,N1484,\"\")","v":""},{"$f":"IF(V1492=O1485,O1484,\"\")","v":""},{"$f":"IF(W1492=P1485,P1484,\"\")","v":""},{"$f":"IF(X1492=Q1485,Q1484,\"\")","v":""},{"$f":"IF(Y1492=R1485,R1484,\"\")","v":""},{"$f":"IF(Z1492=S1485,S1484,\"\")","v":""},{"$f":"IF(AA1492=T1485,T1484,\"\")","v":""},{"$f":"IF(AB1492=U1485,U1484,\"\")","v":""},{"$f":"IF(AC1492=V1485,V1484,\"\")","v":""},{"$f":"IF(AD1492=W1485,W1484,\"\")","v":""},{"$f":"IF(AE1492=X1485,X1484,\"\")","v":""},{"$f":"IF(AF1492=Y1485,Y1484,\"\")","v":""},{"$f":"IF(AG1492=Z1485,Z1484,\"\")","v":""},{"$f":"IF(AH1492=AA1485,AA1484,\"\")","v":""},{"$f":"IF(AI1492=AB1485,AB1484,\"\")","v":""},{"$f":"IF(AJ1492=AC1485,AC1484,\"\")","v":""},{"$f":"IF(AK1492=AD1485,AD1484,\"\")","v":""},{"$f":"IF(AL1492=AE1485,AE1484,\"\")","v":""},{"$f":"IF(AM1492=AF1485,AF1484,\"\")","v":""},{"$f":"IF(AN1492=AG1485,AG1484,\"\")","v":""},{"$f":"IF(AO1492=AH1485,AH1484,\"\")","v":""},{"$f":"IF(AP1492=AI1485,AI1484,\"\")","v":""},{"$f":"IF(AQ1492=AJ1485,AJ1484,\"\")","v":""},{"$f":"IF(AR1492=AK1485,AK1484,\"\")","v":""},{"$f":"IF(AS1492=AL1485,AL1484,\"\")","v":""},{"$f":"IF(AT1492=AM1485,AM1484,\"\")","v":""},{"$f":"IF(AU1492=AN1485,AN1484,\"\")","v":""},{"$f":"IF(AV1492=AO1485,AO1484,\"\")","v":""},{"$f":"IF(AW1492=AP1485,AP1484,\"\")","v":""},{"$f":"IF(AX1492=AQ1485,AQ1484,\"\")","v":""},{"$f":"IF(AY1492=AR1485,AR1484,\"\")","v":""},{"$f":"IF(AZ1492=AS1485,AS1484,\"\")","v":""},{"$f":"IF(BA1492=AT1485,AT1484,\"\")","v":""}]
[null,null,null,9,"",{"$f":"O1485","v":""},{"$f":"IF(F1495=\"\",\"\",IF(E1495<=$C$74,\"X\",\"\"))","v":""},"",null,2,"",{"$f":"O1492","v":""},{"$f":"IF(L1495=\"\",\"\",IF(K1495<=$C$74,\"X\",\"\"))","v":""},{"$f":"IF(M1495=\"X\",L1495,\"\")","v":""},null,{"$f":"IF($P1496=N1492,N1492,\"\")","v":""},{"$f":"IF($P1496=O1492,O1492,\"\")","v":""},{"$f":"IF($P1496=P1492,P1492,\"\")","v":""},{"$f":"IF($P1496=Q1492,Q1492,\"\")","v":""},{"$f":"IF($P1496=R1492,R1492,\"\")","v":""},{"$f":"IF($P1496=S1492,S1492,\"\")","v":""},{"$f":"IF($P1496=T1492,T1492,\"\")","v":""},{"$f":"IF($P1496=U1492,U1492,\"\")","v":""},{"$f":"IF($P1496=V1492,V1492,\"\")","v":""},{"$f":"IF($P1496=W1492,W1492,\"\")","v":""},{"$f":"IF($P1496=X1492,X1492,\"\")","v":""},{"$f":"IF($P1496=Y1492,Y1492,\"\")","v":""},{"$f":"IF($P1496=Z1492,Z1492,\"\")","v":""},{"$f":"IF($P1496=AA1492,AA1492,\"\")","v":""},{"$f":"IF($P1496=AB1492,AB1492,\"\")","v":""},{"$f":"IF($P1496=AC1492,AC1492,\"\")","v":""},{"$f":"IF($P1496=AD1492,AD1492,\"\")","v":""},{"$f":"IF($P1496=AE1492,AE1492,\"\")","v":""},{"$f":"IF($P1496=AF1492,AF1492,\"\")","v":""},{"$f":"IF($P1496=AG1492,AG1492,\"\")","v":""},{"$f":"IF($P1496=AH1492,AH1492,\"\")","v":""},{"$f":"IF($P1496=AI1492,AI1492,\"\")","v":""},{"$f":"IF($P1496=AJ1492,AJ1492,\"\")","v":""},{"$f":"IF($P1496=AK1492,AK1492,\"\")","v":""},{"$f":"IF($P1496=AL1492,AL1492,\"\")","v":""},{"$f":"IF($P1496=AM1492,AM1492,\"\")","v":""},{"$f":"IF($P1496=AN1492,AN1492,\"\")","v":""},{"$f":"IF($P1496=AO1492,AO1492,\"\")","v":""},{"$f":"IF($P1496=AP1492,AP1492,\"\")","v":""},{"$f":"IF($P1496=AQ1492,AQ1492,\"\")","v":""},{"$f":"IF($P1496=AR1492,AR1492,\"\")","v":""},{"$f":"IF($P1496=AS1492,AS1492,\"\")","v":""},{"$f":"IF($P1496=AT1492,AT1492,\"\")","v":""},{"$f":"IF($P1496=AU1492,AU1492,\"\")","v":""},{"$f":"IF($P1496=AV1492,AV1492,\"\")","v":""},{"$f":"IF($P1496=AW1492,AW1492,\"\")","v":""},{"$f":"IF($P1496=AX1492,AX1492,\"\")","v":""},{"$f":"IF($P1496=AY1492,AY1492,\"\")","v":""},{"$f":"IF($P1496=AZ1492,AZ1492,\"\")","v":""},{"$f":"IF($P1496=BA1492,BA1492,\"\")","v":""},null,null,null,null,null,null,2,{"$f":"BK1494","v":0},{"$f":"BL1494","v":0}]
[null,null,null,14,"",{"$f":"T1485","v":""},{"$f":"IF(F1500=\"\",\"\",IF(E1500<=$C$74,\"X\",\"\"))","v":""},"",null,7,"",{"$f":"T1492","v":""},{"$f":"IF(L1500=\"\",\"\",IF(K1500<=$C$74,\"X\",\"\"))","v":""},{"$f":"IF(M1500=\"X\",L1500,\"\")","v":""},null,null,null,null,null,null,null,null,null,null,null,null,null,null,null,null,null,null,null,null,null,null,null,null,null,null,null,null,null,null,null,null,null,null,null,null,null,null,null,null,null,null,null,null,null,null,null,7,{"$f":"BK1499","v":0},0]
[null,null,null,15,"",{"$f":"U1485","v":""},{"$f":"IF(F1501=\"\",\"\",IF(E1501<=$C$74,\"X\",\"\"))","v":""},{"$f":"IF(G1501=\"X\",F1501,\"\")","v":""},null,8,"",{"$f":"U1492","v":""},{"$f":"IF(L1501=\"\",\"\",IF(K1501<=$C$74,\"X\",\"\"))","v":""},{"$f":"IF(M1501=\"X\",L1501,\"\")","v":""},null,null,null,null,null,null,null,null,null,null,null,null,null,null,null,null,null,null,null,null,null,null,null,null,null,null,null,null,null,null,null,null,null,null,null,null,null,null,null,null,null,null,null,null,null,null,null,8,{"$f":"BK1500","v":0},0]
[null,null,null,21,{"$f":"IF(F1507<>\"\",F1507+G$126,\"\")","v":""},{"$f":"AA1485","v":""},{"$f":"IF(F1507=\"\",\"\",IF(E1507<=$C$74,\"X\",\"\"))","v":""},"",null,14,"",{"$f":"AA1492","v":""},{"$f":"IF(L1507=\"\",\"\",IF(K1507<=$C$74,\"X\",\"\"))","v":""},{"$f":"IF(M1507=\"X\",L1507,\"\")","v":""},null,null,null,null,null,null,null,null,null,null,null,null,null,null,null,null,null,null,null,null,null,null,null,null,null,null,null,null,null,null,null,null,null,null,null,null,null,null,null,null,null,null,null,null,null,null,null,14,{"$f":"BK1506","v":0},0]
[null,null,null,24,"",{"$f":"AD1485","v":""},{"$f":"IF(F1510=\"\",\"\",IF(E1510<=$C$74,\"X\",\"\"))","v":""},"",null,17,"",{"$f":"AD1492","v":""},{"$f":"IF(L1510=\"\",\"\",IF(K1510<=$C$74,\"X\",\"\"))","v":""},{"$f":"IF(M1510=\"X\",L1510,\"\")","v":""},null,1,2,3,4,5,6,7,8,9,10,11,12,13,14,15,16,17,18,19,20,21,22,23,24,25,26,27,28,29,30,31,32,33,34,35,36,37,38,39,40,null,null,null,null,null,null,17,{"$f":"BK1509","v":0},0]
[null,null,null,26,"",{"$f":"AF1485","v":""},{"$f":"IF(F1512=\"\",\"\",IF(E1512<=$C$74,\"X\",\"\"))","v":""},"",null,19,"",{"$f":"AF1492","v":""},{"$f":"IF(L1512=\"\",\"\",IF(K1512<=$C$74,\"X\",\"\"))","v":""},{"$f":"IF(M1512=\"X\",L1512,\"\")","v":""},null,{"$f":"IF(G1479=$P1496,\"\",IF(G1479=$J1489,\"\",IF(G1479=$G1480,\"\",G1479)))","v":""},{"$f":"IF(H1479=$P1496,\"\",IF(H1479=$J1489,\"\",IF(H1479=$G1480,\"\",H1479)))","v":""},{"$f":"IF(I1479=$P1496,\"\",IF(I1479=$J1489,\"\",IF(I1479=$G1480,\"\",I1479)))","v":""},{"$f":"IF(J1479=$P1496,\"\",IF(J1479=$J1489,\"\",IF(J1479=$G1480,\"\",J1479)))","v":""},{"$f":"IF(K1479=$P1496,\"\",IF(K1479=$J1489,\"\",IF(K1479=$G1480,\"\",K1479)))","v":""},{"$f":"IF(L1479=$P1496,\"\",IF(L1479=$J1489,\"\",IF(L1479=$G1480,\"\",L1479)))","v":""},{"$f":"IF(M1479=$P1496,\"\",IF(M1479=$J1489,\"\",IF(M1479=$G1480,\"\",M1479)))","v":""},{"$f":"IF(N1479=$P1496,\"\",IF(N1479=$J1489,\"\",IF(N1479=$G1480,\"\",N1479)))","v":""},{"$f":"IF(O1479=$P1496,\"\",IF(O1479=$J1489,\"\",IF(O1479=$G1480,\"\",O1479)))","v":""},{"$f":"IF(P1479=$P1496,\"\",IF(P1479=$J1489,\"\",IF(P1479=$G1480,\"\",P1479)))","v":""},{"$f":"IF(Q1479=$P1496,\"\",IF(Q1479=$J1489,\"\",IF(Q1479=$G1480,\"\",Q1479)))","v":""},{"$f":"IF(R1479=$P1496,\"\",IF(R1479=$J1489,\"\",IF(R1479=$G1480,\"\",R1479)))","v":""},{"$f":"IF(S1479=$P1496,\"\",IF(S1479=$J1489,\"\",IF(S1479=$G1480,\"\",S1479)))","v":""},{"$f":"IF(T1479=$P1496,\"\",IF(T1479=$J1489,\"\",IF(T1479=$G1480,\"\",T1479)))","v":""},{"$f":"IF(U1479=$P1496,\"\",IF(U1479=$J1489,\"\",IF(U1479=$G1480,\"\",U1479)))","v":""},{"$f":"IF(V1479=$P1496,\"\",IF(V1479=$J1489,\"\",IF(V1479=$G1480,\"\",V1479)))","v":""},{"$f":"IF(W1479=$P1496,\"\",IF(W1479=$J1489,\"\",IF(W1479=$G1480,\"\",W1479)))","v":""},{"$f":"IF(X1479=$P1496,\"\",IF(X1479=$J1489,\"\",IF(X1479=$G1480,\"\",X1479)))","v":""},{"$f":"IF(Y1479=$P1496,\"\",IF(Y1479=$J1489,\"\",IF(Y1479=$G1480,\"\",Y1479)))","v":""},{"$f":"IF(Z1479=$P1496,\"\",IF(Z1479=$J1489,\"\",IF(Z1479=$G1480,\"\",Z1479)))","v":""},{"$f":"IF(AA1479=$P1496,\"\",IF(AA1479=$J1489,\"\",IF(AA1479=$G1480,\"\",AA1479)))","v":""},{"$f":"IF(AB1479=$P1496,\"\",IF(AB1479=$J1489,\"\",IF(AB1479=$G1480,\"\",AB1479)))","v":""},{"$f":"IF(AC1479=$P1496,\"\",IF(AC1479=$J1489,\"\",IF(AC1479=$G1480,\"\",AC1479)))","v":""},{"$f":"IF(AD1479=$P1496,\"\",IF(AD1479=$J1489,\"\",IF(AD1479=$G1480,\"\",AD1479)))","v":""},{"$f":"IF(AE1479=$P1496,\"\",IF(AE1479=$J1489,\"\",IF(AE1479=$G1480,\"\",AE1479)))","v":""},{"$f":"IF(AF1479=$P1496,\"\",IF(AF1479=$J1489,\"\",IF(AF1479=$G1480,\"\",AF1479)))","v":""},{"$f":"IF(AG1479=$P1496,\"\",IF(AG1479=$J1489,\"\",IF(AG1479=$G1480,\"\",AG1479)))","v":""},{"$f":"IF(AH1479=$P1496,\"\",IF(AH1479=$J1489,\"\",IF(AH1479=$G1480,\"\",AH1479)))","v":""},{"$f":"IF(AI1479=$P1496,\"\",IF(AI1479=$J1489,\"\",IF(AI1479=$G1480,\"\",AI1479)))","v":""},{"$f":"IF(AJ1479=$P1496,\"\",IF(AJ1479=$J1489,\"\",IF(AJ1479=$G1480,\"\",AJ1479)))","v":""},{"$f":"IF(AK1479=$P1496,\"\",IF(AK1479=$J1489,\"\",IF(AK1479=$G1480,\"\",AK1479)))","v":""},{"$f":"IF(AL1479=$P1496,\"\",IF(AL1479=$J1489,\"\",IF(AL1479=$G1480,\"\",AL1479)))","v":""},{"$f":"IF(AM1479=$P1496,\"\",IF(AM1479=$J1489,\"\",IF(AM1479=$G1480,\"\",AM1479)))","v":""},{"$f":"IF(AN1479=$P1496,\"\",IF(AN1479=$J1489,\"\",IF(AN1479=$G1480,\"\",AN1479)))","v":""},{"$f":"IF(AO1479=$P1496,\"\",IF(AO1479=$J1489,\"\",IF(AO1479=$G1480,\"\",AO1479)))","v":""},{"$f":"IF(AP1479=$P1496,\"\",IF(AP1479=$J1489,\"\",IF(AP1479=$G1480,\"\",AP1479)))","v":""},{"$f":"IF(AQ1479=$P1496,\"\",IF(AQ1479=$J1489,\"\",IF(AQ1479=$G1480,\"\",AQ1479)))","v":""},{"$f":"IF(AR1479=$P1496,\"\",IF(AR1479=$J1489,\"\",IF(AR1479=$G1480,\"\",AR1479)))","v":""},{"$f":"IF(AS1479=$P1496,\"\",IF(AS1479=$J1489,\"\",IF(AS1479=$G1480,\"\",AS1479)))","v":""},{"$f":"IF(AT1479=$P1496,\"\",IF(AT1479=$J1489,\"\",IF(AT1479=$G1480,\"\",AT1479)))","v":""},null,null,null,null,null,null,19,{"$f":"BK1511","v":0},0]
[null,null,null,29,"",{"$f":"AI1485","v":""},{"$f":"IF(F1515=\"\",\"\",IF(E1515<=$C$74,\"X\",\"\"))","v":""},"",null,22,"",{"$f":"AI1492","v":""},{"$f":"IF(L1515=\"\",\"\",IF(K1515<=$C$74,\"X\",\"\"))","v":""},{"$f":"IF(M1515=\"X\",L1515,\"\")","v":""},null,null,null,null,null,null,null,null,null,null,null,null,null,null,null,null,null,null,null,null,null,null,null,null,null,null,null,null,null,null,null,null,null,null,null,null,null,null,null,null,null,null,null,null,null,null,null,22,{"$f":"BK1514","v":0},0]
[null,null,null,34,"",{"$f":"AN1485","v":""},{"$f":"IF(F1520=\"\",\"\",IF(E1520<=$C$74,\"X\",\"\"))","v":""},"",null,27,"",{"$f":"AN1492","v":""},{"$f":"IF(L1520=\"\",\"\",IF(K1520<=$C$74,\"X\",\"\"))","v":""},{"$f":"IF(M1520=\"X\",L1520,\"\")","v":""},null,null,null,null,null,null,null,null,null,null,null,null,null,null,null,null,null,null,null,null,null,null,null,null,null,null,null,null,null,null,null,null,null,null,null,null,null,null,null,null,null,null,null,null,null,null,null,27,{"$f":"BK1519","v":0},0]
[null,null,null,38,"",{"$f":"AR1485","v":""},{"$f":"IF(F1524=\"\",\"\",IF(E1524<=$C$74,\"X\",\"\"))","v":""},"",null,31,"",{"$f":"AR1492","v":""},{"$f":"IF(L1524=\"\",\"\",IF(K1524<=$C$74,\"X\",\"\"))","v":""},{"$f":"IF(M1524=\"X\",L1524,\"\")","v":""},null,null,null,null,null,null,null,null,null,null,null,null,null,null,null,null,null,null,null,null,null,null,null,null,null,null,null,null,null,null,null,null,null,null,null,null,null,null,null,null,null,null,null,null,null,null,null,31,{"$f":"BK1523","v":0},0]
[null,null,null,null,null,null,null,null,null,36,"",{"$f":"AW1492","v":""},{"$f":"IF(L1529=\"\",\"\",IF(K1529<=$C$74,\"X\",\"\"))","v":""},{"$f":"IF(M1529=\"X\",L1529,\"\")","v":""},null,null,null,null,null,null,null,null,null,null,null,null,null,null,null,null,null,null,null,null,null,null,null,null,null,null,null,null,null,null,null,null,null,null,null,null,null,null,null,null,null,null,null,null,null,null,null,36,{"$f":"BK1528","v":0},0]
[null,null,null,null,null,null,null,null,null,39,"",{"$f":"AZ1492","v":""},{"$f":"IF(L1532=\"\",\"\",IF(K1532<=$C$74,\"X\",\"\"))","v":""},{"$f":"IF(M1532=\"X\",L1532,\"\")","v":""},null,null,null,null,null,null,null,null,null,null,null,null,null,null,null,null,null,null,null,null,null,null,null,null,null,null,null,null,null,null,null,null,null,null,null,null,null,null,null,null,null,null,null,null,null,null,null,39,{"$f":"BK1531","v":0},0]
[]
[null,null,"TIR",null,{"$f":"E1478+1","v":26},null,{"$f":"P1511","v":""},{"$f":"Q1511","v":""},{"$f":"R1511","v":""},{"$f":"S1511","v":""},{"$f":"T1511","v":""},{"$f":"U1511","v":""},{"$f":"V1511","v":""},{"$f":"W1511","v":""},{"$f":"X1511","v":""},{"$f":"Y1511","v":""},{"$f":"Z1511","v":""},{"$f":"AA1511","v":""},{"$f":"AB1511","v":""},{"$f":"AC1511","v":""},{"$f":"AD1511","v":""},{"$f":"AE1511","v":""},{"$f":"AF1511","v":""},{"$f":"AG1511","v":""},{"$f":"AH1511","v":""},{"$f":"AI1511","v":""},{"$f":"AJ1511","v":""},{"$f":"AK1511","v":""},{"$f":"AL1511","v":""},{"$f":"AM1511","v":""},{"$f":"AN1511","v":""},{"$f":"AO1511","v":""},{"$f":"AP1511","v":""},{"$f":"AQ1511","v":""},{"$f":"AR1511","v":""},{"$f":"AS1511","v":""},{"$f":"AT1511","v":""},{"$f":"AU1511","v":""},{"$f":"AV1511","v":""},{"$f":"AW1511","v":""},{"$f":"AX1511","v":""},{"$f":"AY1511","v":""},{"$f":"AZ1511","v":""},{"$f":"BA1511","v":""},{"$f":"BB1511","v":""},{"$f":"BC1511","v":""}]
[null,null,null,null,null,null,{"$f":"IF(G1544=\"\",\"\",IF(G1544=G1538,G1537,\"\"))","v":""},{"$f":"IF(H1544=\"\",\"\",IF(H1544=H1538,H1537,\"\"))","v":""},{"$f":"IF(I1544=\"\",\"\",IF(I1544=I1538,I1537,\"\"))","v":""},{"$f":"IF(J1544=\"\",\"\",IF(J1544=J1538,J1537,\"\"))","v":""},{"$f":"IF(K1544=\"\",\"\",IF(K1544=K1538,K1537,\"\"))","v":""},{"$f":"IF(L1544=\"\",\"\",IF(L1544=L1538,L1537,\"\"))","v":""},{"$f":"IF(M1544=\"\",\"\",IF(M1544=M1538,M1537,\"\"))","v":""},{"$f":"IF(N1544=\"\",\"\",IF(N1544=N1538,N1537,\"\"))","v":""},{"$f":"IF(O1544=\"\",\"\",IF(O1544=O1538,O1537,\"\"))","v":""},{"$f":"IF(P1544=\"\",\"\",IF(P1544=P1538,P1537,\"\"))","v":""},{"$f":"IF(Q1544=\"\",\"\",IF(Q1544=Q1538,Q1537,\"\"))","v":""},{"$f":"IF(R1544=\"\",\"\",IF(R1544=R1538,R1537,\"\"))","v":""},{"$f":"IF(S1544=\"\",\"\",IF(S1544=S1538,S1537,\"\"))","v":""},{"$f":"IF(T1544=\"\",\"\",IF(T1544=T1538,T1537,\"\"))","v":""},{"$f":"IF(U1544=\"\",\"\",IF(U1544=U1538,U1537,\"\"))","v":""},{"$f":"IF(V1544=\"\",\"\",IF(V1544=V1538,V1537,\"\"))","v":""},{"$f":"IF(W1544=\"\",\"\",IF(W1544=W1538,W1537,\"\"))","v":""},{"$f":"IF(X1544=\"\",\"\",IF(X1544=X1538,X1537,\"\"))","v":""},{"$f":"IF(Y1544=\"\",\"\",IF(Y1544=Y1538,Y1537,\"\"))","v":""},{"$f":"IF(Z1544=\"\",\"\",IF(Z1544=Z1538,Z1537,\"\"))","v":""},{"$f":"IF(AA1544=\"\",\"\",IF(AA1544=AA1538,AA1537,\"\"))","v":""},{"$f":"IF(AB1544=\"\",\"\",IF(AB1544=AB1538,AB1537,\"\"))","v":""},{"$f":"IF(AC1544=\"\",\"\",IF(AC1544=AC1538,AC1537,\"\"))","v":""},{"$f":"IF(AD1544=\"\",\"\",IF(AD1544=AD1538,AD1537,\"\"))","v":""},{"$f":"IF(AE1544=\"\",\"\",IF(AE1544=AE1538,AE1537,\"\"))","v":""},{"$f":"IF(AF1544=\"\",\"\",IF(AF1544=AF1538,AF1537,\"\"))","v":""},{"$f":"IF(AG1544=\"\",\"\",IF(AG1544=AG1538,AG1537,\"\"))","v":""},{"$f":"IF(AH1544=\"\",\"\",IF(AH1544=AH1538,AH1537,\"\"))","v":""},{"$f":"IF(AI1544=\"\",\"\",IF(AI1544=AI1538,AI1537,\"\"))","v":""},{"$f":"IF(AJ1544=\"\",\"\",IF(AJ1544=AJ1538,AJ1537,\"\"))","v":""},{"$f":"IF(AK1544=\"\",\"\",IF(AK1544=AK1538,AK1537,\"\"))","v":""},{"$f":"IF(AL1544=\"\",\"\",IF(AL1544=AL1538,AL1537,\"\"))","v":""},{"$f":"IF(AM1544=\"\",\"\",IF(AM1544=AM1538,AM1537,\"\"))","v":""},{"$f":"IF(AN1544=\"\",\"\",IF(AN1544=AN1538,AN1537,\"\"))","v":""},{"$f":"IF(AO1544=\"\",\"\",IF(AO1544=AO1538,AO1537,\"\"))","v":""},{"$f":"IF(AP1544=\"\",\"\",IF(AP1544=AP1538,AP1537,\"\"))","v":""},{"$f":"IF(AQ1544=\"\",\"\",IF(AQ1544=AQ1538,AQ1537,\"\"))","v":""},{"$f":"IF(AR1544=\"\",\"\",IF(AR1544=AR1538,AR1537,\"\"))","v":""},{"$f":"IF(AS1544=\"\",\"\",IF(AS1544=AS1538,AS1537,\"\"))","v":""},{"$f":"IF(AT1544=\"\",\"\",IF(AT1544=AT1538,AT1537,\"\"))","v":""},null,null,null,null,null,null,null,null,null,null,null,null,null,null,null,null,null,null,null,null,null,null,null,null,null,null,null,null,null,null,null,null,null,null,null,null,null,{"$f":"IF(CC1547=0,\"\",CC1547)","v":""},null,{"$f":"IF(CF1543=\"\",\"\",CC1546)","v":""}]
[null,null,"DISPONIBILI",null,null,null,{"$f":"IF(G1538=$G1539,\"\",G1538)","v":""},{"$f":"IF(H1538=$G1539,\"\",H1538)","v":""},{"$f":"IF(I1538=$G1539,\"\",I1538)","v":""},{"$f":"IF(J1538=$G1539,\"\",J1538)","v":""},{"$f":"IF(K1538=$G1539,\"\",K1538)","v":""},{"$f":"IF(L1538=$G1539,\"\",L1538)","v":""},{"$f":"IF(M1538=$G1539,\"\",M1538)","v":""},{"$f":"IF(N1538=$G1539,\"\",N1538)","v":""},{"$f":"IF(O1538=$G1539,\"\",O1538)","v":""},{"$f":"IF(P1538=$G1539,\"\",P1538)","v":""},{"$f":"IF(Q1538=$G1539,\"\",Q1538)","v":""},{"$f":"IF(R1538=$G1539,\"\",R1538)","v":""},{"$f":"IF(S1538=$G1539,\"\",S1538)","v":""},{"$f":"IF(T1538=$G1539,\"\",T1538)","v":""},{"$f":"IF(U1538=$G1539,\"\",U1538)","v":""},{"$f":"IF(V1538=$G1539,\"\",V1538)","v":""},{"$f":"IF(W1538=$G1539,\"\",W1538)","v":""},{"$f":"IF(X1538=$G1539,\"\",X1538)","v":""},{"$f":"IF(Y1538=$G1539,\"\",Y1538)","v":""},{"$f":"IF(Z1538=$G1539,\"\",Z1538)","v":""},{"$f":"IF(AA1538=$G1539,\"\",AA1538)","v":""},{"$f":"IF(AB1538=$G1539,\"\",AB1538)","v":""},{"$f":"IF(AC1538=$G1539,\"\",AC1538)","v":""},{"$f":"IF(AD1538=$G1539,\"\",AD1538)","v":""},{"$f":"IF(AE1538=$G1539,\"\",AE1538)","v":""},{"$f":"IF(AF1538=$G1539,\"\",AF1538)","v":""},{"$f":"IF(AG1538=$G1539,\"\",AG1538)","v":""},{"$f":"IF(AH1538=$G1539,\"\",AH1538)","v":""},{"$f":"IF(AI1538=$G1539,\"\",AI1538)","v":""},{"$f":"IF(AJ1538=$G1539,\"\",AJ1538)","v":""},{"$f":"IF(AK1538=$G1539,\"\",AK1538)","v":""},{"$f":"IF(AL1538=$G1539,\"\",AL1538)","v":""},{"$f":"IF(AM1538=$G1539,\"\",AM1538)","v":""},{"$f":"IF(AN1538=$G1539,\"\",AN1538)","v":""},{"$f":"IF(AO1538=$G1539,\"\",AO1538)","v":""},{"$f":"IF(AP1538=$G1539,\"\",AP1538)","v":""},{"$f":"IF(AQ1538=$G1539,\"\",AQ1538)","v":""},{"$f":"IF(AR1538=$G1539,\"\",AR1538)","v":""},{"$f":"IF(AS1538=$G1539,\"\",AS1538)","v":""},{"$f":"IF(AT1538=$G1539,\"\",AT1538)","v":""},null,null,null,null,null,null,null,null,null,null,null,null,null,null,null,null,null,null,null,null,null,null,null,null,null,null,null,null,null,null,null,null,null,null,null,null,null,{"$f":"IF(CC1552=0,\"\",CC1552)","v":""},null,{"$f":"IF(CF1544=\"\",\"\",CC1551)","v":""}]
[null,null,{"$f":"$P$3","v":200},4,"",{"$f":"J1544","v":""},"","",null,null,null,null,null,null,null,null,null,null,null,null,null,null,null,null,null,null,null,null,null,null,null,null,null,null,null,null,null,null,null,null,null,null,null,null,null,null,null,null,null,null,null,null,null,null,null,null,null,null,null,null,null,null,null,null,null,null,null,null,null,null,null,null,null,null,null,null,null,null,null,null,null,null,null,{"$f":"IF(CD1541>0,CF1490+1,\"\")","v":""}]
[null,null,null,8,"",{"$f":"N1544","v":""},{"$f":"IF(F1553=\"\",\"\",IF(E1553<=$C$74,\"X\",\"\"))","v":""},"",null,1,{"$f":"IF(L1553<>\"\",BK1553+BL1553+L1553,\"\")","v":""},{"$f":"N1551","v":""},{"$f":"IF(L1553=\"\",\"\",IF(K1553<=$C$74,\"X\",\"\"))","v":""},{"$f":"IF(M1553=\"X\",L1553,\"\")","v":""},{"$f":"MAX(N1553:N1572)","v":0},{"$f":"IF(P1554=N1551,N1550,\"\")","v":""},{"$f":"IF(Q1554=O1551,O1550,\"\")","v":""},{"$f":"IF(R1554=P1551,P1550,\"\")","v":""},{"$f":"IF(S1554=Q1551,Q1550,\"\")","v":""},{"$f":"IF(T1554=R1551,R1550,\"\")","v":""},{"$f":"IF(U1554=S1551,S1550,\"\")","v":""},{"$f":"IF(V1554=T1551,T1550,\"\")","v":""},{"$f":"IF(W1554=U1551,U1550,\"\")","v":""},{"$f":"IF(X1554=V1551,V1550,\"\")","v":""},{"$f":"IF(Y1554=W1551,W1550,\"\")","v":""},{"$f":"IF(Z1554=X1551,X1550,\"\")","v":""},{"$f":"IF(AA1554=Y1551,Y1550,\"\")","v":""},{"$f":"IF(AB1554=Z1551,Z1550,\"\")","v":""},{"$f":"IF(AC1554=AA1551,AA1550,\"\")","v":""},{"$f":"IF(AD1554=AB1551,AB1550,\"\")","v":""},{"$f":"IF(AE1554=AC1551,AC1550,\"\")","v":""},{"$f":"IF(AF1554=AD1551,AD1550,\"\")","v":""},{"$f":"IF(AG1554=AE1551,AE1550,\"\")","v":""},{"$f":"IF(AH1554=AF1551,AF1550,\"\")","v":""},{"$f":"IF(AI1554=AG1551,AG1550,\"\")","v":""},{"$f":"IF(AJ1554=AH1551,AH1550,\"\")","v":""},{"$f":"IF(AK1554=AI1551,AI1550,\"\")","v":""},{"$f":"IF(AL1554=AJ1551,AJ1550,\"\")","v":""},{"$f":"IF(AM1554=AK1551,AK1550,\"\")","v":""},{"$f":"IF(AN1554=AL1551,AL1550,\"\")","v":""},{"$f":"IF(AO1554=AM1551,AM1550,\"\")","v":""},{"$f":"IF(AP1554=AN1551,AN1550,\"\")","v":""},{"$f":"IF(AQ1554=AO1551,AO1550,\"\")","v":""},{"$f":"IF(AR1554=AP1551,AP1550,\"\")","v":""},{"$f":"IF(AS1554=AQ1551,AQ1550,\"\")","v":""},{"$f":"IF(AT1554=AR1551,AR1550,\"\")","v":""},{"$f":"IF(AU1554=AS1551,AS1550,\"\")","v":""},{"$f":"IF(AV1554=AT1551,AT1550,\"\")","v":""},{"$f":"IF(AW1554=AU1551,AU1550,\"\")","v":""},{"$f":"IF(AX1554=AV1551,AV1550,\"\")","v":""},{"$f":"IF(AY1554=AW1551,AW1550,\"\")","v":""},{"$f":"IF(AZ1554=AX1551,AX1550,\"\")","v":""},{"$f":"IF(BA1554=AY1551,AY1550,\"\")","v":""},{"$f":"IF(BB1554=AZ1551,AZ1550,\"\")","v":""},{"$f":"IF(BC1554=BA1551,BA1550,\"\")","v":""},null,null,null,null,null,null,1,{"$f":"CC1542","v":0},{"$f":"CC1547","v":0}]
[null,null,null,12,"",{"$f":"R1544","v":""},{"$f":"IF(F1557=\"\",\"\",IF(E1557<=$C$74,\"X\",\"\"))","v":""},"",null,5,"",{"$f":"R1551","v":""},"","",null,null,null,null,null,null,null,null,null,null,null,null,null,null,null,null,null,null,null,null,null,null,null,null,null,null,null,null,null,null,null,null,null,null,null,null,null,null,null,null,null,null,null,null,null,null,null,5,{"$f":"BK1556","v":0},0,null,null,null,null,null,null,null,null,null,null,null,null,null,null,null,"RIMANE",null,null,null,null,{"$f":"CG1555-CD1541","v":200}]
[null,null,null,13,"",{"$f":"S1544","v":""},{"$f":"IF(F1558=\"\",\"\",IF(E1558<=$C$74,\"X\",\"\"))","v":""},"",null,6,"",{"$f":"S1551","v":""},"","",null,null,null,null,null,null,null,null,null,null,null,null,null,null,null,null,null,null,null,null,null,null,null,null,null,null,null,null,null,null,null,null,null,null,null,null,null,null,null,null,null,null,null,null,null,null,null,6,{"$f":"BK1557","v":0},0]
[null,null,null,18,"",{"$f":"X1544","v":""},{"$f":"IF(F1563=\"\",\"\",IF(E1563<=$C$74,\"X\",\"\"))","v":""},"",null,11,"",{"$f":"X1551","v":""},{"$f":"IF(L1563=\"\",\"\",IF(K1563<=$C$74,\"X\",\"\"))","v":""},{"$f":"IF(M1563=\"X\",L1563,\"\")","v":""},null,null,null,null,null,null,null,null,null,null,null,null,null,null,null,null,null,null,null,null,null,null,null,null,null,null,null,null,null,null,null,null,null,null,null,null,null,null,null,null,null,null,null,null,null,null,null,11,{"$f":"BK1562","v":0},0]
[null,null,null,21,{"$f":"IF(F1566<>\"\",F1566+G$126,\"\")","v":""},{"$f":"AA1544","v":""},{"$f":"IF(F1566=\"\",\"\",IF(E1566<=$C$74,\"X\",\"\"))","v":""},"",null,14,"",{"$f":"AA1551","v":""},{"$f":"IF(L1566=\"\",\"\",IF(K1566<=$C$74,\"X\",\"\"))","v":""},{"$f":"IF(M1566=\"X\",L1566,\"\")","v":""},null,null,null,null,null,null,null,null,null,null,null,null,null,null,null,null,null,null,null,null,null,null,null,null,null,null,null,null,null,null,null,null,null,null,null,null,null,null,null,null,null,null,null,null,null,null,null,14,{"$f":"BK1565","v":0},0]
[null,null,null,27,"",{"$f":"AG1544","v":""},{"$f":"IF(F1572=\"\",\"\",IF(E1572<=$C$74,\"X\",\"\"))","v":""},"",null,20,"",{"$f":"AG1551","v":""},{"$f":"IF(L1572=\"\",\"\",IF(K1572<=$C$74,\"X\",\"\"))","v":""},{"$f":"IF(M1572=\"X\",L1572,\"\")","v":""},null,null,null,null,null,null,null,null,null,null,null,null,null,null,null,null,null,null,null,null,null,null,null,null,null,null,null,null,null,null,null,null,null,null,null,null,null,null,null,null,null,null,null,null,null,null,null,20,{"$f":"BK1571","v":0},0]
[null,null,null,29,"",{"$f":"AI1544","v":""},{"$f":"IF(F1574=\"\",\"\",IF(E1574<=$C$74,\"X\",\"\"))","v":""},"",null,22,"",{"$f":"AI1551","v":""},{"$f":"IF(L1574=\"\",\"\",IF(K1574<=$C$74,\"X\",\"\"))","v":""},{"$f":"IF(M1574=\"X\",L1574,\"\")","v":""},null,null,null,null,null,null,null,null,null,null,null,null,null,null,null,null,null,null,null,null,null,null,null,null,null,null,null,null,null,null,null,null,null,null,null,null,null,null,null,null,null,null,null,null,null,null,null,22,{"$f":"BK1573","v":0},0]
[null,null,null,32,"",{"$f":"AL1544","v":""},{"$f":"IF(F1577=\"\",\"\",IF(E1577<=$C$74,\"X\",\"\"))","v":""},"",null,25,"",{"$f":"AL1551","v":""},{"$f":"IF(L1577=\"\",\"\",IF(K1577<=$C$74,\"X\",\"\"))","v":""},{"$f":"IF(M1577=\"X\",L1577,\"\")","v":""},null,null,null,null,null,null,null,null,null,null,null,null,null,null,null,null,null,null,null,null,null,null,null,null,null,null,null,null,null,null,null,null,null,null,null,null,null,null,null,null,null,null,null,null,null,null,null,25,{"$f":"BK1576","v":0},0]
[null,null,null,36,"",{"$f":"AP1544","v":""},{"$f":"IF(F1581=\"\",\"\",IF(E1581<=$C$74,\"X\",\"\"))","v":""},"",null,29,"",{"$f":"AP1551","v":""},{"$f":"IF(L1581=\"\",\"\",IF(K1581<=$C$74,\"X\",\"\"))","v":""},{"$f":"IF(M1581=\"X\",L1581,\"\")","v":""},null,null,null,null,null,null,null,null,null,null,null,null,null,null,null,null,null,null,null,null,null,null,null,null,null,null,null,null,null,null,null,null,null,null,null,null,null,null,null,null,null,null,null,null,null,null,null,29,{"$f":"BK1580","v":0},0]
[null,null,null,null,null,null,null,null,null,34,"",{"$f":"AU1551","v":""},{"$f":"IF(L1586=\"\",\"\",IF(K1586<=$C$74,\"X\",\"\"))","v":""},{"$f":"IF(M1586=\"X\",L1586,\"\")","v":""},null,null,null,null,null,null,null,null,null,null,null,null,null,null,null,null,null,null,null,null,null,null,null,null,null,null,null,null,null,null,null,null,null,null,null,null,null,null,null,null,null,null,null,null,null,null,null,34,{"$f":"BK1585","v":0},0]
[null,null,null,null,null,null,null,null,null,35,"",{"$f":"AV1551","v":""},{"$f":"IF(L1587=\"\",\"\",IF(K1587<=$C$74,\"X\",\"\"))","v":""},{"$f":"IF(M1587=\"X\",L1587,\"\")","v":""},null,null,null,null,null,null,null,null,null,null,null,null,null,null,null,null,null,null,null,null,null,null,null,null,null,null,null,null,null,null,null,null,null,null,null,null,null,null,null,null,null,null,null,null,null,null,null,35,{"$f":"BK1586","v":0},0]
[null,null,null,null,null,null,null,null,null,39,"",{"$f":"AZ1551","v":""},"","",null,null,null,null,null,null,null,null,null,null,null,null,null,null,null,null,null,null,null,null,null,null,null,null,null,null,null,null,null,null,null,null,null,null,null,null,null,null,null,null,null,null,null,null,null,null,null,39,{"$f":"BK1590","v":0},0]
[null,null,"TIR",null,{"$f":"E1537+1","v":27},null,{"$f":"P1570","v":""},{"$f":"Q1570","v":""},{"$f":"R1570","v":""},{"$f":"S1570","v":""},{"$f":"T1570","v":""},{"$f":"U1570","v":""},{"$f":"V1570","v":""},{"$f":"W1570","v":""},{"$f":"X1570","v":""},{"$f":"Y1570","v":""},{"$f":"Z1570","v":""},{"$f":"AA1570","v":""},{"$f":"AB1570","v":""},{"$f":"AC1570","v":""},{"$f":"AD1570","v":""},{"$f":"AE1570","v":""},{"$f":"AF1570","v":""},{"$f":"AG1570","v":""},{"$f":"AH1570","v":""},{"$f":"AI1570","v":""},{"$f":"AJ1570","v":""},{"$f":"AK1570","v":""},{"$f":"AL1570","v":""},{"$f":"AM1570","v":""},{"$f":"AN1570","v":""},{"$f":"AO1570","v":""},{"$f":"AP1570","v":""},{"$f":"AQ1570","v":""},{"$f":"AR1570","v":""},{"$f":"AS1570","v":""},{"$f":"AT1570","v":""},{"$f":"AU1570","v":""},{"$f":"AV1570","v":""},{"$f":"AW1570","v":""},{"$f":"AX1570","v":""},{"$f":"AY1570","v":""},{"$f":"AZ1570","v":""},{"$f":"BA1570","v":""},{"$f":"BB1570","v":""},{"$f":"BC1570","v":""}]
[null,null,"MASSIMO PESO",null,null,null,{"$f":"MAX(G1597:AT1597)","v":0}]
[null,null,null,null,null,null,{"$f":"G1598","v":0},null,null,null,null,null,null,null,null,null,null,null,null,null,null,null,null,null,null,null,null,null,null,null,null,null,null,null,null,null,null,null,null,null,null,null,null,null,null,null,null,null,null,null,null,null,null,null,null,null,null,null,null,null,null,null,null,null,null,null,null,null,null,null,null,null,null,null,null,null,null,null,null,null,{"$f":"G1598","v":0},null,null,{"$f":"IF(CC1601=0,\"\",CC1601)","v":""},null,{"$f":"IF(CF1601=\"\",\"\",CC1600)","v":""}]
[null,null,null,2,"",{"$f":"H1603","v":""},{"$f":"IF(F1606=\"\",\"\",IF(E1606<=$C$74,\"X\",\"\"))","v":""},"",null,{"$f":"IF($J1607=G1603,G1603,\"\")","v":""},{"$f":"IF($J1607=H1603,H1603,\"\")","v":""},{"$f":"IF($J1607=I1603,I1603,\"\")","v":""},{"$f":"IF($J1607=J1603,J1603,\"\")","v":""},{"$f":"IF($J1607=K1603,K1603,\"\")","v":""},{"$f":"IF($J1607=L1603,L1603,\"\")","v":""},{"$f":"IF($J1607=M1603,M1603,\"\")","v":""},{"$f":"IF($J1607=N1603,N1603,\"\")","v":""},{"$f":"IF($J1607=O1603,O1603,\"\")","v":""},{"$f":"IF($J1607=P1603,P1603,\"\")","v":""},{"$f":"IF($J1607=Q1603,Q1603,\"\")","v":""},{"$f":"IF($J1607=R1603,R1603,\"\")","v":""},{"$f":"IF($J1607=S1603,S1603,\"\")","v":""},{"$f":"IF($J1607=T1603,T1603,\"\")","v":""},{"$f":"IF($J1607=U1603,U1603,\"\")","v":""},{"$f":"IF($J1607=V1603,V1603,\"\")","v":""},{"$f":"IF($J1607=W1603,W1603,\"\")","v":""},{"$f":"IF($J1607=X1603,X1603,\"\")","v":""},{"$f":"IF($J1607=Y1603,Y1603,\"\")","v":""},{"$f":"IF($J1607=Z1603,Z1603,\"\")","v":""},{"$f":"IF($J1607=AA1603,AA1603,\"\")","v":""},{"$f":"IF($J1607=AB1603,AB1603,\"\")","v":""},{"$f":"IF($J1607=AC1603,AC1603,\"\")","v":""},{"$f":"IF($J1607=AD1603,AD1603,\"\")","v":""},{"$f":"IF($J1607=AE1603,AE1603,\"\")","v":""},{"$f":"IF($J1607=AF1603,AF1603,\"\")","v":""},{"$f":"IF($J1607=AG1603,AG1603,\"\")","v":""},{"$f":"IF($J1607=AH1603,AH1603,\"\")","v":""},{"$f":"IF($J1607=AI1603,AI1603,\"\")","v":""},{"$f":"IF($J1607=AJ1603,AJ1603,\"\")","v":""},{"$f":"IF($J1607=AK1603,AK1603,\"\")","v":""},{"$f":"IF($J1607=AL1603,AL1603,\"\")","v":""},{"$f":"IF($J1607=AM1603,AM1603,\"\")","v":""},{"$f":"IF($J1607=AN1603,AN1603,\"\")","v":""},{"$f":"IF($J1607=AO1603,AO1603,\"\")","v":""},{"$f":"IF($J1607=AP1603,AP1603,\"\")","v":""},{"$f":"IF($J1607=AQ1603,AQ1603,\"\")","v":""},{"$f":"IF($J1607=AR1603,AR1603,\"\")","v":""},{"$f":"IF($J1607=AS1603,AS1603,\"\")","v":""},{"$f":"IF($J1607=AT1603,AT1603,\"\")","v":""},null,null,null,null,null,null,null,null,null,null,null,null,null,null,null,null,null,null,null,null,null,null,null,null,null,null,null,null,null,null,null,{"$f":"J1607","v":0}]
[null,null,null,7,"",{"$f":"M1603","v":""},"","",null,null,null,null,null,null,null,null,null,null,null,null,null,null,null,null,null,null,null,null,null,null,null,null,null,null,null,null,null,null,null,null,null,null,null,null,null,null,null,null,null,null,null,null,null,null,null,null,null,null,null,null,null,null,1,2,null,null,null,null,null,null,null,null,null,null,null,null,null,null,null,null,{"$f":"P1614","v":0}]
[null,null,null,11,"",{"$f":"Q1603","v":""},"","",null,4,"",{"$f":"Q1610","v":""},"","",null,null,null,null,null,null,null,null,null,null,null,null,null,null,null,null,null,null,null,null,null,null,null,null,null,null,null,null,null,null,null,null,null,null,null,null,null,null,null,null,null,null,null,null,null,null,null,4,{"$f":"BK1614","v":0},0]
[null,null,null,14,"",{"$f":"T1603","v":""},"","",null,7,"",{"$f":"T1610","v":""},"","",null,null,null,null,null,null,null,null,null,null,null,null,null,null,null,null,null,null,null,null,null,null,null,null,null,null,null,null,null,null,null,null,null,null,null,null,null,null,null,null,null,null,null,null,null,null,null,7,{"$f":"BK1617","v":0},0]
[null,null,null,16,"",{"$f":"V1603","v":""},"","",null,9,"",{"$f":"V1610","v":""},"","",null,null,null,null,null,null,null,null,null,null,null,null,null,null,null,null,null,null,null,null,null,null,null,null,null,null,null,null,null,null,null,null,null,null,null,null,null,null,null,null,null,null,null,null,null,null,null,9,{"$f":"BK1619","v":0},0]
[null,null,null,21,{"$f":"IF(F1625<>\"\",F1625+G$126,\"\")","v":""},{"$f":"AA1603","v":""},"","",null,14,"",{"$f":"AA1610","v":""},"","",null,null,null,null,null,null,null,null,null,null,null,null,null,null,null,null,null,null,null,null,null,null,null,null,null,null,null,null,null,null,null,null,null,null,null,null,null,null,null,null,null,null,null,null,null,null,null,14,{"$f":"BK1624","v":0},0]
[null,null,null,23,"",{"$f":"AC1603","v":""},"","",null,16,"",{"$f":"AC1610","v":""},"","",null,null,null,null,null,null,null,null,null,null,null,null,null,null,null,null,null,null,null,null,null,null,null,null,null,null,null,null,null,null,null,null,null,null,null,null,null,null,null,null,null,null,null,null,null,null,null,16,{"$f":"BK1626","v":0},0]
[null,null,null,26,"",{"$f":"AF1603","v":""},"","",null,19,"",{"$f":"AF1610","v":""},"","",null,{"$f":"IF(G1597=$P1614,\"\",IF(G1597=$J1607,\"\",IF(G1597=$G1598,\"\",G1597)))","v":""},{"$f":"IF(H1597=$P1614,\"\",IF(H1597=$J1607,\"\",IF(H1597=$G1598,\"\",H1597)))","v":""},{"$f":"IF(I1597=$P1614,\"\",IF(I1597=$J1607,\"\",IF(I1597=$G1598,\"\",I1597)))","v":""},{"$f":"IF(J1597=$P1614,\"\",IF(J1597=$J1607,\"\",IF(J1597=$G1598,\"\",J1597)))","v":""},{"$f":"IF(K1597=$P1614,\"\",IF(K1597=$J1607,\"\",IF(K1597=$G1598,\"\",K1597)))","v":""},{"$f":"IF(L1597=$P1614,\"\",IF(L1597=$J1607,\"\",IF(L1597=$G1598,\"\",L1597)))","v":""},{"$f":"IF(M1597=$P1614,\"\",IF(M1597=$J1607,\"\",IF(M1597=$G1598,\"\",M1597)))","v":""},{"$f":"IF(N1597=$P1614,\"\",IF(N1597=$J1607,\"\",IF(N1597=$G1598,\"\",N1597)))","v":""},{"$f":"IF(O1597=$P1614,\"\",IF(O1597=$J1607,\"\",IF(O1597=$G1598,\"\",O1597)))","v":""},{"$f":"IF(P1597=$P1614,\"\",IF(P1597=$J1607,\"\",IF(P1597=$G1598,\"\",P1597)))","v":""},{"$f":"IF(Q1597=$P1614,\"\",IF(Q1597=$J1607,\"\",IF(Q1597=$G1598,\"\",Q1597)))","v":""},{"$f":"IF(R1597=$P1614,\"\",IF(R1597=$J1607,\"\",IF(R1597=$G1598,\"\",R1597)))","v":""},{"$f":"IF(S1597=$P1614,\"\",IF(S1597=$J1607,\"\",IF(S1597=$G1598,\"\",S1597)))","v":""},{"$f":"IF(T1597=$P1614,\"\",IF(T1597=$J1607,\"\",IF(T1597=$G1598,\"\",T1597)))","v":""},{"$f":"IF(U1597=$P1614,\"\",IF(U1597=$J1607,\"\",IF(U1597=$G1598,\"\",U1597)))","v":""},{"$f":"IF(V1597=$P1614,\"\",IF(V1597=$J1607,\"\",IF(V1597=$G1598,\"\",V1597)))","v":""},{"$f":"IF(W1597=$P1614,\"\",IF(W1597=$J1607,\"\",IF(W1597=$G1598,\"\",W1597)))","v":""},{"$f":"IF(X1597=$P1614,\"\",IF(X1597=$J1607,\"\",IF(X1597=$G1598,\"\",X1597)))","v":""},{"$f":"IF(Y1597=$P1614,\"\",IF(Y1597=$J1607,\"\",IF(Y1597=$G1598,\"\",Y1597)))","v":""},{"$f":"IF(Z1597=$P1614,\"\",IF(Z1597=$J1607,\"\",IF(Z1597=$G1598,\"\",Z1597)))","v":""},{"$f":"IF(AA1597=$P1614,\"\",IF(AA1597=$J1607,\"\",IF(AA1597=$G1598,\"\",AA1597)))","v":""},{"$f":"IF(AB1597=$P1614,\"\",IF(AB1597=$J1607,\"\",IF(AB1597=$G1598,\"\",AB1597)))","v":""},{"$f":"IF(AC1597=$P1614,\"\",IF(AC1597=$J1607,\"\",IF(AC1597=$G1598,\"\",AC1597)))","v":""},{"$f":"IF(AD1597=$P1614,\"\",IF(AD1597=$J1607,\"\",IF(AD1597=$G1598,\"\",AD1597)))","v":""},{"$f":"IF(AE1597=$P1614,\"\",IF(AE1597=$J1607,\"\",IF(AE1597=$G1598,\"\",AE1597)))","v":""},{"$f":"IF(AF1597=$P1614,\"\",IF(AF1597=$J1607,\"\",IF(AF1597=$G1598,\"\",AF1597)))","v":""},{"$f":"IF(AG1597=$P1614,\"\",IF(AG1597=$J1607,\"\",IF(AG1597=$G1598,\"\",AG1597)))","v":""},{"$f":"IF(AH1597=$P1614,\"\",IF(AH1597=$J1607,\"\",IF(AH1597=$G1598,\"\",AH1597)))","v":""},{"$f":"IF(AI1597=$P1614,\"\",IF(AI1597=$J1607,\"\",IF(AI1597=$G1598,\"\",AI1597)))","v":""},{"$f":"IF(AJ1597=$P1614,\"\",IF(AJ1597=$J1607,\"\",IF(AJ1597=$G1598,\"\",AJ1597)))","v":""},{"$f":"IF(AK1597=$P1614,\"\",IF(AK1597=$J1607,\"\",IF(AK1597=$G1598,\"\",AK1597)))","v":""},{"$f":"IF(AL1597=$P1614,\"\",IF(AL1597=$J1607,\"\",IF(AL1597=$G1598,\"\",AL1597)))","v":""},{"$f":"IF(AM1597=$P1614,\"\",IF(AM1597=$J1607,\"\",IF(AM1597=$G1598,\"\",AM1597)))","v":""},{"$f":"IF(AN1597=$P1614,\"\",IF(AN1597=$J1607,\"\",IF(AN1597=$G1598,\"\",AN1597)))","v":""},{"$f":"IF(AO1597=$P1614,\"\",IF(AO1597=$J1607,\"\",IF(AO1597=$G1598,\"\",AO1597)))","v":""},{"$f":"IF(AP1597=$P1614,\"\",IF(AP1597=$J1607,\"\",IF(AP1597=$G1598,\"\",AP1597)))","v":""},{"$f":"IF(AQ1597=$P1614,\"\",IF(AQ1597=$J1607,\"\",IF(AQ1597=$G1598,\"\",AQ1597)))","v":""},{"$f":"IF(AR1597=$P1614,\"\",IF(AR1597=$J1607,\"\",IF(AR1597=$G1598,\"\",AR1597)))","v":""},{"$f":"IF(AS1597=$P1614,\"\",IF(AS1597=$J1607,\"\",IF(AS1597=$G1598,\"\",AS1597)))","v":""},{"$f":"IF(AT1597=$P1614,\"\",IF(AT1597=$J1607,\"\",IF(AT1597=$G1598,\"\",AT1597)))","v":""},null,null,null,null,null,null,19,{"$f":"BK1629","v":0},0]
[null,null,null,31,"",{"$f":"AK1603","v":""},"","",null,24,"",{"$f":"AK1610","v":""},"","",null,null,null,null,null,null,null,null,null,null,null,null,null,null,null,null,null,null,null,null,null,null,null,null,null,null,null,null,null,null,null,null,null,null,null,null,null,null,null,null,null,null,null,null,null,null,null,24,{"$f":"BK1634","v":0},0]
[null,null,null,35,"",{"$f":"AO1603","v":""},"","",null,28,"",{"$f":"AO1610","v":""},"","",null,null,null,null,null,null,null,null,null,null,null,null,null,null,null,null,null,null,null,null,null,null,null,null,null,null,null,null,null,null,null,null,null,null,null,null,null,null,null,null,null,null,null,null,null,null,null,28,{"$f":"BK1638","v":0},0]
[null,null,null,39,"",{"$f":"AS1603","v":""},"","",null,32,"",{"$f":"AS1610","v":""},"","",null,null,null,null,null,null,null,null,null,null,null,null,null,null,null,null,null,null,null,null,null,null,null,null,null,null,null,null,null,null,null,null,null,null,null,null,null,null,null,null,null,null,null,null,null,null,null,32,{"$f":"BK1642","v":0},0]
[null,null,null,40,"",{"$f":"AT1603","v":""},"","",null,33,"",{"$f":"AT1610","v":""},"","",null,null,null,null,null,null,null,null,null,null,null,null,null,null,null,null,null,null,null,null,null,null,null,null,null,null,null,null,null,null,null,null,null,null,null,null,null,null,null,null,null,null,null,null,null,null,null,33,{"$f":"BK1643","v":0},0]
[null,null,null,null,null,null,null,null,null,38,"",{"$f":"AY1610","v":""},"","",null,null,null,null,null,null,null,null,null,null,null,null,null,null,null,null,null,null,null,null,null,null,null,null,null,null,null,null,null,null,null,null,null,null,null,null,null,null,null,null,null,null,null,null,null,null,null,38,{"$f":"BK1648","v":0},0]
[]
[null,null,null,null,null,null,{"$f":"IF(G1656=$G1657,G1655,\"\")","v":""},{"$f":"IF(H1656=$G1657,H1655,\"\")","v":""},{"$f":"IF(I1656=$G1657,I1655,\"\")","v":""},{"$f":"IF(J1656=$G1657,J1655,\"\")","v":""},{"$f":"IF(K1656=$G1657,K1655,\"\")","v":""},{"$f":"IF(L1656=$G1657,L1655,\"\")","v":""},{"$f":"IF(M1656=$G1657,M1655,\"\")","v":""},{"$f":"IF(N1656=$G1657,N1655,\"\")","v":""},{"$f":"IF(O1656=$G1657,O1655,\"\")","v":""},{"$f":"IF(P1656=$G1657,P1655,\"\")","v":""},{"$f":"IF(Q1656=$G1657,Q1655,\"\")","v":""},{"$f":"IF(R1656=$G1657,R1655,\"\")","v":""},{"$f":"IF(S1656=$G1657,S1655,\"\")","v":""},{"$f":"IF(T1656=$G1657,T1655,\"\")","v":""},{"$f":"IF(U1656=$G1657,U1655,\"\")","v":""},{"$f":"IF(V1656=$G1657,V1655,\"\")","v":""},{"$f":"IF(W1656=$G1657,W1655,\"\")","v":""},{"$f":"IF(X1656=$G1657,X1655,\"\")","v":""},{"$f":"IF(Y1656=$G1657,Y1655,\"\")","v":""},{"$f":"IF(Z1656=$G1657,Z1655,\"\")","v":""},{"$f":"IF(AA1656=$G1657,AA1655,\"\")","v":""},{"$f":"IF(AB1656=$G1657,AB1655,\"\")","v":""},{"$f":"IF(AC1656=$G1657,AC1655,\"\")","v":""},{"$f":"IF(AD1656=$G1657,AD1655,\"\")","v":""},{"$f":"IF(AE1656=$G1657,AE1655,\"\")","v":""},{"$f":"IF(AF1656=$G1657,AF1655,\"\")","v":""},{"$f":"IF(AG1656=$G1657,AG1655,\"\")","v":""},{"$f":"IF(AH1656=$G1657,AH1655,\"\")","v":""},{"$f":"IF(AI1656=$G1657,AI1655,\"\")","v":""},{"$f":"IF(AJ1656=$G1657,AJ1655,\"\")","v":""},{"$f":"IF(AK1656=$G1657,AK1655,\"\")","v":""},{"$f":"IF(AL1656=$G1657,AL1655,\"\")","v":""},{"$f":"IF(AM1656=$G1657,AM1655,\"\")","v":""},{"$f":"IF(AN1656=$G1657,AN1655,\"\")","v":""},{"$f":"IF(AO1656=$G1657,AO1655,\"\")","v":""},{"$f":"IF(AP1656=$G1657,AP1655,\"\")","v":""},{"$f":"IF(AQ1656=$G1657,AQ1655,\"\")","v":""},{"$f":"IF(AR1656=$G1657,AR1655,\"\")","v":""},{"$f":"IF(AS1656=$G1657,AS1655,\"\")","v":""},{"$f":"IF(AT1656=$G1657,AT1655,\"\")","v":""}]
[null,null,null,null,null,null,{"$f":"G1657","v":0},null,null,null,null,null,null,null,null,null,null,null,null,null,null,null,null,null,null,null,null,null,null,null,null,null,null,null,null,null,null,null,null,null,null,null,null,null,null,null,null,null,null,null,null,null,null,null,null,null,null,null,null,null,null,null,null,null,null,null,null,null,null,null,null,null,null,null,null,null,null,null,null,null,{"$f":"G1657","v":0},null,null,{"$f":"IF(CC1660=0,\"\",CC1660)","v":""},null,{"$f":"IF(CF1660=\"\",\"\",CC1659)","v":""}]
[null,null,null,null,null,null,null,null,null,null,null,null,null,null,null,null,null,null,null,null,null,null,null,null,null,null,null,null,null,null,null,null,null,null,null,null,null,null,null,null,null,null,null,null,null,null,null,null,null,null,null,null,null,null,null,null,null,null,null,null,null,null,null,null,null,null,null,null,null,null,null,null,null,null,null,null,null,null,null,null,null,null,null,"NUMERO TIR"]
[null,null,null,5,"",{"$f":"K1662","v":""},"","",null,null,null,null,null,{"$f":"IF(N1669=G1662,G1661,\"\")","v":""},{"$f":"IF(O1669=H1662,H1661,\"\")","v":""},{"$f":"IF(P1669=I1662,I1661,\"\")","v":""},{"$f":"IF(Q1669=J1662,J1661,\"\")","v":""},{"$f":"IF(R1669=K1662,K1661,\"\")","v":""},{"$f":"IF(S1669=L1662,L1661,\"\")","v":""},{"$f":"IF(T1669=M1662,M1661,\"\")","v":""},{"$f":"IF(U1669=N1662,N1661,\"\")","v":""},{"$f":"IF(V1669=O1662,O1661,\"\")","v":""},{"$f":"IF(W1669=P1662,P1661,\"\")","v":""},{"$f":"IF(X1669=Q1662,Q1661,\"\")","v":""},{"$f":"IF(Y1669=R1662,R1661,\"\")","v":""},{"$f":"IF(Z1669=S1662,S1661,\"\")","v":""},{"$f":"IF(AA1669=T1662,T1661,\"\")","v":""},{"$f":"IF(AB1669=U1662,U1661,\"\")","v":""},{"$f":"IF(AC1669=V1662,V1661,\"\")","v":""},{"$f":"IF(AD1669=W1662,W1661,\"\")","v":""},{"$f":"IF(AE1669=X1662,X1661,\"\")","v":""},{"$f":"IF(AF1669=Y1662,Y1661,\"\")","v":""},{"$f":"IF(AG1669=Z1662,Z1661,\"\")","v":""},{"$f":"IF(AH1669=AA1662,AA1661,\"\")","v":""},{"$f":"IF(AI1669=AB1662,AB1661,\"\")","v":""},{"$f":"IF(AJ1669=AC1662,AC1661,\"\")","v":""},{"$f":"IF(AK1669=AD1662,AD1661,\"\")","v":""},{"$f":"IF(AL1669=AE1662,AE1661,\"\")","v":""},{"$f":"IF(AM1669=AF1662,AF1661,\"\")","v":""},{"$f":"IF(AN1669=AG1662,AG1661,\"\")","v":""},{"$f":"IF(AO1669=AH1662,AH1661,\"\")","v":""},{"$f":"IF(AP1669=AI1662,AI1661,\"\")","v":""},{"$f":"IF(AQ1669=AJ1662,AJ1661,\"\")","v":""},{"$f":"IF(AR1669=AK1662,AK1661,\"\")","v":""},{"$f":"IF(AS1669=AL1662,AL1661,\"\")","v":""},{"$f":"IF(AT1669=AM1662,AM1661,\"\")","v":""},{"$f":"IF(AU1669=AN1662,AN1661,\"\")","v":""},{"$f":"IF(AV1669=AO1662,AO1661,\"\")","v":""},{"$f":"IF(AW1669=AP1662,AP1661,\"\")","v":""},{"$f":"IF(AX1669=AQ1662,AQ1661,\"\")","v":""},{"$f":"IF(AY1669=AR1662,AR1661,\"\")","v":""},{"$f":"IF(AZ1669=AS1662,AS1661,\"\")","v":""},{"$f":"IF(BA1669=AT1662,AT1661,\"\")","v":""}]
[null,null,null,9,"",{"$f":"O1662","v":""},{"$f":"IF(F1672=\"\",\"\",IF(E1672<=$C$74,\"X\",\"\"))","v":""},"",null,2,"",{"$f":"O1669","v":""},{"$f":"IF(L1672=\"\",\"\",IF(K1672<=$C$74,\"X\",\"\"))","v":""},{"$f":"IF(M1672=\"X\",L1672,\"\")","v":""},null,{"$f":"IF($P1673=N1669,N1669,\"\")","v":""},{"$f":"IF($P1673=O1669,O1669,\"\")","v":""},{"$f":"IF($P1673=P1669,P1669,\"\")","v":""},{"$f":"IF($P1673=Q1669,Q1669,\"\")","v":""},{"$f":"IF($P1673=R1669,R1669,\"\")","v":""},{"$f":"IF($P1673=S1669,S1669,\"\")","v":""},{"$f":"IF($P1673=T1669,T1669,\"\")","v":""},{"$f":"IF($P1673=U1669,U1669,\"\")","v":""},{"$f":"IF($P1673=V1669,V1669,\"\")","v":""},{"$f":"IF($P1673=W1669,W1669,\"\")","v":""},{"$f":"IF($P1673=X1669,X1669,\"\")","v":""},{"$f":"IF($P1673=Y1669,Y1669,\"\")","v":""},{"$f":"IF($P1673=Z1669,Z1669,\"\")","v":""},{"$f":"IF($P1673=AA1669,AA1669,\"\")","v":""},{"$f":"IF($P1673=AB1669,AB1669,\"\")","v":""},{"$f":"IF($P1673=AC1669,AC1669,\"\")","v":""},{"$f":"IF($P1673=AD1669,AD1669,\"\")","v":""},{"$f":"IF($P1673=AE1669,AE1669,\"\")","v":""},{"$f":"IF($P1673=AF1669,AF1669,\"\")","v":""},{"$f":"IF($P1673=AG1669,AG1669,\"\")","v":""},{"$f":"IF($P1673=AH1669,AH1669,\"\")","v":""},{"$f":"IF($P1673=AI1669,AI1669,\"\")","v":""},{"$f":"IF($P1673=AJ1669,AJ1669,\"\")","v":""},{"$f":"IF($P1673=AK1669,AK1669,\"\")","v":""},{"$f":"IF($P1673=AL1669,AL1669,\"\")","v":""},{"$f":"IF($P1673=AM1669,AM1669,\"\")","v":""},{"$f":"IF($P1673=AN1669,AN1669,\"\")","v":""},{"$f":"IF($P1673=AO1669,AO1669,\"\")","v":""},{"$f":"IF($P1673=AP1669,AP1669,\"\")","v":""},{"$f":"IF($P1673=AQ1669,AQ1669,\"\")","v":""},{"$f":"IF($P1673=AR1669,AR1669,\"\")","v":""},{"$f":"IF($P1673=AS1669,AS1669,\"\")","v":""},{"$f":"IF($P1673=AT1669,AT1669,\"\")","v":""},{"$f":"IF($P1673=AU1669,AU1669,\"\")","v":""},{"$f":"IF($P1673=AV1669,AV1669,\"\")","v":""},{"$f":"IF($P1673=AW1669,AW1669,\"\")","v":""},{"$f":"IF($P1673=AX1669,AX1669,\"\")","v":""},{"$f":"IF($P1673=AY1669,AY1669,\"\")","v":""},{"$f":"IF($P1673=AZ1669,AZ1669,\"\")","v":""},{"$f":"IF($P1673=BA1669,BA1669,\"\")","v":""},null,null,null,null,null,null,2,{"$f":"BK1671","v":0},{"$f":"BL1671","v":0}]
[null,null,null,10,"",{"$f":"P1662","v":""},{"$f":"IF(F1673=\"\",\"\",IF(E1673<=$C$74,\"X\",\"\"))","v":""},"",null,3,"",{"$f":"P1669","v":""},{"$f":"IF(L1673=\"\",\"\",IF(K1673<=$C$74,\"X\",\"\"))","v":""},{"$f":"IF(M1673=\"X\",L1673,\"\")","v":""},null,{"$f":"O1671","v":0},null,null,null,null,null,null,null,null,null,null,null,null,null,null,null,null,null,null,null,null,null,null,null,null,null,null,null,null,null,null,null,null,null,null,null,null,null,null,null,null,null,null,null,null,null,3,{"$f":"BK1672","v":0},0,null,null,null,null,null,null,null,null,null,null,null,null,null,null,null,"MASSIMO CARICO",null,null,null,null,{"$f":"C1667","v":200}]
[null,null,null,14,"",{"$f":"T1662","v":""},{"$f":"IF(F1677=\"\",\"\",IF(E1677<=$C$74,\"X\",\"\"))","v":""},"",null,7,"",{"$f":"T1669","v":""},{"$f":"IF(L1677=\"\",\"\",IF(K1677<=$C$74,\"X\",\"\"))","v":""},{"$f":"IF(M1677=\"X\",L1677,\"\")","v":""},null,null,null,null,null,null,null,null,null,null,null,null,null,null,null,null,null,null,null,null,null,null,null,null,null,null,null,null,null,null,null,null,null,null,null,null,null,null,null,null,null,null,null,null,null,null,null,7,{"$f":"BK1676","v":0},0]
[null,null,null,19,"",{"$f":"Y1662","v":""},{"$f":"IF(F1682=\"\",\"\",IF(E1682<=$C$74,\"X\",\"\"))","v":""},"",null,12,"",{"$f":"Y1669","v":""},{"$f":"IF(L1682=\"\",\"\",IF(K1682<=$C$74,\"X\",\"\"))","v":""},{"$f":"IF(M1682=\"X\",L1682,\"\")","v":""},null,null,null,null,null,null,null,null,null,null,null,null,null,null,null,null,null,null,null,null,null,null,null,null,null,null,null,null,null,null,null,null,null,null,null,null,null,null,null,null,null,null,null,null,null,null,null,12,{"$f":"BK1681","v":0},0]
[null,null,null,22,"",{"$f":"AB1662","v":""},{"$f":"IF(F1685=\"\",\"\",IF(E1685<=$C$74,\"X\",\"\"))","v":""},"",null,15,"",{"$f":"AB1669","v":""},{"$f":"IF(L1685=\"\",\"\",IF(K1685<=$C$74,\"X\",\"\"))","v":""},{"$f":"IF(M1685=\"X\",L1685,\"\")","v":""},null,"RIMASTI A DISPOSIZIONE",null,null,null,null,null,null,null,null,null,null,null,null,null,null,null,null,null,null,null,null,null,null,null,null,null,null,null,null,null,null,null,null,null,null,null,null,null,null,null,null,null,null,null,null,null,15,{"$f":"BK1684","v":0},0]
[null,null,null,24,"",{"$f":"AD1662","v":""},{"$f":"IF(F1687=\"\",\"\",IF(E1687<=$C$74,\"X\",\"\"))","v":""},"",null,17,"",{"$f":"AD1669","v":""},{"$f":"IF(L1687=\"\",\"\",IF(K1687<=$C$74,\"X\",\"\"))","v":""},{"$f":"IF(M1687=\"X\",L1687,\"\")","v":""},null,1,2,3,4,5,6,7,8,9,10,11,12,13,14,15,16,17,18,19,20,21,22,23,24,25,26,27,28,29,30,31,32,33,34,35,36,37,38,39,40,null,null,null,null,null,null,17,{"$f":"BK1686","v":0},0]
[null,null,null,29,"",{"$f":"AI1662","v":""},{"$f":"IF(F1692=\"\",\"\",IF(E1692<=$C$74,\"X\",\"\"))","v":""},"",null,22,"",{"$f":"AI1669","v":""},{"$f":"IF(L1692=\"\",\"\",IF(K1692<=$C$74,\"X\",\"\"))","v":""},{"$f":"IF(M1692=\"X\",L1692,\"\")","v":""},null,null,null,null,null,null,null,null,null,null,null,null,null,null,null,null,null,null,null,null,null,null,null,null,null,null,null,null,null,null,null,null,null,null,null,null,null,null,null,null,null,null,null,null,null,null,null,22,{"$f":"BK1691","v":0},0]
[null,null,null,34,"",{"$f":"AN1662","v":""},{"$f":"IF(F1697=\"\",\"\",IF(E1697<=$C$74,\"X\",\"\"))","v":""},"",null,27,"",{"$f":"AN1669","v":""},{"$f":"IF(L1697=\"\",\"\",IF(K1697<=$C$74,\"X\",\"\"))","v":""},{"$f":"IF(M1697=\"X\",L1697,\"\")","v":""},null,null,null,null,null,null,null,null,null,null,null,null,null,null,null,null,null,null,null,null,null,null,null,null,null,null,null,null,null,null,null,null,null,null,null,null,null,null,null,null,null,null,null,null,null,null,null,27,{"$f":"BK1696","v":0},0]
[null,null,null,38,"",{"$f":"AR1662","v":""},{"$f":"IF(F1701=\"\",\"\",IF(E1701<=$C$74,\"X\",\"\"))","v":""},"",null,31,"",{"$f":"AR1669","v":""},{"$f":"IF(L1701=\"\",\"\",IF(K1701<=$C$74,\"X\",\"\"))","v":""},{"$f":"IF(M1701=\"X\",L1701,\"\")","v":""},null,null,null,null,null,null,null,null,null,null,null,null,null,null,null,null,null,null,null,null,null,null,null,null,null,null,null,null,null,null,null,null,null,null,null,null,null,null,null,null,null,null,null,null,null,null,null,31,{"$f":"BK1700","v":0},0]
[null,null,null,null,null,null,null,null,null,34,"",{"$f":"AU1669","v":""},{"$f":"IF(L1704=\"\",\"\",IF(K1704<=$C$74,\"X\",\"\"))","v":""},{"$f":"IF(M1704=\"X\",L1704,\"\")","v":""},null,null,null,null,null,null,null,null,null,null,null,null,null,null,null,null,null,null,null,null,null,null,null,null,null,null,null,null,null,null,null,null,null,null,null,null,null,null,null,null,null,null,null,null,null,null,null,34,{"$f":"BK1703","v":0},0]
[null,null,null,null,null,null,null,null,null,36,"",{"$f":"AW1669","v":""},{"$f":"IF(L1706=\"\",\"\",IF(K1706<=$C$74,\"X\",\"\"))","v":""},{"$f":"IF(M1706=\"X\",L1706,\"\")","v":""},null,null,null,null,null,null,null,null,null,null,null,null,null,null,null,null,null,null,null,null,null,null,null,null,null,null,null,null,null,null,null,null,null,null,null,null,null,null,null,null,null,null,null,null,null,null,null,36,{"$f":"BK1705","v":0},0]
[]
[null,null,"TIR",null,{"$f":"E1655+1","v":29},null,{"$f":"P1688","v":""},{"$f":"Q1688","v":""},{"$f":"R1688","v":""},{"$f":"S1688","v":""},{"$f":"T1688","v":""},{"$f":"U1688","v":""},{"$f":"V1688","v":""},{"$f":"W1688","v":""},{"$f":"X1688","v":""},{"$f":"Y1688","v":""},{"$f":"Z1688","v":""},{"$f":"AA1688","v":""},{"$f":"AB1688","v":""},{"$f":"AC1688","v":""},{"$f":"AD1688","v":""},{"$f":"AE1688","v":""},{"$f":"AF1688","v":""},{"$f":"AG1688","v":""},{"$f":"AH1688","v":""},{"$f":"AI1688","v":""},{"$f":"AJ1688","v":""},{"$f":"AK1688","v":""},{"$f":"AL1688","v":""},{"$f":"AM1688","v":""},{"$f":"AN1688","v":""},{"$f":"AO1688","v":""},{"$f":"AP1688","v":""},{"$f":"AQ1688","v":""},{"$f":"AR1688","v":""},{"$f":"AS1688","v":""},{"$f":"AT1688","v":""},{"$f":"AU1688","v":""},{"$f":"AV1688","v":""},{"$f":"AW1688","v":""},{"$f":"AX1688","v":""},{"$f":"AY1688","v":""},{"$f":"AZ1688","v":""},{"$f":"BA1688","v":""},{"$f":"BB1688","v":""},{"$f":"BC1688","v":""}]
[null,null,"MASSIMO PESO",null,null,null,{"$f":"MAX(G1715:AT1715)","v":0}]
[null,null,"DISPONIBILI",null,null,null,{"$f":"IF(G1715=$G1716,\"\",G1715)","v":""},{"$f":"IF(H1715=$G1716,\"\",H1715)","v":""},{"$f":"IF(I1715=$G1716,\"\",I1715)","v":""},{"$f":"IF(J1715=$G1716,\"\",J1715)","v":""},{"$f":"IF(K1715=$G1716,\"\",K1715)","v":""},{"$f":"IF(L1715=$G1716,\"\",L1715)","v":""},{"$f":"IF(M1715=$G1716,\"\",M1715)","v":""},{"$f":"IF(N1715=$G1716,\"\",N1715)","v":""},{"$f":"IF(O1715=$G1716,\"\",O1715)","v":""},{"$f":"IF(P1715=$G1716,\"\",P1715)","v":""},{"$f":"IF(Q1715=$G1716,\"\",Q1715)","v":""},{"$f":"IF(R1715=$G1716,\"\",R1715)","v":""},{"$f":"IF(S1715=$G1716,\"\",S1715)","v":""},{"$f":"IF(T1715=$G1716,\"\",T1715)","v":""},{"$f":"IF(U1715=$G1716,\"\",U1715)","v":""},{"$f":"IF(V1715=$G1716,\"\",V1715)","v":""},{"$f":"IF(W1715=$G1716,\"\",W1715)","v":""},{"$f":"IF(X1715=$G1716,\"\",X1715)","v":""},{"$f":"IF(Y1715=$G1716,\"\",Y1715)","v":""},{"$f":"IF(Z1715=$G1716,\"\",Z1715)","v":""},{"$f":"IF(AA1715=$G1716,\"\",AA1715)","v":""},{"$f":"IF(AB1715=$G1716,\"\",AB1715)","v":""},{"$f":"IF(AC1715=$G1716,\"\",AC1715)","v":""},{"$f":"IF(AD1715=$G1716,\"\",AD1715)","v":""},{"$f":"IF(AE1715=$G1716,\"\",AE1715)","v":""},{"$f":"IF(AF1715=$G1716,\"\",AF1715)","v":""},{"$f":"IF(AG1715=$G1716,\"\",AG1715)","v":""},{"$f":"IF(AH1715=$G1716,\"\",AH1715)","v":""},{"$f":"IF(AI1715=$G1716,\"\",AI1715)","v":""},{"$f":"IF(AJ1715=$G1716,\"\",AJ1715)","v":""},{"$f":"IF(AK1715=$G1716,\"\",AK1715)","v":""},{"$f":"IF(AL1715=$G1716,\"\",AL1715)","v":""},{"$f":"IF(AM1715=$G1716,\"\",AM1715)","v":""},{"$f":"IF(AN1715=$G1716,\"\",AN1715)","v":""},{"$f":"IF(AO1715=$G1716,\"\",AO1715)","v":""},{"$f":"IF(AP1715=$G1716,\"\",AP1715)","v":""},{"$f":"IF(AQ1715=$G1716,\"\",AQ1715)","v":""},{"$f":"IF(AR1715=$G1716,\"\",AR1715)","v":""},{"$f":"IF(AS1715=$G1716,\"\",AS1715)","v":""},{"$f":"IF(AT1715=$G1716,\"\",AT1715)","v":""},null,null,null,null,null,null,null,null,null,null,null,null,null,null,null,null,null,null,null,null,null,null,null,null,null,null,null,null,null,null,null,null,null,null,null,null,null,{"$f":"IF(CC1729=0,\"\",CC1729)","v":""},null,{"$f":"IF(CF1721=\"\",\"\",CC1728)","v":""}]
[null,null,null,3,"",{"$f":"I1721","v":""},"","",null,{"$f":"I1723","v":0}]
[null,null,null,7,"",{"$f":"M1721","v":""},{"$f":"IF(F1729=\"\",\"\",IF(E1729<=$C$74,\"X\",\"\"))","v":""},"",null,null,null,null,null,null,null,null,null,null,null,null,null,null,null,null,null,null,null,null,null,null,null,null,null,null,null,null,null,null,null,null,null,null,null,null,null,null,null,null,null,null,null,null,null,null,null,null,null,null,null,null,null,null,1,2,null,null,null,null,null,null,null,null,null,null,null,null,null,null,null,null,{"$f":"P1732","v":0}]
[null,null,null,8,"",{"$f":"N1721","v":""},{"$f":"IF(F1730=\"\",\"\",IF(E1730<=$C$74,\"X\",\"\"))","v":""},"",null,1,{"$f":"IF(L1730<>\"\",BK1730+BL1730+L1730,\"\")","v":""},{"$f":"N1728","v":""},{"$f":"IF(L1730=\"\",\"\",IF(K1730<=$C$74,\"X\",\"\"))","v":""},{"$f":"IF(M1730=\"X\",L1730,\"\")","v":""},{"$f":"MAX(N1730:N1749)","v":0},{"$f":"IF(P1731=N1728,N1727,\"\")","v":""},{"$f":"IF(Q1731=O1728,O1727,\"\")","v":""},{"$f":"IF(R1731=P1728,P1727,\"\")","v":""},{"$f":"IF(S1731=Q1728,Q1727,\"\")","v":""},{"$f":"IF(T1731=R1728,R1727,\"\")","v":""},{"$f":"IF(U1731=S1728,S1727,\"\")","v":""},{"$f":"IF(V1731=T1728,T1727,\"\")","v":""},{"$f":"IF(W1731=U1728,U1727,\"\")","v":""},{"$f":"IF(X1731=V1728,V1727,\"\")","v":""},{"$f":"IF(Y1731=W1728,W1727,\"\")","v":""},{"$f":"IF(Z1731=X1728,X1727,\"\")","v":""},{"$f":"IF(AA1731=Y1728,Y1727,\"\")","v":""},{"$f":"IF(AB1731=Z1728,Z1727,\"\")","v":""},{"$f":"IF(AC1731=AA1728,AA1727,\"\")","v":""},{"$f":"IF(AD1731=AB1728,AB1727,\"\")","v":""},{"$f":"IF(AE1731=AC1728,AC1727,\"\")","v":""},{"$f":"IF(AF1731=AD1728,AD1727,\"\")","v":""},{"$f":"IF(AG1731=AE1728,AE1727,\"\")","v":""},{"$f":"IF(AH1731=AF1728,AF1727,\"\")","v":""},{"$f":"IF(AI1731=AG1728,AG1727,\"\")","v":""},{"$f":"IF(AJ1731=AH1728,AH1727,\"\")","v":""},{"$f":"IF(AK1731=AI1728,AI1727,\"\")","v":""},{"$f":"IF(AL1731=AJ1728,AJ1727,\"\")","v":""},{"$f":"IF(AM1731=AK1728,AK1727,\"\")","v":""},{"$f":"IF(AN1731=AL1728,AL1727,\"\")","v":""},{"$f":"IF(AO1731=AM1728,AM1727,\"\")","v":""},{"$f":"IF(AP1731=AN1728,AN1727,\"\")","v":""},{"$f":"IF(AQ1731=AO1728,AO1727,\"\")","v":""},{"$f":"IF(AR1731=AP1728,AP1727,\"\")","v":""},{"$f":"IF(AS1731=AQ1728,AQ1727,\"\")","v":""},{"$f":"IF(AT1731=AR1728,AR1727,\"\")","v":""},{"$f":"IF(AU1731=AS1728,AS1727,\"\")","v":""},{"$f":"IF(AV1731=AT1728,AT1727,\"\")","v":""},{"$f":"IF(AW1731=AU1728,AU1727,\"\")","v":""},{"$f":"IF(AX1731=AV1728,AV1727,\"\")","v":""},{"$f":"IF(AY1731=AW1728,AW1727,\"\")","v":""},{"$f":"IF(AZ1731=AX1728,AX1727,\"\")","v":""},{"$f":"IF(BA1731=AY1728,AY1727,\"\")","v":""},{"$f":"IF(BB1731=AZ1728,AZ1727,\"\")","v":""},{"$f":"IF(BC1731=BA1728,BA1727,\"\")","v":""},null,null,null,null,null,null,1,{"$f":"CC1719","v":0},{"$f":"CC1724","v":0}]
[null,null,null,13,"",{"$f":"S1721","v":""},{"$f":"IF(F1735=\"\",\"\",IF(E1735<=$C$74,\"X\",\"\"))","v":""},"",null,6,"",{"$f":"S1728","v":""},"","",null,null,null,null,null,null,null,null,null,null,null,null,null,null,null,null,null,null,null,null,null,null,null,null,null,null,null,null,null,null,null,null,null,null,null,null,null,null,null,null,null,null,null,null,null,null,null,6,{"$f":"BK1734","v":0},0]
[null,null,null,16,"",{"$f":"V1721","v":""},{"$f":"IF(F1738=\"\",\"\",IF(E1738<=$C$74,\"X\",\"\"))","v":""},"",null,9,"",{"$f":"V1728","v":""},{"$f":"IF(L1738=\"\",\"\",IF(K1738<=$C$74,\"X\",\"\"))","v":""},{"$f":"IF(M1738=\"X\",L1738,\"\")","v":""},null,null,null,null,null,null,null,null,null,null,null,null,null,null,null,null,null,null,null,null,null,null,null,null,null,null,null,null,null,null,null,null,null,null,null,null,null,null,null,null,null,null,null,null,null,null,null,9,{"$f":"BK1737","v":0},0]
[null,null,null,22,"",{"$f":"AB1721","v":""},{"$f":"IF(F1744=\"\",\"\",IF(E1744<=$C$74,\"X\",\"\"))","v":""},"",null,15,"",{"$f":"AB1728","v":""},{"$f":"IF(L1744=\"\",\"\",IF(K1744<=$C$74,\"X\",\"\"))","v":""},{"$f":"IF(M1744=\"X\",L1744,\"\")","v":""},null,"RIMASTI A DISPOSIZIONE",null,null,null,null,null,null,null,null,null,null,null,null,null,null,null,null,null,null,null,null,null,null,null,null,null,null,null,null,null,null,null,null,null,null,null,null,null,null,null,null,null,null,null,null,null,15,{"$f":"BK1743","v":0},0]
[null,null,null,24,"",{"$f":"AD1721","v":""},{"$f":"IF(F1746=\"\",\"\",IF(E1746<=$C$74,\"X\",\"\"))","v":""},"",null,17,"",{"$f":"AD1728","v":""},{"$f":"IF(L1746=\"\",\"\",IF(K1746<=$C$74,\"X\",\"\"))","v":""},{"$f":"IF(M1746=\"X\",L1746,\"\")","v":""},null,1,2,3,4,5,6,7,8,9,10,11,12,13,14,15,16,17,18,19,20,21,22,23,24,25,26,27,28,29,30,31,32,33,34,35,36,37,38,39,40,null,null,null,null,null,null,17,{"$f":"BK1745","v":0},0]
[null,null,null,27,"",{"$f":"AG1721","v":""},{"$f":"IF(F1749=\"\",\"\",IF(E1749<=$C$74,\"X\",\"\"))","v":""},"",null,20,"",{"$f":"AG1728","v":""},{"$f":"IF(L1749=\"\",\"\",IF(K1749<=$C$74,\"X\",\"\"))","v":""},{"$f":"IF(M1749=\"X\",L1749,\"\")","v":""},null,null,null,null,null,null,null,null,null,null,null,null,null,null,null,null,null,null,null,null,null,null,null,null,null,null,null,null,null,null,null,null,null,null,null,null,null,null,null,null,null,null,null,null,null,null,null,20,{"$f":"BK1748","v":0},0]
[null,null,null,32,"",{"$f":"AL1721","v":""},{"$f":"IF(F1754=\"\",\"\",IF(E1754<=$C$74,\"X\",\"\"))","v":""},"",null,25,"",{"$f":"AL1728","v":""},{"$f":"IF(L1754=\"\",\"\",IF(K1754<=$C$74,\"X\",\"\"))","v":""},{"$f":"IF(M1754=\"X\",L1754,\"\")","v":""},null,null,null,null,null,null,null,null,null,null,null,null,null,null,null,null,null,null,null,null,null,null,null,null,null,null,null,null,null,null,null,null,null,null,null,null,null,null,null,null,null,null,null,null,null,null,null,25,{"$f":"BK1753","v":0},0]
[null,null,null,36,"",{"$f":"AP1721","v":""},{"$f":"IF(F1758=\"\",\"\",IF(E1758<=$C$74,\"X\",\"\"))","v":""},"",null,29,"",{"$f":"AP1728","v":""},{"$f":"IF(L1758=\"\",\"\",IF(K1758<=$C$74,\"X\",\"\"))","v":""},{"$f":"IF(M1758=\"X\",L1758,\"\")","v":""},null,null,null,null,null,null,null,null,null,null,null,null,null,null,null,null,null,null,null,null,null,null,null,null,null,null,null,null,null,null,null,null,null,null,null,null,null,null,null,null,null,null,null,null,null,null,null,29,{"$f":"BK1757","v":0},0]
[null,null,null,37,"",{"$f":"AQ1721","v":""},{"$f":"IF(F1759=\"\",\"\",IF(E1759<=$C$74,\"X\",\"\"))","v":""},"",null,30,"",{"$f":"AQ1728","v":""},{"$f":"IF(L1759=\"\",\"\",IF(K1759<=$C$74,\"X\",\"\"))","v":""},{"$f":"IF(M1759=\"X\",L1759,\"\")","v":""},null,null,null,null,null,null,null,null,null,null,null,null,null,null,null,null,null,null,null,null,null,null,null,null,null,null,null,null,null,null,null,null,null,null,null,null,null,null,null,null,null,null,null,null,null,null,null,30,{"$f":"BK1758","v":0},0]
[null,null,null,null,null,null,null,null,null,34,"",{"$f":"AU1728","v":""},{"$f":"IF(L1763=\"\",\"\",IF(K1763<=$C$74,\"X\",\"\"))","v":""},{"$f":"IF(M1763=\"X\",L1763,\"\")","v":""},null,null,null,null,null,null,null,null,null,null,null,null,null,null,null,null,null,null,null,null,null,null,null,null,null,null,null,null,null,null,null,null,null,null,null,null,null,null,null,null,null,null,null,null,null,null,null,34,{"$f":"BK1762","v":0},0]
[null,null,null,null,null,null,null,null,null,39,"",{"$f":"AZ1728","v":""},{"$f":"IF(L1768=\"\",\"\",IF(K1768<=$C$74,\"X\",\"\"))","v":""},{"$f":"IF(M1768=\"X\",L1768,\"\")","v":""},null,null,null,null,null,null,null,null,null,null,null,null,null,null,null,null,null,null,null,null,null,null,null,null,null,null,null,null,null,null,null,null,null,null,null,null,null,null,null,null,null,null,null,null,null,null,null,39,{"$f":"BK1767","v":0},0]
[null,null,"TIR",null,{"$f":"E1714+1","v":30},null,{"$f":"P1747","v":""},{"$f":"Q1747","v":""},{"$f":"R1747","v":""},{"$f":"S1747","v":""},{"$f":"T1747","v":""},{"$f":"U1747","v":""},{"$f":"V1747","v":""},{"$f":"W1747","v":""},{"$f":"X1747","v":""},{"$f":"Y1747","v":""},{"$f":"Z1747","v":""},{"$f":"AA1747","v":""},{"$f":"AB1747","v":""},{"$f":"AC1747","v":""},{"$f":"AD1747","v":""},{"$f":"AE1747","v":""},{"$f":"AF1747","v":""},{"$f":"AG1747","v":""},{"$f":"AH1747","v":""},{"$f":"AI1747","v":""},{"$f":"AJ1747","v":""},{"$f":"AK1747","v":""},{"$f":"AL1747","v":""},{"$f":"AM1747","v":""},{"$f":"AN1747","v":""},{"$f":"AO1747","v":""},{"$f":"AP1747","v":""},{"$f":"AQ1747","v":""},{"$f":"AR1747","v":""},{"$f":"AS1747","v":""},{"$f":"AT1747","v":""},{"$f":"AU1747","v":""},{"$f":"AV1747","v":""},{"$f":"AW1747","v":""},{"$f":"AX1747","v":""},{"$f":"AY1747","v":""},{"$f":"AZ1747","v":""},{"$f":"BA1747","v":""},{"$f":"BB1747","v":""},{"$f":"BC1747","v":""}]
[null,null,"MASSIMO PESO",null,null,null,{"$f":"MAX(G1774:AT1774)","v":0}]
[null,null,null,null,null,null,{"$f":"G1775","v":0},null,null,null,null,null,null,null,null,null,null,null,null,null,null,null,null,null,null,null,null,null,null,null,null,null,null,null,null,null,null,null,null,null,null,null,null,null,null,null,null,null,null,null,null,null,null,null,null,null,null,null,null,null,null,null,null,null,null,null,null,null,null,null,null,null,null,null,null,null,null,null,null,null,{"$f":"G1775","v":0},null,null,{"$f":"IF(CC1778=0,\"\",CC1778)","v":""},null,{"$f":"IF(CF1778=\"\",\"\",CC1777)","v":""}]
[null,null,null,2,"",{"$f":"H1780","v":""},{"$f":"IF(F1783=\"\",\"\",IF(E1783<=$C$74,\"X\",\"\"))","v":""},"",null,{"$f":"IF($J1784=G1780,G1780,\"\")","v":""},{"$f":"IF($J1784=H1780,H1780,\"\")","v":""},{"$f":"IF($J1784=I1780,I1780,\"\")","v":""},{"$f":"IF($J1784=J1780,J1780,\"\")","v":""},{"$f":"IF($J1784=K1780,K1780,\"\")","v":""},{"$f":"IF($J1784=L1780,L1780,\"\")","v":""},{"$f":"IF($J1784=M1780,M1780,\"\")","v":""},{"$f":"IF($J1784=N1780,N1780,\"\")","v":""},{"$f":"IF($J1784=O1780,O1780,\"\")","v":""},{"$f":"IF($J1784=P1780,P1780,\"\")","v":""},{"$f":"IF($J1784=Q1780,Q1780,\"\")","v":""},{"$f":"IF($J1784=R1780,R1780,\"\")","v":""},{"$f":"IF($J1784=S1780,S1780,\"\")","v":""},{"$f":"IF($J1784=T1780,T1780,\"\")","v":""},{"$f":"IF($J1784=U1780,U1780,\"\")","v":""},{"$f":"IF($J1784=V1780,V1780,\"\")","v":""},{"$f":"IF($J1784=W1780,W1780,\"\")","v":""},{"$f":"IF($J1784=X1780,X1780,\"\")","v":""},{"$f":"IF($J1784=Y1780,Y1780,\"\")","v":""},{"$f":"IF($J1784=Z1780,Z1780,\"\")","v":""},{"$f":"IF($J1784=AA1780,AA1780,\"\")","v":""},{"$f":"IF($J1784=AB1780,AB1780,\"\")","v":""},{"$f":"IF($J1784=AC1780,AC1780,\"\")","v":""},{"$f":"IF($J1784=AD1780,AD1780,\"\")","v":""},{"$f":"IF($J1784=AE1780,AE1780,\"\")","v":""},{"$f":"IF($J1784=AF1780,AF1780,\"\")","v":""},{"$f":"IF($J1784=AG1780,AG1780,\"\")","v":""},{"$f":"IF($J1784=AH1780,AH1780,\"\")","v":""},{"$f":"IF($J1784=AI1780,AI1780,\"\")","v":""},{"$f":"IF($J1784=AJ1780,AJ1780,\"\")","v":""},{"$f":"IF($J1784=AK1780,AK1780,\"\")","v":""},{"$f":"IF($J1784=AL1780,AL1780,\"\")","v":""},{"$f":"IF($J1784=AM1780,AM1780,\"\")","v":""},{"$f":"IF($J1784=AN1780,AN1780,\"\")","v":""},{"$f":"IF($J1784=AO1780,AO1780,\"\")","v":""},{"$f":"IF($J1784=AP1780,AP1780,\"\")","v":""},{"$f":"IF($J1784=AQ1780,AQ1780,\"\")","v":""},{"$f":"IF($J1784=AR1780,AR1780,\"\")","v":""},{"$f":"IF($J1784=AS1780,AS1780,\"\")","v":""},{"$f":"IF($J1784=AT1780,AT1780,\"\")","v":""},null,null,null,null,null,null,null,null,null,null,null,null,null,null,null,null,null,null,null,null,null,null,null,null,null,null,null,null,null,null,null,{"$f":"J1784","v":0}]
[null,null,null,6,"",{"$f":"L1780","v":""},"","",null,"DISPONIBILI",null,null,null,{"$f":"IF(G1780=\"\",\"\",IF(G1780=J1783,\"\",G1780))","v":""},{"$f":"IF(H1780=\"\",\"\",IF(H1780=K1783,\"\",H1780))","v":""},{"$f":"IF(I1780=\"\",\"\",IF(I1780=L1783,\"\",I1780))","v":""},{"$f":"IF(J1780=\"\",\"\",IF(J1780=M1783,\"\",J1780))","v":""},{"$f":"IF(K1780=\"\",\"\",IF(K1780=N1783,\"\",K1780))","v":""},{"$f":"IF(L1780=\"\",\"\",IF(L1780=O1783,\"\",L1780))","v":""},{"$f":"IF(M1780=\"\",\"\",IF(M1780=P1783,\"\",M1780))","v":""},{"$f":"IF(N1780=\"\",\"\",IF(N1780=Q1783,\"\",N1780))","v":""},{"$f":"IF(O1780=\"\",\"\",IF(O1780=R1783,\"\",O1780))","v":""},{"$f":"IF(P1780=\"\",\"\",IF(P1780=S1783,\"\",P1780))","v":""},{"$f":"IF(Q1780=\"\",\"\",IF(Q1780=T1783,\"\",Q1780))","v":""},{"$f":"IF(R1780=\"\",\"\",IF(R1780=U1783,\"\",R1780))","v":""},{"$f":"IF(S1780=\"\",\"\",IF(S1780=V1783,\"\",S1780))","v":""},{"$f":"IF(T1780=\"\",\"\",IF(T1780=W1783,\"\",T1780))","v":""},{"$f":"IF(U1780=\"\",\"\",IF(U1780=X1783,\"\",U1780))","v":""},{"$f":"IF(V1780=\"\",\"\",IF(V1780=Y1783,\"\",V1780))","v":""},{"$f":"IF(W1780=\"\",\"\",IF(W1780=Z1783,\"\",W1780))","v":""},{"$f":"IF(X1780=\"\",\"\",IF(X1780=AA1783,\"\",X1780))","v":""},{"$f":"IF(Y1780=\"\",\"\",IF(Y1780=AB1783,\"\",Y1780))","v":""},{"$f":"IF(Z1780=\"\",\"\",IF(Z1780=AC1783,\"\",Z1780))","v":""},{"$f":"IF(AA1780=\"\",\"\",IF(AA1780=AD1783,\"\",AA1780))","v":""},{"$f":"IF(AB1780=\"\",\"\",IF(AB1780=AE1783,\"\",AB1780))","v":""},{"$f":"IF(AC1780=\"\",\"\",IF(AC1780=AF1783,\"\",AC1780))","v":""},{"$f":"IF(AD1780=\"\",\"\",IF(AD1780=AG1783,\"\",AD1780))","v":""},{"$f":"IF(AE1780=\"\",\"\",IF(AE1780=AH1783,\"\",AE1780))","v":""},{"$f":"IF(AF1780=\"\",\"\",IF(AF1780=AI1783,\"\",AF1780))","v":""},{"$f":"IF(AG1780=\"\",\"\",IF(AG1780=AJ1783,\"\",AG1780))","v":""},{"$f":"IF(AH1780=\"\",\"\",IF(AH1780=AK1783,\"\",AH1780))","v":""},{"$f":"IF(AI1780=\"\",\"\",IF(AI1780=AL1783,\"\",AI1780))","v":""},{"$f":"IF(AJ1780=\"\",\"\",IF(AJ1780=AM1783,\"\",AJ1780))","v":""},{"$f":"IF(AK1780=\"\",\"\",IF(AK1780=AN1783,\"\",AK1780))","v":""},{"$f":"IF(AL1780=\"\",\"\",IF(AL1780=AO1783,\"\",AL1780))","v":""},{"$f":"IF(AM1780=\"\",\"\",IF(AM1780=AP1783,\"\",AM1780))","v":""},{"$f":"IF(AN1780=\"\",\"\",IF(AN1780=AQ1783,\"\",AN1780))","v":""},{"$f":"IF(AO1780=\"\",\"\",IF(AO1780=AR1783,\"\",AO1780))","v":""},{"$f":"IF(AP1780=\"\",\"\",IF(AP1780=AS1783,\"\",AP1780))","v":""},{"$f":"IF(AQ1780=\"\",\"\",IF(AQ1780=AT1783,\"\",AQ1780))","v":""},{"$f":"IF(AR1780=\"\",\"\",IF(AR1780=AU1783,\"\",AR1780))","v":""},{"$f":"IF(AS1780=\"\",\"\",IF(AS1780=AV1783,\"\",AS1780))","v":""},{"$f":"IF(AT1780=\"\",\"\",IF(AT1780=AW1783,\"\",AT1780))","v":""},null,null,null,null,null,null,null,null,null,null,null,null,null,null,null,null,null,null,null,null,null,"Terzo Blocco",null,null,null,null,null,{"$f":"P1789&Q1789&R1789&S1789&T1789&U1789&V1789&W1789&X1789&Y1789&Z1789&AA1789&AB1789&AC1789&AD1789&AE1789&AF1789&AG1789&AH1789&AI1789&AJ1789&AK1789&AL1789&AM1789&AN1789&AO1789&AP1789&AQ1789&AR1789&AS1789&AT1789&AU1789&AV1789&AW1789&AX1789&AY1789&AZ1789&BA1789&BB1789&BC1789","v":""}]
[null,null,null,7,"",{"$f":"M1780","v":""},{"$f":"IF(F1788=\"\",\"\",IF(E1788<=$C$74,\"X\",\"\"))","v":""},"",null,null,null,null,null,null,null,null,null,null,null,null,null,null,null,null,null,null,null,null,null,null,null,null,null,null,null,null,null,null,null,null,null,null,null,null,null,null,null,null,null,null,null,null,null,null,null,null,null,null,null,null,null,null,1,2,null,null,null,null,null,null,null,null,null,null,null,null,null,null,null,null,{"$f":"P1791","v":0}]
[null,null,null,11,"",{"$f":"Q1780","v":""},{"$f":"IF(F1792=\"\",\"\",IF(E1792<=$C$74,\"X\",\"\"))","v":""},"",null,4,"",{"$f":"Q1787","v":""},"","",null,null,null,null,null,null,null,null,null,null,null,null,null,null,null,null,null,null,null,null,null,null,null,null,null,null,null,null,null,null,null,null,null,null,null,null,null,null,null,null,null,null,null,null,null,null,null,4,{"$f":"BK1791","v":0},0]
[null,null,null,16,"",{"$f":"V1780","v":""},{"$f":"IF(F1797=\"\",\"\",IF(E1797<=$C$74,\"X\",\"\"))","v":""},"",null,9,"",{"$f":"V1787","v":""},{"$f":"IF(L1797=\"\",\"\",IF(K1797<=$C$74,\"X\",\"\"))","v":""},{"$f":"IF(M1797=\"X\",L1797,\"\")","v":""},null,null,null,null,null,null,null,null,null,null,null,null,null,null,null,null,null,null,null,null,null,null,null,null,null,null,null,null,null,null,null,null,null,null,null,null,null,null,null,null,null,null,null,null,null,null,null,9,{"$f":"BK1796","v":0},0]
[null,null,null,19,"",{"$f":"Y1780","v":""},{"$f":"IF(F1800=\"\",\"\",IF(E1800<=$C$74,\"X\",\"\"))","v":""},"",null,12,"",{"$f":"Y1787","v":""},{"$f":"IF(L1800=\"\",\"\",IF(K1800<=$C$74,\"X\",\"\"))","v":""},{"$f":"IF(M1800=\"X\",L1800,\"\")","v":""},null,null,null,null,null,null,null,null,null,null,null,null,null,null,null,null,null,null,null,null,null,null,null,null,null,null,null,null,null,null,null,null,null,null,null,null,null,null,null,null,null,null,null,null,null,null,null,12,{"$f":"BK1799","v":0},0]
[null,null,null,21,{"$f":"IF(F1802<>\"\",F1802+G$126,\"\")","v":""},{"$f":"AA1780","v":""},{"$f":"IF(F1802=\"\",\"\",IF(E1802<=$C$74,\"X\",\"\"))","v":""},"",null,14,"",{"$f":"AA1787","v":""},{"$f":"IF(L1802=\"\",\"\",IF(K1802<=$C$74,\"X\",\"\"))","v":""},{"$f":"IF(M1802=\"X\",L1802,\"\")","v":""},null,null,null,null,null,null,null,null,null,null,null,null,null,null,null,null,null,null,null,null,null,null,null,null,null,null,null,null,null,null,null,null,null,null,null,null,null,null,null,null,null,null,null,null,null,null,null,14,{"$f":"BK1801","v":0},0]
[null,null,null,27,"",{"$f":"AG1780","v":""},{"$f":"IF(F1808=\"\",\"\",IF(E1808<=$C$74,\"X\",\"\"))","v":""},"",null,20,"",{"$f":"AG1787","v":""},{"$f":"IF(L1808=\"\",\"\",IF(K1808<=$C$74,\"X\",\"\"))","v":""},{"$f":"IF(M1808=\"X\",L1808,\"\")","v":""},null,null,null,null,null,null,null,null,null,null,null,null,null,null,null,null,null,null,null,null,null,null,null,null,null,null,null,null,null,null,null,null,null,null,null,null,null,null,null,null,null,null,null,null,null,null,null,20,{"$f":"BK1807","v":0},0]
[null,null,null,30,"",{"$f":"AJ1780","v":""},{"$f":"IF(F1811=\"\",\"\",IF(E1811<=$C$74,\"X\",\"\"))","v":""},"",null,23,"",{"$f":"AJ1787","v":""},{"$f":"IF(L1811=\"\",\"\",IF(K1811<=$C$74,\"X\",\"\"))","v":""},{"$f":"IF(M1811=\"X\",L1811,\"\")","v":""},null,null,null,null,null,null,null,null,null,null,null,null,null,null,null,null,null,null,null,null,null,null,null,null,null,null,null,null,null,null,null,null,null,null,null,null,null,null,null,null,null,null,null,null,null,null,null,23,{"$f":"BK1810","v":0},0]
[null,null,null,35,"",{"$f":"AO1780","v":""},{"$f":"IF(F1816=\"\",\"\",IF(E1816<=$C$74,\"X\",\"\"))","v":""},"",null,28,"",{"$f":"AO1787","v":""},{"$f":"IF(L1816=\"\",\"\",IF(K1816<=$C$74,\"X\",\"\"))","v":""},{"$f":"IF(M1816=\"X\",L1816,\"\")","v":""},null,null,null,null,null,null,null,null,null,null,null,null,null,null,null,null,null,null,null,null,null,null,null,null,null,null,null,null,null,null,null,null,null,null,null,null,null,null,null,null,null,null,null,null,null,null,null,28,{"$f":"BK1815","v":0},0]
[null,null,null,36,"",{"$f":"AP1780","v":""},{"$f":"IF(F1817=\"\",\"\",IF(E1817<=$C$74,\"X\",\"\"))","v":""},"",null,29,"",{"$f":"AP1787","v":""},{"$f":"IF(L1817=\"\",\"\",IF(K1817<=$C$74,\"X\",\"\"))","v":""},{"$f":"IF(M1817=\"X\",L1817,\"\")","v":""},null,null,null,null,null,null,null,null,null,null,null,null,null,null,null,null,null,null,null,null,null,null,null,null,null,null,null,null,null,null,null,null,null,null,null,null,null,null,null,null,null,null,null,null,null,null,null,29,{"$f":"BK1816","v":0},0]
[null,null,null,40,"",{"$f":"AT1780","v":""},{"$f":"IF(F1821=\"\",\"\",IF(E1821<=$C$74,\"X\",\"\"))","v":""},"",null,33,"",{"$f":"AT1787","v":""},{"$f":"IF(L1821=\"\",\"\",IF(K1821<=$C$74,\"X\",\"\"))","v":""},{"$f":"IF(M1821=\"X\",L1821,\"\")","v":""},null,null,null,null,null,null,null,null,null,null,null,null,null,null,null,null,null,null,null,null,null,null,null,null,null,null,null,null,null,null,null,null,null,null,null,null,null,null,null,null,null,null,null,null,null,null,null,33,{"$f":"BK1820","v":0},0]
[null,null,null,null,null,null,null,null,null,36,"",{"$f":"AW1787","v":""},{"$f":"IF(L1824=\"\",\"\",IF(K1824<=$C$74,\"X\",\"\"))","v":""},{"$f":"IF(M1824=\"X\",L1824,\"\")","v":""},null,null,null,null,null,null,null,null,null,null,null,null,null,null,null,null,null,null,null,null,null,null,null,null,null,null,null,null,null,null,null,null,null,null,null,null,null,null,null,null,null,null,null,null,null,null,null,36,{"$f":"BK1823","v":0},0]
[]
[null,null,"TIR",null,{"$f":"E1773+1","v":31},null,{"$f":"P1806","v":""},{"$f":"Q1806","v":""},{"$f":"R1806","v":""},{"$f":"S1806","v":""},{"$f":"T1806","v":""},{"$f":"U1806","v":""},{"$f":"V1806","v":""},{"$f":"W1806","v":""},{"$f":"X1806","v":""},{"$f":"Y1806","v":""},{"$f":"Z1806","v":""},{"$f":"AA1806","v":""},{"$f":"AB1806","v":""},{"$f":"AC1806","v":""},{"$f":"AD1806","v":""},{"$f":"AE1806","v":""},{"$f":"AF1806","v":""},{"$f":"AG1806","v":""},{"$f":"AH1806","v":""},{"$f":"AI1806","v":""},{"$f":"AJ1806","v":""},{"$f":"AK1806","v":""},{"$f":"AL1806","v":""},{"$f":"AM1806","v":""},{"$f":"AN1806","v":""},{"$f":"AO1806","v":""},{"$f":"AP1806","v":""},{"$f":"AQ1806","v":""},{"$f":"AR1806","v":""},{"$f":"AS1806","v":""},{"$f":"AT1806","v":""},{"$f":"AU1806","v":""},{"$f":"AV1806","v":""},{"$f":"AW1806","v":""},{"$f":"AX1806","v":""},{"$f":"AY1806","v":""},{"$f":"AZ1806","v":""},{"$f":"BA1806","v":""},{"$f":"BB1806","v":""},{"$f":"BC1806","v":""}]
[null,null,null,null,null,null,{"$f":"IF(G1833=$G1834,G1832,\"\")","v":""},{"$f":"IF(H1833=$G1834,H1832,\"\")","v":""},{"$f":"IF(I1833=$G1834,I1832,\"\")","v":""},{"$f":"IF(J1833=$G1834,J1832,\"\")","v":""},{"$f":"IF(K1833=$G1834,K1832,\"\")","v":""},{"$f":"IF(L1833=$G1834,L1832,\"\")","v":""},{"$f":"IF(M1833=$G1834,M1832,\"\")","v":""},{"$f":"IF(N1833=$G1834,N1832,\"\")","v":""},{"$f":"IF(O1833=$G1834,O1832,\"\")","v":""},{"$f":"IF(P1833=$G1834,P1832,\"\")","v":""},{"$f":"IF(Q1833=$G1834,Q1832,\"\")","v":""},{"$f":"IF(R1833=$G1834,R1832,\"\")","v":""},{"$f":"IF(S1833=$G1834,S1832,\"\")","v":""},{"$f":"IF(T1833=$G1834,T1832,\"\")","v":""},{"$f":"IF(U1833=$G1834,U1832,\"\")","v":""},{"$f":"IF(V1833=$G1834,V1832,\"\")","v":""},{"$f":"IF(W1833=$G1834,W1832,\"\")","v":""},{"$f":"IF(X1833=$G1834,X1832,\"\")","v":""},{"$f":"IF(Y1833=$G1834,Y1832,\"\")","v":""},{"$f":"IF(Z1833=$G1834,Z1832,\"\")","v":""},{"$f":"IF(AA1833=$G1834,AA1832,\"\")","v":""},{"$f":"IF(AB1833=$G1834,AB1832,\"\")","v":""},{"$f":"IF(AC1833=$G1834,AC1832,\"\")","v":""},{"$f":"IF(AD1833=$G1834,AD1832,\"\")","v":""},{"$f":"IF(AE1833=$G1834,AE1832,\"\")","v":""},{"$f":"IF(AF1833=$G1834,AF1832,\"\")","v":""},{"$f":"IF(AG1833=$G1834,AG1832,\"\")","v":""},{"$f":"IF(AH1833=$G1834,AH1832,\"\")","v":""},{"$f":"IF(AI1833=$G1834,AI1832,\"\")","v":""},{"$f":"IF(AJ1833=$G1834,AJ1832,\"\")","v":""},{"$f":"IF(AK1833=$G1834,AK1832,\"\")","v":""},{"$f":"IF(AL1833=$G1834,AL1832,\"\")","v":""},{"$f":"IF(AM1833=$G1834,AM1832,\"\")","v":""},{"$f":"IF(AN1833=$G1834,AN1832,\"\")","v":""},{"$f":"IF(AO1833=$G1834,AO1832,\"\")","v":""},{"$f":"IF(AP1833=$G1834,AP1832,\"\")","v":""},{"$f":"IF(AQ1833=$G1834,AQ1832,\"\")","v":""},{"$f":"IF(AR1833=$G1834,AR1832,\"\")","v":""},{"$f":"IF(AS1833=$G1834,AS1832,\"\")","v":""},{"$f":"IF(AT1833=$G1834,AT1832,\"\")","v":""}]
[null,null,null,null,null,null,null,null,null,null,null,null,null,null,null,null,null,null,null,null,null,null,null,null,null,null,null,null,null,null,null,null,null,null,null,null,null,null,null,null,null,null,null,null,null,null,null,null,null,null,null,null,null,null,null,null,null,null,null,null,null,null,null,null,null,null,null,null,null,null,null,null,null,null,null,null,null,null,null,null,null,null,null,"NUMERO TIR"]
[null,null,{"$f":"$P$3","v":200},4,"",{"$f":"J1839","v":""},"","",null,null,null,null,null,null,null,null,null,null,null,null,null,null,null,null,null,null,null,null,null,null,null,null,null,null,null,null,null,null,null,null,null,null,null,null,null,null,null,null,null,null,null,null,null,null,null,null,null,null,null,null,null,null,null,null,null,null,null,null,null,null,null,null,null,null,null,null,null,null,null,null,null,null,null,{"$f":"IF(CD1836>0,CF1785+1,\"\")","v":""}]
[null,null,null,5,"",{"$f":"K1839","v":""},"","",null,null,null,null,null,{"$f":"IF(N1846=G1839,G1838,\"\")","v":""},{"$f":"IF(O1846=H1839,H1838,\"\")","v":""},{"$f":"IF(P1846=I1839,I1838,\"\")","v":""},{"$f":"IF(Q1846=J1839,J1838,\"\")","v":""},{"$f":"IF(R1846=K1839,K1838,\"\")","v":""},{"$f":"IF(S1846=L1839,L1838,\"\")","v":""},{"$f":"IF(T1846=M1839,M1838,\"\")","v":""},{"$f":"IF(U1846=N1839,N1838,\"\")","v":""},{"$f":"IF(V1846=O1839,O1838,\"\")","v":""},{"$f":"IF(W1846=P1839,P1838,\"\")","v":""},{"$f":"IF(X1846=Q1839,Q1838,\"\")","v":""},{"$f":"IF(Y1846=R1839,R1838,\"\")","v":""},{"$f":"IF(Z1846=S1839,S1838,\"\")","v":""},{"$f":"IF(AA1846=T1839,T1838,\"\")","v":""},{"$f":"IF(AB1846=U1839,U1838,\"\")","v":""},{"$f":"IF(AC1846=V1839,V1838,\"\")","v":""},{"$f":"IF(AD1846=W1839,W1838,\"\")","v":""},{"$f":"IF(AE1846=X1839,X1838,\"\")","v":""},{"$f":"IF(AF1846=Y1839,Y1838,\"\")","v":""},{"$f":"IF(AG1846=Z1839,Z1838,\"\")","v":""},{"$f":"IF(AH1846=AA1839,AA1838,\"\")","v":""},{"$f":"IF(AI1846=AB1839,AB1838,\"\")","v":""},{"$f":"IF(AJ1846=AC1839,AC1838,\"\")","v":""},{"$f":"IF(AK1846=AD1839,AD1838,\"\")","v":""},{"$f":"IF(AL1846=AE1839,AE1838,\"\")","v":""},{"$f":"IF(AM1846=AF1839,AF1838,\"\")","v":""},{"$f":"IF(AN1846=AG1839,AG1838,\"\")","v":""},{"$f":"IF(AO1846=AH1839,AH1838,\"\")","v":""},{"$f":"IF(AP1846=AI1839,AI1838,\"\")","v":""},{"$f":"IF(AQ1846=AJ1839,AJ1838,\"\")","v":""},{"$f":"IF(AR1846=AK1839,AK1838,\"\")","v":""},{"$f":"IF(AS1846=AL1839,AL1838,\"\")","v":""},{"$f":"IF(AT1846=AM1839,AM1838,\"\")","v":""},{"$f":"IF(AU1846=AN1839,AN1838,\"\")","v":""},{"$f":"IF(AV1846=AO1839,AO1838,\"\")","v":""},{"$f":"IF(AW1846=AP1839,AP1838,\"\")","v":""},{"$f":"IF(AX1846=AQ1839,AQ1838,\"\")","v":""},{"$f":"IF(AY1846=AR1839,AR1838,\"\")","v":""},{"$f":"IF(AZ1846=AS1839,AS1838,\"\")","v":""},{"$f":"IF(BA1846=AT1839,AT1838,\"\")","v":""}]
[null,null,null,9,"",{"$f":"O1839","v":""},{"$f":"IF(F1849=\"\",\"\",IF(E1849<=$C$74,\"X\",\"\"))","v":""},"",null,2,"",{"$f":"O1846","v":""},{"$f":"IF(L1849=\"\",\"\",IF(K1849<=$C$74,\"X\",\"\"))","v":""},{"$f":"IF(M1849=\"X\",L1849,\"\")","v":""},null,{"$f":"IF($P1850=N1846,N1846,\"\")","v":""},{"$f":"IF($P1850=O1846,O1846,\"\")","v":""},{"$f":"IF($P1850=P1846,P1846,\"\")","v":""},{"$f":"IF($P1850=Q1846,Q1846,\"\")","v":""},{"$f":"IF($P1850=R1846,R1846,\"\")","v":""},{"$f":"IF($P1850=S1846,S1846,\"\")","v":""},{"$f":"IF($P1850=T1846,T1846,\"\")","v":""},{"$f":"IF($P1850=U1846,U1846,\"\")","v":""},{"$f":"IF($P1850=V1846,V1846,\"\")","v":""},{"$f":"IF($P1850=W1846,W1846,\"\")","v":""},{"$f":"IF($P1850=X1846,X1846,\"\")","v":""},{"$f":"IF($P1850=Y1846,Y1846,\"\")","v":""},{"$f":"IF($P1850=Z1846,Z1846,\"\")","v":""},{"$f":"IF($P1850=AA1846,AA1846,\"\")","v":""},{"$f":"IF($P1850=AB1846,AB1846,\"\")","v":""},{"$f":"IF($P1850=AC1846,AC1846,\"\")","v":""},{"$f":"IF($P1850=AD1846,AD1846,\"\")","v":""},{"$f":"IF($P1850=AE1846,AE1846,\"\")","v":""},{"$f":"IF($P1850=AF1846,AF1846,\"\")","v":""},{"$f":"IF($P1850=AG1846,AG1846,\"\")","v":""},{"$f":"IF($P1850=AH1846,AH1846,\"\")","v":""},{"$f":"IF($P1850=AI1846,AI1846,\"\")","v":""},{"$f":"IF($P1850=AJ1846,AJ1846,\"\")","v":""},{"$f":"IF($P1850=AK1846,AK1846,\"\")","v":""},{"$f":"IF($P1850=AL1846,AL1846,\"\")","v":""},{"$f":"IF($P1850=AM1846,AM1846,\"\")","v":""},{"$f":"IF($P1850=AN1846,AN1846,\"\")","v":""},{"$f":"IF($P1850=AO1846,AO1846,\"\")","v":""},{"$f":"IF($P1850=AP1846,AP1846,\"\")","v":""},{"$f":"IF($P1850=AQ1846,AQ1846,\"\")","v":""},{"$f":"IF($P1850=AR1846,AR1846,\"\")","v":""},{"$f":"IF($P1850=AS1846,AS1846,\"\")","v":""},{"$f":"IF($P1850=AT1846,AT1846,\"\")","v":""},{"$f":"IF($P1850=AU1846,AU1846,\"\")","v":""},{"$f":"IF($P1850=AV1846,AV1846,\"\")","v":""},{"$f":"IF($P1850=AW1846,AW1846,\"\")","v":""},{"$f":"IF($P1850=AX1846,AX1846,\"\")","v":""},{"$f":"IF($P1850=AY1846,AY1846,\"\")","v":""},{"$f":"IF($P1850=AZ1846,AZ1846,\"\")","v":""},{"$f":"IF($P1850=BA1846,BA1846,\"\")","v":""},null,null,null,null,null,null,2,{"$f":"BK1848","v":0},{"$f":"BL1848","v":0}]
[null,null,null,14,"",{"$f":"T1839","v":""},{"$f":"IF(F1854=\"\",\"\",IF(E1854<=$C$74,\"X\",\"\"))","v":""},"",null,7,"",{"$f":"T1846","v":""},{"$f":"IF(L1854=\"\",\"\",IF(K1854<=$C$74,\"X\",\"\"))","v":""},{"$f":"IF(M1854=\"X\",L1854,\"\")","v":""},null,null,null,null,null,null,null,null,null,null,null,null,null,null,null,null,null,null,null,null,null,null,null,null,null,null,null,null,null,null,null,null,null,null,null,null,null,null,null,null,null,null,null,null,null,null,null,7,{"$f":"BK1853","v":0},0]
[null,null,null,19,"",{"$f":"Y1839","v":""},{"$f":"IF(F1859=\"\",\"\",IF(E1859<=$C$74,\"X\",\"\"))","v":""},"",null,12,"",{"$f":"Y1846","v":""},{"$f":"IF(L1859=\"\",\"\",IF(K1859<=$C$74,\"X\",\"\"))","v":""},{"$f":"IF(M1859=\"X\",L1859,\"\")","v":""},null,null,null,null,null,null,null,null,null,null,null,null,null,null,null,null,null,null,null,null,null,null,null,null,null,null,null,null,null,null,null,null,null,null,null,null,null,null,null,null,null,null,null,null,null,null,null,12,{"$f":"BK1858","v":0},0]
[null,null,null,21,{"$f":"IF(F1861<>\"\",F1861+G$126,\"\")","v":""},{"$f":"AA1839","v":""},{"$f":"IF(F1861=\"\",\"\",IF(E1861<=$C$74,\"X\",\"\"))","v":""},"",null,14,"",{"$f":"AA1846","v":""},{"$f":"IF(L1861=\"\",\"\",IF(K1861<=$C$74,\"X\",\"\"))","v":""},{"$f":"IF(M1861=\"X\",L1861,\"\")","v":""},null,null,null,null,null,null,null,null,null,null,null,null,null,null,null,null,null,null,null,null,null,null,null,null,null,null,null,null,null,null,null,null,null,null,null,null,null,null,null,null,null,null,null,null,null,null,null,14,{"$f":"BK1860","v":0},0]
[null,null,null,24,"",{"$f":"AD1839","v":""},{"$f":"IF(F1864=\"\",\"\",IF(E1864<=$C$74,\"X\",\"\"))","v":""},"",null,17,"",{"$f":"AD1846","v":""},{"$f":"IF(L1864=\"\",\"\",IF(K1864<=$C$74,\"X\",\"\"))","v":""},{"$f":"IF(M1864=\"X\",L1864,\"\")","v":""},null,1,2,3,4,5,6,7,8,9,10,11,12,13,14,15,16,17,18,19,20,21,22,23,24,25,26,27,28,29,30,31,32,33,34,35,36,37,38,39,40,null,null,null,null,null,null,17,{"$f":"BK1863","v":0},0]
[null,null,null,29,"",{"$f":"AI1839","v":""},{"$f":"IF(F1869=\"\",\"\",IF(E1869<=$C$74,\"X\",\"\"))","v":""},"",null,22,"",{"$f":"AI1846","v":""},{"$f":"IF(L1869=\"\",\"\",IF(K1869<=$C$74,\"X\",\"\"))","v":""},{"$f":"IF(M1869=\"X\",L1869,\"\")","v":""},null,null,null,null,null,null,null,null,null,null,null,null,null,null,null,null,null,null,null,null,null,null,null,null,null,null,null,null,null,null,null,null,null,null,null,null,null,null,null,null,null,null,null,null,null,null,null,22,{"$f":"BK1868","v":0},0]
[null,null,null,33,"",{"$f":"AM1839","v":""},{"$f":"IF(F1873=\"\",\"\",IF(E1873<=$C$74,\"X\",\"\"))","v":""},"",null,26,"",{"$f":"AM1846","v":""},{"$f":"IF(L1873=\"\",\"\",IF(K1873<=$C$74,\"X\",\"\"))","v":""},{"$f":"IF(M1873=\"X\",L1873,\"\")","v":""},null,null,null,null,null,null,null,null,null,null,null,null,null,null,null,null,null,null,null,null,null,null,null,null,null,null,null,null,null,null,null,null,null,null,null,null,null,null,null,null,null,null,null,null,null,null,null,26,{"$f":"BK1872","v":0},0]
[null,null,null,34,"",{"$f":"AN1839","v":""},{"$f":"IF(F1874=\"\",\"\",IF(E1874<=$C$74,\"X\",\"\"))","v":""},"",null,27,"",{"$f":"AN1846","v":""},{"$f":"IF(L1874=\"\",\"\",IF(K1874<=$C$74,\"X\",\"\"))","v":""},{"$f":"IF(M1874=\"X\",L1874,\"\")","v":""},null,null,null,null,null,null,null,null,null,null,null,null,null,null,null,null,null,null,null,null,null,null,null,null,null,null,null,null,null,null,null,null,null,null,null,null,null,null,null,null,null,null,null,null,null,null,null,27,{"$f":"BK1873","v":0},0]
[null,null,null,38,"",{"$f":"AR1839","v":""},{"$f":"IF(F1878=\"\",\"\",IF(E1878<=$C$74,\"X\",\"\"))","v":""},"",null,31,"",{"$f":"AR1846","v":""},{"$f":"IF(L1878=\"\",\"\",IF(K1878<=$C$74,\"X\",\"\"))","v":""},{"$f":"IF(M1878=\"X\",L1878,\"\")","v":""},null,null,null,null,null,null,null,null,null,null,null,null,null,null,null,null,null,null,null,null,null,null,null,null,null,null,null,null,null,null,null,null,null,null,null,null,null,null,null,null,null,null,null,null,null,null,null,31,{"$f":"BK1877","v":0},0]
[null,null,null,null,null,null,null,null,null,36,"",{"$f":"AW1846","v":""},{"$f":"IF(L1883=\"\",\"\",IF(K1883<=$C$74,\"X\",\"\"))","v":""},{"$f":"IF(M1883=\"X\",L1883,\"\")","v":""},null,null,null,null,null,null,null,null,null,null,null,null,null,null,null,null,null,null,null,null,null,null,null,null,null,null,null,null,null,null,null,null,null,null,null,null,null,null,null,null,null,null,null,null,null,null,null,36,{"$f":"BK1882","v":0},0]
[null,null,null,null,null,null,null,null,null,39,"",{"$f":"AZ1846","v":""},{"$f":"IF(L1886=\"\",\"\",IF(K1886<=$C$74,\"X\",\"\"))","v":""},{"$f":"IF(M1886=\"X\",L1886,\"\")","v":""},null,null,null,null,null,null,null,null,null,null,null,null,null,null,null,null,null,null,null,null,null,null,null,null,null,null,null,null,null,null,null,null,null,null,null,null,null,null,null,null,null,null,null,null,null,null,null,39,{"$f":"BK1885","v":0},0]
[]
[null,null,null,null,null,null,{"$f":"IF(G1892=$G1893,G1891,\"\")","v":""},{"$f":"IF(H1892=$G1893,H1891,\"\")","v":""},{"$f":"IF(I1892=$G1893,I1891,\"\")","v":""},{"$f":"IF(J1892=$G1893,J1891,\"\")","v":""},{"$f":"IF(K1892=$G1893,K1891,\"\")","v":""},{"$f":"IF(L1892=$G1893,L1891,\"\")","v":""},{"$f":"IF(M1892=$G1893,M1891,\"\")","v":""},{"$f":"IF(N1892=$G1893,N1891,\"\")","v":""},{"$f":"IF(O1892=$G1893,O1891,\"\")","v":""},{"$f":"IF(P1892=$G1893,P1891,\"\")","v":""},{"$f":"IF(Q1892=$G1893,Q1891,\"\")","v":""},{"$f":"IF(R1892=$G1893,R1891,\"\")","v":""},{"$f":"IF(S1892=$G1893,S1891,\"\")","v":""},{"$f":"IF(T1892=$G1893,T1891,\"\")","v":""},{"$f":"IF(U1892=$G1893,U1891,\"\")","v":""},{"$f":"IF(V1892=$G1893,V1891,\"\")","v":""},{"$f":"IF(W1892=$G1893,W1891,\"\")","v":""},{"$f":"IF(X1892=$G1893,X1891,\"\")","v":""},{"$f":"IF(Y1892=$G1893,Y1891,\"\")","v":""},{"$f":"IF(Z1892=$G1893,Z1891,\"\")","v":""},{"$f":"IF(AA1892=$G1893,AA1891,\"\")","v":""},{"$f":"IF(AB1892=$G1893,AB1891,\"\")","v":""},{"$f":"IF(AC1892=$G1893,AC1891,\"\")","v":""},{"$f":"IF(AD1892=$G1893,AD1891,\"\")","v":""},{"$f":"IF(AE1892=$G1893,AE1891,\"\")","v":""},{"$f":"IF(AF1892=$G1893,AF1891,\"\")","v":""},{"$f":"IF(AG1892=$G1893,AG1891,\"\")","v":""},{"$f":"IF(AH1892=$G1893,AH1891,\"\")","v":""},{"$f":"IF(AI1892=$G1893,AI1891,\"\")","v":""},{"$f":"IF(AJ1892=$G1893,AJ1891,\"\")","v":""},{"$f":"IF(AK1892=$G1893,AK1891,\"\")","v":""},{"$f":"IF(AL1892=$G1893,AL1891,\"\")","v":""},{"$f":"IF(AM1892=$G1893,AM1891,\"\")","v":""},{"$f":"IF(AN1892=$G1893,AN1891,\"\")","v":""},{"$f":"IF(AO1892=$G1893,AO1891,\"\")","v":""},{"$f":"IF(AP1892=$G1893,AP1891,\"\")","v":""},{"$f":"IF(AQ1892=$G1893,AQ1891,\"\")","v":""},{"$f":"IF(AR1892=$G1893,AR1891,\"\")","v":""},{"$f":"IF(AS1892=$G1893,AS1891,\"\")","v":""},{"$f":"IF(AT1892=$G1893,AT1891,\"\")","v":""}]
[null,null,null,null,null,null,{"$f":"IF(G1898=\"\",\"\",IF(G1898=G1892,G1891,\"\"))","v":""},{"$f":"IF(H1898=\"\",\"\",IF(H1898=H1892,H1891,\"\"))","v":""},{"$f":"IF(I1898=\"\",\"\",IF(I1898=I1892,I1891,\"\"))","v":""},{"$f":"IF(J1898=\"\",\"\",IF(J1898=J1892,J1891,\"\"))","v":""},{"$f":"IF(K1898=\"\",\"\",IF(K1898=K1892,K1891,\"\"))","v":""},{"$f":"IF(L1898=\"\",\"\",IF(L1898=L1892,L1891,\"\"))","v":""},{"$f":"IF(M1898=\"\",\"\",IF(M1898=M1892,M1891,\"\"))","v":""},{"$f":"IF(N1898=\"\",\"\",IF(N1898=N1892,N1891,\"\"))","v":""},{"$f":"IF(O1898=\"\",\"\",IF(O1898=O1892,O1891,\"\"))","v":""},{"$f":"IF(P1898=\"\",\"\",IF(P1898=P1892,P1891,\"\"))","v":""},{"$f":"IF(Q1898=\"\",\"\",IF(Q1898=Q1892,Q1891,\"\"))","v":""},{"$f":"IF(R1898=\"\",\"\",IF(R1898=R1892,R1891,\"\"))","v":""},{"$f":"IF(S1898=\"\",\"\",IF(S1898=S1892,S1891,\"\"))","v":""},{"$f":"IF(T1898=\"\",\"\",IF(T1898=T1892,T1891,\"\"))","v":""},{"$f":"IF(U1898=\"\",\"\",IF(U1898=U1892,U1891,\"\"))","v":""},{"$f":"IF(V1898=\"\",\"\",IF(V1898=V1892,V1891,\"\"))","v":""},{"$f":"IF(W1898=\"\",\"\",IF(W1898=W1892,W1891,\"\"))","v":""},{"$f":"IF(X1898=\"\",\"\",IF(X1898=X1892,X1891,\"\"))","v":""},{"$f":"IF(Y1898=\"\",\"\",IF(Y1898=Y1892,Y1891,\"\"))","v":""},{"$f":"IF(Z1898=\"\",\"\",IF(Z1898=Z1892,Z1891,\"\"))","v":""},{"$f":"IF(AA1898=\"\",\"\",IF(AA1898=AA1892,AA1891,\"\"))","v":""},{"$f":"IF(AB1898=\"\",\"\",IF(AB1898=AB1892,AB1891,\"\"))","v":""},{"$f":"IF(AC1898=\"\",\"\",IF(AC1898=AC1892,AC1891,\"\"))","v":""},{"$f":"IF(AD1898=\"\",\"\",IF(AD1898=AD1892,AD1891,\"\"))","v":""},{"$f":"IF(AE1898=\"\",\"\",IF(AE1898=AE1892,AE1891,\"\"))","v":""},{"$f":"IF(AF1898=\"\",\"\",IF(AF1898=AF1892,AF1891,\"\"))","v":""},{"$f":"IF(AG1898=\"\",\"\",IF(AG1898=AG1892,AG1891,\"\"))","v":""},{"$f":"IF(AH1898=\"\",\"\",IF(AH1898=AH1892,AH1891,\"\"))","v":""},{"$f":"IF(AI1898=\"\",\"\",IF(AI1898=AI1892,AI1891,\"\"))","v":""},{"$f":"IF(AJ1898=\"\",\"\",IF(AJ1898=AJ1892,AJ1891,\"\"))","v":""},{"$f":"IF(AK1898=\"\",\"\",IF(AK1898=AK1892,AK1891,\"\"))","v":""},{"$f":"IF(AL1898=\"\",\"\",IF(AL1898=AL1892,AL1891,\"\"))","v":""},{"$f":"IF(AM1898=\"\",\"\",IF(AM1898=AM1892,AM1891,\"\"))","v":""},{"$f":"IF(AN1898=\"\",\"\",IF(AN1898=AN1892,AN1891,\"\"))","v":""},{"$f":"IF(AO1898=\"\",\"\",IF(AO1898=AO1892,AO1891,\"\"))","v":""},{"$f":"IF(AP1898=\"\",\"\",IF(AP1898=AP1892,AP1891,\"\"))","v":""},{"$f":"IF(AQ1898=\"\",\"\",IF(AQ1898=AQ1892,AQ1891,\"\"))","v":""},{"$f":"IF(AR1898=\"\",\"\",IF(AR1898=AR1892,AR1891,\"\"))","v":""},{"$f":"IF(AS1898=\"\",\"\",IF(AS1898=AS1892,AS1891,\"\"))","v":""},{"$f":"IF(AT1898=\"\",\"\",IF(AT1898=AT1892,AT1891,\"\"))","v":""},null,null,null,null,null,null,null,null,null,null,null,null,null,null,null,null,null,null,null,null,null,null,null,null,null,null,null,null,null,null,null,null,null,null,null,null,null,{"$f":"IF(CC1901=0,\"\",CC1901)","v":""},null,{"$f":"IF(CF1897=\"\",\"\",CC1900)","v":""}]
[null,null,null,3,"",{"$f":"I1898","v":""},"","",null,{"$f":"I1900","v":0}]
[null,null,{"$f":"$P$3","v":200},4,"",{"$f":"J1898","v":""},"","",null,null,null,null,null,null,null,null,null,null,null,null,null,null,null,null,null,null,null,null,null,null,null,null,null,null,null,null,null,null,null,null,null,null,null,null,null,null,null,null,null,null,null,null,null,null,null,null,null,null,null,null,null,null,null,null,null,null,null,null,null,null,null,null,null,null,null,null,null,null,null,null,null,null,null,{"$f":"IF(CD1895>0,CF1844+1,\"\")","v":""}]
[null,null,null,8,"",{"$f":"N1898","v":""},{"$f":"IF(F1907=\"\",\"\",IF(E1907<=$C$74,\"X\",\"\"))","v":""},"",null,1,{"$f":"IF(L1907<>\"\",BK1907+BL1907+L1907,\"\")","v":""},{"$f":"N1905","v":""},{"$f":"IF(L1907=\"\",\"\",IF(K1907<=$C$74,\"X\",\"\"))","v":""},{"$f":"IF(M1907=\"X\",L1907,\"\")","v":""},{"$f":"MAX(N1907:N1926)","v":0},{"$f":"IF(P1908=N1905,N1904,\"\")","v":""},{"$f":"IF(Q1908=O1905,O1904,\"\")","v":""},{"$f":"IF(R1908=P1905,P1904,\"\")","v":""},{"$f":"IF(S1908=Q1905,Q1904,\"\")","v":""},{"$f":"IF(T1908=R1905,R1904,\"\")","v":""},{"$f":"IF(U1908=S1905,S1904,\"\")","v":""},{"$f":"IF(V1908=T1905,T1904,\"\")","v":""},{"$f":"IF(W1908=U1905,U1904,\"\")","v":""},{"$f":"IF(X1908=V1905,V1904,\"\")","v":""},{"$f":"IF(Y1908=W1905,W1904,\"\")","v":""},{"$f":"IF(Z1908=X1905,X1904,\"\")","v":""},{"$f":"IF(AA1908=Y1905,Y1904,\"\")","v":""},{"$f":"IF(AB1908=Z1905,Z1904,\"\")","v":""},{"$f":"IF(AC1908=AA1905,AA1904,\"\")","v":""},{"$f":"IF(AD1908=AB1905,AB1904,\"\")","v":""},{"$f":"IF(AE1908=AC1905,AC1904,\"\")","v":""},{"$f":"IF(AF1908=AD1905,AD1904,\"\")","v":""},{"$f":"IF(AG1908=AE1905,AE1904,\"\")","v":""},{"$f":"IF(AH1908=AF1905,AF1904,\"\")","v":""},{"$f":"IF(AI1908=AG1905,AG1904,\"\")","v":""},{"$f":"IF(AJ1908=AH1905,AH1904,\"\")","v":""},{"$f":"IF(AK1908=AI1905,AI1904,\"\")","v":""},{"$f":"IF(AL1908=AJ1905,AJ1904,\"\")","v":""},{"$f":"IF(AM1908=AK1905,AK1904,\"\")","v":""},{"$f":"IF(AN1908=AL1905,AL1904,\"\")","v":""},{"$f":"IF(AO1908=AM1905,AM1904,\"\")","v":""},{"$f":"IF(AP1908=AN1905,AN1904,\"\")","v":""},{"$f":"IF(AQ1908=AO1905,AO1904,\"\")","v":""},{"$f":"IF(AR1908=AP1905,AP1904,\"\")","v":""},{"$f":"IF(AS1908=AQ1905,AQ1904,\"\")","v":""},{"$f":"IF(AT1908=AR1905,AR1904,\"\")","v":""},{"$f":"IF(AU1908=AS1905,AS1904,\"\")","v":""},{"$f":"IF(AV1908=AT1905,AT1904,\"\")","v":""},{"$f":"IF(AW1908=AU1905,AU1904,\"\")","v":""},{"$f":"IF(AX1908=AV1905,AV1904,\"\")","v":""},{"$f":"IF(AY1908=AW1905,AW1904,\"\")","v":""},{"$f":"IF(AZ1908=AX1905,AX1904,\"\")","v":""},{"$f":"IF(BA1908=AY1905,AY1904,\"\")","v":""},{"$f":"IF(BB1908=AZ1905,AZ1904,\"\")","v":""},{"$f":"IF(BC1908=BA1905,BA1904,\"\")","v":""},null,null,null,null,null,null,1,{"$f":"CC1896","v":0},{"$f":"CC1901","v":0}]
[null,null,null,12,"",{"$f":"R1898","v":""},{"$f":"IF(F1911=\"\",\"\",IF(E1911<=$C$74,\"X\",\"\"))","v":""},"",null,5,"",{"$f":"R1905","v":""},{"$f":"IF(L1911=\"\",\"\",IF(K1911<=$C$74,\"X\",\"\"))","v":""},{"$f":"IF(M1911=\"X\",L1911,\"\")","v":""},null,null,null,null,null,null,null,null,null,null,null,null,null,null,null,null,null,null,null,null,null,null,null,null,null,null,null,null,null,null,null,null,null,null,null,null,null,null,null,null,null,null,null,null,null,null,null,5,{"$f":"BK1910","v":0},0,null,null,null,null,null,null,null,null,null,null,null,null,null,null,null,"RIMANE",null,null,null,null,{"$f":"CG1909-CD1895","v":200}]
[null,null,null,17,"",{"$f":"W1898","v":""},{"$f":"IF(F1916=\"\",\"\",IF(E1916<=$C$74,\"X\",\"\"))","v":""},"",null,10,"",{"$f":"W1905","v":""},{"$f":"IF(L1916=\"\",\"\",IF(K1916<=$C$74,\"X\",\"\"))","v":""},{"$f":"IF(M1916=\"X\",L1916,\"\")","v":""},null,null,null,null,null,null,null,null,null,null,null,null,null,null,null,null,null,null,null,null,null,null,null,null,null,null,null,null,null,null,null,null,null,null,null,null,null,null,null,null,null,null,null,null,null,null,null,10,{"$f":"BK1915","v":0},0]
[null,null,null,18,"",{"$f":"X1898","v":""},{"$f":"IF(F1917=\"\",\"\",IF(E1917<=$C$74,\"X\",\"\"))","v":""},"",null,11,"",{"$f":"X1905","v":""},{"$f":"IF(L1917=\"\",\"\",IF(K1917<=$C$74,\"X\",\"\"))","v":""},{"$f":"IF(M1917=\"X\",L1917,\"\")","v":""},null,null,null,null,null,null,null,null,null,null,null,null,null,null,null,null,null,null,null,null,null,null,null,null,null,null,null,null,null,null,null,null,null,null,null,null,null,null,null,null,null,null,null,null,null,null,null,11,{"$f":"BK1916","v":0},0]
[null,null,null,24,"",{"$f":"AD1898","v":""},{"$f":"IF(F1923=\"\",\"\",IF(E1923<=$C$74,\"X\",\"\"))","v":""},"",null,17,"",{"$f":"AD1905","v":""},{"$f":"IF(L1923=\"\",\"\",IF(K1923<=$C$74,\"X\",\"\"))","v":""},{"$f":"IF(M1923=\"X\",L1923,\"\")","v":""},null,1,2,3,4,5,6,7,8,9,10,11,12,13,14,15,16,17,18,19,20,21,22,23,24,25,26,27,28,29,30,31,32,33,34,35,36,37,38,39,40,null,null,null,null,null,null,17,{"$f":"BK1922","v":0},0]
[null,null,null,27,"",{"$f":"AG1898","v":""},{"$f":"IF(F1926=\"\",\"\",IF(E1926<=$C$74,\"X\",\"\"))","v":""},"",null,20,"",{"$f":"AG1905","v":""},{"$f":"IF(L1926=\"\",\"\",IF(K1926<=$C$74,\"X\",\"\"))","v":""},{"$f":"IF(M1926=\"X\",L1926,\"\")","v":""},null,null,null,null,null,null,null,null,null,null,null,null,null,null,null,null,null,null,null,null,null,null,null,null,null,null,null,null,null,null,null,null,null,null,null,null,null,null,null,null,null,null,null,null,null,null,null,20,{"$f":"BK1925","v":0},0]
[null,null,null,29,"",{"$f":"AI1898","v":""},{"$f":"IF(F1928=\"\",\"\",IF(E1928<=$C$74,\"X\",\"\"))","v":""},"",null,22,"",{"$f":"AI1905","v":""},{"$f":"IF(L1928=\"\",\"\",IF(K1928<=$C$74,\"X\",\"\"))","v":""},{"$f":"IF(M1928=\"X\",L1928,\"\")","v":""},null,null,null,null,null,null,null,null,null,null,null,null,null,null,null,null,null,null,null,null,null,null,null,null,null,null,null,null,null,null,null,null,null,null,null,null,null,null,null,null,null,null,null,null,null,null,null,22,{"$f":"BK1927","v":0},0]
[null,null,null,32,"",{"$f":"AL1898","v":""},{"$f":"IF(F1931=\"\",\"\",IF(E1931<=$C$74,\"X\",\"\"))","v":""},"",null,25,"",{"$f":"AL1905","v":""},{"$f":"IF(L1931=\"\",\"\",IF(K1931<=$C$74,\"X\",\"\"))","v":""},{"$f":"IF(M1931=\"X\",L1931,\"\")","v":""},null,null,null,null,null,null,null,null,null,null,null,null,null,null,null,null,null,null,null,null,null,null,null,null,null,null,null,null,null,null,null,null,null,null,null,null,null,null,null,null,null,null,null,null,null,null,null,25,{"$f":"BK1930","v":0},0]
[null,null,null,36,"",{"$f":"AP1898","v":""},{"$f":"IF(F1935=\"\",\"\",IF(E1935<=$C$74,\"X\",\"\"))","v":""},"",null,29,"",{"$f":"AP1905","v":""},{"$f":"IF(L1935=\"\",\"\",IF(K1935<=$C$74,\"X\",\"\"))","v":""},{"$f":"IF(M1935=\"X\",L1935,\"\")","v":""},null,null,null,null,null,null,null,null,null,null,null,null,null,null,null,null,null,null,null,null,null,null,null,null,null,null,null,null,null,null,null,null,null,null,null,null,null,null,null,null,null,null,null,null,null,null,null,29,{"$f":"BK1934","v":0},0]
[null,null,null,null,null,null,null,null,null,34,"",{"$f":"AU1905","v":""},{"$f":"IF(L1940=\"\",\"\",IF(K1940<=$C$74,\"X\",\"\"))","v":""},{"$f":"IF(M1940=\"X\",L1940,\"\")","v":""},null,null,null,null,null,null,null,null,null,null,null,null,null,null,null,null,null,null,null,null,null,null,null,null,null,null,null,null,null,null,null,null,null,null,null,null,null,null,null,null,null,null,null,null,null,null,null,34,{"$f":"BK1939","v":0},0]
[null,null,null,null,null,null,null,null,null,39,"",{"$f":"AZ1905","v":""},"","",null,null,null,null,null,null,null,null,null,null,null,null,null,null,null,null,null,null,null,null,null,null,null,null,null,null,null,null,null,null,null,null,null,null,null,null,null,null,null,null,null,null,null,null,null,null,null,39,{"$f":"BK1944","v":0},0]
[]
[null,null,"TIR",null,{"$f":"E1891+1","v":33},null,{"$f":"P1924","v":""},{"$f":"Q1924","v":""},{"$f":"R1924","v":""},{"$f":"S1924","v":""},{"$f":"T1924","v":""},{"$f":"U1924","v":""},{"$f":"V1924","v":""},{"$f":"W1924","v":""},{"$f":"X1924","v":""},{"$f":"Y1924","v":""},{"$f":"Z1924","v":""},{"$f":"AA1924","v":""},{"$f":"AB1924","v":""},{"$f":"AC1924","v":""},{"$f":"AD1924","v":""},{"$f":"AE1924","v":""},{"$f":"AF1924","v":""},{"$f":"AG1924","v":""},{"$f":"AH1924","v":""},{"$f":"AI1924","v":""},{"$f":"AJ1924","v":""},{"$f":"AK1924","v":""},{"$f":"AL1924","v":""},{"$f":"AM1924","v":""},{"$f":"AN1924","v":""},{"$f":"AO1924","v":""},{"$f":"AP1924","v":""},{"$f":"AQ1924","v":""},{"$f":"AR1924","v":""},{"$f":"AS1924","v":""},{"$f":"AT1924","v":""},{"$f":"AU1924","v":""},{"$f":"AV1924","v":""},{"$f":"AW1924","v":""},{"$f":"AX1924","v":""},{"$f":"AY1924","v":""},{"$f":"AZ1924","v":""},{"$f":"BA1924","v":""},{"$f":"BB1924","v":""},{"$f":"BC1924","v":""}]
[null,null,null,null,null,null,{"$f":"G1952","v":0},null,null,null,null,null,null,null,null,null,null,null,null,null,null,null,null,null,null,null,null,null,null,null,null,null,null,null,null,null,null,null,null,null,null,null,null,null,null,null,null,null,null,null,null,null,null,null,null,null,null,null,null,null,null,null,null,null,null,null,null,null,null,null,null,null,null,null,null,null,null,null,null,null,{"$f":"G1952","v":0},null,null,{"$f":"IF(CC1955=0,\"\",CC1955)","v":""},null,{"$f":"IF(CF1955=\"\",\"\",CC1954)","v":""}]
[null,null,"Portata                Max.               TIR",1,{"$f":"IF(F1959<>\"\",F1959+G$126,\"\")","v":""},{"$f":"G1957","v":""},{"$f":"IF(F1959=\"\",\"\",IF(E1959<=$C$74,\"X\",\"\"))","v":""},{"$f":"IF(G1959=\"X\",F1959,\"\")","v":""},{"$f":"MAX(H1959:H1998)","v":0},{"$f":"IF(J1960=G1957,G1956,\"\")","v":""},{"$f":"IF(K1960=H1957,H1956,\"\")","v":""},{"$f":"IF(L1960=I1957,I1956,\"\")","v":""},{"$f":"IF(M1960=J1957,J1956,\"\")","v":""},{"$f":"IF(N1960=K1957,K1956,\"\")","v":""},{"$f":"IF(O1960=L1957,L1956,\"\")","v":""},{"$f":"IF(P1960=M1957,M1956,\"\")","v":""},{"$f":"IF(Q1960=N1957,N1956,\"\")","v":""},{"$f":"IF(R1960=O1957,O1956,\"\")","v":""},{"$f":"IF(S1960=P1957,P1956,\"\")","v":""},{"$f":"IF(T1960=Q1957,Q1956,\"\")","v":""},{"$f":"IF(U1960=R1957,R1956,\"\")","v":""},{"$f":"IF(V1960=S1957,S1956,\"\")","v":""},{"$f":"IF(W1960=T1957,T1956,\"\")","v":""},{"$f":"IF(X1960=U1957,U1956,\"\")","v":""},{"$f":"IF(Y1960=V1957,V1956,\"\")","v":""},{"$f":"IF(Z1960=W1957,W1956,\"\")","v":""},{"$f":"IF(AA1960=X1957,X1956,\"\")","v":""},{"$f":"IF(AB1960=Y1957,Y1956,\"\")","v":""},{"$f":"IF(AC1960=Z1957,Z1956,\"\")","v":""},{"$f":"IF(AD1960=AA1957,AA1956,\"\")","v":""},{"$f":"IF(AE1960=AB1957,AB1956,\"\")","v":""},{"$f":"IF(AF1960=AC1957,AC1956,\"\")","v":""},{"$f":"IF(AG1960=AD1957,AD1956,\"\")","v":""},{"$f":"IF(AH1960=AE1957,AE1956,\"\")","v":""},{"$f":"IF(AI1960=AF1957,AF1956,\"\")","v":""},{"$f":"IF(AJ1960=AG1957,AG1956,\"\")","v":""},{"$f":"IF(AK1960=AH1957,AH1956,\"\")","v":""},{"$f":"IF(AL1960=AI1957,AI1956,\"\")","v":""},{"$f":"IF(AM1960=AJ1957,AJ1956,\"\")","v":""},{"$f":"IF(AN1960=AK1957,AK1956,\"\")","v":""},{"$f":"IF(AO1960=AL1957,AL1956,\"\")","v":""},{"$f":"IF(AP1960=AM1957,AM1956,\"\")","v":""},{"$f":"IF(AQ1960=AN1957,AN1956,\"\")","v":""},{"$f":"IF(AR1960=AO1957,AO1956,\"\")","v":""},{"$f":"IF(AS1960=AP1957,AP1956,\"\")","v":""},{"$f":"IF(AT1960=AQ1957,AQ1956,\"\")","v":""},{"$f":"IF(AU1960=AR1957,AR1956,\"\")","v":""},{"$f":"IF(AV1960=AS1957,AS1956,\"\")","v":""},{"$f":"IF(AW1960=AT1957,AT1956,\"\")","v":""},null,null,null,null,null,null,null,null,null,null,null,null,null,null,null,null,null,null,null,null,null,null,null,null,null,"Secondo Blocco",null,null,null,null,null,{"$f":"J1959&K1959&L1959&M1959&N1959&O1959&P1959&Q1959&R1959&S1959&T1959&U1959&V1959&W1959&X1959&Y1959&Z1959&AA1959&AB1959&AC1959&AD1959&AE1959&AF1959&AG1959&AH1959&AI1959&AJ1959&AK1959&AL1959&AM1959&AN1959&AO1959&AP1959&AQ1959&AR1959&AS1959&AT1959&AU1959&AV1959&AW1959","v":""}]
[null,null,null,2,"",{"$f":"H1957","v":""},{"$f":"IF(F1960=\"\",\"\",IF(E1960<=$C$74,\"X\",\"\"))","v":""},"",null,{"$f":"IF($J1961=G1957,G1957,\"\")","v":""},{"$f":"IF($J1961=H1957,H1957,\"\")","v":""},{"$f":"IF($J1961=I1957,I1957,\"\")","v":""},{"$f":"IF($J1961=J1957,J1957,\"\")","v":""},{"$f":"IF($J1961=K1957,K1957,\"\")","v":""},{"$f":"IF($J1961=L1957,L1957,\"\")","v":""},{"$f":"IF($J1961=M1957,M1957,\"\")","v":""},{"$f":"IF($J1961=N1957,N1957,\"\")","v":""},{"$f":"IF($J1961=O1957,O1957,\"\")","v":""},{"$f":"IF($J1961=P1957,P1957,\"\")","v":""},{"$f":"IF($J1961=Q1957,Q1957,\"\")","v":""},{"$f":"IF($J1961=R1957,R1957,\"\")","v":""},{"$f":"IF($J1961=S1957,S1957,\"\")","v":""},{"$f":"IF($J1961=T1957,T1957,\"\")","v":""},{"$f":"IF($J1961=U1957,U1957,\"\")","v":""},{"$f":"IF($J1961=V1957,V1957,\"\")","v":""},{"$f":"IF($J1961=W1957,W1957,\"\")","v":""},{"$f":"IF($J1961=X1957,X1957,\"\")","v":""},{"$f":"IF($J1961=Y1957,Y1957,\"\")","v":""},{"$f":"IF($J1961=Z1957,Z1957,\"\")","v":""},{"$f":"IF($J1961=AA1957,AA1957,\"\")","v":""},{"$f":"IF($J1961=AB1957,AB1957,\"\")","v":""},{"$f":"IF($J1961=AC1957,AC1957,\"\")","v":""},{"$f":"IF($J1961=AD1957,AD1957,\"\")","v":""},{"$f":"IF($J1961=AE1957,AE1957,\"\")","v":""},{"$f":"IF($J1961=AF1957,AF1957,\"\")","v":""},{"$f":"IF($J1961=AG1957,AG1957,\"\")","v":""},{"$f":"IF($J1961=AH1957,AH1957,\"\")","v":""},{"$f":"IF($J1961=AI1957,AI1957,\"\")","v":""},{"$f":"IF($J1961=AJ1957,AJ1957,\"\")","v":""},{"$f":"IF($J1961=AK1957,AK1957,\"\")","v":""},{"$f":"IF($J1961=AL1957,AL1957,\"\")","v":""},{"$f":"IF($J1961=AM1957,AM1957,\"\")","v":""},{"$f":"IF($J1961=AN1957,AN1957,\"\")","v":""},{"$f":"IF($J1961=AO1957,AO1957,\"\")","v":""},{"$f":"IF($J1961=AP1957,AP1957,\"\")","v":""},{"$f":"IF($J1961=AQ1957,AQ1957,\"\")","v":""},{"$f":"IF($J1961=AR1957,AR1957,\"\")","v":""},{"$f":"IF($J1961=AS1957,AS1957,\"\")","v":""},{"$f":"IF($J1961=AT1957,AT1957,\"\")","v":""},null,null,null,null,null,null,null,null,null,null,null,null,null,null,null,null,null,null,null,null,null,null,null,null,null,null,null,null,null,null,null,{"$f":"J1961","v":0}]
[null,null,null,6,"",{"$f":"L1957","v":""},"","",null,"DISPONIBILI",null,null,null,{"$f":"IF(G1957=\"\",\"\",IF(G1957=J1960,\"\",G1957))","v":""},{"$f":"IF(H1957=\"\",\"\",IF(H1957=K1960,\"\",H1957))","v":""},{"$f":"IF(I1957=\"\",\"\",IF(I1957=L1960,\"\",I1957))","v":""},{"$f":"IF(J1957=\"\",\"\",IF(J1957=M1960,\"\",J1957))","v":""},{"$f":"IF(K1957=\"\",\"\",IF(K1957=N1960,\"\",K1957))","v":""},{"$f":"IF(L1957=\"\",\"\",IF(L1957=O1960,\"\",L1957))","v":""},{"$f":"IF(M1957=\"\",\"\",IF(M1957=P1960,\"\",M1957))","v":""},{"$f":"IF(N1957=\"\",\"\",IF(N1957=Q1960,\"\",N1957))","v":""},{"$f":"IF(O1957=\"\",\"\",IF(O1957=R1960,\"\",O1957))","v":""},{"$f":"IF(P1957=\"\",\"\",IF(P1957=S1960,\"\",P1957))","v":""},{"$f":"IF(Q1957=\"\",\"\",IF(Q1957=T1960,\"\",Q1957))","v":""},{"$f":"IF(R1957=\"\",\"\",IF(R1957=U1960,\"\",R1957))","v":""},{"$f":"IF(S1957=\"\",\"\",IF(S1957=V1960,\"\",S1957))","v":""},{"$f":"IF(T1957=\"\",\"\",IF(T1957=W1960,\"\",T1957))","v":""},{"$f":"IF(U1957=\"\",\"\",IF(U1957=X1960,\"\",U1957))","v":""},{"$f":"IF(V1957=\"\",\"\",IF(V1957=Y1960,\"\",V1957))","v":""},{"$f":"IF(W1957=\"\",\"\",IF(W1957=Z1960,\"\",W1957))","v":""},{"$f":"IF(X1957=\"\",\"\",IF(X1957=AA1960,\"\",X1957))","v":""},{"$f":"IF(Y1957=\"\",\"\",IF(Y1957=AB1960,\"\",Y1957))","v":""},{"$f":"IF(Z1957=\"\",\"\",IF(Z1957=AC1960,\"\",Z1957))","v":""},{"$f":"IF(AA1957=\"\",\"\",IF(AA1957=AD1960,\"\",AA1957))","v":""},{"$f":"IF(AB1957=\"\",\"\",IF(AB1957=AE1960,\"\",AB1957))","v":""},{"$f":"IF(AC1957=\"\",\"\",IF(AC1957=AF1960,\"\",AC1957))","v":""},{"$f":"IF(AD1957=\"\",\"\",IF(AD1957=AG1960,\"\",AD1957))","v":""},{"$f":"IF(AE1957=\"\",\"\",IF(AE1957=AH1960,\"\",AE1957))","v":""},{"$f":"IF(AF1957=\"\",\"\",IF(AF1957=AI1960,\"\",AF1957))","v":""},{"$f":"IF(AG1957=\"\",\"\",IF(AG1957=AJ1960,\"\",AG1957))","v":""},{"$f":"IF(AH1957=\"\",\"\",IF(AH1957=AK1960,\"\",AH1957))","v":""},{"$f":"IF(AI1957=\"\",\"\",IF(AI1957=AL1960,\"\",AI1957))","v":""},{"$f":"IF(AJ1957=\"\",\"\",IF(AJ1957=AM1960,\"\",AJ1957))","v":""},{"$f":"IF(AK1957=\"\",\"\",IF(AK1957=AN1960,\"\",AK1957))","v":""},{"$f":"IF(AL1957=\"\",\"\",IF(AL1957=AO1960,\"\",AL1957))","v":""},{"$f":"IF(AM1957=\"\",\"\",IF(AM1957=AP1960,\"\",AM1957))","v":""},{"$f":"IF(AN1957=\"\",\"\",IF(AN1957=AQ1960,\"\",AN1957))","v":""},{"$f":"IF(AO1957=\"\",\"\",IF(AO1957=AR1960,\"\",AO1957))","v":""},{"$f":"IF(AP1957=\"\",\"\",IF(AP1957=AS1960,\"\",AP1957))","v":""},{"$f":"IF(AQ1957=\"\",\"\",IF(AQ1957=AT1960,\"\",AQ1957))","v":""},{"$f":"IF(AR1957=\"\",\"\",IF(AR1957=AU1960,\"\",AR1957))","v":""},{"$f":"IF(AS1957=\"\",\"\",IF(AS1957=AV1960,\"\",AS1957))","v":""},{"$f":"IF(AT1957=\"\",\"\",IF(AT1957=AW1960,\"\",AT1957))","v":""},null,null,null,null,null,null,null,null,null,null,null,null,null,null,null,null,null,null,null,null,null,"Terzo Blocco",null,null,null,null,null,{"$f":"P1966&Q1966&R1966&S1966&T1966&U1966&V1966&W1966&X1966&Y1966&Z1966&AA1966&AB1966&AC1966&AD1966&AE1966&AF1966&AG1966&AH1966&AI1966&AJ1966&AK1966&AL1966&AM1966&AN1966&AO1966&AP1966&AQ1966&AR1966&AS1966&AT1966&AU1966&AV1966&AW1966&AX1966&AY1966&AZ1966&BA1966&BB1966&BC1966","v":""}]
[null,null,null,11,"",{"$f":"Q1957","v":""},"","",null,4,"",{"$f":"Q1964","v":""},"","",null,null,null,null,null,null,null,null,null,null,null,null,null,null,null,null,null,null,null,null,null,null,null,null,null,null,null,null,null,null,null,null,null,null,null,null,null,null,null,null,null,null,null,null,null,null,null,4,{"$f":"BK1968","v":0},0]
[null,null,null,14,"",{"$f":"T1957","v":""},"","",null,7,"",{"$f":"T1964","v":""},"","",null,null,null,null,null,null,null,null,null,null,null,null,null,null,null,null,null,null,null,null,null,null,null,null,null,null,null,null,null,null,null,null,null,null,null,null,null,null,null,null,null,null,null,null,null,null,null,7,{"$f":"BK1971","v":0},0]
[null,null,null,16,"",{"$f":"V1957","v":""},"","",null,9,"",{"$f":"V1964","v":""},"","",null,null,null,null,null,null,null,null,null,null,null,null,null,null,null,null,null,null,null,null,null,null,null,null,null,null,null,null,null,null,null,null,null,null,null,null,null,null,null,null,null,null,null,null,null,null,null,9,{"$f":"BK1973","v":0},0]
[null,null,null,21,{"$f":"IF(F1979<>\"\",F1979+G$126,\"\")","v":""},{"$f":"AA1957","v":""},"","",null,14,"",{"$f":"AA1964","v":""},"","",null,null,null,null,null,null,null,null,null,null,null,null,null,null,null,null,null,null,null,null,null,null,null,null,null,null,null,null,null,null,null,null,null,null,null,null,null,null,null,null,null,null,null,null,null,null,null,14,{"$f":"BK1978","v":0},0]
[null,null,null,26,"",{"$f":"AF1957","v":""},"","",null,19,"",{"$f":"AF1964","v":""},"","",null,{"$f":"IF(G1951=$P1968,\"\",IF(G1951=$J1961,\"\",IF(G1951=$G1952,\"\",G1951)))","v":""},{"$f":"IF(H1951=$P1968,\"\",IF(H1951=$J1961,\"\",IF(H1951=$G1952,\"\",H1951)))","v":""},{"$f":"IF(I1951=$P1968,\"\",IF(I1951=$J1961,\"\",IF(I1951=$G1952,\"\",I1951)))","v":""},{"$f":"IF(J1951=$P1968,\"\",IF(J1951=$J1961,\"\",IF(J1951=$G1952,\"\",J1951)))","v":""},{"$f":"IF(K1951=$P1968,\"\",IF(K1951=$J1961,\"\",IF(K1951=$G1952,\"\",K1951)))","v":""},{"$f":"IF(L1951=$P1968,\"\",IF(L1951=$J1961,\"\",IF(L1951=$G1952,\"\",L1951)))","v":""},{"$f":"IF(M1951=$P1968,\"\",IF(M1951=$J1961,\"\",IF(M1951=$G1952,\"\",M1951)))","v":""},{"$f":"IF(N1951=$P1968,\"\",IF(N1951=$J1961,\"\",IF(N1951=$G1952,\"\",N1951)))","v":""},{"$f":"IF(O1951=$P1968,\"\",IF(O1951=$J1961,\"\",IF(O1951=$G1952,\"\",O1951)))","v":""},{"$f":"IF(P1951=$P1968,\"\",IF(P1951=$J1961,\"\",IF(P1951=$G1952,\"\",P1951)))","v":""},{"$f":"IF(Q1951=$P1968,\"\",IF(Q1951=$J1961,\"\",IF(Q1951=$G1952,\"\",Q1951)))","v":""},{"$f":"IF(R1951=$P1968,\"\",IF(R1951=$J1961,\"\",IF(R1951=$G1952,\"\",R1951)))","v":""},{"$f":"IF(S1951=$P1968,\"\",IF(S1951=$J1961,\"\",IF(S1951=$G1952,\"\",S1951)))","v":""},{"$f":"IF(T1951=$P1968,\"\",IF(T1951=$J1961,\"\",IF(T1951=$G1952,\"\",T1951)))","v":""},{"$f":"IF(U1951=$P1968,\"\",IF(U1951=$J1961,\"\",IF(U1951=$G1952,\"\",U1951)))","v":""},{"$f":"IF(V1951=$P1968,\"\",IF(V1951=$J1961,\"\",IF(V1951=$G1952,\"\",V1951)))","v":""},{"$f":"IF(W1951=$P1968,\"\",IF(W1951=$J1961,\"\",IF(W1951=$G1952,\"\",W1951)))","v":""},{"$f":"IF(X1951=$P1968,\"\",IF(X1951=$J1961,\"\",IF(X1951=$G1952,\"\",X1951)))","v":""},{"$f":"IF(Y1951=$P1968,\"\",IF(Y1951=$J1961,\"\",IF(Y1951=$G1952,\"\",Y1951)))","v":""},{"$f":"IF(Z1951=$P1968,\"\",IF(Z1951=$J1961,\"\",IF(Z1951=$G1952,\"\",Z1951)))","v":""},{"$f":"IF(AA1951=$P1968,\"\",IF(AA1951=$J1961,\"\",IF(AA1951=$G1952,\"\",AA1951)))","v":""},{"$f":"IF(AB1951=$P1968,\"\",IF(AB1951=$J1961,\"\",IF(AB1951=$G1952,\"\",AB1951)))","v":""},{"$f":"IF(AC1951=$P1968,\"\",IF(AC1951=$J1961,\"\",IF(AC1951=$G1952,\"\",AC1951)))","v":""},{"$f":"IF(AD1951=$P1968,\"\",IF(AD1951=$J1961,\"\",IF(AD1951=$G1952,\"\",AD1951)))","v":""},{"$f":"IF(AE1951=$P1968,\"\",IF(AE1951=$J1961,\"\",IF(AE1951=$G1952,\"\",AE1951)))","v":""},{"$f":"IF(AF1951=$P1968,\"\",IF(AF1951=$J1961,\"\",IF(AF1951=$G1952,\"\",AF1951)))","v":""},{"$f":"IF(AG1951=$P1968,\"\",IF(AG1951=$J1961,\"\",IF(AG1951=$G1952,\"\",AG1951)))","v":""},{"$f":"IF(AH1951=$P1968,\"\",IF(AH1951=$J1961,\"\",IF(AH1951=$G1952,\"\",AH1951)))","v":""},{"$f":"IF(AI1951=$P1968,\"\",IF(AI1951=$J1961,\"\",IF(AI1951=$G1952,\"\",AI1951)))","v":""},{"$f":"IF(AJ1951=$P1968,\"\",IF(AJ1951=$J1961,\"\",IF(AJ1951=$G1952,\"\",AJ1951)))","v":""},{"$f":"IF(AK1951=$P1968,\"\",IF(AK1951=$J1961,\"\",IF(AK1951=$G1952,\"\",AK1951)))","v":""},{"$f":"IF(AL1951=$P1968,\"\",IF(AL1951=$J1961,\"\",IF(AL1951=$G1952,\"\",AL1951)))","v":""},{"$f":"IF(AM1951=$P1968,\"\",IF(AM1951=$J1961,\"\",IF(AM1951=$G1952,\"\",AM1951)))","v":""},{"$f":"IF(AN1951=$P1968,\"\",IF(AN1951=$J1961,\"\",IF(AN1951=$G1952,\"\",AN1951)))","v":""},{"$f":"IF(AO1951=$P1968,\"\",IF(AO1951=$J1961,\"\",IF(AO1951=$G1952,\"\",AO1951)))","v":""},{"$f":"IF(AP1951=$P1968,\"\",IF(AP1951=$J1961,\"\",IF(AP1951=$G1952,\"\",AP1951)))","v":""},{"$f":"IF(AQ1951=$P1968,\"\",IF(AQ1951=$J1961,\"\",IF(AQ1951=$G1952,\"\",AQ1951)))","v":""},{"$f":"IF(AR1951=$P1968,\"\",IF(AR1951=$J1961,\"\",IF(AR1951=$G1952,\"\",AR1951)))","v":""},{"$f":"IF(AS1951=$P1968,\"\",IF(AS1951=$J1961,\"\",IF(AS1951=$G1952,\"\",AS1951)))","v":""},{"$f":"IF(AT1951=$P1968,\"\",IF(AT1951=$J1961,\"\",IF(AT1951=$G1952,\"\",AT1951)))","v":""},null,null,null,null,null,null,19,{"$f":"BK1983","v":0},0]
[null,null,null,30,"",{"$f":"AJ1957","v":""},"","",null,23,"",{"$f":"AJ1964","v":""},"","",null,null,null,null,null,null,null,null,null,null,null,null,null,null,null,null,null,null,null,null,null,null,null,null,null,null,null,null,null,null,null,null,null,null,null,null,null,null,null,null,null,null,null,null,null,null,null,23,{"$f":"BK1987","v":0},0]
[null,null,null,31,"",{"$f":"AK1957","v":""},"","",null,24,"",{"$f":"AK1964","v":""},"","",null,null,null,null,null,null,null,null,null,null,null,null,null,null,null,null,null,null,null,null,null,null,null,null,null,null,null,null,null,null,null,null,null,null,null,null,null,null,null,null,null,null,null,null,null,null,null,24,{"$f":"BK1988","v":0},0]
[null,null,null,35,"",{"$f":"AO1957","v":""},"","",null,28,"",{"$f":"AO1964","v":""},"","",null,null,null,null,null,null,null,null,null,null,null,null,null,null,null,null,null,null,null,null,null,null,null,null,null,null,null,null,null,null,null,null,null,null,null,null,null,null,null,null,null,null,null,null,null,null,null,28,{"$f":"BK1992","v":0},0]
[null,null,null,39,"",{"$f":"AS1957","v":""},"","",null,32,"",{"$f":"AS1964","v":""},"","",null,null,null,null,null,null,null,null,null,null,null,null,null,null,null,null,null,null,null,null,null,null,null,null,null,null,null,null,null,null,null,null,null,null,null,null,null,null,null,null,null,null,null,null,null,null,null,32,{"$f":"BK1996","v":0},0]
[null,null,null,null,null,null,null,null,null,37,"",{"$f":"AX1964","v":""},"","",null,null,null,null,null,null,null,null,null,null,null,null,null,null,null,null,null,null,null,null,null,null,null,null,null,null,null,null,null,null,null,null,null,null,null,null,null,null,null,null,null,null,null,null,null,null,null,37,{"$f":"BK2001","v":0},0]
[null,null,null,null,null,null,null,null,null,38,"",{"$f":"AY1964","v":""},"","",null,null,null,null,null,null,null,null,null,null,null,null,null,null,null,null,null,null,null,null,null,null,null,null,null,null,null,null,null,null,null,null,null,null,null,null,null,null,null,null,null,null,null,null,null,null,null,38,{"$f":"BK2002","v":0},0]
[null,null,"TIR",null,{"$f":"E1950+1","v":34},null,{"$f":"P1983","v":""},{"$f":"Q1983","v":""},{"$f":"R1983","v":""},{"$f":"S1983","v":""},{"$f":"T1983","v":""},{"$f":"U1983","v":""},{"$f":"V1983","v":""},{"$f":"W1983","v":""},{"$f":"X1983","v":""},{"$f":"Y1983","v":""},{"$f":"Z1983","v":""},{"$f":"AA1983","v":""},{"$f":"AB1983","v":""},{"$f":"AC1983","v":""},{"$f":"AD1983","v":""},{"$f":"AE1983","v":""},{"$f":"AF1983","v":""},{"$f":"AG1983","v":""},{"$f":"AH1983","v":""},{"$f":"AI1983","v":""},{"$f":"AJ1983","v":""},{"$f":"AK1983","v":""},{"$f":"AL1983","v":""},{"$f":"AM1983","v":""},{"$f":"AN1983","v":""},{"$f":"AO1983","v":""},{"$f":"AP1983","v":""},{"$f":"AQ1983","v":""},{"$f":"AR1983","v":""},{"$f":"AS1983","v":""},{"$f":"AT1983","v":""},{"$f":"AU1983","v":""},{"$f":"AV1983","v":""},{"$f":"AW1983","v":""},{"$f":"AX1983","v":""},{"$f":"AY1983","v":""},{"$f":"AZ1983","v":""},{"$f":"BA1983","v":""},{"$f":"BB1983","v":""},{"$f":"BC1983","v":""}]
[null,null,null,null,null,null,{"$f":"IF(G2010=$G2011,G2009,\"\")","v":""},{"$f":"IF(H2010=$G2011,H2009,\"\")","v":""},{"$f":"IF(I2010=$G2011,I2009,\"\")","v":""},{"$f":"IF(J2010=$G2011,J2009,\"\")","v":""},{"$f":"IF(K2010=$G2011,K2009,\"\")","v":""},{"$f":"IF(L2010=$G2011,L2009,\"\")","v":""},{"$f":"IF(M2010=$G2011,M2009,\"\")","v":""},{"$f":"IF(N2010=$G2011,N2009,\"\")","v":""},{"$f":"IF(O2010=$G2011,O2009,\"\")","v":""},{"$f":"IF(P2010=$G2011,P2009,\"\")","v":""},{"$f":"IF(Q2010=$G2011,Q2009,\"\")","v":""},{"$f":"IF(R2010=$G2011,R2009,\"\")","v":""},{"$f":"IF(S2010=$G2011,S2009,\"\")","v":""},{"$f":"IF(T2010=$G2011,T2009,\"\")","v":""},{"$f":"IF(U2010=$G2011,U2009,\"\")","v":""},{"$f":"IF(V2010=$G2011,V2009,\"\")","v":""},{"$f":"IF(W2010=$G2011,W2009,\"\")","v":""},{"$f":"IF(X2010=$G2011,X2009,\"\")","v":""},{"$f":"IF(Y2010=$G2011,Y2009,\"\")","v":""},{"$f":"IF(Z2010=$G2011,Z2009,\"\")","v":""},{"$f":"IF(AA2010=$G2011,AA2009,\"\")","v":""},{"$f":"IF(AB2010=$G2011,AB2009,\"\")","v":""},{"$f":"IF(AC2010=$G2011,AC2009,\"\")","v":""},{"$f":"IF(AD2010=$G2011,AD2009,\"\")","v":""},{"$f":"IF(AE2010=$G2011,AE2009,\"\")","v":""},{"$f":"IF(AF2010=$G2011,AF2009,\"\")","v":""},{"$f":"IF(AG2010=$G2011,AG2009,\"\")","v":""},{"$f":"IF(AH2010=$G2011,AH2009,\"\")","v":""},{"$f":"IF(AI2010=$G2011,AI2009,\"\")","v":""},{"$f":"IF(AJ2010=$G2011,AJ2009,\"\")","v":""},{"$f":"IF(AK2010=$G2011,AK2009,\"\")","v":""},{"$f":"IF(AL2010=$G2011,AL2009,\"\")","v":""},{"$f":"IF(AM2010=$G2011,AM2009,\"\")","v":""},{"$f":"IF(AN2010=$G2011,AN2009,\"\")","v":""},{"$f":"IF(AO2010=$G2011,AO2009,\"\")","v":""},{"$f":"IF(AP2010=$G2011,AP2009,\"\")","v":""},{"$f":"IF(AQ2010=$G2011,AQ2009,\"\")","v":""},{"$f":"IF(AR2010=$G2011,AR2009,\"\")","v":""},{"$f":"IF(AS2010=$G2011,AS2009,\"\")","v":""},{"$f":"IF(AT2010=$G2011,AT2009,\"\")","v":""}]
[null,null,null,null,null,null,{"$f":"G2011","v":0},null,null,null,null,null,null,null,null,null,null,null,null,null,null,null,null,null,null,null,null,null,null,null,null,null,null,null,null,null,null,null,null,null,null,null,null,null,null,null,null,null,null,null,null,null,null,null,null,null,null,null,null,null,null,null,null,null,null,null,null,null,null,null,null,null,null,null,null,null,null,null,null,null,{"$f":"G2011","v":0},null,null,{"$f":"IF(CC2014=0,\"\",CC2014)","v":""},null,{"$f":"IF(CF2014=\"\",\"\",CC2013)","v":""}]
[null,null,null,null,null,null,null,null,null,null,null,null,null,null,null,null,null,null,null,null,null,null,null,null,null,null,null,null,null,null,null,null,null,null,null,null,null,null,null,null,null,null,null,null,null,null,null,null,null,null,null,null,null,null,null,null,null,null,null,null,null,null,null,null,null,null,null,null,null,null,null,null,null,null,null,null,null,null,null,null,null,null,null,"NUMERO TIR"]
[null,null,null,5,"",{"$f":"K2016","v":""},{"$f":"IF(F2022=\"\",\"\",IF(E2022<=$C$74,\"X\",\"\"))","v":""},"",null,null,null,null,null,{"$f":"IF(N2023=G2016,G2015,\"\")","v":""},{"$f":"IF(O2023=H2016,H2015,\"\")","v":""},{"$f":"IF(P2023=I2016,I2015,\"\")","v":""},{"$f":"IF(Q2023=J2016,J2015,\"\")","v":""},{"$f":"IF(R2023=K2016,K2015,\"\")","v":""},{"$f":"IF(S2023=L2016,L2015,\"\")","v":""},{"$f":"IF(T2023=M2016,M2015,\"\")","v":""},{"$f":"IF(U2023=N2016,N2015,\"\")","v":""},{"$f":"IF(V2023=O2016,O2015,\"\")","v":""},{"$f":"IF(W2023=P2016,P2015,\"\")","v":""},{"$f":"IF(X2023=Q2016,Q2015,\"\")","v":""},{"$f":"IF(Y2023=R2016,R2015,\"\")","v":""},{"$f":"IF(Z2023=S2016,S2015,\"\")","v":""},{"$f":"IF(AA2023=T2016,T2015,\"\")","v":""},{"$f":"IF(AB2023=U2016,U2015,\"\")","v":""},{"$f":"IF(AC2023=V2016,V2015,\"\")","v":""},{"$f":"IF(AD2023=W2016,W2015,\"\")","v":""},{"$f":"IF(AE2023=X2016,X2015,\"\")","v":""},{"$f":"IF(AF2023=Y2016,Y2015,\"\")","v":""},{"$f":"IF(AG2023=Z2016,Z2015,\"\")","v":""},{"$f":"IF(AH2023=AA2016,AA2015,\"\")","v":""},{"$f":"IF(AI2023=AB2016,AB2015,\"\")","v":""},{"$f":"IF(AJ2023=AC2016,AC2015,\"\")","v":""},{"$f":"IF(AK2023=AD2016,AD2015,\"\")","v":""},{"$f":"IF(AL2023=AE2016,AE2015,\"\")","v":""},{"$f":"IF(AM2023=AF2016,AF2015,\"\")","v":""},{"$f":"IF(AN2023=AG2016,AG2015,\"\")","v":""},{"$f":"IF(AO2023=AH2016,AH2015,\"\")","v":""},{"$f":"IF(AP2023=AI2016,AI2015,\"\")","v":""},{"$f":"IF(AQ2023=AJ2016,AJ2015,\"\")","v":""},{"$f":"IF(AR2023=AK2016,AK2015,\"\")","v":""},{"$f":"IF(AS2023=AL2016,AL2015,\"\")","v":""},{"$f":"IF(AT2023=AM2016,AM2015,\"\")","v":""},{"$f":"IF(AU2023=AN2016,AN2015,\"\")","v":""},{"$f":"IF(AV2023=AO2016,AO2015,\"\")","v":""},{"$f":"IF(AW2023=AP2016,AP2015,\"\")","v":""},{"$f":"IF(AX2023=AQ2016,AQ2015,\"\")","v":""},{"$f":"IF(AY2023=AR2016,AR2015,\"\")","v":""},{"$f":"IF(AZ2023=AS2016,AS2015,\"\")","v":""},{"$f":"IF(BA2023=AT2016,AT2015,\"\")","v":""}]
[null,null,null,9,"",{"$f":"O2016","v":""},{"$f":"IF(F2026=\"\",\"\",IF(E2026<=$C$74,\"X\",\"\"))","v":""},"",null,2,"",{"$f":"O2023","v":""},{"$f":"IF(L2026=\"\",\"\",IF(K2026<=$C$74,\"X\",\"\"))","v":""},{"$f":"IF(M2026=\"X\",L2026,\"\")","v":""},null,{"$f":"IF($P2027=N2023,N2023,\"\")","v":""},{"$f":"IF($P2027=O2023,O2023,\"\")","v":""},{"$f":"IF($P2027=P2023,P2023,\"\")","v":""},{"$f":"IF($P2027=Q2023,Q2023,\"\")","v":""},{"$f":"IF($P2027=R2023,R2023,\"\")","v":""},{"$f":"IF($P2027=S2023,S2023,\"\")","v":""},{"$f":"IF($P2027=T2023,T2023,\"\")","v":""},{"$f":"IF($P2027=U2023,U2023,\"\")","v":""},{"$f":"IF($P2027=V2023,V2023,\"\")","v":""},{"$f":"IF($P2027=W2023,W2023,\"\")","v":""},{"$f":"IF($P2027=X2023,X2023,\"\")","v":""},{"$f":"IF($P2027=Y2023,Y2023,\"\")","v":""},{"$f":"IF($P2027=Z2023,Z2023,\"\")","v":""},{"$f":"IF($P2027=AA2023,AA2023,\"\")","v":""},{"$f":"IF($P2027=AB2023,AB2023,\"\")","v":""},{"$f":"IF($P2027=AC2023,AC2023,\"\")","v":""},{"$f":"IF($P2027=AD2023,AD2023,\"\")","v":""},{"$f":"IF($P2027=AE2023,AE2023,\"\")","v":""},{"$f":"IF($P2027=AF2023,AF2023,\"\")","v":""},{"$f":"IF($P2027=AG2023,AG2023,\"\")","v":""},{"$f":"IF($P2027=AH2023,AH2023,\"\")","v":""},{"$f":"IF($P2027=AI2023,AI2023,\"\")","v":""},{"$f":"IF($P2027=AJ2023,AJ2023,\"\")","v":""},{"$f":"IF($P2027=AK2023,AK2023,\"\")","v":""},{"$f":"IF($P2027=AL2023,AL2023,\"\")","v":""},{"$f":"IF($P2027=AM2023,AM2023,\"\")","v":""},{"$f":"IF($P2027=AN2023,AN2023,\"\")","v":""},{"$f":"IF($P2027=AO2023,AO2023,\"\")","v":""},{"$f":"IF($P2027=AP2023,AP2023,\"\")","v":""},{"$f":"IF($P2027=AQ2023,AQ2023,\"\")","v":""},{"$f":"IF($P2027=AR2023,AR2023,\"\")","v":""},{"$f":"IF($P2027=AS2023,AS2023,\"\")","v":""},{"$f":"IF($P2027=AT2023,AT2023,\"\")","v":""},{"$f":"IF($P2027=AU2023,AU2023,\"\")","v":""},{"$f":"IF($P2027=AV2023,AV2023,\"\")","v":""},{"$f":"IF($P2027=AW2023,AW2023,\"\")","v":""},{"$f":"IF($P2027=AX2023,AX2023,\"\")","v":""},{"$f":"IF($P2027=AY2023,AY2023,\"\")","v":""},{"$f":"IF($P2027=AZ2023,AZ2023,\"\")","v":""},{"$f":"IF($P2027=BA2023,BA2023,\"\")","v":""},null,null,null,null,null,null,2,{"$f":"BK2025","v":0},{"$f":"BL2025","v":0}]
[null,null,null,14,"",{"$f":"T2016","v":""},{"$f":"IF(F2031=\"\",\"\",IF(E2031<=$C$74,\"X\",\"\"))","v":""},"",null,7,"",{"$f":"T2023","v":""},{"$f":"IF(L2031=\"\",\"\",IF(K2031<=$C$74,\"X\",\"\"))","v":""},{"$f":"IF(M2031=\"X\",L2031,\"\")","v":""},null,null,null,null,null,null,null,null,null,null,null,null,null,null,null,null,null,null,null,null,null,null,null,null,null,null,null,null,null,null,null,null,null,null,null,null,null,null,null,null,null,null,null,null,null,null,null,7,{"$f":"BK2030","v":0},0]
[null,null,null,17,"",{"$f":"W2016","v":""},{"$f":"IF(F2034=\"\",\"\",IF(E2034<=$C$74,\"X\",\"\"))","v":""},"",null,10,"",{"$f":"W2023","v":""},{"$f":"IF(L2034=\"\",\"\",IF(K2034<=$C$74,\"X\",\"\"))","v":""},{"$f":"IF(M2034=\"X\",L2034,\"\")","v":""},null,null,null,null,null,null,null,null,null,null,null,null,null,null,null,null,null,null,null,null,null,null,null,null,null,null,null,null,null,null,null,null,null,null,null,null,null,null,null,null,null,null,null,null,null,null,null,10,{"$f":"BK2033","v":0},0]
[null,null,null,19,"",{"$f":"Y2016","v":""},{"$f":"IF(F2036=\"\",\"\",IF(E2036<=$C$74,\"X\",\"\"))","v":""},"",null,12,"",{"$f":"Y2023","v":""},{"$f":"IF(L2036=\"\",\"\",IF(K2036<=$C$74,\"X\",\"\"))","v":""},{"$f":"IF(M2036=\"X\",L2036,\"\")","v":""},null,null,null,null,null,null,null,null,null,null,null,null,null,null,null,null,null,null,null,null,null,null,null,null,null,null,null,null,null,null,null,null,null,null,null,null,null,null,null,null,null,null,null,null,null,null,null,12,{"$f":"BK2035","v":0},0]
[null,null,null,24,"",{"$f":"AD2016","v":""},{"$f":"IF(F2041=\"\",\"\",IF(E2041<=$C$74,\"X\",\"\"))","v":""},"",null,17,"",{"$f":"AD2023","v":""},{"$f":"IF(L2041=\"\",\"\",IF(K2041<=$C$74,\"X\",\"\"))","v":""},{"$f":"IF(M2041=\"X\",L2041,\"\")","v":""},null,1,2,3,4,5,6,7,8,9,10,11,12,13,14,15,16,17,18,19,20,21,22,23,24,25,26,27,28,29,30,31,32,33,34,35,36,37,38,39,40,null,null,null,null,null,null,17,{"$f":"BK2040","v":0},0]
[null,null,null,28,"",{"$f":"AH2016","v":""},{"$f":"IF(F2045=\"\",\"\",IF(E2045<=$C$74,\"X\",\"\"))","v":""},"",null,21,{"$f":"IF(L2045<>\"\",BK2045+BL2045+L2045,\"\")","v":""},{"$f":"AH2023","v":""},{"$f":"IF(L2045=\"\",\"\",IF(K2045<=$C$74,\"X\",\"\"))","v":""},{"$f":"IF(M2045=\"X\",L2045,\"\")","v":""},null,null,null,null,null,null,null,null,null,null,null,null,null,null,null,null,null,null,null,null,null,null,null,null,null,null,null,null,null,null,null,null,null,null,null,null,null,null,null,null,null,null,null,null,null,null,null,21,{"$f":"BK2044","v":0},0]
[null,null,null,29,"",{"$f":"AI2016","v":""},{"$f":"IF(F2046=\"\",\"\",IF(E2046<=$C$74,\"X\",\"\"))","v":""},"",null,22,"",{"$f":"AI2023","v":""},{"$f":"IF(L2046=\"\",\"\",IF(K2046<=$C$74,\"X\",\"\"))","v":""},{"$f":"IF(M2046=\"X\",L2046,\"\")","v":""},null,null,null,null,null,null,null,null,null,null,null,null,null,null,null,null,null,null,null,null,null,null,null,null,null,null,null,null,null,null,null,null,null,null,null,null,null,null,null,null,null,null,null,null,null,null,null,22,{"$f":"BK2045","v":0},0]
[null,null,null,34,"",{"$f":"AN2016","v":""},{"$f":"IF(F2051=\"\",\"\",IF(E2051<=$C$74,\"X\",\"\"))","v":""},"",null,27,"",{"$f":"AN2023","v":""},{"$f":"IF(L2051=\"\",\"\",IF(K2051<=$C$74,\"X\",\"\"))","v":""},{"$f":"IF(M2051=\"X\",L2051,\"\")","v":""},null,null,null,null,null,null,null,null,null,null,null,null,null,null,null,null,null,null,null,null,null,null,null,null,null,null,null,null,null,null,null,null,null,null,null,null,null,null,null,null,null,null,null,null,null,null,null,27,{"$f":"BK2050","v":0},0]
[null,null,null,38,"",{"$f":"AR2016","v":""},{"$f":"IF(F2055=\"\",\"\",IF(E2055<=$C$74,\"X\",\"\"))","v":""},"",null,31,"",{"$f":"AR2023","v":""},{"$f":"IF(L2055=\"\",\"\",IF(K2055<=$C$74,\"X\",\"\"))","v":""},{"$f":"IF(M2055=\"X\",L2055,\"\")","v":""},null,null,null,null,null,null,null,null,null,null,null,null,null,null,null,null,null,null,null,null,null,null,null,null,null,null,null,null,null,null,null,null,null,null,null,null,null,null,null,null,null,null,null,null,null,null,null,31,{"$f":"BK2054","v":0},0]
[null,null,null,null,null,null,null,null,null,34,"",{"$f":"AU2023","v":""},{"$f":"IF(L2058=\"\",\"\",IF(K2058<=$C$74,\"X\",\"\"))","v":""},{"$f":"IF(M2058=\"X\",L2058,\"\")","v":""},null,null,null,null,null,null,null,null,null,null,null,null,null,null,null,null,null,null,null,null,null,null,null,null,null,null,null,null,null,null,null,null,null,null,null,null,null,null,null,null,null,null,null,null,null,null,null,34,{"$f":"BK2057","v":0},0]
[null,null,null,null,null,null,null,null,null,36,"",{"$f":"AW2023","v":""},{"$f":"IF(L2060=\"\",\"\",IF(K2060<=$C$74,\"X\",\"\"))","v":""},{"$f":"IF(M2060=\"X\",L2060,\"\")","v":""},null,null,null,null,null,null,null,null,null,null,null,null,null,null,null,null,null,null,null,null,null,null,null,null,null,null,null,null,null,null,null,null,null,null,null,null,null,null,null,null,null,null,null,null,null,null,null,36,{"$f":"BK2059","v":0},0]
[]
[null,null,"MASSIMO PESO",null,null,null,{"$f":"MAX(G2069:AT2069)","v":0}]
[null,null,null,null,null,null,{"$f":"IF(G2075=\"\",\"\",IF(G2075=G2069,G2068,\"\"))","v":""},{"$f":"IF(H2075=\"\",\"\",IF(H2075=H2069,H2068,\"\"))","v":""},{"$f":"IF(I2075=\"\",\"\",IF(I2075=I2069,I2068,\"\"))","v":""},{"$f":"IF(J2075=\"\",\"\",IF(J2075=J2069,J2068,\"\"))","v":""},{"$f":"IF(K2075=\"\",\"\",IF(K2075=K2069,K2068,\"\"))","v":""},{"$f":"IF(L2075=\"\",\"\",IF(L2075=L2069,L2068,\"\"))","v":""},{"$f":"IF(M2075=\"\",\"\",IF(M2075=M2069,M2068,\"\"))","v":""},{"$f":"IF(N2075=\"\",\"\",IF(N2075=N2069,N2068,\"\"))","v":""},{"$f":"IF(O2075=\"\",\"\",IF(O2075=O2069,O2068,\"\"))","v":""},{"$f":"IF(P2075=\"\",\"\",IF(P2075=P2069,P2068,\"\"))","v":""},{"$f":"IF(Q2075=\"\",\"\",IF(Q2075=Q2069,Q2068,\"\"))","v":""},{"$f":"IF(R2075=\"\",\"\",IF(R2075=R2069,R2068,\"\"))","v":""},{"$f":"IF(S2075=\"\",\"\",IF(S2075=S2069,S2068,\"\"))","v":""},{"$f":"IF(T2075=\"\",\"\",IF(T2075=T2069,T2068,\"\"))","v":""},{"$f":"IF(U2075=\"\",\"\",IF(U2075=U2069,U2068,\"\"))","v":""},{"$f":"IF(V2075=\"\",\"\",IF(V2075=V2069,V2068,\"\"))","v":""},{"$f":"IF(W2075=\"\",\"\",IF(W2075=W2069,W2068,\"\"))","v":""},{"$f":"IF(X2075=\"\",\"\",IF(X2075=X2069,X2068,\"\"))","v":""},{"$f":"IF(Y2075=\"\",\"\",IF(Y2075=Y2069,Y2068,\"\"))","v":""},{"$f":"IF(Z2075=\"\",\"\",IF(Z2075=Z2069,Z2068,\"\"))","v":""},{"$f":"IF(AA2075=\"\",\"\",IF(AA2075=AA2069,AA2068,\"\"))","v":""},{"$f":"IF(AB2075=\"\",\"\",IF(AB2075=AB2069,AB2068,\"\"))","v":""},{"$f":"IF(AC2075=\"\",\"\",IF(AC2075=AC2069,AC2068,\"\"))","v":""},{"$f":"IF(AD2075=\"\",\"\",IF(AD2075=AD2069,AD2068,\"\"))","v":""},{"$f":"IF(AE2075=\"\",\"\",IF(AE2075=AE2069,AE2068,\"\"))","v":""},{"$f":"IF(AF2075=\"\",\"\",IF(AF2075=AF2069,AF2068,\"\"))","v":""},{"$f":"IF(AG2075=\"\",\"\",IF(AG2075=AG2069,AG2068,\"\"))","v":""},{"$f":"IF(AH2075=\"\",\"\",IF(AH2075=AH2069,AH2068,\"\"))","v":""},{"$f":"IF(AI2075=\"\",\"\",IF(AI2075=AI2069,AI2068,\"\"))","v":""},{"$f":"IF(AJ2075=\"\",\"\",IF(AJ2075=AJ2069,AJ2068,\"\"))","v":""},{"$f":"IF(AK2075=\"\",\"\",IF(AK2075=AK2069,AK2068,\"\"))","v":""},{"$f":"IF(AL2075=\"\",\"\",IF(AL2075=AL2069,AL2068,\"\"))","v":""},{"$f":"IF(AM2075=\"\",\"\",IF(AM2075=AM2069,AM2068,\"\"))","v":""},{"$f":"IF(AN2075=\"\",\"\",IF(AN2075=AN2069,AN2068,\"\"))","v":""},{"$f":"IF(AO2075=\"\",\"\",IF(AO2075=AO2069,AO2068,\"\"))","v":""},{"$f":"IF(AP2075=\"\",\"\",IF(AP2075=AP2069,AP2068,\"\"))","v":""},{"$f":"IF(AQ2075=\"\",\"\",IF(AQ2075=AQ2069,AQ2068,\"\"))","v":""},{"$f":"IF(AR2075=\"\",\"\",IF(AR2075=AR2069,AR2068,\"\"))","v":""},{"$f":"IF(AS2075=\"\",\"\",IF(AS2075=AS2069,AS2068,\"\"))","v":""},{"$f":"IF(AT2075=\"\",\"\",IF(AT2075=AT2069,AT2068,\"\"))","v":""},null,null,null,null,null,null,null,null,null,null,null,null,null,null,null,null,null,null,null,null,null,null,null,null,null,null,null,null,null,null,null,null,null,null,null,null,null,{"$f":"IF(CC2078=0,\"\",CC2078)","v":""},null,{"$f":"IF(CF2074=\"\",\"\",CC2077)","v":""}]
[null,null,"DISPONIBILI",null,null,null,{"$f":"IF(G2069=$G2070,\"\",G2069)","v":""},{"$f":"IF(H2069=$G2070,\"\",H2069)","v":""},{"$f":"IF(I2069=$G2070,\"\",I2069)","v":""},{"$f":"IF(J2069=$G2070,\"\",J2069)","v":""},{"$f":"IF(K2069=$G2070,\"\",K2069)","v":""},{"$f":"IF(L2069=$G2070,\"\",L2069)","v":""},{"$f":"IF(M2069=$G2070,\"\",M2069)","v":""},{"$f":"IF(N2069=$G2070,\"\",N2069)","v":""},{"$f":"IF(O2069=$G2070,\"\",O2069)","v":""},{"$f":"IF(P2069=$G2070,\"\",P2069)","v":""},{"$f":"IF(Q2069=$G2070,\"\",Q2069)","v":""},{"$f":"IF(R2069=$G2070,\"\",R2069)","v":""},{"$f":"IF(S2069=$G2070,\"\",S2069)","v":""},{"$f":"IF(T2069=$G2070,\"\",T2069)","v":""},{"$f":"IF(U2069=$G2070,\"\",U2069)","v":""},{"$f":"IF(V2069=$G2070,\"\",V2069)","v":""},{"$f":"IF(W2069=$G2070,\"\",W2069)","v":""},{"$f":"IF(X2069=$G2070,\"\",X2069)","v":""},{"$f":"IF(Y2069=$G2070,\"\",Y2069)","v":""},{"$f":"IF(Z2069=$G2070,\"\",Z2069)","v":""},{"$f":"IF(AA2069=$G2070,\"\",AA2069)","v":""},{"$f":"IF(AB2069=$G2070,\"\",AB2069)","v":""},{"$f":"IF(AC2069=$G2070,\"\",AC2069)","v":""},{"$f":"IF(AD2069=$G2070,\"\",AD2069)","v":""},{"$f":"IF(AE2069=$G2070,\"\",AE2069)","v":""},{"$f":"IF(AF2069=$G2070,\"\",AF2069)","v":""},{"$f":"IF(AG2069=$G2070,\"\",AG2069)","v":""},{"$f":"IF(AH2069=$G2070,\"\",AH2069)","v":""},{"$f":"IF(AI2069=$G2070,\"\",AI2069)","v":""},{"$f":"IF(AJ2069=$G2070,\"\",AJ2069)","v":""},{"$f":"IF(AK2069=$G2070,\"\",AK2069)","v":""},{"$f":"IF(AL2069=$G2070,\"\",AL2069)","v":""},{"$f":"IF(AM2069=$G2070,\"\",AM2069)","v":""},{"$f":"IF(AN2069=$G2070,\"\",AN2069)","v":""},{"$f":"IF(AO2069=$G2070,\"\",AO2069)","v":""},{"$f":"IF(AP2069=$G2070,\"\",AP2069)","v":""},{"$f":"IF(AQ2069=$G2070,\"\",AQ2069)","v":""},{"$f":"IF(AR2069=$G2070,\"\",AR2069)","v":""},{"$f":"IF(AS2069=$G2070,\"\",AS2069)","v":""},{"$f":"IF(AT2069=$G2070,\"\",AT2069)","v":""},null,null,null,null,null,null,null,null,null,null,null,null,null,null,null,null,null,null,null,null,null,null,null,null,null,null,null,null,null,null,null,null,null,null,null,null,null,{"$f":"IF(CC2083=0,\"\",CC2083)","v":""},null,{"$f":"IF(CF2075=\"\",\"\",CC2082)","v":""}]
[null,null,null,3,"",{"$f":"I2075","v":""},{"$f":"IF(F2079=\"\",\"\",IF(E2079<=$C$74,\"X\",\"\"))","v":""},"",null,{"$f":"I2077","v":0}]
[null,null,null,8,"",{"$f":"N2075","v":""},{"$f":"IF(F2084=\"\",\"\",IF(E2084<=$C$74,\"X\",\"\"))","v":""},"",null,1,{"$f":"IF(L2084<>\"\",BK2084+BL2084+L2084,\"\")","v":""},{"$f":"N2082","v":""},{"$f":"IF(L2084=\"\",\"\",IF(K2084<=$C$74,\"X\",\"\"))","v":""},{"$f":"IF(M2084=\"X\",L2084,\"\")","v":""},{"$f":"MAX(N2084:N2103)","v":0},{"$f":"IF(P2085=N2082,N2081,\"\")","v":""},{"$f":"IF(Q2085=O2082,O2081,\"\")","v":""},{"$f":"IF(R2085=P2082,P2081,\"\")","v":""},{"$f":"IF(S2085=Q2082,Q2081,\"\")","v":""},{"$f":"IF(T2085=R2082,R2081,\"\")","v":""},{"$f":"IF(U2085=S2082,S2081,\"\")","v":""},{"$f":"IF(V2085=T2082,T2081,\"\")","v":""},{"$f":"IF(W2085=U2082,U2081,\"\")","v":""},{"$f":"IF(X2085=V2082,V2081,\"\")","v":""},{"$f":"IF(Y2085=W2082,W2081,\"\")","v":""},{"$f":"IF(Z2085=X2082,X2081,\"\")","v":""},{"$f":"IF(AA2085=Y2082,Y2081,\"\")","v":""},{"$f":"IF(AB2085=Z2082,Z2081,\"\")","v":""},{"$f":"IF(AC2085=AA2082,AA2081,\"\")","v":""},{"$f":"IF(AD2085=AB2082,AB2081,\"\")","v":""},{"$f":"IF(AE2085=AC2082,AC2081,\"\")","v":""},{"$f":"IF(AF2085=AD2082,AD2081,\"\")","v":""},{"$f":"IF(AG2085=AE2082,AE2081,\"\")","v":""},{"$f":"IF(AH2085=AF2082,AF2081,\"\")","v":""},{"$f":"IF(AI2085=AG2082,AG2081,\"\")","v":""},{"$f":"IF(AJ2085=AH2082,AH2081,\"\")","v":""},{"$f":"IF(AK2085=AI2082,AI2081,\"\")","v":""},{"$f":"IF(AL2085=AJ2082,AJ2081,\"\")","v":""},{"$f":"IF(AM2085=AK2082,AK2081,\"\")","v":""},{"$f":"IF(AN2085=AL2082,AL2081,\"\")","v":""},{"$f":"IF(AO2085=AM2082,AM2081,\"\")","v":""},{"$f":"IF(AP2085=AN2082,AN2081,\"\")","v":""},{"$f":"IF(AQ2085=AO2082,AO2081,\"\")","v":""},{"$f":"IF(AR2085=AP2082,AP2081,\"\")","v":""},{"$f":"IF(AS2085=AQ2082,AQ2081,\"\")","v":""},{"$f":"IF(AT2085=AR2082,AR2081,\"\")","v":""},{"$f":"IF(AU2085=AS2082,AS2081,\"\")","v":""},{"$f":"IF(AV2085=AT2082,AT2081,\"\")","v":""},{"$f":"IF(AW2085=AU2082,AU2081,\"\")","v":""},{"$f":"IF(AX2085=AV2082,AV2081,\"\")","v":""},{"$f":"IF(AY2085=AW2082,AW2081,\"\")","v":""},{"$f":"IF(AZ2085=AX2082,AX2081,\"\")","v":""},{"$f":"IF(BA2085=AY2082,AY2081,\"\")","v":""},{"$f":"IF(BB2085=AZ2082,AZ2081,\"\")","v":""},{"$f":"IF(BC2085=BA2082,BA2081,\"\")","v":""},null,null,null,null,null,null,1,{"$f":"CC2073","v":0},{"$f":"CC2078","v":0}]
[null,null,null,11,"",{"$f":"Q2075","v":""},{"$f":"IF(F2087=\"\",\"\",IF(E2087<=$C$74,\"X\",\"\"))","v":""},"",null,4,"",{"$f":"Q2082","v":""},{"$f":"IF(L2087=\"\",\"\",IF(K2087<=$C$74,\"X\",\"\"))","v":""},{"$f":"IF(M2087=\"X\",L2087,\"\")","v":""},null,null,null,null,null,null,null,null,null,null,null,null,null,null,null,null,null,null,null,null,null,null,null,null,null,null,null,null,null,null,null,null,null,null,null,null,null,null,null,null,null,null,null,null,null,null,null,4,{"$f":"BK2086","v":0},0]
[null,null,null,13,"",{"$f":"S2075","v":""},{"$f":"IF(F2089=\"\",\"\",IF(E2089<=$C$74,\"X\",\"\"))","v":""},"",null,6,"",{"$f":"S2082","v":""},{"$f":"IF(L2089=\"\",\"\",IF(K2089<=$C$74,\"X\",\"\"))","v":""},{"$f":"IF(M2089=\"X\",L2089,\"\")","v":""},null,null,null,null,null,null,null,null,null,null,null,null,null,null,null,null,null,null,null,null,null,null,null,null,null,null,null,null,null,null,null,null,null,null,null,null,null,null,null,null,null,null,null,null,null,null,null,6,{"$f":"BK2088","v":0},0]
[null,null,null,19,"",{"$f":"Y2075","v":""},{"$f":"IF(F2095=\"\",\"\",IF(E2095<=$C$74,\"X\",\"\"))","v":""},"",null,12,"",{"$f":"Y2082","v":""},{"$f":"IF(L2095=\"\",\"\",IF(K2095<=$C$74,\"X\",\"\"))","v":""},{"$f":"IF(M2095=\"X\",L2095,\"\")","v":""},null,null,null,null,null,null,null,null,null,null,null,null,null,null,null,null,null,null,null,null,null,null,null,null,null,null,null,null,null,null,null,null,null,null,null,null,null,null,null,null,null,null,null,null,null,null,null,12,{"$f":"BK2094","v":0},0]
[null,null,null,22,"",{"$f":"AB2075","v":""},{"$f":"IF(F2098=\"\",\"\",IF(E2098<=$C$74,\"X\",\"\"))","v":""},"",null,15,"",{"$f":"AB2082","v":""},{"$f":"IF(L2098=\"\",\"\",IF(K2098<=$C$74,\"X\",\"\"))","v":""},{"$f":"IF(M2098=\"X\",L2098,\"\")","v":""},null,"RIMASTI A DISPOSIZIONE",null,null,null,null,null,null,null,null,null,null,null,null,null,null,null,null,null,null,null,null,null,null,null,null,null,null,null,null,null,null,null,null,null,null,null,null,null,null,null,null,null,null,null,null,null,15,{"$f":"BK2097","v":0},0]
[null,null,null,24,"",{"$f":"AD2075","v":""},{"$f":"IF(F2100=\"\",\"\",IF(E2100<=$C$74,\"X\",\"\"))","v":""},"",null,17,"",{"$f":"AD2082","v":""},{"$f":"IF(L2100=\"\",\"\",IF(K2100<=$C$74,\"X\",\"\"))","v":""},{"$f":"IF(M2100=\"X\",L2100,\"\")","v":""},null,1,2,3,4,5,6,7,8,9,10,11,12,13,14,15,16,17,18,19,20,21,22,23,24,25,26,27,28,29,30,31,32,33,34,35,36,37,38,39,40,null,null,null,null,null,null,17,{"$f":"BK2099","v":0},0]
[null,null,null,27,"",{"$f":"AG2075","v":""},{"$f":"IF(F2103=\"\",\"\",IF(E2103<=$C$74,\"X\",\"\"))","v":""},"",null,20,"",{"$f":"AG2082","v":""},{"$f":"IF(L2103=\"\",\"\",IF(K2103<=$C$74,\"X\",\"\"))","v":""},{"$f":"IF(M2103=\"X\",L2103,\"\")","v":""},null,null,null,null,null,null,null,null,null,null,null,null,null,null,null,null,null,null,null,null,null,null,null,null,null,null,null,null,null,null,null,null,null,null,null,null,null,null,null,null,null,null,null,null,null,null,null,20,{"$f":"BK2102","v":0},0]
[null,null,null,32,"",{"$f":"AL2075","v":""},{"$f":"IF(F2108=\"\",\"\",IF(E2108<=$C$74,\"X\",\"\"))","v":""},"",null,25,"",{"$f":"AL2082","v":""},{"$f":"IF(L2108=\"\",\"\",IF(K2108<=$C$74,\"X\",\"\"))","v":""},{"$f":"IF(M2108=\"X\",L2108,\"\")","v":""},null,null,null,null,null,null,null,null,null,null,null,null,null,null,null,null,null,null,null,null,null,null,null,null,null,null,null,null,null,null,null,null,null,null,null,null,null,null,null,null,null,null,null,null,null,null,null,25,{"$f":"BK2107","v":0},0]
[null,null,null,36,"",{"$f":"AP2075","v":""},{"$f":"IF(F2112=\"\",\"\",IF(E2112<=$C$74,\"X\",\"\"))","v":""},"",null,29,"",{"$f":"AP2082","v":""},{"$f":"IF(L2112=\"\",\"\",IF(K2112<=$C$74,\"X\",\"\"))","v":""},{"$f":"IF(M2112=\"X\",L2112,\"\")","v":""},null,null,null,null,null,null,null,null,null,null,null,null,null,null,null,null,null,null,null,null,null,null,null,null,null,null,null,null,null,null,null,null,null,null,null,null,null,null,null,null,null,null,null,null,null,null,null,29,{"$f":"BK2111","v":0},0]
[null,null,null,null,null,null,null,null,null,34,"",{"$f":"AU2082","v":""},{"$f":"IF(L2117=\"\",\"\",IF(K2117<=$C$74,\"X\",\"\"))","v":""},{"$f":"IF(M2117=\"X\",L2117,\"\")","v":""},null,null,null,null,null,null,null,null,null,null,null,null,null,null,null,null,null,null,null,null,null,null,null,null,null,null,null,null,null,null,null,null,null,null,null,null,null,null,null,null,null,null,null,null,null,null,null,34,{"$f":"BK2116","v":0},0]
[null,null,null,null,null,null,null,null,null,37,"",{"$f":"AX2082","v":""},{"$f":"IF(L2120=\"\",\"\",IF(K2120<=$C$74,\"X\",\"\"))","v":""},{"$f":"IF(M2120=\"X\",L2120,\"\")","v":""},null,null,null,null,null,null,null,null,null,null,null,null,null,null,null,null,null,null,null,null,null,null,null,null,null,null,null,null,null,null,null,null,null,null,null,null,null,null,null,null,null,null,null,null,null,null,null,37,{"$f":"BK2119","v":0},0]
[null,null,null,null,null,null,null,null,null,39,"",{"$f":"AZ2082","v":""},{"$f":"IF(L2122=\"\",\"\",IF(K2122<=$C$74,\"X\",\"\"))","v":""},{"$f":"IF(M2122=\"X\",L2122,\"\")","v":""},null,null,null,null,null,null,null,null,null,null,null,null,null,null,null,null,null,null,null,null,null,null,null,null,null,null,null,null,null,null,null,null,null,null,null,null,null,null,null,null,null,null,null,null,null,null,null,39,{"$f":"BK2121","v":0},0]
[null,null,"TIR",null,{"$f":"E2068+1","v":36},null,{"$f":"P2101","v":""},{"$f":"Q2101","v":""},{"$f":"R2101","v":""},{"$f":"S2101","v":""},{"$f":"T2101","v":""},{"$f":"U2101","v":""},{"$f":"V2101","v":""},{"$f":"W2101","v":""},{"$f":"X2101","v":""},{"$f":"Y2101","v":""},{"$f":"Z2101","v":""},{"$f":"AA2101","v":""},{"$f":"AB2101","v":""},{"$f":"AC2101","v":""},{"$f":"AD2101","v":""},{"$f":"AE2101","v":""},{"$f":"AF2101","v":""},{"$f":"AG2101","v":""},{"$f":"AH2101","v":""},{"$f":"AI2101","v":""},{"$f":"AJ2101","v":""},{"$f":"AK2101","v":""},{"$f":"AL2101","v":""},{"$f":"AM2101","v":""},{"$f":"AN2101","v":""},{"$f":"AO2101","v":""},{"$f":"AP2101","v":""},{"$f":"AQ2101","v":""},{"$f":"AR2101","v":""},{"$f":"AS2101","v":""},{"$f":"AT2101","v":""},{"$f":"AU2101","v":""},{"$f":"AV2101","v":""},{"$f":"AW2101","v":""},{"$f":"AX2101","v":""},{"$f":"AY2101","v":""},{"$f":"AZ2101","v":""},{"$f":"BA2101","v":""},{"$f":"BB2101","v":""},{"$f":"BC2101","v":""}]
[null,null,"MASSIMO PESO",null,null,null,{"$f":"MAX(G2128:AT2128)","v":0}]
[null,null,null,null,null,null,{"$f":"G2129","v":0},null,null,null,null,null,null,null,null,null,null,null,null,null,null,null,null,null,null,null,null,null,null,null,null,null,null,null,null,null,null,null,null,null,null,null,null,null,null,null,null,null,null,null,null,null,null,null,null,null,null,null,null,null,null,null,null,null,null,null,null,null,null,null,null,null,null,null,null,null,null,null,null,null,{"$f":"G2129","v":0},null,null,{"$f":"IF(CC2132=0,\"\",CC2132)","v":""},null,{"$f":"IF(CF2132=\"\",\"\",CC2131)","v":""}]
[null,null,null,2,"",{"$f":"H2134","v":""},{"$f":"IF(F2137=\"\",\"\",IF(E2137<=$C$74,\"X\",\"\"))","v":""},"",null,{"$f":"IF($J2138=G2134,G2134,\"\")","v":""},{"$f":"IF($J2138=H2134,H2134,\"\")","v":""},{"$f":"IF($J2138=I2134,I2134,\"\")","v":""},{"$f":"IF($J2138=J2134,J2134,\"\")","v":""},{"$f":"IF($J2138=K2134,K2134,\"\")","v":""},{"$f":"IF($J2138=L2134,L2134,\"\")","v":""},{"$f":"IF($J2138=M2134,M2134,\"\")","v":""},{"$f":"IF($J2138=N2134,N2134,\"\")","v":""},{"$f":"IF($J2138=O2134,O2134,\"\")","v":""},{"$f":"IF($J2138=P2134,P2134,\"\")","v":""},{"$f":"IF($J2138=Q2134,Q2134,\"\")","v":""},{"$f":"IF($J2138=R2134,R2134,\"\")","v":""},{"$f":"IF($J2138=S2134,S2134,\"\")","v":""},{"$f":"IF($J2138=T2134,T2134,\"\")","v":""},{"$f":"IF($J2138=U2134,U2134,\"\")","v":""},{"$f":"IF($J2138=V2134,V2134,\"\")","v":""},{"$f":"IF($J2138=W2134,W2134,\"\")","v":""},{"$f":"IF($J2138=X2134,X2134,\"\")","v":""},{"$f":"IF($J2138=Y2134,Y2134,\"\")","v":""},{"$f":"IF($J2138=Z2134,Z2134,\"\")","v":""},{"$f":"IF($J2138=AA2134,AA2134,\"\")","v":""},{"$f":"IF($J2138=AB2134,AB2134,\"\")","v":""},{"$f":"IF($J2138=AC2134,AC2134,\"\")","v":""},{"$f":"IF($J2138=AD2134,AD2134,\"\")","v":""},{"$f":"IF($J2138=AE2134,AE2134,\"\")","v":""},{"$f":"IF($J2138=AF2134,AF2134,\"\")","v":""},{"$f":"IF($J2138=AG2134,AG2134,\"\")","v":""},{"$f":"IF($J2138=AH2134,AH2134,\"\")","v":""},{"$f":"IF($J2138=AI2134,AI2134,\"\")","v":""},{"$f":"IF($J2138=AJ2134,AJ2134,\"\")","v":""},{"$f":"IF($J2138=AK2134,AK2134,\"\")","v":""},{"$f":"IF($J2138=AL2134,AL2134,\"\")","v":""},{"$f":"IF($J2138=AM2134,AM2134,\"\")","v":""},{"$f":"IF($J2138=AN2134,AN2134,\"\")","v":""},{"$f":"IF($J2138=AO2134,AO2134,\"\")","v":""},{"$f":"IF($J2138=AP2134,AP2134,\"\")","v":""},{"$f":"IF($J2138=AQ2134,AQ2134,\"\")","v":""},{"$f":"IF($J2138=AR2134,AR2134,\"\")","v":""},{"$f":"IF($J2138=AS2134,AS2134,\"\")","v":""},{"$f":"IF($J2138=AT2134,AT2134,\"\")","v":""},null,null,null,null,null,null,null,null,null,null,null,null,null,null,null,null,null,null,null,null,null,null,null,null,null,null,null,null,null,null,null,{"$f":"J2138","v":0}]
[null,null,null,6,"",{"$f":"L2134","v":""},{"$f":"IF(F2141=\"\",\"\",IF(E2141<=$C$74,\"X\",\"\"))","v":""},"",null,"DISPONIBILI",null,null,null,{"$f":"IF(G2134=\"\",\"\",IF(G2134=J2137,\"\",G2134))","v":""},{"$f":"IF(H2134=\"\",\"\",IF(H2134=K2137,\"\",H2134))","v":""},{"$f":"IF(I2134=\"\",\"\",IF(I2134=L2137,\"\",I2134))","v":""},{"$f":"IF(J2134=\"\",\"\",IF(J2134=M2137,\"\",J2134))","v":""},{"$f":"IF(K2134=\"\",\"\",IF(K2134=N2137,\"\",K2134))","v":""},{"$f":"IF(L2134=\"\",\"\",IF(L2134=O2137,\"\",L2134))","v":""},{"$f":"IF(M2134=\"\",\"\",IF(M2134=P2137,\"\",M2134))","v":""},{"$f":"IF(N2134=\"\",\"\",IF(N2134=Q2137,\"\",N2134))","v":""},{"$f":"IF(O2134=\"\",\"\",IF(O2134=R2137,\"\",O2134))","v":""},{"$f":"IF(P2134=\"\",\"\",IF(P2134=S2137,\"\",P2134))","v":""},{"$f":"IF(Q2134=\"\",\"\",IF(Q2134=T2137,\"\",Q2134))","v":""},{"$f":"IF(R2134=\"\",\"\",IF(R2134=U2137,\"\",R2134))","v":""},{"$f":"IF(S2134=\"\",\"\",IF(S2134=V2137,\"\",S2134))","v":""},{"$f":"IF(T2134=\"\",\"\",IF(T2134=W2137,\"\",T2134))","v":""},{"$f":"IF(U2134=\"\",\"\",IF(U2134=X2137,\"\",U2134))","v":""},{"$f":"IF(V2134=\"\",\"\",IF(V2134=Y2137,\"\",V2134))","v":""},{"$f":"IF(W2134=\"\",\"\",IF(W2134=Z2137,\"\",W2134))","v":""},{"$f":"IF(X2134=\"\",\"\",IF(X2134=AA2137,\"\",X2134))","v":""},{"$f":"IF(Y2134=\"\",\"\",IF(Y2134=AB2137,\"\",Y2134))","v":""},{"$f":"IF(Z2134=\"\",\"\",IF(Z2134=AC2137,\"\",Z2134))","v":""},{"$f":"IF(AA2134=\"\",\"\",IF(AA2134=AD2137,\"\",AA2134))","v":""},{"$f":"IF(AB2134=\"\",\"\",IF(AB2134=AE2137,\"\",AB2134))","v":""},{"$f":"IF(AC2134=\"\",\"\",IF(AC2134=AF2137,\"\",AC2134))","v":""},{"$f":"IF(AD2134=\"\",\"\",IF(AD2134=AG2137,\"\",AD2134))","v":""},{"$f":"IF(AE2134=\"\",\"\",IF(AE2134=AH2137,\"\",AE2134))","v":""},{"$f":"IF(AF2134=\"\",\"\",IF(AF2134=AI2137,\"\",AF2134))","v":""},{"$f":"IF(AG2134=\"\",\"\",IF(AG2134=AJ2137,\"\",AG2134))","v":""},{"$f":"IF(AH2134=\"\",\"\",IF(AH2134=AK2137,\"\",AH2134))","v":""},{"$f":"IF(AI2134=\"\",\"\",IF(AI2134=AL2137,\"\",AI2134))","v":""},{"$f":"IF(AJ2134=\"\",\"\",IF(AJ2134=AM2137,\"\",AJ2134))","v":""},{"$f":"IF(AK2134=\"\",\"\",IF(AK2134=AN2137,\"\",AK2134))","v":""},{"$f":"IF(AL2134=\"\",\"\",IF(AL2134=AO2137,\"\",AL2134))","v":""},{"$f":"IF(AM2134=\"\",\"\",IF(AM2134=AP2137,\"\",AM2134))","v":""},{"$f":"IF(AN2134=\"\",\"\",IF(AN2134=AQ2137,\"\",AN2134))","v":""},{"$f":"IF(AO2134=\"\",\"\",IF(AO2134=AR2137,\"\",AO2134))","v":""},{"$f":"IF(AP2134=\"\",\"\",IF(AP2134=AS2137,\"\",AP2134))","v":""},{"$f":"IF(AQ2134=\"\",\"\",IF(AQ2134=AT2137,\"\",AQ2134))","v":""},{"$f":"IF(AR2134=\"\",\"\",IF(AR2134=AU2137,\"\",AR2134))","v":""},{"$f":"IF(AS2134=\"\",\"\",IF(AS2134=AV2137,\"\",AS2134))","v":""},{"$f":"IF(AT2134=\"\",\"\",IF(AT2134=AW2137,\"\",AT2134))","v":""},null,null,null,null,null,null,null,null,null,null,null,null,null,null,null,null,null,null,null,null,null,"Terzo Blocco",null,null,null,null,null,{"$f":"P2143&Q2143&R2143&S2143&T2143&U2143&V2143&W2143&X2143&Y2143&Z2143&AA2143&AB2143&AC2143&AD2143&AE2143&AF2143&AG2143&AH2143&AI2143&AJ2143&AK2143&AL2143&AM2143&AN2143&AO2143&AP2143&AQ2143&AR2143&AS2143&AT2143&AU2143&AV2143&AW2143&AX2143&AY2143&AZ2143&BA2143&BB2143&BC2143","v":""}]
[null,null,null,9,"",{"$f":"O2134","v":""},{"$f":"IF(F2144=\"\",\"\",IF(E2144<=$C$74,\"X\",\"\"))","v":""},"",null,2,"",{"$f":"O2141","v":""},{"$f":"IF(L2144=\"\",\"\",IF(K2144<=$C$74,\"X\",\"\"))","v":""},{"$f":"IF(M2144=\"X\",L2144,\"\")","v":""},null,{"$f":"IF($P2145=N2141,N2141,\"\")","v":""},{"$f":"IF($P2145=O2141,O2141,\"\")","v":""},{"$f":"IF($P2145=P2141,P2141,\"\")","v":""},{"$f":"IF($P2145=Q2141,Q2141,\"\")","v":""},{"$f":"IF($P2145=R2141,R2141,\"\")","v":""},{"$f":"IF($P2145=S2141,S2141,\"\")","v":""},{"$f":"IF($P2145=T2141,T2141,\"\")","v":""},{"$f":"IF($P2145=U2141,U2141,\"\")","v":""},{"$f":"IF($P2145=V2141,V2141,\"\")","v":""},{"$f":"IF($P2145=W2141,W2141,\"\")","v":""},{"$f":"IF($P2145=X2141,X2141,\"\")","v":""},{"$f":"IF($P2145=Y2141,Y2141,\"\")","v":""},{"$f":"IF($P2145=Z2141,Z2141,\"\")","v":""},{"$f":"IF($P2145=AA2141,AA2141,\"\")","v":""},{"$f":"IF($P2145=AB2141,AB2141,\"\")","v":""},{"$f":"IF($P2145=AC2141,AC2141,\"\")","v":""},{"$f":"IF($P2145=AD2141,AD2141,\"\")","v":""},{"$f":"IF($P2145=AE2141,AE2141,\"\")","v":""},{"$f":"IF($P2145=AF2141,AF2141,\"\")","v":""},{"$f":"IF($P2145=AG2141,AG2141,\"\")","v":""},{"$f":"IF($P2145=AH2141,AH2141,\"\")","v":""},{"$f":"IF($P2145=AI2141,AI2141,\"\")","v":""},{"$f":"IF($P2145=AJ2141,AJ2141,\"\")","v":""},{"$f":"IF($P2145=AK2141,AK2141,\"\")","v":""},{"$f":"IF($P2145=AL2141,AL2141,\"\")","v":""},{"$f":"IF($P2145=AM2141,AM2141,\"\")","v":""},{"$f":"IF($P2145=AN2141,AN2141,\"\")","v":""},{"$f":"IF($P2145=AO2141,AO2141,\"\")","v":""},{"$f":"IF($P2145=AP2141,AP2141,\"\")","v":""},{"$f":"IF($P2145=AQ2141,AQ2141,\"\")","v":""},{"$f":"IF($P2145=AR2141,AR2141,\"\")","v":""},{"$f":"IF($P2145=AS2141,AS2141,\"\")","v":""},{"$f":"IF($P2145=AT2141,AT2141,\"\")","v":""},{"$f":"IF($P2145=AU2141,AU2141,\"\")","v":""},{"$f":"IF($P2145=AV2141,AV2141,\"\")","v":""},{"$f":"IF($P2145=AW2141,AW2141,\"\")","v":""},{"$f":"IF($P2145=AX2141,AX2141,\"\")","v":""},{"$f":"IF($P2145=AY2141,AY2141,\"\")","v":""},{"$f":"IF($P2145=AZ2141,AZ2141,\"\")","v":""},{"$f":"IF($P2145=BA2141,BA2141,\"\")","v":""},null,null,null,null,null,null,2,{"$f":"BK2143","v":0},{"$f":"BL2143","v":0}]
[null,null,null,11,"",{"$f":"Q2134","v":""},{"$f":"IF(F2146=\"\",\"\",IF(E2146<=$C$74,\"X\",\"\"))","v":""},"",null,4,"",{"$f":"Q2141","v":""},{"$f":"IF(L2146=\"\",\"\",IF(K2146<=$C$74,\"X\",\"\"))","v":""},{"$f":"IF(M2146=\"X\",L2146,\"\")","v":""},null,null,null,null,null,null,null,null,null,null,null,null,null,null,null,null,null,null,null,null,null,null,null,null,null,null,null,null,null,null,null,null,null,null,null,null,null,null,null,null,null,null,null,null,null,null,null,4,{"$f":"BK2145","v":0},0]
[null,null,null,16,"",{"$f":"V2134","v":""},{"$f":"IF(F2151=\"\",\"\",IF(E2151<=$C$74,\"X\",\"\"))","v":""},"",null,9,"",{"$f":"V2141","v":""},{"$f":"IF(L2151=\"\",\"\",IF(K2151<=$C$74,\"X\",\"\"))","v":""},{"$f":"IF(M2151=\"X\",L2151,\"\")","v":""},null,null,null,null,null,null,null,null,null,null,null,null,null,null,null,null,null,null,null,null,null,null,null,null,null,null,null,null,null,null,null,null,null,null,null,null,null,null,null,null,null,null,null,null,null,null,null,9,{"$f":"BK2150","v":0},0]
[null,null,null,19,"",{"$f":"Y2134","v":""},{"$f":"IF(F2154=\"\",\"\",IF(E2154<=$C$74,\"X\",\"\"))","v":""},"",null,12,"",{"$f":"Y2141","v":""},{"$f":"IF(L2154=\"\",\"\",IF(K2154<=$C$74,\"X\",\"\"))","v":""},{"$f":"IF(M2154=\"X\",L2154,\"\")","v":""},null,null,null,null,null,null,null,null,null,null,null,null,null,null,null,null,null,null,null,null,null,null,null,null,null,null,null,null,null,null,null,null,null,null,null,null,null,null,null,null,null,null,null,null,null,null,null,12,{"$f":"BK2153","v":0},0]
[null,null,null,25,"",{"$f":"AE2134","v":""},{"$f":"IF(F2160=\"\",\"\",IF(E2160<=$C$74,\"X\",\"\"))","v":""},"",null,18,"",{"$f":"AE2141","v":""},{"$f":"IF(L2160=\"\",\"\",IF(K2160<=$C$74,\"X\",\"\"))","v":""},{"$f":"IF(M2160=\"X\",L2160,\"\")","v":""},null,{"$f":"IF(P2161=\"\",\"\",IF(P2161=G2128,G2127,\"\"))","v":""},{"$f":"IF(Q2161=\"\",\"\",IF(Q2161=H2128,H2127,\"\"))","v":""},{"$f":"IF(R2161=\"\",\"\",IF(R2161=I2128,I2127,\"\"))","v":""},{"$f":"IF(S2161=\"\",\"\",IF(S2161=J2128,J2127,\"\"))","v":""},{"$f":"IF(T2161=\"\",\"\",IF(T2161=K2128,K2127,\"\"))","v":""},{"$f":"IF(U2161=\"\",\"\",IF(U2161=L2128,L2127,\"\"))","v":""},{"$f":"IF(V2161=\"\",\"\",IF(V2161=M2128,M2127,\"\"))","v":""},{"$f":"IF(W2161=\"\",\"\",IF(W2161=N2128,N2127,\"\"))","v":""},{"$f":"IF(X2161=\"\",\"\",IF(X2161=O2128,O2127,\"\"))","v":""},{"$f":"IF(Y2161=\"\",\"\",IF(Y2161=P2128,P2127,\"\"))","v":""},{"$f":"IF(Z2161=\"\",\"\",IF(Z2161=Q2128,Q2127,\"\"))","v":""},{"$f":"IF(AA2161=\"\",\"\",IF(AA2161=R2128,R2127,\"\"))","v":""},{"$f":"IF(AB2161=\"\",\"\",IF(AB2161=S2128,S2127,\"\"))","v":""},{"$f":"IF(AC2161=\"\",\"\",IF(AC2161=T2128,T2127,\"\"))","v":""},{"$f":"IF(AD2161=\"\",\"\",IF(AD2161=U2128,U2127,\"\"))","v":""},{"$f":"IF(AE2161=\"\",\"\",IF(AE2161=V2128,V2127,\"\"))","v":""},{"$f":"IF(AF2161=\"\",\"\",IF(AF2161=W2128,W2127,\"\"))","v":""},{"$f":"IF(AG2161=\"\",\"\",IF(AG2161=X2128,X2127,\"\"))","v":""},{"$f":"IF(AH2161=\"\",\"\",IF(AH2161=Y2128,Y2127,\"\"))","v":""},{"$f":"IF(AI2161=\"\",\"\",IF(AI2161=Z2128,Z2127,\"\"))","v":""},{"$f":"IF(AJ2161=\"\",\"\",IF(AJ2161=AA2128,AA2127,\"\"))","v":""},{"$f":"IF(AK2161=\"\",\"\",IF(AK2161=AB2128,AB2127,\"\"))","v":""},{"$f":"IF(AL2161=\"\",\"\",IF(AL2161=AC2128,AC2127,\"\"))","v":""},{"$f":"IF(AM2161=\"\",\"\",IF(AM2161=AD2128,AD2127,\"\"))","v":""},{"$f":"IF(AN2161=\"\",\"\",IF(AN2161=AE2128,AE2127,\"\"))","v":""},{"$f":"IF(AO2161=\"\",\"\",IF(AO2161=AF2128,AF2127,\"\"))","v":""},{"$f":"IF(AP2161=\"\",\"\",IF(AP2161=AG2128,AG2127,\"\"))","v":""},{"$f":"IF(AQ2161=\"\",\"\",IF(AQ2161=AH2128,AH2127,\"\"))","v":""},{"$f":"IF(AR2161=\"\",\"\",IF(AR2161=AI2128,AI2127,\"\"))","v":""},{"$f":"IF(AS2161=\"\",\"\",IF(AS2161=AJ2128,AJ2127,\"\"))","v":""},{"$f":"IF(AT2161=\"\",\"\",IF(AT2161=AK2128,AK2127,\"\"))","v":""},{"$f":"IF(AU2161=\"\",\"\",IF(AU2161=AL2128,AL2127,\"\"))","v":""},{"$f":"IF(AV2161=\"\",\"\",IF(AV2161=AM2128,AM2127,\"\"))","v":""},{"$f":"IF(AW2161=\"\",\"\",IF(AW2161=AN2128,AN2127,\"\"))","v":""},{"$f":"IF(AX2161=\"\",\"\",IF(AX2161=AO2128,AO2127,\"\"))","v":""},{"$f":"IF(AY2161=\"\",\"\",IF(AY2161=AP2128,AP2127,\"\"))","v":""},{"$f":"IF(AZ2161=\"\",\"\",IF(AZ2161=AQ2128,AQ2127,\"\"))","v":""},{"$f":"IF(BA2161=\"\",\"\",IF(BA2161=AR2128,AR2127,\"\"))","v":""},{"$f":"IF(BB2161=\"\",\"\",IF(BB2161=AS2128,AS2127,\"\"))","v":""},{"$f":"IF(BC2161=\"\",\"\",IF(BC2161=AT2128,AT2127,\"\"))","v":""},null,null,null,null,null,null,18,{"$f":"BK2159","v":0},0]
[null,null,null,26,"",{"$f":"AF2134","v":""},{"$f":"IF(F2161=\"\",\"\",IF(E2161<=$C$74,\"X\",\"\"))","v":""},"",null,19,"",{"$f":"AF2141","v":""},{"$f":"IF(L2161=\"\",\"\",IF(K2161<=$C$74,\"X\",\"\"))","v":""},{"$f":"IF(M2161=\"X\",L2161,\"\")","v":""},null,{"$f":"IF(G2128=$P2145,\"\",IF(G2128=$J2138,\"\",IF(G2128=$G2129,\"\",G2128)))","v":""},{"$f":"IF(H2128=$P2145,\"\",IF(H2128=$J2138,\"\",IF(H2128=$G2129,\"\",H2128)))","v":""},{"$f":"IF(I2128=$P2145,\"\",IF(I2128=$J2138,\"\",IF(I2128=$G2129,\"\",I2128)))","v":""},{"$f":"IF(J2128=$P2145,\"\",IF(J2128=$J2138,\"\",IF(J2128=$G2129,\"\",J2128)))","v":""},{"$f":"IF(K2128=$P2145,\"\",IF(K2128=$J2138,\"\",IF(K2128=$G2129,\"\",K2128)))","v":""},{"$f":"IF(L2128=$P2145,\"\",IF(L2128=$J2138,\"\",IF(L2128=$G2129,\"\",L2128)))","v":""},{"$f":"IF(M2128=$P2145,\"\",IF(M2128=$J2138,\"\",IF(M2128=$G2129,\"\",M2128)))","v":""},{"$f":"IF(N2128=$P2145,\"\",IF(N2128=$J2138,\"\",IF(N2128=$G2129,\"\",N2128)))","v":""},{"$f":"IF(O2128=$P2145,\"\",IF(O2128=$J2138,\"\",IF(O2128=$G2129,\"\",O2128)))","v":""},{"$f":"IF(P2128=$P2145,\"\",IF(P2128=$J2138,\"\",IF(P2128=$G2129,\"\",P2128)))","v":""},{"$f":"IF(Q2128=$P2145,\"\",IF(Q2128=$J2138,\"\",IF(Q2128=$G2129,\"\",Q2128)))","v":""},{"$f":"IF(R2128=$P2145,\"\",IF(R2128=$J2138,\"\",IF(R2128=$G2129,\"\",R2128)))","v":""},{"$f":"IF(S2128=$P2145,\"\",IF(S2128=$J2138,\"\",IF(S2128=$G2129,\"\",S2128)))","v":""},{"$f":"IF(T2128=$P2145,\"\",IF(T2128=$J2138,\"\",IF(T2128=$G2129,\"\",T2128)))","v":""},{"$f":"IF(U2128=$P2145,\"\",IF(U2128=$J2138,\"\",IF(U2128=$G2129,\"\",U2128)))","v":""},{"$f":"IF(V2128=$P2145,\"\",IF(V2128=$J2138,\"\",IF(V2128=$G2129,\"\",V2128)))","v":""},{"$f":"IF(W2128=$P2145,\"\",IF(W2128=$J2138,\"\",IF(W2128=$G2129,\"\",W2128)))","v":""},{"$f":"IF(X2128=$P2145,\"\",IF(X2128=$J2138,\"\",IF(X2128=$G2129,\"\",X2128)))","v":""},{"$f":"IF(Y2128=$P2145,\"\",IF(Y2128=$J2138,\"\",IF(Y2128=$G2129,\"\",Y2128)))","v":""},{"$f":"IF(Z2128=$P2145,\"\",IF(Z2128=$J2138,\"\",IF(Z2128=$G2129,\"\",Z2128)))","v":""},{"$f":"IF(AA2128=$P2145,\"\",IF(AA2128=$J2138,\"\",IF(AA2128=$G2129,\"\",AA2128)))","v":""},{"$f":"IF(AB2128=$P2145,\"\",IF(AB2128=$J2138,\"\",IF(AB2128=$G2129,\"\",AB2128)))","v":""},{"$f":"IF(AC2128=$P2145,\"\",IF(AC2128=$J2138,\"\",IF(AC2128=$G2129,\"\",AC2128)))","v":""},{"$f":"IF(AD2128=$P2145,\"\",IF(AD2128=$J2138,\"\",IF(AD2128=$G2129,\"\",AD2128)))","v":""},{"$f":"IF(AE2128=$P2145,\"\",IF(AE2128=$J2138,\"\",IF(AE2128=$G2129,\"\",AE2128)))","v":""},{"$f":"IF(AF2128=$P2145,\"\",IF(AF2128=$J2138,\"\",IF(AF2128=$G2129,\"\",AF2128)))","v":""},{"$f":"IF(AG2128=$P2145,\"\",IF(AG2128=$J2138,\"\",IF(AG2128=$G2129,\"\",AG2128)))","v":""},{"$f":"IF(AH2128=$P2145,\"\",IF(AH2128=$J2138,\"\",IF(AH2128=$G2129,\"\",AH2128)))","v":""},{"$f":"IF(AI2128=$P2145,\"\",IF(AI2128=$J2138,\"\",IF(AI2128=$G2129,\"\",AI2128)))","v":""},{"$f":"IF(AJ2128=$P2145,\"\",IF(AJ2128=$J2138,\"\",IF(AJ2128=$G2129,\"\",AJ2128)))","v":""},{"$f":"IF(AK2128=$P2145,\"\",IF(AK2128=$J2138,\"\",IF(AK2128=$G2129,\"\",AK2128)))","v":""},{"$f":"IF(AL2128=$P2145,\"\",IF(AL2128=$J2138,\"\",IF(AL2128=$G2129,\"\",AL2128)))","v":""},{"$f":"IF(AM2128=$P2145,\"\",IF(AM2128=$J2138,\"\",IF(AM2128=$G2129,\"\",AM2128)))","v":""},{"$f":"IF(AN2128=$P2145,\"\",IF(AN2128=$J2138,\"\",IF(AN2128=$G2129,\"\",AN2128)))","v":""},{"$f":"IF(AO2128=$P2145,\"\",IF(AO2128=$J2138,\"\",IF(AO2128=$G2129,\"\",AO2128)))","v":""},{"$f":"IF(AP2128=$P2145,\"\",IF(AP2128=$J2138,\"\",IF(AP2128=$G2129,\"\",AP2128)))","v":""},{"$f":"IF(AQ2128=$P2145,\"\",IF(AQ2128=$J2138,\"\",IF(AQ2128=$G2129,\"\",AQ2128)))","v":""},{"$f":"IF(AR2128=$P2145,\"\",IF(AR2128=$J2138,\"\",IF(AR2128=$G2129,\"\",AR2128)))","v":""},{"$f":"IF(AS2128=$P2145,\"\",IF(AS2128=$J2138,\"\",IF(AS2128=$G2129,\"\",AS2128)))","v":""},{"$f":"IF(AT2128=$P2145,\"\",IF(AT2128=$J2138,\"\",IF(AT2128=$G2129,\"\",AT2128)))","v":""},null,null,null,null,null,null,19,{"$f":"BK2160","v":0},0]
[null,null,null,30,"",{"$f":"AJ2134","v":""},{"$f":"IF(F2165=\"\",\"\",IF(E2165<=$C$74,\"X\",\"\"))","v":""},"",null,23,"",{"$f":"AJ2141","v":""},{"$f":"IF(L2165=\"\",\"\",IF(K2165<=$C$74,\"X\",\"\"))","v":""},{"$f":"IF(M2165=\"X\",L2165,\"\")","v":""},null,null,null,null,null,null,null,null,null,null,null,null,null,null,null,null,null,null,null,null,null,null,null,null,null,null,null,null,null,null,null,null,null,null,null,null,null,null,null,null,null,null,null,null,null,null,null,23,{"$f":"BK2164","v":0},0]
[null,null,null,35,"",{"$f":"AO2134","v":""},{"$f":"IF(F2170=\"\",\"\",IF(E2170<=$C$74,\"X\",\"\"))","v":""},"",null,28,"",{"$f":"AO2141","v":""},{"$f":"IF(L2170=\"\",\"\",IF(K2170<=$C$74,\"X\",\"\"))","v":""},{"$f":"IF(M2170=\"X\",L2170,\"\")","v":""},null,null,null,null,null,null,null,null,null,null,null,null,null,null,null,null,null,null,null,null,null,null,null,null,null,null,null,null,null,null,null,null,null,null,null,null,null,null,null,null,null,null,null,null,null,null,null,28,{"$f":"BK2169","v":0},0]
[null,null,null,38,"",{"$f":"AR2134","v":""},{"$f":"IF(F2173=\"\",\"\",IF(E2173<=$C$74,\"X\",\"\"))","v":""},"",null,31,"",{"$f":"AR2141","v":""},{"$f":"IF(L2173=\"\",\"\",IF(K2173<=$C$74,\"X\",\"\"))","v":""},{"$f":"IF(M2173=\"X\",L2173,\"\")","v":""},null,null,null,null,null,null,null,null,null,null,null,null,null,null,null,null,null,null,null,null,null,null,null,null,null,null,null,null,null,null,null,null,null,null,null,null,null,null,null,null,null,null,null,null,null,null,null,31,{"$f":"BK2172","v":0},0]
[null,null,null,40,"",{"$f":"AT2134","v":""},{"$f":"IF(F2175=\"\",\"\",IF(E2175<=$C$74,\"X\",\"\"))","v":""},"",null,33,"",{"$f":"AT2141","v":""},{"$f":"IF(L2175=\"\",\"\",IF(K2175<=$C$74,\"X\",\"\"))","v":""},{"$f":"IF(M2175=\"X\",L2175,\"\")","v":""},null,null,null,null,null,null,null,null,null,null,null,null,null,null,null,null,null,null,null,null,null,null,null,null,null,null,null,null,null,null,null,null,null,null,null,null,null,null,null,null,null,null,null,null,null,null,null,33,{"$f":"BK2174","v":0},0]
[null,null,null,null,null,null,null,null,null,39,"",{"$f":"AZ2141","v":""},{"$f":"IF(L2181=\"\",\"\",IF(K2181<=$C$74,\"X\",\"\"))","v":""},{"$f":"IF(M2181=\"X\",L2181,\"\")","v":""},null,null,null,null,null,null,null,null,null,null,null,null,null,null,null,null,null,null,null,null,null,null,null,null,null,null,null,null,null,null,null,null,null,null,null,null,null,null,null,null,null,null,null,null,null,null,null,39,{"$f":"BK2180","v":0},0]
[]
[null,null,null,null,null,null,{"$f":"IF(G2187=$G2188,G2186,\"\")","v":""},{"$f":"IF(H2187=$G2188,H2186,\"\")","v":""},{"$f":"IF(I2187=$G2188,I2186,\"\")","v":""},{"$f":"IF(J2187=$G2188,J2186,\"\")","v":""},{"$f":"IF(K2187=$G2188,K2186,\"\")","v":""},{"$f":"IF(L2187=$G2188,L2186,\"\")","v":""},{"$f":"IF(M2187=$G2188,M2186,\"\")","v":""},{"$f":"IF(N2187=$G2188,N2186,\"\")","v":""},{"$f":"IF(O2187=$G2188,O2186,\"\")","v":""},{"$f":"IF(P2187=$G2188,P2186,\"\")","v":""},{"$f":"IF(Q2187=$G2188,Q2186,\"\")","v":""},{"$f":"IF(R2187=$G2188,R2186,\"\")","v":""},{"$f":"IF(S2187=$G2188,S2186,\"\")","v":""},{"$f":"IF(T2187=$G2188,T2186,\"\")","v":""},{"$f":"IF(U2187=$G2188,U2186,\"\")","v":""},{"$f":"IF(V2187=$G2188,V2186,\"\")","v":""},{"$f":"IF(W2187=$G2188,W2186,\"\")","v":""},{"$f":"IF(X2187=$G2188,X2186,\"\")","v":""},{"$f":"IF(Y2187=$G2188,Y2186,\"\")","v":""},{"$f":"IF(Z2187=$G2188,Z2186,\"\")","v":""},{"$f":"IF(AA2187=$G2188,AA2186,\"\")","v":""},{"$f":"IF(AB2187=$G2188,AB2186,\"\")","v":""},{"$f":"IF(AC2187=$G2188,AC2186,\"\")","v":""},{"$f":"IF(AD2187=$G2188,AD2186,\"\")","v":""},{"$f":"IF(AE2187=$G2188,AE2186,\"\")","v":""},{"$f":"IF(AF2187=$G2188,AF2186,\"\")","v":""},{"$f":"IF(AG2187=$G2188,AG2186,\"\")","v":""},{"$f":"IF(AH2187=$G2188,AH2186,\"\")","v":""},{"$f":"IF(AI2187=$G2188,AI2186,\"\")","v":""},{"$f":"IF(AJ2187=$G2188,AJ2186,\"\")","v":""},{"$f":"IF(AK2187=$G2188,AK2186,\"\")","v":""},{"$f":"IF(AL2187=$G2188,AL2186,\"\")","v":""},{"$f":"IF(AM2187=$G2188,AM2186,\"\")","v":""},{"$f":"IF(AN2187=$G2188,AN2186,\"\")","v":""},{"$f":"IF(AO2187=$G2188,AO2186,\"\")","v":""},{"$f":"IF(AP2187=$G2188,AP2186,\"\")","v":""},{"$f":"IF(AQ2187=$G2188,AQ2186,\"\")","v":""},{"$f":"IF(AR2187=$G2188,AR2186,\"\")","v":""},{"$f":"IF(AS2187=$G2188,AS2186,\"\")","v":""},{"$f":"IF(AT2187=$G2188,AT2186,\"\")","v":""}]
[null,null,null,null,null,null,{"$f":"G2189&H2189&I2189&J2189&K2189&L2189&M2189&N2189&O2189&P2189&Q2189&R2189&S2189&T2189&U2189&V2189&W2189&X2189&Y2189&Z2189&AA2189&AB2189&AC2189&AD2189&AE2189&AF2189&AG2189&AH2189&AI2189&AJ2189&AK2189&AL2189&AM2189&AN2189&AO2189&AP2189&AQ2189&AR2189&AS2189&AT2189","v":""},null,null,null,null,null,null,null,null,null,null,null,null,null,null,null,null,null,null,null,null,null,null,null,null,null,null,null,null,null,null,null,null,null,null,null,null,null,null,null,null,null,null,null,null,null,null,null,null,null,null,null,null,null,null,null,null,null,null,null,null,null,null,null,null,null,null,null,"Primo Blocco",null,null,null,null,null,{"$f":"G2190","v":""},{"$f":"CC2191+CC2196+CC2201","v":0},null,"Quintali",null,"N° Blocco"]
[null,null,null,null,null,null,null,null,null,null,null,null,null,null,null,null,null,null,null,null,null,null,null,null,null,null,null,null,null,null,null,null,null,null,null,null,null,null,null,null,null,null,null,null,null,null,null,null,null,null,null,null,null,null,null,null,null,null,null,null,null,null,null,null,null,null,null,null,null,null,null,null,null,null,null,null,null,null,null,null,null,null,null,"NUMERO TIR"]
[null,null,{"$f":"$P$3","v":200},4,"",{"$f":"J2193","v":""},{"$f":"IF(F2198=\"\",\"\",IF(E2198<=$C$74,\"X\",\"\"))","v":""},"",null,null,null,null,null,null,null,null,null,null,null,null,null,null,null,null,null,null,null,null,null,null,null,null,null,null,null,null,null,null,null,null,null,null,null,null,null,null,null,null,null,null,null,null,null,null,null,null,null,null,null,null,null,null,null,null,null,null,null,null,null,null,null,null,null,null,null,null,null,null,null,null,null,null,null,{"$f":"IF(CD2190>0,CF2139+1,\"\")","v":""}]
[null,null,null,9,"",{"$f":"O2193","v":""},{"$f":"IF(F2203=\"\",\"\",IF(E2203<=$C$74,\"X\",\"\"))","v":""},"",null,2,"",{"$f":"O2200","v":""},{"$f":"IF(L2203=\"\",\"\",IF(K2203<=$C$74,\"X\",\"\"))","v":""},{"$f":"IF(M2203=\"X\",L2203,\"\")","v":""},null,{"$f":"IF($P2204=N2200,N2200,\"\")","v":""},{"$f":"IF($P2204=O2200,O2200,\"\")","v":""},{"$f":"IF($P2204=P2200,P2200,\"\")","v":""},{"$f":"IF($P2204=Q2200,Q2200,\"\")","v":""},{"$f":"IF($P2204=R2200,R2200,\"\")","v":""},{"$f":"IF($P2204=S2200,S2200,\"\")","v":""},{"$f":"IF($P2204=T2200,T2200,\"\")","v":""},{"$f":"IF($P2204=U2200,U2200,\"\")","v":""},{"$f":"IF($P2204=V2200,V2200,\"\")","v":""},{"$f":"IF($P2204=W2200,W2200,\"\")","v":""},{"$f":"IF($P2204=X2200,X2200,\"\")","v":""},{"$f":"IF($P2204=Y2200,Y2200,\"\")","v":""},{"$f":"IF($P2204=Z2200,Z2200,\"\")","v":""},{"$f":"IF($P2204=AA2200,AA2200,\"\")","v":""},{"$f":"IF($P2204=AB2200,AB2200,\"\")","v":""},{"$f":"IF($P2204=AC2200,AC2200,\"\")","v":""},{"$f":"IF($P2204=AD2200,AD2200,\"\")","v":""},{"$f":"IF($P2204=AE2200,AE2200,\"\")","v":""},{"$f":"IF($P2204=AF2200,AF2200,\"\")","v":""},{"$f":"IF($P2204=AG2200,AG2200,\"\")","v":""},{"$f":"IF($P2204=AH2200,AH2200,\"\")","v":""},{"$f":"IF($P2204=AI2200,AI2200,\"\")","v":""},{"$f":"IF($P2204=AJ2200,AJ2200,\"\")","v":""},{"$f":"IF($P2204=AK2200,AK2200,\"\")","v":""},{"$f":"IF($P2204=AL2200,AL2200,\"\")","v":""},{"$f":"IF($P2204=AM2200,AM2200,\"\")","v":""},{"$f":"IF($P2204=AN2200,AN2200,\"\")","v":""},{"$f":"IF($P2204=AO2200,AO2200,\"\")","v":""},{"$f":"IF($P2204=AP2200,AP2200,\"\")","v":""},{"$f":"IF($P2204=AQ2200,AQ2200,\"\")","v":""},{"$f":"IF($P2204=AR2200,AR2200,\"\")","v":""},{"$f":"IF($P2204=AS2200,AS2200,\"\")","v":""},{"$f":"IF($P2204=AT2200,AT2200,\"\")","v":""},{"$f":"IF($P2204=AU2200,AU2200,\"\")","v":""},{"$f":"IF($P2204=AV2200,AV2200,\"\")","v":""},{"$f":"IF($P2204=AW2200,AW2200,\"\")","v":""},{"$f":"IF($P2204=AX2200,AX2200,\"\")","v":""},{"$f":"IF($P2204=AY2200,AY2200,\"\")","v":""},{"$f":"IF($P2204=AZ2200,AZ2200,\"\")","v":""},{"$f":"IF($P2204=BA2200,BA2200,\"\")","v":""},null,null,null,null,null,null,2,{"$f":"BK2202","v":0},{"$f":"BL2202","v":0}]
[null,null,null,12,"",{"$f":"R2193","v":""},{"$f":"IF(F2206=\"\",\"\",IF(E2206<=$C$74,\"X\",\"\"))","v":""},"",null,5,"",{"$f":"R2200","v":""},{"$f":"IF(L2206=\"\",\"\",IF(K2206<=$C$74,\"X\",\"\"))","v":""},{"$f":"IF(M2206=\"X\",L2206,\"\")","v":""},null,null,null,null,null,null,null,null,null,null,null,null,null,null,null,null,null,null,null,null,null,null,null,null,null,null,null,null,null,null,null,null,null,null,null,null,null,null,null,null,null,null,null,null,null,null,null,5,{"$f":"BK2205","v":0},0,null,null,null,null,null,null,null,null,null,null,null,null,null,null,null,"RIMANE",null,null,null,null,{"$f":"CG2204-CD2190","v":200}]
[null,null,null,14,"",{"$f":"T2193","v":""},{"$f":"IF(F2208=\"\",\"\",IF(E2208<=$C$74,\"X\",\"\"))","v":""},"",null,7,"",{"$f":"T2200","v":""},{"$f":"IF(L2208=\"\",\"\",IF(K2208<=$C$74,\"X\",\"\"))","v":""},{"$f":"IF(M2208=\"X\",L2208,\"\")","v":""},null,null,null,null,null,null,null,null,null,null,null,null,null,null,null,null,null,null,null,null,null,null,null,null,null,null,null,null,null,null,null,null,null,null,null,null,null,null,null,null,null,null,null,null,null,null,null,7,{"$f":"BK2207","v":0},0]
[null,null,null,19,"",{"$f":"Y2193","v":""},{"$f":"IF(F2213=\"\",\"\",IF(E2213<=$C$74,\"X\",\"\"))","v":""},"",null,12,"",{"$f":"Y2200","v":""},{"$f":"IF(L2213=\"\",\"\",IF(K2213<=$C$74,\"X\",\"\"))","v":""},{"$f":"IF(M2213=\"X\",L2213,\"\")","v":""},null,null,null,null,null,null,null,null,null,null,null,null,null,null,null,null,null,null,null,null,null,null,null,null,null,null,null,null,null,null,null,null,null,null,null,null,null,null,null,null,null,null,null,null,null,null,null,12,{"$f":"BK2212","v":0},0]
[null,null,null,21,{"$f":"IF(F2215<>\"\",F2215+G$126,\"\")","v":""},{"$f":"AA2193","v":""},{"$f":"IF(F2215=\"\",\"\",IF(E2215<=$C$74,\"X\",\"\"))","v":""},"",null,14,"",{"$f":"AA2200","v":""},{"$f":"IF(L2215=\"\",\"\",IF(K2215<=$C$74,\"X\",\"\"))","v":""},{"$f":"IF(M2215=\"X\",L2215,\"\")","v":""},null,null,null,null,null,null,null,null,null,null,null,null,null,null,null,null,null,null,null,null,null,null,null,null,null,null,null,null,null,null,null,null,null,null,null,null,null,null,null,null,null,null,null,null,null,null,null,14,{"$f":"BK2214","v":0},0]
[null,null,null,24,"",{"$f":"AD2193","v":""},{"$f":"IF(F2218=\"\",\"\",IF(E2218<=$C$74,\"X\",\"\"))","v":""},"",null,17,"",{"$f":"AD2200","v":""},{"$f":"IF(L2218=\"\",\"\",IF(K2218<=$C$74,\"X\",\"\"))","v":""},{"$f":"IF(M2218=\"X\",L2218,\"\")","v":""},null,1,2,3,4,5,6,7,8,9,10,11,12,13,14,15,16,17,18,19,20,21,22,23,24,25,26,27,28,29,30,31,32,33,34,35,36,37,38,39,40,null,null,null,null,null,null,17,{"$f":"BK2217","v":0},0]
[null,null,null,29,"",{"$f":"AI2193","v":""},{"$f":"IF(F2223=\"\",\"\",IF(E2223<=$C$74,\"X\",\"\"))","v":""},"",null,22,"",{"$f":"AI2200","v":""},{"$f":"IF(L2223=\"\",\"\",IF(K2223<=$C$74,\"X\",\"\"))","v":""},{"$f":"IF(M2223=\"X\",L2223,\"\")","v":""},null,null,null,null,null,null,null,null,null,null,null,null,null,null,null,null,null,null,null,null,null,null,null,null,null,null,null,null,null,null,null,null,null,null,null,null,null,null,null,null,null,null,null,null,null,null,null,22,{"$f":"BK2222","v":0},0]
[null,null,null,33,"",{"$f":"AM2193","v":""},{"$f":"IF(F2227=\"\",\"\",IF(E2227<=$C$74,\"X\",\"\"))","v":""},"",null,26,"",{"$f":"AM2200","v":""},{"$f":"IF(L2227=\"\",\"\",IF(K2227<=$C$74,\"X\",\"\"))","v":""},{"$f":"IF(M2227=\"X\",L2227,\"\")","v":""},null,null,null,null,null,null,null,null,null,null,null,null,null,null,null,null,null,null,null,null,null,null,null,null,null,null,null,null,null,null,null,null,null,null,null,null,null,null,null,null,null,null,null,null,null,null,null,26,{"$f":"BK2226","v":0},0]
[null,null,null,38,"",{"$f":"AR2193","v":""},{"$f":"IF(F2232=\"\",\"\",IF(E2232<=$C$74,\"X\",\"\"))","v":""},"",null,31,"",{"$f":"AR2200","v":""},{"$f":"IF(L2232=\"\",\"\",IF(K2232<=$C$74,\"X\",\"\"))","v":""},{"$f":"IF(M2232=\"X\",L2232,\"\")","v":""},null,null,null,null,null,null,null,null,null,null,null,null,null,null,null,null,null,null,null,null,null,null,null,null,null,null,null,null,null,null,null,null,null,null,null,null,null,null,null,null,null,null,null,null,null,null,null,31,{"$f":"BK2231","v":0},0]
[null,null,null,null,null,null,null,null,null,34,"",{"$f":"AU2200","v":""},{"$f":"IF(L2235=\"\",\"\",IF(K2235<=$C$74,\"X\",\"\"))","v":""},{"$f":"IF(M2235=\"X\",L2235,\"\")","v":""},null,null,null,null,null,null,null,null,null,null,null,null,null,null,null,null,null,null,null,null,null,null,null,null,null,null,null,null,null,null,null,null,null,null,null,null,null,null,null,null,null,null,null,null,null,null,null,34,{"$f":"BK2234","v":0},0]
[null,null,null,null,null,null,null,null,null,36,"",{"$f":"AW2200","v":""},{"$f":"IF(L2237=\"\",\"\",IF(K2237<=$C$74,\"X\",\"\"))","v":""},{"$f":"IF(M2237=\"X\",L2237,\"\")","v":""},null,null,null,null,null,null,null,null,null,null,null,null,null,null,null,null,null,null,null,null,null,null,null,null,null,null,null,null,null,null,null,null,null,null,null,null,null,null,null,null,null,null,null,null,null,null,null,36,{"$f":"BK2236","v":0},0]
[null,null,null,null,null,null,null,null,null,39,"",{"$f":"AZ2200","v":""},{"$f":"IF(L2240=\"\",\"\",IF(K2240<=$C$74,\"X\",\"\"))","v":""},{"$f":"IF(M2240=\"X\",L2240,\"\")","v":""},null,null,null,null,null,null,null,null,null,null,null,null,null,null,null,null,null,null,null,null,null,null,null,null,null,null,null,null,null,null,null,null,null,null,null,null,null,null,null,null,null,null,null,null,null,null,null,39,{"$f":"BK2239","v":0},0]
[null,null,null,null,null,null,{"$f":"P2220","v":""},"","","","","","","","","","","","","","","","","","","","","","","","","","","","","","","","","","","","","","",""]
[null,null,null,null,null,null,{"$f":"IF(G2246=$G2247,G2245,\"\")","v":""},{"$f":"IF(H2246=$G2247,H2245,\"\")","v":""},{"$f":"IF(I2246=$G2247,I2245,\"\")","v":""},{"$f":"IF(J2246=$G2247,J2245,\"\")","v":""},{"$f":"IF(K2246=$G2247,K2245,\"\")","v":""},{"$f":"IF(L2246=$G2247,L2245,\"\")","v":""},{"$f":"IF(M2246=$G2247,M2245,\"\")","v":""},{"$f":"IF(N2246=$G2247,N2245,\"\")","v":""},{"$f":"IF(O2246=$G2247,O2245,\"\")","v":""},{"$f":"IF(P2246=$G2247,P2245,\"\")","v":""},{"$f":"IF(Q2246=$G2247,Q2245,\"\")","v":""},{"$f":"IF(R2246=$G2247,R2245,\"\")","v":""},{"$f":"IF(S2246=$G2247,S2245,\"\")","v":""},{"$f":"IF(T2246=$G2247,T2245,\"\")","v":""},{"$f":"IF(U2246=$G2247,U2245,\"\")","v":""},{"$f":"IF(V2246=$G2247,V2245,\"\")","v":""},{"$f":"IF(W2246=$G2247,W2245,\"\")","v":""},{"$f":"IF(X2246=$G2247,X2245,\"\")","v":""},{"$f":"IF(Y2246=$G2247,Y2245,\"\")","v":""},{"$f":"IF(Z2246=$G2247,Z2245,\"\")","v":""},{"$f":"IF(AA2246=$G2247,AA2245,\"\")","v":""},{"$f":"IF(AB2246=$G2247,AB2245,\"\")","v":""},{"$f":"IF(AC2246=$G2247,AC2245,\"\")","v":""},{"$f":"IF(AD2246=$G2247,AD2245,\"\")","v":""},{"$f":"IF(AE2246=$G2247,AE2245,\"\")","v":""},{"$f":"IF(AF2246=$G2247,AF2245,\"\")","v":""},{"$f":"IF(AG2246=$G2247,AG2245,\"\")","v":""},{"$f":"IF(AH2246=$G2247,AH2245,\"\")","v":""},{"$f":"IF(AI2246=$G2247,AI2245,\"\")","v":""},{"$f":"IF(AJ2246=$G2247,AJ2245,\"\")","v":""},{"$f":"IF(AK2246=$G2247,AK2245,\"\")","v":""},{"$f":"IF(AL2246=$G2247,AL2245,\"\")","v":""},{"$f":"IF(AM2246=$G2247,AM2245,\"\")","v":""},{"$f":"IF(AN2246=$G2247,AN2245,\"\")","v":""},{"$f":"IF(AO2246=$G2247,AO2245,\"\")","v":""},{"$f":"IF(AP2246=$G2247,AP2245,\"\")","v":""},{"$f":"IF(AQ2246=$G2247,AQ2245,\"\")","v":""},{"$f":"IF(AR2246=$G2247,AR2245,\"\")","v":""},{"$f":"IF(AS2246=$G2247,AS2245,\"\")","v":""},{"$f":"IF(AT2246=$G2247,AT2245,\"\")","v":""}]
[null,null,null,null,null,null,{"$f":"IF(G2252=\"\",\"\",IF(G2252=G2246,G2245,\"\"))","v":""},{"$f":"IF(H2252=\"\",\"\",IF(H2252=H2246,H2245,\"\"))","v":""},{"$f":"IF(I2252=\"\",\"\",IF(I2252=I2246,I2245,\"\"))","v":""},{"$f":"IF(J2252=\"\",\"\",IF(J2252=J2246,J2245,\"\"))","v":""},{"$f":"IF(K2252=\"\",\"\",IF(K2252=K2246,K2245,\"\"))","v":""},{"$f":"IF(L2252=\"\",\"\",IF(L2252=L2246,L2245,\"\"))","v":""},{"$f":"IF(M2252=\"\",\"\",IF(M2252=M2246,M2245,\"\"))","v":""},{"$f":"IF(N2252=\"\",\"\",IF(N2252=N2246,N2245,\"\"))","v":""},{"$f":"IF(O2252=\"\",\"\",IF(O2252=O2246,O2245,\"\"))","v":""},{"$f":"IF(P2252=\"\",\"\",IF(P2252=P2246,P2245,\"\"))","v":""},{"$f":"IF(Q2252=\"\",\"\",IF(Q2252=Q2246,Q2245,\"\"))","v":""},{"$f":"IF(R2252=\"\",\"\",IF(R2252=R2246,R2245,\"\"))","v":""},{"$f":"IF(S2252=\"\",\"\",IF(S2252=S2246,S2245,\"\"))","v":""},{"$f":"IF(T2252=\"\",\"\",IF(T2252=T2246,T2245,\"\"))","v":""},{"$f":"IF(U2252=\"\",\"\",IF(U2252=U2246,U2245,\"\"))","v":""},{"$f":"IF(V2252=\"\",\"\",IF(V2252=V2246,V2245,\"\"))","v":""},{"$f":"IF(W2252=\"\",\"\",IF(W2252=W2246,W2245,\"\"))","v":""},{"$f":"IF(X2252=\"\",\"\",IF(X2252=X2246,X2245,\"\"))","v":""},{"$f":"IF(Y2252=\"\",\"\",IF(Y2252=Y2246,Y2245,\"\"))","v":""},{"$f":"IF(Z2252=\"\",\"\",IF(Z2252=Z2246,Z2245,\"\"))","v":""},{"$f":"IF(AA2252=\"\",\"\",IF(AA2252=AA2246,AA2245,\"\"))","v":""},{"$f":"IF(AB2252=\"\",\"\",IF(AB2252=AB2246,AB2245,\"\"))","v":""},{"$f":"IF(AC2252=\"\",\"\",IF(AC2252=AC2246,AC2245,\"\"))","v":""},{"$f":"IF(AD2252=\"\",\"\",IF(AD2252=AD2246,AD2245,\"\"))","v":""},{"$f":"IF(AE2252=\"\",\"\",IF(AE2252=AE2246,AE2245,\"\"))","v":""},{"$f":"IF(AF2252=\"\",\"\",IF(AF2252=AF2246,AF2245,\"\"))","v":""},{"$f":"IF(AG2252=\"\",\"\",IF(AG2252=AG2246,AG2245,\"\"))","v":""},{"$f":"IF(AH2252=\"\",\"\",IF(AH2252=AH2246,AH2245,\"\"))","v":""},{"$f":"IF(AI2252=\"\",\"\",IF(AI2252=AI2246,AI2245,\"\"))","v":""},{"$f":"IF(AJ2252=\"\",\"\",IF(AJ2252=AJ2246,AJ2245,\"\"))","v":""},{"$f":"IF(AK2252=\"\",\"\",IF(AK2252=AK2246,AK2245,\"\"))","v":""},{"$f":"IF(AL2252=\"\",\"\",IF(AL2252=AL2246,AL2245,\"\"))","v":""},{"$f":"IF(AM2252=\"\",\"\",IF(AM2252=AM2246,AM2245,\"\"))","v":""},{"$f":"IF(AN2252=\"\",\"\",IF(AN2252=AN2246,AN2245,\"\"))","v":""},{"$f":"IF(AO2252=\"\",\"\",IF(AO2252=AO2246,AO2245,\"\"))","v":""},{"$f":"IF(AP2252=\"\",\"\",IF(AP2252=AP2246,AP2245,\"\"))","v":""},{"$f":"IF(AQ2252=\"\",\"\",IF(AQ2252=AQ2246,AQ2245,\"\"))","v":""},{"$f":"IF(AR2252=\"\",\"\",IF(AR2252=AR2246,AR2245,\"\"))","v":""},{"$f":"IF(AS2252=\"\",\"\",IF(AS2252=AS2246,AS2245,\"\"))","v":""},{"$f":"IF(AT2252=\"\",\"\",IF(AT2252=AT2246,AT2245,\"\"))","v":""},null,null,null,null,null,null,null,null,null,null,null,null,null,null,null,null,null,null,null,null,null,null,null,null,null,null,null,null,null,null,null,null,null,null,null,null,null,{"$f":"IF(CC2255=0,\"\",CC2255)","v":""},null,{"$f":"IF(CF2251=\"\",\"\",CC2254)","v":""}]
[null,null,null,3,"",{"$f":"I2252","v":""},{"$f":"IF(F2256=\"\",\"\",IF(E2256<=$C$74,\"X\",\"\"))","v":""},"",null,{"$f":"I2254","v":0}]
[null,null,null,7,"",{"$f":"M2252","v":""},{"$f":"IF(F2260=\"\",\"\",IF(E2260<=$C$74,\"X\",\"\"))","v":""},"",null,null,null,null,null,null,null,null,null,null,null,null,null,null,null,null,null,null,null,null,null,null,null,null,null,null,null,null,null,null,null,null,null,null,null,null,null,null,null,null,null,null,null,null,null,null,null,null,null,null,null,null,null,null,1,2,null,null,null,null,null,null,null,null,null,null,null,null,null,null,null,null,{"$f":"P2263","v":0}]
[null,null,null,8,"",{"$f":"N2252","v":""},{"$f":"IF(F2261=\"\",\"\",IF(E2261<=$C$74,\"X\",\"\"))","v":""},"",null,1,{"$f":"IF(L2261<>\"\",BK2261+BL2261+L2261,\"\")","v":""},{"$f":"N2259","v":""},{"$f":"IF(L2261=\"\",\"\",IF(K2261<=$C$74,\"X\",\"\"))","v":""},{"$f":"IF(M2261=\"X\",L2261,\"\")","v":""},{"$f":"MAX(N2261:N2280)","v":0},{"$f":"IF(P2262=N2259,N2258,\"\")","v":""},{"$f":"IF(Q2262=O2259,O2258,\"\")","v":""},{"$f":"IF(R2262=P2259,P2258,\"\")","v":""},{"$f":"IF(S2262=Q2259,Q2258,\"\")","v":""},{"$f":"IF(T2262=R2259,R2258,\"\")","v":""},{"$f":"IF(U2262=S2259,S2258,\"\")","v":""},{"$f":"IF(V2262=T2259,T2258,\"\")","v":""},{"$f":"IF(W2262=U2259,U2258,\"\")","v":""},{"$f":"IF(X2262=V2259,V2258,\"\")","v":""},{"$f":"IF(Y2262=W2259,W2258,\"\")","v":""},{"$f":"IF(Z2262=X2259,X2258,\"\")","v":""},{"$f":"IF(AA2262=Y2259,Y2258,\"\")","v":""},{"$f":"IF(AB2262=Z2259,Z2258,\"\")","v":""},{"$f":"IF(AC2262=AA2259,AA2258,\"\")","v":""},{"$f":"IF(AD2262=AB2259,AB2258,\"\")","v":""},{"$f":"IF(AE2262=AC2259,AC2258,\"\")","v":""},{"$f":"IF(AF2262=AD2259,AD2258,\"\")","v":""},{"$f":"IF(AG2262=AE2259,AE2258,\"\")","v":""},{"$f":"IF(AH2262=AF2259,AF2258,\"\")","v":""},{"$f":"IF(AI2262=AG2259,AG2258,\"\")","v":""},{"$f":"IF(AJ2262=AH2259,AH2258,\"\")","v":""},{"$f":"IF(AK2262=AI2259,AI2258,\"\")","v":""},{"$f":"IF(AL2262=AJ2259,AJ2258,\"\")","v":""},{"$f":"IF(AM2262=AK2259,AK2258,\"\")","v":""},{"$f":"IF(AN2262=AL2259,AL2258,\"\")","v":""},{"$f":"IF(AO2262=AM2259,AM2258,\"\")","v":""},{"$f":"IF(AP2262=AN2259,AN2258,\"\")","v":""},{"$f":"IF(AQ2262=AO2259,AO2258,\"\")","v":""},{"$f":"IF(AR2262=AP2259,AP2258,\"\")","v":""},{"$f":"IF(AS2262=AQ2259,AQ2258,\"\")","v":""},{"$f":"IF(AT2262=AR2259,AR2258,\"\")","v":""},{"$f":"IF(AU2262=AS2259,AS2258,\"\")","v":""},{"$f":"IF(AV2262=AT2259,AT2258,\"\")","v":""},{"$f":"IF(AW2262=AU2259,AU2258,\"\")","v":""},{"$f":"IF(AX2262=AV2259,AV2258,\"\")","v":""},{"$f":"IF(AY2262=AW2259,AW2258,\"\")","v":""},{"$f":"IF(AZ2262=AX2259,AX2258,\"\")","v":""},{"$f":"IF(BA2262=AY2259,AY2258,\"\")","v":""},{"$f":"IF(BB2262=AZ2259,AZ2258,\"\")","v":""},{"$f":"IF(BC2262=BA2259,BA2258,\"\")","v":""},null,null,null,null,null,null,1,{"$f":"CC2250","v":0},{"$f":"CC2255","v":0}]
[null,null,null,14,"",{"$f":"T2252","v":""},{"$f":"IF(F2267=\"\",\"\",IF(E2267<=$C$74,\"X\",\"\"))","v":""},"",null,7,"",{"$f":"T2259","v":""},{"$f":"IF(L2267=\"\",\"\",IF(K2267<=$C$74,\"X\",\"\"))","v":""},{"$f":"IF(M2267=\"X\",L2267,\"\")","v":""},null,null,null,null,null,null,null,null,null,null,null,null,null,null,null,null,null,null,null,null,null,null,null,null,null,null,null,null,null,null,null,null,null,null,null,null,null,null,null,null,null,null,null,null,null,null,null,7,{"$f":"BK2266","v":0},0]
[null,null,null,17,"",{"$f":"W2252","v":""},{"$f":"IF(F2270=\"\",\"\",IF(E2270<=$C$74,\"X\",\"\"))","v":""},"",null,10,"",{"$f":"W2259","v":""},{"$f":"IF(L2270=\"\",\"\",IF(K2270<=$C$74,\"X\",\"\"))","v":""},{"$f":"IF(M2270=\"X\",L2270,\"\")","v":""},null,null,null,null,null,null,null,null,null,null,null,null,null,null,null,null,null,null,null,null,null,null,null,null,null,null,null,null,null,null,null,null,null,null,null,null,null,null,null,null,null,null,null,null,null,null,null,10,{"$f":"BK2269","v":0},0]
[null,null,null,22,"",{"$f":"AB2252","v":""},{"$f":"IF(F2275=\"\",\"\",IF(E2275<=$C$74,\"X\",\"\"))","v":""},"",null,15,"",{"$f":"AB2259","v":""},{"$f":"IF(L2275=\"\",\"\",IF(K2275<=$C$74,\"X\",\"\"))","v":""},{"$f":"IF(M2275=\"X\",L2275,\"\")","v":""},null,"RIMASTI A DISPOSIZIONE",null,null,null,null,null,null,null,null,null,null,null,null,null,null,null,null,null,null,null,null,null,null,null,null,null,null,null,null,null,null,null,null,null,null,null,null,null,null,null,null,null,null,null,null,null,15,{"$f":"BK2274","v":0},0]
[null,null,null,24,"",{"$f":"AD2252","v":""},{"$f":"IF(F2277=\"\",\"\",IF(E2277<=$C$74,\"X\",\"\"))","v":""},"",null,17,"",{"$f":"AD2259","v":""},{"$f":"IF(L2277=\"\",\"\",IF(K2277<=$C$74,\"X\",\"\"))","v":""},{"$f":"IF(M2277=\"X\",L2277,\"\")","v":""},null,1,2,3,4,5,6,7,8,9,10,11,12,13,14,15,16,17,18,19,20,21,22,23,24,25,26,27,28,29,30,31,32,33,34,35,36,37,38,39,40,null,null,null,null,null,null,17,{"$f":"BK2276","v":0},0]
[null,null,null,27,"",{"$f":"AG2252","v":""},{"$f":"IF(F2280=\"\",\"\",IF(E2280<=$C$74,\"X\",\"\"))","v":""},"",null,20,"",{"$f":"AG2259","v":""},{"$f":"IF(L2280=\"\",\"\",IF(K2280<=$C$74,\"X\",\"\"))","v":""},{"$f":"IF(M2280=\"X\",L2280,\"\")","v":""},null,null,null,null,null,null,null,null,null,null,null,null,null,null,null,null,null,null,null,null,null,null,null,null,null,null,null,null,null,null,null,null,null,null,null,null,null,null,null,null,null,null,null,null,null,null,null,20,{"$f":"BK2279","v":0},0]
[null,null,null,31,"",{"$f":"AK2252","v":""},{"$f":"IF(F2284=\"\",\"\",IF(E2284<=$C$74,\"X\",\"\"))","v":""},"",null,24,"",{"$f":"AK2259","v":""},{"$f":"IF(L2284=\"\",\"\",IF(K2284<=$C$74,\"X\",\"\"))","v":""},{"$f":"IF(M2284=\"X\",L2284,\"\")","v":""},null,null,null,null,null,null,null,null,null,null,null,null,null,null,null,null,null,null,null,null,null,null,null,null,null,null,null,null,null,null,null,null,null,null,null,null,null,null,null,null,null,null,null,null,null,null,null,24,{"$f":"BK2283","v":0},0]
[null,null,null,36,"",{"$f":"AP2252","v":""},{"$f":"IF(F2289=\"\",\"\",IF(E2289<=$C$74,\"X\",\"\"))","v":""},"",null,29,"",{"$f":"AP2259","v":""},{"$f":"IF(L2289=\"\",\"\",IF(K2289<=$C$74,\"X\",\"\"))","v":""},{"$f":"IF(M2289=\"X\",L2289,\"\")","v":""},null,null,null,null,null,null,null,null,null,null,null,null,null,null,null,null,null,null,null,null,null,null,null,null,null,null,null,null,null,null,null,null,null,null,null,null,null,null,null,null,null,null,null,null,null,null,null,29,{"$f":"BK2288","v":0},0]
[null,null,null,37,"",{"$f":"AQ2252","v":""},{"$f":"IF(F2290=\"\",\"\",IF(E2290<=$C$74,\"X\",\"\"))","v":""},"",null,30,"",{"$f":"AQ2259","v":""},{"$f":"IF(L2290=\"\",\"\",IF(K2290<=$C$74,\"X\",\"\"))","v":""},{"$f":"IF(M2290=\"X\",L2290,\"\")","v":""},null,null,null,null,null,null,null,null,null,null,null,null,null,null,null,null,null,null,null,null,null,null,null,null,null,null,null,null,null,null,null,null,null,null,null,null,null,null,null,null,null,null,null,null,null,null,null,30,{"$f":"BK2289","v":0},0]
[null,null,null,null,null,null,null,null,null,34,"",{"$f":"AU2259","v":""},{"$f":"IF(L2294=\"\",\"\",IF(K2294<=$C$74,\"X\",\"\"))","v":""},{"$f":"IF(M2294=\"X\",L2294,\"\")","v":""},null,null,null,null,null,null,null,null,null,null,null,null,null,null,null,null,null,null,null,null,null,null,null,null,null,null,null,null,null,null,null,null,null,null,null,null,null,null,null,null,null,null,null,null,null,null,null,34,{"$f":"BK2293","v":0},0]
[null,null,null,null,null,null,null,null,null,35,"",{"$f":"AV2259","v":""},{"$f":"IF(L2295=\"\",\"\",IF(K2295<=$C$74,\"X\",\"\"))","v":""},{"$f":"IF(M2295=\"X\",L2295,\"\")","v":""},null,null,null,null,null,null,null,null,null,null,null,null,null,null,null,null,null,null,null,null,null,null,null,null,null,null,null,null,null,null,null,null,null,null,null,null,null,null,null,null,null,null,null,null,null,null,null,35,{"$f":"BK2294","v":0},0]
[null,null,null,null,null,null,null,null,null,36,"",{"$f":"AW2259","v":""},{"$f":"IF(L2296=\"\",\"\",IF(K2296<=$C$74,\"X\",\"\"))","v":""},{"$f":"IF(M2296=\"X\",L2296,\"\")","v":""},null,null,null,null,null,null,null,null,null,null,null,null,null,null,null,null,null,null,null,null,null,null,null,null,null,null,null,null,null,null,null,null,null,null,null,null,null,null,null,null,null,null,null,null,null,null,null,36,{"$f":"BK2295","v":0},0]
[null,null,null,null,null,null,null,null,null,37,"",{"$f":"AX2259","v":""},{"$f":"IF(L2297=\"\",\"\",IF(K2297<=$C$74,\"X\",\"\"))","v":""},{"$f":"IF(M2297=\"X\",L2297,\"\")","v":""},null,null,null,null,null,null,null,null,null,null,null,null,null,null,null,null,null,null,null,null,null,null,null,null,null,null,null,null,null,null,null,null,null,null,null,null,null,null,null,null,null,null,null,null,null,null,null,37,{"$f":"BK2296","v":0},0]
[null,null,null,null,null,null,null,null,null,38,"",{"$f":"AY2259","v":""},{"$f":"IF(L2298=\"\",\"\",IF(K2298<=$C$74,\"X\",\"\"))","v":""},{"$f":"IF(M2298=\"X\",L2298,\"\")","v":""},null,null,null,null,null,null,null,null,null,null,null,null,null,null,null,null,null,null,null,null,null,null,null,null,null,null,null,null,null,null,null,null,null,null,null,null,null,null,null,null,null,null,null,null,null,null,null,38,{"$f":"BK2297","v":0},0]
[null,null,null,null,null,null,null,null,null,39,"",{"$f":"AZ2259","v":""},"","",null,null,null,null,null,null,null,null,null,null,null,null,null,null,null,null,null,null,null,null,null,null,null,null,null,null,null,null,null,null,null,null,null,null,null,null,null,null,null,null,null,null,null,null,null,null,null,39,{"$f":"BK2298","v":0},0]
[null,null,null,null,null,null,null,null,null,40,"",{"$f":"BA2259","v":""},"","",null,null,null,null,null,null,null,null,null,null,null,null,null,null,null,null,null,null,null,null,null,null,null,null,null,null,null,null,null,null,null,null,null,null,null,null,null,null,null,null,null,null,null,null,null,null,null,40,{"$f":"BK2299","v":0},0]
[]
[]
[null,null,null,null,null,null,1,2,3,4,5,6,7,8,9,10,11,12,13,14,15,16,17,18,19,20,21,22,23,24,25,26,27,28,29,30,31,32,33,34,35,36,37,38,39,40,null,null,null,null,null,null,null,null,null,null,null,null,null,null,null,"BLOCCHI CHE POSSONO ESSERE CARICATI IN COPPIA O A TRE PERCHE' IL LORO PESO COMPLESSIVO NON SUPERA IL PESO MASSIMO CONSENTITO NEL TRASPORTO"]
[null,null,"TIR",null,{"$f":"E2245+1","v":39},null,{"$f":"P2278","v":""},{"$f":"Q2278","v":""},{"$f":"R2278","v":""},{"$f":"S2278","v":""},{"$f":"T2278","v":""},{"$f":"U2278","v":""},{"$f":"V2278","v":""},{"$f":"W2278","v":""},{"$f":"X2278","v":""},{"$f":"Y2278","v":""},{"$f":"Z2278","v":""},{"$f":"AA2278","v":""},{"$f":"AB2278","v":""},{"$f":"AC2278","v":""},{"$f":"AD2278","v":""},{"$f":"AE2278","v":""},{"$f":"AF2278","v":""},{"$f":"AG2278","v":""},{"$f":"AH2278","v":""},{"$f":"AI2278","v":""},{"$f":"AJ2278","v":""},{"$f":"AK2278","v":""},{"$f":"AL2278","v":""},{"$f":"AM2278","v":""},{"$f":"AN2278","v":""},{"$f":"AO2278","v":""},{"$f":"AP2278","v":""},{"$f":"AQ2278","v":""},{"$f":"AR2278","v":""},{"$f":"AS2278","v":""},{"$f":"AT2278","v":""},{"$f":"AU2278","v":""},{"$f":"AV2278","v":""},{"$f":"AW2278","v":""},{"$f":"AX2278","v":""},{"$f":"AY2278","v":""},{"$f":"AZ2278","v":""},{"$f":"BA2278","v":""},{"$f":"BB2278","v":""},{"$f":"BC2278","v":""}]
[null,null,null,null,null,null,{"$f":"P2279","v":""},"","","","","","","","","","","","","","","","","","","","","","","","","","","","","","","","","","","","","","",""]
[null,null,"MASSIMO PESO",null,null,null,{"$f":"MAX(G2305:AT2305)","v":0}]
[null,null,null,null,null,null,{"$f":"IF(G2305=$G2306,G2304,\"\")","v":""},{"$f":"IF(H2305=$G2306,H2304,\"\")","v":""},{"$f":"IF(I2305=$G2306,I2304,\"\")","v":""},{"$f":"IF(J2305=$G2306,J2304,\"\")","v":""},{"$f":"IF(K2305=$G2306,K2304,\"\")","v":""},{"$f":"IF(L2305=$G2306,L2304,\"\")","v":""},{"$f":"IF(M2305=$G2306,M2304,\"\")","v":""},{"$f":"IF(N2305=$G2306,N2304,\"\")","v":""},{"$f":"IF(O2305=$G2306,O2304,\"\")","v":""},{"$f":"IF(P2305=$G2306,P2304,\"\")","v":""},{"$f":"IF(Q2305=$G2306,Q2304,\"\")","v":""},{"$f":"IF(R2305=$G2306,R2304,\"\")","v":""},{"$f":"IF(S2305=$G2306,S2304,\"\")","v":""},{"$f":"IF(T2305=$G2306,T2304,\"\")","v":""},{"$f":"IF(U2305=$G2306,U2304,\"\")","v":""},{"$f":"IF(V2305=$G2306,V2304,\"\")","v":""},{"$f":"IF(W2305=$G2306,W2304,\"\")","v":""},{"$f":"IF(X2305=$G2306,X2304,\"\")","v":""},{"$f":"IF(Y2305=$G2306,Y2304,\"\")","v":""},{"$f":"IF(Z2305=$G2306,Z2304,\"\")","v":""},{"$f":"IF(AA2305=$G2306,AA2304,\"\")","v":""},{"$f":"IF(AB2305=$G2306,AB2304,\"\")","v":""},{"$f":"IF(AC2305=$G2306,AC2304,\"\")","v":""},{"$f":"IF(AD2305=$G2306,AD2304,\"\")","v":""},{"$f":"IF(AE2305=$G2306,AE2304,\"\")","v":""},{"$f":"IF(AF2305=$G2306,AF2304,\"\")","v":""},{"$f":"IF(AG2305=$G2306,AG2304,\"\")","v":""},{"$f":"IF(AH2305=$G2306,AH2304,\"\")","v":""},{"$f":"IF(AI2305=$G2306,AI2304,\"\")","v":""},{"$f":"IF(AJ2305=$G2306,AJ2304,\"\")","v":""},{"$f":"IF(AK2305=$G2306,AK2304,\"\")","v":""},{"$f":"IF(AL2305=$G2306,AL2304,\"\")","v":""},{"$f":"IF(AM2305=$G2306,AM2304,\"\")","v":""},{"$f":"IF(AN2305=$G2306,AN2304,\"\")","v":""},{"$f":"IF(AO2305=$G2306,AO2304,\"\")","v":""},{"$f":"IF(AP2305=$G2306,AP2304,\"\")","v":""},{"$f":"IF(AQ2305=$G2306,AQ2304,\"\")","v":""},{"$f":"IF(AR2305=$G2306,AR2304,\"\")","v":""},{"$f":"IF(AS2305=$G2306,AS2304,\"\")","v":""},{"$f":"IF(AT2305=$G2306,AT2304,\"\")","v":""}]
[null,null,null,null,null,null,{"$f":"G2307&H2307&I2307&J2307&K2307&L2307&M2307&N2307&O2307&P2307&Q2307&R2307&S2307&T2307&U2307&V2307&W2307&X2307&Y2307&Z2307&AA2307&AB2307&AC2307&AD2307&AE2307&AF2307&AG2307&AH2307&AI2307&AJ2307&AK2307&AL2307&AM2307&AN2307&AO2307&AP2307&AQ2307&AR2307&AS2307&AT2307","v":""},null,null,null,null,null,null,null,null,null,null,null,null,null,null,null,null,null,null,null,null,null,null,null,null,null,null,null,null,null,null,null,null,null,null,null,null,null,null,null,null,null,null,null,null,null,null,null,null,null,null,null,null,null,null,null,null,null,null,null,null,null,null,null,null,null,null,null,"Primo Blocco",null,null,null,null,null,{"$f":"G2308","v":""},{"$f":"CC2309+CC2314+CC2319","v":0},null,"Quintali",null,"N° Blocco"]
[null,null,null,null,null,null,{"$f":"G2306","v":0},null,null,null,null,null,null,null,null,null,null,null,null,null,null,null,null,null,null,null,null,null,null,null,null,null,null,null,null,null,null,null,null,null,null,null,null,null,null,null,null,null,null,null,null,null,null,null,null,null,null,null,null,null,null,null,null,null,null,null,null,null,null,null,null,null,null,null,null,null,null,null,null,null,{"$f":"G2306","v":0},null,null,{"$f":"IF(CC2309=0,\"\",CC2309)","v":""},null,{"$f":"IF(CF2309=\"\",\"\",CC2308)","v":""}]
[null,null,null,null,null,null,{"$f":"IF(G2311=\"\",\"\",IF(G2311=G2305,G2304,\"\"))","v":""},{"$f":"IF(H2311=\"\",\"\",IF(H2311=H2305,H2304,\"\"))","v":""},{"$f":"IF(I2311=\"\",\"\",IF(I2311=I2305,I2304,\"\"))","v":""},{"$f":"IF(J2311=\"\",\"\",IF(J2311=J2305,J2304,\"\"))","v":""},{"$f":"IF(K2311=\"\",\"\",IF(K2311=K2305,K2304,\"\"))","v":""},{"$f":"IF(L2311=\"\",\"\",IF(L2311=L2305,L2304,\"\"))","v":""},{"$f":"IF(M2311=\"\",\"\",IF(M2311=M2305,M2304,\"\"))","v":""},{"$f":"IF(N2311=\"\",\"\",IF(N2311=N2305,N2304,\"\"))","v":""},{"$f":"IF(O2311=\"\",\"\",IF(O2311=O2305,O2304,\"\"))","v":""},{"$f":"IF(P2311=\"\",\"\",IF(P2311=P2305,P2304,\"\"))","v":""},{"$f":"IF(Q2311=\"\",\"\",IF(Q2311=Q2305,Q2304,\"\"))","v":""},{"$f":"IF(R2311=\"\",\"\",IF(R2311=R2305,R2304,\"\"))","v":""},{"$f":"IF(S2311=\"\",\"\",IF(S2311=S2305,S2304,\"\"))","v":""},{"$f":"IF(T2311=\"\",\"\",IF(T2311=T2305,T2304,\"\"))","v":""},{"$f":"IF(U2311=\"\",\"\",IF(U2311=U2305,U2304,\"\"))","v":""},{"$f":"IF(V2311=\"\",\"\",IF(V2311=V2305,V2304,\"\"))","v":""},{"$f":"IF(W2311=\"\",\"\",IF(W2311=W2305,W2304,\"\"))","v":""},{"$f":"IF(X2311=\"\",\"\",IF(X2311=X2305,X2304,\"\"))","v":""},{"$f":"IF(Y2311=\"\",\"\",IF(Y2311=Y2305,Y2304,\"\"))","v":""},{"$f":"IF(Z2311=\"\",\"\",IF(Z2311=Z2305,Z2304,\"\"))","v":""},{"$f":"IF(AA2311=\"\",\"\",IF(AA2311=AA2305,AA2304,\"\"))","v":""},{"$f":"IF(AB2311=\"\",\"\",IF(AB2311=AB2305,AB2304,\"\"))","v":""},{"$f":"IF(AC2311=\"\",\"\",IF(AC2311=AC2305,AC2304,\"\"))","v":""},{"$f":"IF(AD2311=\"\",\"\",IF(AD2311=AD2305,AD2304,\"\"))","v":""},{"$f":"IF(AE2311=\"\",\"\",IF(AE2311=AE2305,AE2304,\"\"))","v":""},{"$f":"IF(AF2311=\"\",\"\",IF(AF2311=AF2305,AF2304,\"\"))","v":""},{"$f":"IF(AG2311=\"\",\"\",IF(AG2311=AG2305,AG2304,\"\"))","v":""},{"$f":"IF(AH2311=\"\",\"\",IF(AH2311=AH2305,AH2304,\"\"))","v":""},{"$f":"IF(AI2311=\"\",\"\",IF(AI2311=AI2305,AI2304,\"\"))","v":""},{"$f":"IF(AJ2311=\"\",\"\",IF(AJ2311=AJ2305,AJ2304,\"\"))","v":""},{"$f":"IF(AK2311=\"\",\"\",IF(AK2311=AK2305,AK2304,\"\"))","v":""},{"$f":"IF(AL2311=\"\",\"\",IF(AL2311=AL2305,AL2304,\"\"))","v":""},{"$f":"IF(AM2311=\"\",\"\",IF(AM2311=AM2305,AM2304,\"\"))","v":""},{"$f":"IF(AN2311=\"\",\"\",IF(AN2311=AN2305,AN2304,\"\"))","v":""},{"$f":"IF(AO2311=\"\",\"\",IF(AO2311=AO2305,AO2304,\"\"))","v":""},{"$f":"IF(AP2311=\"\",\"\",IF(AP2311=AP2305,AP2304,\"\"))","v":""},{"$f":"IF(AQ2311=\"\",\"\",IF(AQ2311=AQ2305,AQ2304,\"\"))","v":""},{"$f":"IF(AR2311=\"\",\"\",IF(AR2311=AR2305,AR2304,\"\"))","v":""},{"$f":"IF(AS2311=\"\",\"\",IF(AS2311=AS2305,AS2304,\"\"))","v":""},{"$f":"IF(AT2311=\"\",\"\",IF(AT2311=AT2305,AT2304,\"\"))","v":""},null,null,null,null,null,null,null,null,null,null,null,null,null,null,null,null,null,null,null,null,null,null,null,null,null,null,null,null,null,null,null,null,null,null,null,null,null,{"$f":"IF(CC2314=0,\"\",CC2314)","v":""},null,{"$f":"IF(CF2310=\"\",\"\",CC2313)","v":""}]
[null,null,"DISPONIBILI",null,null,null,{"$f":"IF(G2305=$G2306,\"\",G2305)","v":""},{"$f":"IF(H2305=$G2306,\"\",H2305)","v":""},{"$f":"IF(I2305=$G2306,\"\",I2305)","v":""},{"$f":"IF(J2305=$G2306,\"\",J2305)","v":""},{"$f":"IF(K2305=$G2306,\"\",K2305)","v":""},{"$f":"IF(L2305=$G2306,\"\",L2305)","v":""},{"$f":"IF(M2305=$G2306,\"\",M2305)","v":""},{"$f":"IF(N2305=$G2306,\"\",N2305)","v":""},{"$f":"IF(O2305=$G2306,\"\",O2305)","v":""},{"$f":"IF(P2305=$G2306,\"\",P2305)","v":""},{"$f":"IF(Q2305=$G2306,\"\",Q2305)","v":""},{"$f":"IF(R2305=$G2306,\"\",R2305)","v":""},{"$f":"IF(S2305=$G2306,\"\",S2305)","v":""},{"$f":"IF(T2305=$G2306,\"\",T2305)","v":""},{"$f":"IF(U2305=$G2306,\"\",U2305)","v":""},{"$f":"IF(V2305=$G2306,\"\",V2305)","v":""},{"$f":"IF(W2305=$G2306,\"\",W2305)","v":""},{"$f":"IF(X2305=$G2306,\"\",X2305)","v":""},{"$f":"IF(Y2305=$G2306,\"\",Y2305)","v":""},{"$f":"IF(Z2305=$G2306,\"\",Z2305)","v":""},{"$f":"IF(AA2305=$G2306,\"\",AA2305)","v":""},{"$f":"IF(AB2305=$G2306,\"\",AB2305)","v":""},{"$f":"IF(AC2305=$G2306,\"\",AC2305)","v":""},{"$f":"IF(AD2305=$G2306,\"\",AD2305)","v":""},{"$f":"IF(AE2305=$G2306,\"\",AE2305)","v":""},{"$f":"IF(AF2305=$G2306,\"\",AF2305)","v":""},{"$f":"IF(AG2305=$G2306,\"\",AG2305)","v":""},{"$f":"IF(AH2305=$G2306,\"\",AH2305)","v":""},{"$f":"IF(AI2305=$G2306,\"\",AI2305)","v":""},{"$f":"IF(AJ2305=$G2306,\"\",AJ2305)","v":""},{"$f":"IF(AK2305=$G2306,\"\",AK2305)","v":""},{"$f":"IF(AL2305=$G2306,\"\",AL2305)","v":""},{"$f":"IF(AM2305=$G2306,\"\",AM2305)","v":""},{"$f":"IF(AN2305=$G2306,\"\",AN2305)","v":""},{"$f":"IF(AO2305=$G2306,\"\",AO2305)","v":""},{"$f":"IF(AP2305=$G2306,\"\",AP2305)","v":""},{"$f":"IF(AQ2305=$G2306,\"\",AQ2305)","v":""},{"$f":"IF(AR2305=$G2306,\"\",AR2305)","v":""},{"$f":"IF(AS2305=$G2306,\"\",AS2305)","v":""},{"$f":"IF(AT2305=$G2306,\"\",AT2305)","v":""},null,null,null,null,null,null,null,null,null,null,null,null,null,null,null,null,null,null,null,null,null,null,null,null,null,null,null,null,null,null,null,null,null,null,null,null,null,{"$f":"IF(CC2319=0,\"\",CC2319)","v":""},null,{"$f":"IF(CF2311=\"\",\"\",CC2318)","v":""}]
[null,null,null,null,null,null,null,null,null,null,null,null,null,null,null,null,null,null,null,null,null,null,null,null,null,null,null,null,null,null,null,null,null,null,null,null,null,null,null,null,null,null,null,null,null,null,null,null,null,null,null,null,null,null,null,null,null,null,null,null,null,null,null,null,null,null,null,null,null,null,null,null,null,null,null,null,null,null,null,null,null,null,null,"NUMERO TIR"]
[null,null,"Portata                Max.               TIR",1,{"$f":"IF(F2313<>\"\",F2313+G$126,\"\")","v":""},{"$f":"G2311","v":""},{"$f":"IF(F2313=\"\",\"\",IF(E2313<=$C$74,\"X\",\"\"))","v":""},{"$f":"IF(G2313=\"X\",F2313,\"\")","v":""},{"$f":"MAX(H2313:H2352)","v":0},{"$f":"IF(J2314=G2311,G2310,\"\")","v":""},{"$f":"IF(K2314=H2311,H2310,\"\")","v":""},{"$f":"IF(L2314=I2311,I2310,\"\")","v":""},{"$f":"IF(M2314=J2311,J2310,\"\")","v":""},{"$f":"IF(N2314=K2311,K2310,\"\")","v":""},{"$f":"IF(O2314=L2311,L2310,\"\")","v":""},{"$f":"IF(P2314=M2311,M2310,\"\")","v":""},{"$f":"IF(Q2314=N2311,N2310,\"\")","v":""},{"$f":"IF(R2314=O2311,O2310,\"\")","v":""},{"$f":"IF(S2314=P2311,P2310,\"\")","v":""},{"$f":"IF(T2314=Q2311,Q2310,\"\")","v":""},{"$f":"IF(U2314=R2311,R2310,\"\")","v":""},{"$f":"IF(V2314=S2311,S2310,\"\")","v":""},{"$f":"IF(W2314=T2311,T2310,\"\")","v":""},{"$f":"IF(X2314=U2311,U2310,\"\")","v":""},{"$f":"IF(Y2314=V2311,V2310,\"\")","v":""},{"$f":"IF(Z2314=W2311,W2310,\"\")","v":""},{"$f":"IF(AA2314=X2311,X2310,\"\")","v":""},{"$f":"IF(AB2314=Y2311,Y2310,\"\")","v":""},{"$f":"IF(AC2314=Z2311,Z2310,\"\")","v":""},{"$f":"IF(AD2314=AA2311,AA2310,\"\")","v":""},{"$f":"IF(AE2314=AB2311,AB2310,\"\")","v":""},{"$f":"IF(AF2314=AC2311,AC2310,\"\")","v":""},{"$f":"IF(AG2314=AD2311,AD2310,\"\")","v":""},{"$f":"IF(AH2314=AE2311,AE2310,\"\")","v":""},{"$f":"IF(AI2314=AF2311,AF2310,\"\")","v":""},{"$f":"IF(AJ2314=AG2311,AG2310,\"\")","v":""},{"$f":"IF(AK2314=AH2311,AH2310,\"\")","v":""},{"$f":"IF(AL2314=AI2311,AI2310,\"\")","v":""},{"$f":"IF(AM2314=AJ2311,AJ2310,\"\")","v":""},{"$f":"IF(AN2314=AK2311,AK2310,\"\")","v":""},{"$f":"IF(AO2314=AL2311,AL2310,\"\")","v":""},{"$f":"IF(AP2314=AM2311,AM2310,\"\")","v":""},{"$f":"IF(AQ2314=AN2311,AN2310,\"\")","v":""},{"$f":"IF(AR2314=AO2311,AO2310,\"\")","v":""},{"$f":"IF(AS2314=AP2311,AP2310,\"\")","v":""},{"$f":"IF(AT2314=AQ2311,AQ2310,\"\")","v":""},{"$f":"IF(AU2314=AR2311,AR2310,\"\")","v":""},{"$f":"IF(AV2314=AS2311,AS2310,\"\")","v":""},{"$f":"IF(AW2314=AT2311,AT2310,\"\")","v":""},null,null,null,null,null,null,null,null,null,null,null,null,null,null,null,null,null,null,null,null,null,null,null,null,null,"Secondo Blocco",null,null,null,null,null,{"$f":"J2313&K2313&L2313&M2313&N2313&O2313&P2313&Q2313&R2313&S2313&T2313&U2313&V2313&W2313&X2313&Y2313&Z2313&AA2313&AB2313&AC2313&AD2313&AE2313&AF2313&AG2313&AH2313&AI2313&AJ2313&AK2313&AL2313&AM2313&AN2313&AO2313&AP2313&AQ2313&AR2313&AS2313&AT2313&AU2313&AV2313&AW2313","v":""}]
[null,null,null,2,"",{"$f":"H2311","v":""},{"$f":"IF(F2314=\"\",\"\",IF(E2314<=$C$74,\"X\",\"\"))","v":""},"",null,{"$f":"IF($J2315=G2311,G2311,\"\")","v":""},{"$f":"IF($J2315=H2311,H2311,\"\")","v":""},{"$f":"IF($J2315=I2311,I2311,\"\")","v":""},{"$f":"IF($J2315=J2311,J2311,\"\")","v":""},{"$f":"IF($J2315=K2311,K2311,\"\")","v":""},{"$f":"IF($J2315=L2311,L2311,\"\")","v":""},{"$f":"IF($J2315=M2311,M2311,\"\")","v":""},{"$f":"IF($J2315=N2311,N2311,\"\")","v":""},{"$f":"IF($J2315=O2311,O2311,\"\")","v":""},{"$f":"IF($J2315=P2311,P2311,\"\")","v":""},{"$f":"IF($J2315=Q2311,Q2311,\"\")","v":""},{"$f":"IF($J2315=R2311,R2311,\"\")","v":""},{"$f":"IF($J2315=S2311,S2311,\"\")","v":""},{"$f":"IF($J2315=T2311,T2311,\"\")","v":""},{"$f":"IF($J2315=U2311,U2311,\"\")","v":""},{"$f":"IF($J2315=V2311,V2311,\"\")","v":""},{"$f":"IF($J2315=W2311,W2311,\"\")","v":""},{"$f":"IF($J2315=X2311,X2311,\"\")","v":""},{"$f":"IF($J2315=Y2311,Y2311,\"\")","v":""},{"$f":"IF($J2315=Z2311,Z2311,\"\")","v":""},{"$f":"IF($J2315=AA2311,AA2311,\"\")","v":""},{"$f":"IF($J2315=AB2311,AB2311,\"\")","v":""},{"$f":"IF($J2315=AC2311,AC2311,\"\")","v":""},{"$f":"IF($J2315=AD2311,AD2311,\"\")","v":""},{"$f":"IF($J2315=AE2311,AE2311,\"\")","v":""},{"$f":"IF($J2315=AF2311,AF2311,\"\")","v":""},{"$f":"IF($J2315=AG2311,AG2311,\"\")","v":""},{"$f":"IF($J2315=AH2311,AH2311,\"\")","v":""},{"$f":"IF($J2315=AI2311,AI2311,\"\")","v":""},{"$f":"IF($J2315=AJ2311,AJ2311,\"\")","v":""},{"$f":"IF($J2315=AK2311,AK2311,\"\")","v":""},{"$f":"IF($J2315=AL2311,AL2311,\"\")","v":""},{"$f":"IF($J2315=AM2311,AM2311,\"\")","v":""},{"$f":"IF($J2315=AN2311,AN2311,\"\")","v":""},{"$f":"IF($J2315=AO2311,AO2311,\"\")","v":""},{"$f":"IF($J2315=AP2311,AP2311,\"\")","v":""},{"$f":"IF($J2315=AQ2311,AQ2311,\"\")","v":""},{"$f":"IF($J2315=AR2311,AR2311,\"\")","v":""},{"$f":"IF($J2315=AS2311,AS2311,\"\")","v":""},{"$f":"IF($J2315=AT2311,AT2311,\"\")","v":""},null,null,null,null,null,null,null,null,null,null,null,null,null,null,null,null,null,null,null,null,null,null,null,null,null,null,null,null,null,null,null,{"$f":"J2315","v":0}]
[null,null,null,3,"",{"$f":"I2311","v":""},"","",null,{"$f":"I2313","v":0}]
[null,null,{"$f":"$P$3","v":200},4,"",{"$f":"J2311","v":""},"","",null,null,null,null,null,null,null,null,null,null,null,null,null,null,null,null,null,null,null,null,null,null,null,null,null,null,null,null,null,null,null,null,null,null,null,null,null,null,null,null,null,null,null,null,null,null,null,null,null,null,null,null,null,null,null,null,null,null,null,null,null,null,null,null,null,null,null,null,null,null,null,null,null,null,null,{"$f":"IF(CD2308>0,CF2257+1,\"\")","v":""}]
[null,null,null,5,"",{"$f":"K2311","v":""},"","",null,null,null,null,null,{"$f":"IF(N2318=G2311,G2310,\"\")","v":""},{"$f":"IF(O2318=H2311,H2310,\"\")","v":""},{"$f":"IF(P2318=I2311,I2310,\"\")","v":""},{"$f":"IF(Q2318=J2311,J2310,\"\")","v":""},{"$f":"IF(R2318=K2311,K2310,\"\")","v":""},{"$f":"IF(S2318=L2311,L2310,\"\")","v":""},{"$f":"IF(T2318=M2311,M2310,\"\")","v":""},{"$f":"IF(U2318=N2311,N2310,\"\")","v":""},{"$f":"IF(V2318=O2311,O2310,\"\")","v":""},{"$f":"IF(W2318=P2311,P2310,\"\")","v":""},{"$f":"IF(X2318=Q2311,Q2310,\"\")","v":""},{"$f":"IF(Y2318=R2311,R2310,\"\")","v":""},{"$f":"IF(Z2318=S2311,S2310,\"\")","v":""},{"$f":"IF(AA2318=T2311,T2310,\"\")","v":""},{"$f":"IF(AB2318=U2311,U2310,\"\")","v":""},{"$f":"IF(AC2318=V2311,V2310,\"\")","v":""},{"$f":"IF(AD2318=W2311,W2310,\"\")","v":""},{"$f":"IF(AE2318=X2311,X2310,\"\")","v":""},{"$f":"IF(AF2318=Y2311,Y2310,\"\")","v":""},{"$f":"IF(AG2318=Z2311,Z2310,\"\")","v":""},{"$f":"IF(AH2318=AA2311,AA2310,\"\")","v":""},{"$f":"IF(AI2318=AB2311,AB2310,\"\")","v":""},{"$f":"IF(AJ2318=AC2311,AC2310,\"\")","v":""},{"$f":"IF(AK2318=AD2311,AD2310,\"\")","v":""},{"$f":"IF(AL2318=AE2311,AE2310,\"\")","v":""},{"$f":"IF(AM2318=AF2311,AF2310,\"\")","v":""},{"$f":"IF(AN2318=AG2311,AG2310,\"\")","v":""},{"$f":"IF(AO2318=AH2311,AH2310,\"\")","v":""},{"$f":"IF(AP2318=AI2311,AI2310,\"\")","v":""},{"$f":"IF(AQ2318=AJ2311,AJ2310,\"\")","v":""},{"$f":"IF(AR2318=AK2311,AK2310,\"\")","v":""},{"$f":"IF(AS2318=AL2311,AL2310,\"\")","v":""},{"$f":"IF(AT2318=AM2311,AM2310,\"\")","v":""},{"$f":"IF(AU2318=AN2311,AN2310,\"\")","v":""},{"$f":"IF(AV2318=AO2311,AO2310,\"\")","v":""},{"$f":"IF(AW2318=AP2311,AP2310,\"\")","v":""},{"$f":"IF(AX2318=AQ2311,AQ2310,\"\")","v":""},{"$f":"IF(AY2318=AR2311,AR2310,\"\")","v":""},{"$f":"IF(AZ2318=AS2311,AS2310,\"\")","v":""},{"$f":"IF(BA2318=AT2311,AT2310,\"\")","v":""}]
[null,null,null,6,"",{"$f":"L2311","v":""},"","",null,"DISPONIBILI",null,null,null,{"$f":"IF(G2311=\"\",\"\",IF(G2311=J2314,\"\",G2311))","v":""},{"$f":"IF(H2311=\"\",\"\",IF(H2311=K2314,\"\",H2311))","v":""},{"$f":"IF(I2311=\"\",\"\",IF(I2311=L2314,\"\",I2311))","v":""},{"$f":"IF(J2311=\"\",\"\",IF(J2311=M2314,\"\",J2311))","v":""},{"$f":"IF(K2311=\"\",\"\",IF(K2311=N2314,\"\",K2311))","v":""},{"$f":"IF(L2311=\"\",\"\",IF(L2311=O2314,\"\",L2311))","v":""},{"$f":"IF(M2311=\"\",\"\",IF(M2311=P2314,\"\",M2311))","v":""},{"$f":"IF(N2311=\"\",\"\",IF(N2311=Q2314,\"\",N2311))","v":""},{"$f":"IF(O2311=\"\",\"\",IF(O2311=R2314,\"\",O2311))","v":""},{"$f":"IF(P2311=\"\",\"\",IF(P2311=S2314,\"\",P2311))","v":""},{"$f":"IF(Q2311=\"\",\"\",IF(Q2311=T2314,\"\",Q2311))","v":""},{"$f":"IF(R2311=\"\",\"\",IF(R2311=U2314,\"\",R2311))","v":""},{"$f":"IF(S2311=\"\",\"\",IF(S2311=V2314,\"\",S2311))","v":""},{"$f":"IF(T2311=\"\",\"\",IF(T2311=W2314,\"\",T2311))","v":""},{"$f":"IF(U2311=\"\",\"\",IF(U2311=X2314,\"\",U2311))","v":""},{"$f":"IF(V2311=\"\",\"\",IF(V2311=Y2314,\"\",V2311))","v":""},{"$f":"IF(W2311=\"\",\"\",IF(W2311=Z2314,\"\",W2311))","v":""},{"$f":"IF(X2311=\"\",\"\",IF(X2311=AA2314,\"\",X2311))","v":""},{"$f":"IF(Y2311=\"\",\"\",IF(Y2311=AB2314,\"\",Y2311))","v":""},{"$f":"IF(Z2311=\"\",\"\",IF(Z2311=AC2314,\"\",Z2311))","v":""},{"$f":"IF(AA2311=\"\",\"\",IF(AA2311=AD2314,\"\",AA2311))","v":""},{"$f":"IF(AB2311=\"\",\"\",IF(AB2311=AE2314,\"\",AB2311))","v":""},{"$f":"IF(AC2311=\"\",\"\",IF(AC2311=AF2314,\"\",AC2311))","v":""},{"$f":"IF(AD2311=\"\",\"\",IF(AD2311=AG2314,\"\",AD2311))","v":""},{"$f":"IF(AE2311=\"\",\"\",IF(AE2311=AH2314,\"\",AE2311))","v":""},{"$f":"IF(AF2311=\"\",\"\",IF(AF2311=AI2314,\"\",AF2311))","v":""},{"$f":"IF(AG2311=\"\",\"\",IF(AG2311=AJ2314,\"\",AG2311))","v":""},{"$f":"IF(AH2311=\"\",\"\",IF(AH2311=AK2314,\"\",AH2311))","v":""},{"$f":"IF(AI2311=\"\",\"\",IF(AI2311=AL2314,\"\",AI2311))","v":""},{"$f":"IF(AJ2311=\"\",\"\",IF(AJ2311=AM2314,\"\",AJ2311))","v":""},{"$f":"IF(AK2311=\"\",\"\",IF(AK2311=AN2314,\"\",AK2311))","v":""},{"$f":"IF(AL2311=\"\",\"\",IF(AL2311=AO2314,\"\",AL2311))","v":""},{"$f":"IF(AM2311=\"\",\"\",IF(AM2311=AP2314,\"\",AM2311))","v":""},{"$f":"IF(AN2311=\"\",\"\",IF(AN2311=AQ2314,\"\",AN2311))","v":""},{"$f":"IF(AO2311=\"\",\"\",IF(AO2311=AR2314,\"\",AO2311))","v":""},{"$f":"IF(AP2311=\"\",\"\",IF(AP2311=AS2314,\"\",AP2311))","v":""},{"$f":"IF(AQ2311=\"\",\"\",IF(AQ2311=AT2314,\"\",AQ2311))","v":""},{"$f":"IF(AR2311=\"\",\"\",IF(AR2311=AU2314,\"\",AR2311))","v":""},{"$f":"IF(AS2311=\"\",\"\",IF(AS2311=AV2314,\"\",AS2311))","v":""},{"$f":"IF(AT2311=\"\",\"\",IF(AT2311=AW2314,\"\",AT2311))","v":""},null,null,null,null,null,null,null,null,null,null,null,null,null,null,null,null,null,null,null,null,null,"Terzo Blocco",null,null,null,null,null,{"$f":"P2320&Q2320&R2320&S2320&T2320&U2320&V2320&W2320&X2320&Y2320&Z2320&AA2320&AB2320&AC2320&AD2320&AE2320&AF2320&AG2320&AH2320&AI2320&AJ2320&AK2320&AL2320&AM2320&AN2320&AO2320&AP2320&AQ2320&AR2320&AS2320&AT2320&AU2320&AV2320&AW2320&AX2320&AY2320&AZ2320&BA2320&BB2320&BC2320","v":""}]
[null,null,null,7,"",{"$f":"M2311","v":""},"","",null,null,null,null,null,null,null,null,null,null,null,null,null,null,null,null,null,null,null,null,null,null,null,null,null,null,null,null,null,null,null,null,null,null,null,null,null,null,null,null,null,null,null,null,null,null,null,null,null,null,null,null,null,null,1,2,null,null,null,null,null,null,null,null,null,null,null,null,null,null,null,null,{"$f":"P2322","v":0}]
[null,null,null,8,"",{"$f":"N2311","v":""},"","",null,1,{"$f":"IF(L2320<>\"\",BK2320+BL2320+L2320,\"\")","v":""},{"$f":"N2318","v":""},{"$f":"IF(L2320=\"\",\"\",IF(K2320<=$C$74,\"X\",\"\"))","v":""},{"$f":"IF(M2320=\"X\",L2320,\"\")","v":""},{"$f":"MAX(N2320:N2339)","v":0},{"$f":"IF(P2321=N2318,N2317,\"\")","v":""},{"$f":"IF(Q2321=O2318,O2317,\"\")","v":""},{"$f":"IF(R2321=P2318,P2317,\"\")","v":""},{"$f":"IF(S2321=Q2318,Q2317,\"\")","v":""},{"$f":"IF(T2321=R2318,R2317,\"\")","v":""},{"$f":"IF(U2321=S2318,S2317,\"\")","v":""},{"$f":"IF(V2321=T2318,T2317,\"\")","v":""},{"$f":"IF(W2321=U2318,U2317,\"\")","v":""},{"$f":"IF(X2321=V2318,V2317,\"\")","v":""},{"$f":"IF(Y2321=W2318,W2317,\"\")","v":""},{"$f":"IF(Z2321=X2318,X2317,\"\")","v":""},{"$f":"IF(AA2321=Y2318,Y2317,\"\")","v":""},{"$f":"IF(AB2321=Z2318,Z2317,\"\")","v":""},{"$f":"IF(AC2321=AA2318,AA2317,\"\")","v":""},{"$f":"IF(AD2321=AB2318,AB2317,\"\")","v":""},{"$f":"IF(AE2321=AC2318,AC2317,\"\")","v":""},{"$f":"IF(AF2321=AD2318,AD2317,\"\")","v":""},{"$f":"IF(AG2321=AE2318,AE2317,\"\")","v":""},{"$f":"IF(AH2321=AF2318,AF2317,\"\")","v":""},{"$f":"IF(AI2321=AG2318,AG2317,\"\")","v":""},{"$f":"IF(AJ2321=AH2318,AH2317,\"\")","v":""},{"$f":"IF(AK2321=AI2318,AI2317,\"\")","v":""},{"$f":"IF(AL2321=AJ2318,AJ2317,\"\")","v":""},{"$f":"IF(AM2321=AK2318,AK2317,\"\")","v":""},{"$f":"IF(AN2321=AL2318,AL2317,\"\")","v":""},{"$f":"IF(AO2321=AM2318,AM2317,\"\")","v":""},{"$f":"IF(AP2321=AN2318,AN2317,\"\")","v":""},{"$f":"IF(AQ2321=AO2318,AO2317,\"\")","v":""},{"$f":"IF(AR2321=AP2318,AP2317,\"\")","v":""},{"$f":"IF(AS2321=AQ2318,AQ2317,\"\")","v":""},{"$f":"IF(AT2321=AR2318,AR2317,\"\")","v":""},{"$f":"IF(AU2321=AS2318,AS2317,\"\")","v":""},{"$f":"IF(AV2321=AT2318,AT2317,\"\")","v":""},{"$f":"IF(AW2321=AU2318,AU2317,\"\")","v":""},{"$f":"IF(AX2321=AV2318,AV2317,\"\")","v":""},{"$f":"IF(AY2321=AW2318,AW2317,\"\")","v":""},{"$f":"IF(AZ2321=AX2318,AX2317,\"\")","v":""},{"$f":"IF(BA2321=AY2318,AY2317,\"\")","v":""},{"$f":"IF(BB2321=AZ2318,AZ2317,\"\")","v":""},{"$f":"IF(BC2321=BA2318,BA2317,\"\")","v":""},null,null,null,null,null,null,1,{"$f":"CC2309","v":0},{"$f":"CC2314","v":0}]
[null,null,null,9,"",{"$f":"O2311","v":""},"","",null,2,"",{"$f":"O2318","v":""},{"$f":"IF(L2321=\"\",\"\",IF(K2321<=$C$74,\"X\",\"\"))","v":""},{"$f":"IF(M2321=\"X\",L2321,\"\")","v":""},null,{"$f":"IF($P2322=N2318,N2318,\"\")","v":""},{"$f":"IF($P2322=O2318,O2318,\"\")","v":""},{"$f":"IF($P2322=P2318,P2318,\"\")","v":""},{"$f":"IF($P2322=Q2318,Q2318,\"\")","v":""},{"$f":"IF($P2322=R2318,R2318,\"\")","v":""},{"$f":"IF($P2322=S2318,S2318,\"\")","v":""},{"$f":"IF($P2322=T2318,T2318,\"\")","v":""},{"$f":"IF($P2322=U2318,U2318,\"\")","v":""},{"$f":"IF($P2322=V2318,V2318,\"\")","v":""},{"$f":"IF($P2322=W2318,W2318,\"\")","v":""},{"$f":"IF($P2322=X2318,X2318,\"\")","v":""},{"$f":"IF($P2322=Y2318,Y2318,\"\")","v":""},{"$f":"IF($P2322=Z2318,Z2318,\"\")","v":""},{"$f":"IF($P2322=AA2318,AA2318,\"\")","v":""},{"$f":"IF($P2322=AB2318,AB2318,\"\")","v":""},{"$f":"IF($P2322=AC2318,AC2318,\"\")","v":""},{"$f":"IF($P2322=AD2318,AD2318,\"\")","v":""},{"$f":"IF($P2322=AE2318,AE2318,\"\")","v":""},{"$f":"IF($P2322=AF2318,AF2318,\"\")","v":""},{"$f":"IF($P2322=AG2318,AG2318,\"\")","v":""},{"$f":"IF($P2322=AH2318,AH2318,\"\")","v":""},{"$f":"IF($P2322=AI2318,AI2318,\"\")","v":""},{"$f":"IF($P2322=AJ2318,AJ2318,\"\")","v":""},{"$f":"IF($P2322=AK2318,AK2318,\"\")","v":""},{"$f":"IF($P2322=AL2318,AL2318,\"\")","v":""},{"$f":"IF($P2322=AM2318,AM2318,\"\")","v":""},{"$f":"IF($P2322=AN2318,AN2318,\"\")","v":""},{"$f":"IF($P2322=AO2318,AO2318,\"\")","v":""},{"$f":"IF($P2322=AP2318,AP2318,\"\")","v":""},{"$f":"IF($P2322=AQ2318,AQ2318,\"\")","v":""},{"$f":"IF($P2322=AR2318,AR2318,\"\")","v":""},{"$f":"IF($P2322=AS2318,AS2318,\"\")","v":""},{"$f":"IF($P2322=AT2318,AT2318,\"\")","v":""},{"$f":"IF($P2322=AU2318,AU2318,\"\")","v":""},{"$f":"IF($P2322=AV2318,AV2318,\"\")","v":""},{"$f":"IF($P2322=AW2318,AW2318,\"\")","v":""},{"$f":"IF($P2322=AX2318,AX2318,\"\")","v":""},{"$f":"IF($P2322=AY2318,AY2318,\"\")","v":""},{"$f":"IF($P2322=AZ2318,AZ2318,\"\")","v":""},{"$f":"IF($P2322=BA2318,BA2318,\"\")","v":""},null,null,null,null,null,null,2,{"$f":"BK2320","v":0},{"$f":"BL2320","v":0}]
[null,null,null,10,"",{"$f":"P2311","v":""},"","",null,3,"",{"$f":"P2318","v":""},"","",null,{"$f":"O2320","v":0},null,null,null,null,null,null,null,null,null,null,null,null,null,null,null,null,null,null,null,null,null,null,null,null,null,null,null,null,null,null,null,null,null,null,null,null,null,null,null,null,null,null,null,null,null,3,{"$f":"BK2321","v":0},0,null,null,null,null,null,null,null,null,null,null,null,null,null,null,null,"MASSIMO CARICO",null,null,null,null,{"$f":"C2316","v":200}]
[null,null,null,11,"",{"$f":"Q2311","v":""},"","",null,4,"",{"$f":"Q2318","v":""},"","",null,null,null,null,null,null,null,null,null,null,null,null,null,null,null,null,null,null,null,null,null,null,null,null,null,null,null,null,null,null,null,null,null,null,null,null,null,null,null,null,null,null,null,null,null,null,null,4,{"$f":"BK2322","v":0},0]
[null,null,null,12,"",{"$f":"R2311","v":""},"","",null,5,"",{"$f":"R2318","v":""},"","",null,null,null,null,null,null,null,null,null,null,null,null,null,null,null,null,null,null,null,null,null,null,null,null,null,null,null,null,null,null,null,null,null,null,null,null,null,null,null,null,null,null,null,null,null,null,null,5,{"$f":"BK2323","v":0},0,null,null,null,null,null,null,null,null,null,null,null,null,null,null,null,"RIMANE",null,null,null,null,{"$f":"CG2322-CD2308","v":200}]
[null,null,null,13,"",{"$f":"S2311","v":""},"","",null,6,"",{"$f":"S2318","v":""},"","",null,null,null,null,null,null,null,null,null,null,null,null,null,null,null,null,null,null,null,null,null,null,null,null,null,null,null,null,null,null,null,null,null,null,null,null,null,null,null,null,null,null,null,null,null,null,null,6,{"$f":"BK2324","v":0},0]
[null,null,null,14,"",{"$f":"T2311","v":""},"","",null,7,"",{"$f":"T2318","v":""},"","",null,null,null,null,null,null,null,null,null,null,null,null,null,null,null,null,null,null,null,null,null,null,null,null,null,null,null,null,null,null,null,null,null,null,null,null,null,null,null,null,null,null,null,null,null,null,null,7,{"$f":"BK2325","v":0},0]
[null,null,null,15,"",{"$f":"U2311","v":""},"",{"$f":"IF(G2327=\"X\",F2327,\"\")","v":""},null,8,"",{"$f":"U2318","v":""},"","",null,null,null,null,null,null,null,null,null,null,null,null,null,null,null,null,null,null,null,null,null,null,null,null,null,null,null,null,null,null,null,null,null,null,null,null,null,null,null,null,null,null,null,null,null,null,null,8,{"$f":"BK2326","v":0},0]
[null,null,null,16,"",{"$f":"V2311","v":""},"","",null,9,"",{"$f":"V2318","v":""},"","",null,null,null,null,null,null,null,null,null,null,null,null,null,null,null,null,null,null,null,null,null,null,null,null,null,null,null,null,null,null,null,null,null,null,null,null,null,null,null,null,null,null,null,null,null,null,null,9,{"$f":"BK2327","v":0},0]
[null,null,null,17,"",{"$f":"W2311","v":""},"","",null,10,"",{"$f":"W2318","v":""},"","",null,null,null,null,null,null,null,null,null,null,null,null,null,null,null,null,null,null,null,null,null,null,null,null,null,null,null,null,null,null,null,null,null,null,null,null,null,null,null,null,null,null,null,null,null,null,null,10,{"$f":"BK2328","v":0},0]
[null,null,null,18,"",{"$f":"X2311","v":""},"","",null,11,"",{"$f":"X2318","v":""},"","",null,null,null,null,null,null,null,null,null,null,null,null,null,null,null,null,null,null,null,null,null,null,null,null,null,null,null,null,null,null,null,null,null,null,null,null,null,null,null,null,null,null,null,null,null,null,null,11,{"$f":"BK2329","v":0},0]
[null,null,null,19,"",{"$f":"Y2311","v":""},"","",null,12,"",{"$f":"Y2318","v":""},"","",null,null,null,null,null,null,null,null,null,null,null,null,null,null,null,null,null,null,null,null,null,null,null,null,null,null,null,null,null,null,null,null,null,null,null,null,null,null,null,null,null,null,null,null,null,null,null,12,{"$f":"BK2330","v":0},0]
[null,null,null,20,"",{"$f":"Z2311","v":""},"","",null,13,"",{"$f":"Z2318","v":""},"","",null,null,null,null,null,null,null,null,null,null,null,null,null,null,null,null,null,null,null,null,null,null,null,null,null,null,null,null,null,null,null,null,null,null,null,null,null,null,null,null,null,null,null,null,null,null,null,13,{"$f":"BK2331","v":0},0]
[null,null,null,21,{"$f":"IF(F2333<>\"\",F2333+G$126,\"\")","v":""},{"$f":"AA2311","v":""},"","",null,14,"",{"$f":"AA2318","v":""},"","",null,null,null,null,null,null,null,null,null,null,null,null,null,null,null,null,null,null,null,null,null,null,null,null,null,null,null,null,null,null,null,null,null,null,null,null,null,null,null,null,null,null,null,null,null,null,null,14,{"$f":"BK2332","v":0},0]
[null,null,null,22,"",{"$f":"AB2311","v":""},"","",null,15,"",{"$f":"AB2318","v":""},"","",null,"RIMASTI A DISPOSIZIONE",null,null,null,null,null,null,null,null,null,null,null,null,null,null,null,null,null,null,null,null,null,null,null,null,null,null,null,null,null,null,null,null,null,null,null,null,null,null,null,null,null,null,null,null,null,15,{"$f":"BK2333","v":0},0]
[null,null,null,23,"",{"$f":"AC2311","v":""},"","",null,16,"",{"$f":"AC2318","v":""},"","",null,null,null,null,null,null,null,null,null,null,null,null,null,null,null,null,null,null,null,null,null,null,null,null,null,null,null,null,null,null,null,null,null,null,null,null,null,null,null,null,null,null,null,null,null,null,null,16,{"$f":"BK2334","v":0},0]
[null,null,null,24,"",{"$f":"AD2311","v":""},"","",null,17,"",{"$f":"AD2318","v":""},"","",null,1,2,3,4,5,6,7,8,9,10,11,12,13,14,15,16,17,18,19,20,21,22,23,24,25,26,27,28,29,30,31,32,33,34,35,36,37,38,39,40,null,null,null,null,null,null,17,{"$f":"BK2335","v":0},0]
[null,null,null,25,"",{"$f":"AE2311","v":""},"","",null,18,"",{"$f":"AE2318","v":""},"","",null,{"$f":"IF(P2338=\"\",\"\",IF(P2338=G2305,G2304,\"\"))","v":""},{"$f":"IF(Q2338=\"\",\"\",IF(Q2338=H2305,H2304,\"\"))","v":""},{"$f":"IF(R2338=\"\",\"\",IF(R2338=I2305,I2304,\"\"))","v":""},{"$f":"IF(S2338=\"\",\"\",IF(S2338=J2305,J2304,\"\"))","v":""},{"$f":"IF(T2338=\"\",\"\",IF(T2338=K2305,K2304,\"\"))","v":""},{"$f":"IF(U2338=\"\",\"\",IF(U2338=L2305,L2304,\"\"))","v":""},{"$f":"IF(V2338=\"\",\"\",IF(V2338=M2305,M2304,\"\"))","v":""},{"$f":"IF(W2338=\"\",\"\",IF(W2338=N2305,N2304,\"\"))","v":""},{"$f":"IF(X2338=\"\",\"\",IF(X2338=O2305,O2304,\"\"))","v":""},{"$f":"IF(Y2338=\"\",\"\",IF(Y2338=P2305,P2304,\"\"))","v":""},{"$f":"IF(Z2338=\"\",\"\",IF(Z2338=Q2305,Q2304,\"\"))","v":""},{"$f":"IF(AA2338=\"\",\"\",IF(AA2338=R2305,R2304,\"\"))","v":""},{"$f":"IF(AB2338=\"\",\"\",IF(AB2338=S2305,S2304,\"\"))","v":""},{"$f":"IF(AC2338=\"\",\"\",IF(AC2338=T2305,T2304,\"\"))","v":""},{"$f":"IF(AD2338=\"\",\"\",IF(AD2338=U2305,U2304,\"\"))","v":""},{"$f":"IF(AE2338=\"\",\"\",IF(AE2338=V2305,V2304,\"\"))","v":""},{"$f":"IF(AF2338=\"\",\"\",IF(AF2338=W2305,W2304,\"\"))","v":""},{"$f":"IF(AG2338=\"\",\"\",IF(AG2338=X2305,X2304,\"\"))","v":""},{"$f":"IF(AH2338=\"\",\"\",IF(AH2338=Y2305,Y2304,\"\"))","v":""},{"$f":"IF(AI2338=\"\",\"\",IF(AI2338=Z2305,Z2304,\"\"))","v":""},{"$f":"IF(AJ2338=\"\",\"\",IF(AJ2338=AA2305,AA2304,\"\"))","v":""},{"$f":"IF(AK2338=\"\",\"\",IF(AK2338=AB2305,AB2304,\"\"))","v":""},{"$f":"IF(AL2338=\"\",\"\",IF(AL2338=AC2305,AC2304,\"\"))","v":""},{"$f":"IF(AM2338=\"\",\"\",IF(AM2338=AD2305,AD2304,\"\"))","v":""},{"$f":"IF(AN2338=\"\",\"\",IF(AN2338=AE2305,AE2304,\"\"))","v":""},{"$f":"IF(AO2338=\"\",\"\",IF(AO2338=AF2305,AF2304,\"\"))","v":""},{"$f":"IF(AP2338=\"\",\"\",IF(AP2338=AG2305,AG2304,\"\"))","v":""},{"$f":"IF(AQ2338=\"\",\"\",IF(AQ2338=AH2305,AH2304,\"\"))","v":""},{"$f":"IF(AR2338=\"\",\"\",IF(AR2338=AI2305,AI2304,\"\"))","v":""},{"$f":"IF(AS2338=\"\",\"\",IF(AS2338=AJ2305,AJ2304,\"\"))","v":""},{"$f":"IF(AT2338=\"\",\"\",IF(AT2338=AK2305,AK2304,\"\"))","v":""},{"$f":"IF(AU2338=\"\",\"\",IF(AU2338=AL2305,AL2304,\"\"))","v":""},{"$f":"IF(AV2338=\"\",\"\",IF(AV2338=AM2305,AM2304,\"\"))","v":""},{"$f":"IF(AW2338=\"\",\"\",IF(AW2338=AN2305,AN2304,\"\"))","v":""},{"$f":"IF(AX2338=\"\",\"\",IF(AX2338=AO2305,AO2304,\"\"))","v":""},{"$f":"IF(AY2338=\"\",\"\",IF(AY2338=AP2305,AP2304,\"\"))","v":""},{"$f":"IF(AZ2338=\"\",\"\",IF(AZ2338=AQ2305,AQ2304,\"\"))","v":""},{"$f":"IF(BA2338=\"\",\"\",IF(BA2338=AR2305,AR2304,\"\"))","v":""},{"$f":"IF(BB2338=\"\",\"\",IF(BB2338=AS2305,AS2304,\"\"))","v":""},{"$f":"IF(BC2338=\"\",\"\",IF(BC2338=AT2305,AT2304,\"\"))","v":""},null,null,null,null,null,null,18,{"$f":"BK2336","v":0},0]
[null,null,null,26,"",{"$f":"AF2311","v":""},"","",null,19,"",{"$f":"AF2318","v":""},"","",null,{"$f":"IF(G2305=$P2322,\"\",IF(G2305=$J2315,\"\",IF(G2305=$G2306,\"\",G2305)))","v":""},{"$f":"IF(H2305=$P2322,\"\",IF(H2305=$J2315,\"\",IF(H2305=$G2306,\"\",H2305)))","v":""},{"$f":"IF(I2305=$P2322,\"\",IF(I2305=$J2315,\"\",IF(I2305=$G2306,\"\",I2305)))","v":""},{"$f":"IF(J2305=$P2322,\"\",IF(J2305=$J2315,\"\",IF(J2305=$G2306,\"\",J2305)))","v":""},{"$f":"IF(K2305=$P2322,\"\",IF(K2305=$J2315,\"\",IF(K2305=$G2306,\"\",K2305)))","v":""},{"$f":"IF(L2305=$P2322,\"\",IF(L2305=$J2315,\"\",IF(L2305=$G2306,\"\",L2305)))","v":""},{"$f":"IF(M2305=$P2322,\"\",IF(M2305=$J2315,\"\",IF(M2305=$G2306,\"\",M2305)))","v":""},{"$f":"IF(N2305=$P2322,\"\",IF(N2305=$J2315,\"\",IF(N2305=$G2306,\"\",N2305)))","v":""},{"$f":"IF(O2305=$P2322,\"\",IF(O2305=$J2315,\"\",IF(O2305=$G2306,\"\",O2305)))","v":""},{"$f":"IF(P2305=$P2322,\"\",IF(P2305=$J2315,\"\",IF(P2305=$G2306,\"\",P2305)))","v":""},{"$f":"IF(Q2305=$P2322,\"\",IF(Q2305=$J2315,\"\",IF(Q2305=$G2306,\"\",Q2305)))","v":""},{"$f":"IF(R2305=$P2322,\"\",IF(R2305=$J2315,\"\",IF(R2305=$G2306,\"\",R2305)))","v":""},{"$f":"IF(S2305=$P2322,\"\",IF(S2305=$J2315,\"\",IF(S2305=$G2306,\"\",S2305)))","v":""},{"$f":"IF(T2305=$P2322,\"\",IF(T2305=$J2315,\"\",IF(T2305=$G2306,\"\",T2305)))","v":""},{"$f":"IF(U2305=$P2322,\"\",IF(U2305=$J2315,\"\",IF(U2305=$G2306,\"\",U2305)))","v":""},{"$f":"IF(V2305=$P2322,\"\",IF(V2305=$J2315,\"\",IF(V2305=$G2306,\"\",V2305)))","v":""},{"$f":"IF(W2305=$P2322,\"\",IF(W2305=$J2315,\"\",IF(W2305=$G2306,\"\",W2305)))","v":""},{"$f":"IF(X2305=$P2322,\"\",IF(X2305=$J2315,\"\",IF(X2305=$G2306,\"\",X2305)))","v":""},{"$f":"IF(Y2305=$P2322,\"\",IF(Y2305=$J2315,\"\",IF(Y2305=$G2306,\"\",Y2305)))","v":""},{"$f":"IF(Z2305=$P2322,\"\",IF(Z2305=$J2315,\"\",IF(Z2305=$G2306,\"\",Z2305)))","v":""},{"$f":"IF(AA2305=$P2322,\"\",IF(AA2305=$J2315,\"\",IF(AA2305=$G2306,\"\",AA2305)))","v":""},{"$f":"IF(AB2305=$P2322,\"\",IF(AB2305=$J2315,\"\",IF(AB2305=$G2306,\"\",AB2305)))","v":""},{"$f":"IF(AC2305=$P2322,\"\",IF(AC2305=$J2315,\"\",IF(AC2305=$G2306,\"\",AC2305)))","v":""},{"$f":"IF(AD2305=$P2322,\"\",IF(AD2305=$J2315,\"\",IF(AD2305=$G2306,\"\",AD2305)))","v":""},{"$f":"IF(AE2305=$P2322,\"\",IF(AE2305=$J2315,\"\",IF(AE2305=$G2306,\"\",AE2305)))","v":""},{"$f":"IF(AF2305=$P2322,\"\",IF(AF2305=$J2315,\"\",IF(AF2305=$G2306,\"\",AF2305)))","v":""},{"$f":"IF(AG2305=$P2322,\"\",IF(AG2305=$J2315,\"\",IF(AG2305=$G2306,\"\",AG2305)))","v":""},{"$f":"IF(AH2305=$P2322,\"\",IF(AH2305=$J2315,\"\",IF(AH2305=$G2306,\"\",AH2305)))","v":""},{"$f":"IF(AI2305=$P2322,\"\",IF(AI2305=$J2315,\"\",IF(AI2305=$G2306,\"\",AI2305)))","v":""},{"$f":"IF(AJ2305=$P2322,\"\",IF(AJ2305=$J2315,\"\",IF(AJ2305=$G2306,\"\",AJ2305)))","v":""},{"$f":"IF(AK2305=$P2322,\"\",IF(AK2305=$J2315,\"\",IF(AK2305=$G2306,\"\",AK2305)))","v":""},{"$f":"IF(AL2305=$P2322,\"\",IF(AL2305=$J2315,\"\",IF(AL2305=$G2306,\"\",AL2305)))","v":""},{"$f":"IF(AM2305=$P2322,\"\",IF(AM2305=$J2315,\"\",IF(AM2305=$G2306,\"\",AM2305)))","v":""},{"$f":"IF(AN2305=$P2322,\"\",IF(AN2305=$J2315,\"\",IF(AN2305=$G2306,\"\",AN2305)))","v":""},{"$f":"IF(AO2305=$P2322,\"\",IF(AO2305=$J2315,\"\",IF(AO2305=$G2306,\"\",AO2305)))","v":""},{"$f":"IF(AP2305=$P2322,\"\",IF(AP2305=$J2315,\"\",IF(AP2305=$G2306,\"\",AP2305)))","v":""},{"$f":"IF(AQ2305=$P2322,\"\",IF(AQ2305=$J2315,\"\",IF(AQ2305=$G2306,\"\",AQ2305)))","v":""},{"$f":"IF(AR2305=$P2322,\"\",IF(AR2305=$J2315,\"\",IF(AR2305=$G2306,\"\",AR2305)))","v":""},{"$f":"IF(AS2305=$P2322,\"\",IF(AS2305=$J2315,\"\",IF(AS2305=$G2306,\"\",AS2305)))","v":""},{"$f":"IF(AT2305=$P2322,\"\",IF(AT2305=$J2315,\"\",IF(AT2305=$G2306,\"\",AT2305)))","v":""},null,null,null,null,null,null,19,{"$f":"BK2337","v":0},0]
[null,null,null,27,"",{"$f":"AG2311","v":""},"","",null,20,"",{"$f":"AG2318","v":""},"","",null,null,null,null,null,null,null,null,null,null,null,null,null,null,null,null,null,null,null,null,null,null,null,null,null,null,null,null,null,null,null,null,null,null,null,null,null,null,null,null,null,null,null,null,null,null,null,20,{"$f":"BK2338","v":0},0]
[null,null,null,28,"",{"$f":"AH2311","v":""},"","",null,21,{"$f":"IF(L2340<>\"\",BK2340+BL2340+L2340,\"\")","v":""},{"$f":"AH2318","v":""},"","",null,null,null,null,null,null,null,null,null,null,null,null,null,null,null,null,null,null,null,null,null,null,null,null,null,null,null,null,null,null,null,null,null,null,null,null,null,null,null,null,null,null,null,null,null,null,null,21,{"$f":"BK2339","v":0},0]
[null,null,null,29,"",{"$f":"AI2311","v":""},"","",null,22,"",{"$f":"AI2318","v":""},"","",null,null,null,null,null,null,null,null,null,null,null,null,null,null,null,null,null,null,null,null,null,null,null,null,null,null,null,null,null,null,null,null,null,null,null,null,null,null,null,null,null,null,null,null,null,null,null,22,{"$f":"BK2340","v":0},0]
[null,null,null,30,"",{"$f":"AJ2311","v":""},"","",null,23,"",{"$f":"AJ2318","v":""},"","",null,null,null,null,null,null,null,null,null,null,null,null,null,null,null,null,null,null,null,null,null,null,null,null,null,null,null,null,null,null,null,null,null,null,null,null,null,null,null,null,null,null,null,null,null,null,null,23,{"$f":"BK2341","v":0},0]
[null,null,null,31,"",{"$f":"AK2311","v":""},"","",null,24,"",{"$f":"AK2318","v":""},"","",null,null,null,null,null,null,null,null,null,null,null,null,null,null,null,null,null,null,null,null,null,null,null,null,null,null,null,null,null,null,null,null,null,null,null,null,null,null,null,null,null,null,null,null,null,null,null,24,{"$f":"BK2342","v":0},0]
[null,null,null,32,"",{"$f":"AL2311","v":""},"","",null,25,"",{"$f":"AL2318","v":""},"","",null,null,null,null,null,null,null,null,null,null,null,null,null,null,null,null,null,null,null,null,null,null,null,null,null,null,null,null,null,null,null,null,null,null,null,null,null,null,null,null,null,null,null,null,null,null,null,25,{"$f":"BK2343","v":0},0]
[null,null,null,33,"",{"$f":"AM2311","v":""},"","",null,26,"",{"$f":"AM2318","v":""},"","",null,null,null,null,null,null,null,null,null,null,null,null,null,null,null,null,null,null,null,null,null,null,null,null,null,null,null,null,null,null,null,null,null,null,null,null,null,null,null,null,null,null,null,null,null,null,null,26,{"$f":"BK2344","v":0},0]
[null,null,null,34,"",{"$f":"AN2311","v":""},"","",null,27,"",{"$f":"AN2318","v":""},"","",null,null,null,null,null,null,null,null,null,null,null,null,null,null,null,null,null,null,null,null,null,null,null,null,null,null,null,null,null,null,null,null,null,null,null,null,null,null,null,null,null,null,null,null,null,null,null,27,{"$f":"BK2345","v":0},0]
[null,null,null,35,"",{"$f":"AO2311","v":""},"","",null,28,"",{"$f":"AO2318","v":""},"","",null,null,null,null,null,null,null,null,null,null,null,null,null,null,null,null,null,null,null,null,null,null,null,null,null,null,null,null,null,null,null,null,null,null,null,null,null,null,null,null,null,null,null,null,null,null,null,28,{"$f":"BK2346","v":0},0]
[null,null,null,36,"",{"$f":"AP2311","v":""},"","",null,29,"",{"$f":"AP2318","v":""},"","",null,null,null,null,null,null,null,null,null,null,null,null,null,null,null,null,null,null,null,null,null,null,null,null,null,null,null,null,null,null,null,null,null,null,null,null,null,null,null,null,null,null,null,null,null,null,null,29,{"$f":"BK2347","v":0},0]
[null,null,null,37,"",{"$f":"AQ2311","v":""},"","",null,30,"",{"$f":"AQ2318","v":""},"","",null,null,null,null,null,null,null,null,null,null,null,null,null,null,null,null,null,null,null,null,null,null,null,null,null,null,null,null,null,null,null,null,null,null,null,null,null,null,null,null,null,null,null,null,null,null,null,30,{"$f":"BK2348","v":0},0]
[null,null,null,38,"",{"$f":"AR2311","v":""},"","",null,31,"",{"$f":"AR2318","v":""},"","",null,null,null,null,null,null,null,null,null,null,null,null,null,null,null,null,null,null,null,null,null,null,null,null,null,null,null,null,null,null,null,null,null,null,null,null,null,null,null,null,null,null,null,null,null,null,null,31,{"$f":"BK2349","v":0},0]
[null,null,null,39,"",{"$f":"AS2311","v":""},"","",null,32,"",{"$f":"AS2318","v":""},"","",null,null,null,null,null,null,null,null,null,null,null,null,null,null,null,null,null,null,null,null,null,null,null,null,null,null,null,null,null,null,null,null,null,null,null,null,null,null,null,null,null,null,null,null,null,null,null,32,{"$f":"BK2350","v":0},0]
[null,null,null,40,"",{"$f":"AT2311","v":""},"","",null,33,"",{"$f":"AT2318","v":""},"","",null,null,null,null,null,null,null,null,null,null,null,null,null,null,null,null,null,null,null,null,null,null,null,null,null,null,null,null,null,null,null,null,null,null,null,null,null,null,null,null,null,null,null,null,null,null,null,33,{"$f":"BK2351","v":0},0]
[null,null,null,null,null,null,null,null,null,34,"",{"$f":"AU2318","v":""},"","",null,null,null,null,null,null,null,null,null,null,null,null,null,null,null,null,null,null,null,null,null,null,null,null,null,null,null,null,null,null,null,null,null,null,null,null,null,null,null,null,null,null,null,null,null,null,null,34,{"$f":"BK2352","v":0},0]
[null,null,null,null,null,null,null,null,null,35,"",{"$f":"AV2318","v":""},"","",null,null,null,null,null,null,null,null,null,null,null,null,null,null,null,null,null,null,null,null,null,null,null,null,null,null,null,null,null,null,null,null,null,null,null,null,null,null,null,null,null,null,null,null,null,null,null,35,{"$f":"BK2353","v":0},0]
[null,null,null,null,null,null,null,null,null,36,"",{"$f":"AW2318","v":""},"","",null,null,null,null,null,null,null,null,null,null,null,null,null,null,null,null,null,null,null,null,null,null,null,null,null,null,null,null,null,null,null,null,null,null,null,null,null,null,null,null,null,null,null,null,null,null,null,36,{"$f":"BK2354","v":0},0]
[null,null,null,null,null,null,null,null,null,37,"",{"$f":"AX2318","v":""},"","",null,null,null,null,null,null,null,null,null,null,null,null,null,null,null,null,null,null,null,null,null,null,null,null,null,null,null,null,null,null,null,null,null,null,null,null,null,null,null,null,null,null,null,null,null,null,null,37,{"$f":"BK2355","v":0},0]
[null,null,null,null,null,null,null,null,null,38,"",{"$f":"AY2318","v":""},"","",null,null,null,null,null,null,null,null,null,null,null,null,null,null,null,null,null,null,null,null,null,null,null,null,null,null,null,null,null,null,null,null,null,null,null,null,null,null,null,null,null,null,null,null,null,null,null,38,{"$f":"BK2356","v":0},0]
[null,null,null,null,null,null,null,null,null,39,"",{"$f":"AZ2318","v":""},"","",null,null,null,null,null,null,null,null,null,null,null,null,null,null,null,null,null,null,null,null,null,null,null,null,null,null,null,null,null,null,null,null,null,null,null,null,null,null,null,null,null,null,null,null,null,null,null,39,{"$f":"BK2357","v":0},0]
[null,null,null,null,null,null,null,null,null,40,"",{"$f":"BA2318","v":""},"","",null,null,null,null,null,null,null,null,null,null,null,null,null,null,null,null,null,null,null,null,null,null,null,null,null,null,null,null,null,null,null,null,null,null,null,null,null,null,null,null,null,null,null,null,null,null,null,40,{"$f":"BK2358","v":0},0]
[]
[]
[null,null,null,null,null,null,1,2,3,4,5,6,7,8,9,10,11,12,13,14,15,16,17,18,19,20,21,22,23,24,25,26,27,28,29,30,31,32,33,34,35,36,37,38,39,40,null,null,null,null,null,null,null,null,null,null,null,null,null,null,null,"BLOCCHI CHE POSSONO ESSERE CARICATI IN COPPIA O A TRE PERCHE' IL LORO PESO COMPLESSIVO NON SUPERA IL PESO MASSIMO CONSENTITO NEL TRASPORTO"]
[null,null,"TIR",null,{"$f":"E2304+1","v":40},null,{"$f":"P2337","v":""},{"$f":"Q2337","v":""},{"$f":"R2337","v":""},{"$f":"S2337","v":""},{"$f":"T2337","v":""},{"$f":"U2337","v":""},{"$f":"V2337","v":""},{"$f":"W2337","v":""},{"$f":"X2337","v":""},{"$f":"Y2337","v":""},{"$f":"Z2337","v":""},{"$f":"AA2337","v":""},{"$f":"AB2337","v":""},{"$f":"AC2337","v":""},{"$f":"AD2337","v":""},{"$f":"AE2337","v":""},{"$f":"AF2337","v":""},{"$f":"AG2337","v":""},{"$f":"AH2337","v":""},{"$f":"AI2337","v":""},{"$f":"AJ2337","v":""},{"$f":"AK2337","v":""},{"$f":"AL2337","v":""},{"$f":"AM2337","v":""},{"$f":"AN2337","v":""},{"$f":"AO2337","v":""},{"$f":"AP2337","v":""},{"$f":"AQ2337","v":""},{"$f":"AR2337","v":""},{"$f":"AS2337","v":""},{"$f":"AT2337","v":""},{"$f":"AU2337","v":""},{"$f":"AV2337","v":""},{"$f":"AW2337","v":""},{"$f":"AX2337","v":""},{"$f":"AY2337","v":""},{"$f":"AZ2337","v":""},{"$f":"BA2337","v":""},{"$f":"BB2337","v":""},{"$f":"BC2337","v":""}]
[null,null,null,null,null,null,{"$f":"P2338","v":""},"","","","","","","","","","","","","","","","","","","","","","","","","","","","","","","","","","","","","","",""]
[null,null,"MASSIMO PESO",null,null,null,{"$f":"MAX(G2364:AT2364)","v":0}]
[null,null,null,null,null,null,{"$f":"IF(G2364=$G2365,G2363,\"\")","v":""},{"$f":"IF(H2364=$G2365,H2363,\"\")","v":""},{"$f":"IF(I2364=$G2365,I2363,\"\")","v":""},{"$f":"IF(J2364=$G2365,J2363,\"\")","v":""},{"$f":"IF(K2364=$G2365,K2363,\"\")","v":""},{"$f":"IF(L2364=$G2365,L2363,\"\")","v":""},{"$f":"IF(M2364=$G2365,M2363,\"\")","v":""},{"$f":"IF(N2364=$G2365,N2363,\"\")","v":""},{"$f":"IF(O2364=$G2365,O2363,\"\")","v":""},{"$f":"IF(P2364=$G2365,P2363,\"\")","v":""},{"$f":"IF(Q2364=$G2365,Q2363,\"\")","v":""},{"$f":"IF(R2364=$G2365,R2363,\"\")","v":""},{"$f":"IF(S2364=$G2365,S2363,\"\")","v":""},{"$f":"IF(T2364=$G2365,T2363,\"\")","v":""},{"$f":"IF(U2364=$G2365,U2363,\"\")","v":""},{"$f":"IF(V2364=$G2365,V2363,\"\")","v":""},{"$f":"IF(W2364=$G2365,W2363,\"\")","v":""},{"$f":"IF(X2364=$G2365,X2363,\"\")","v":""},{"$f":"IF(Y2364=$G2365,Y2363,\"\")","v":""},{"$f":"IF(Z2364=$G2365,Z2363,\"\")","v":""},{"$f":"IF(AA2364=$G2365,AA2363,\"\")","v":""},{"$f":"IF(AB2364=$G2365,AB2363,\"\")","v":""},{"$f":"IF(AC2364=$G2365,AC2363,\"\")","v":""},{"$f":"IF(AD2364=$G2365,AD2363,\"\")","v":""},{"$f":"IF(AE2364=$G2365,AE2363,\"\")","v":""},{"$f":"IF(AF2364=$G2365,AF2363,\"\")","v":""},{"$f":"IF(AG2364=$G2365,AG2363,\"\")","v":""},{"$f":"IF(AH2364=$G2365,AH2363,\"\")","v":""},{"$f":"IF(AI2364=$G2365,AI2363,\"\")","v":""},{"$f":"IF(AJ2364=$G2365,AJ2363,\"\")","v":""},{"$f":"IF(AK2364=$G2365,AK2363,\"\")","v":""},{"$f":"IF(AL2364=$G2365,AL2363,\"\")","v":""},{"$f":"IF(AM2364=$G2365,AM2363,\"\")","v":""},{"$f":"IF(AN2364=$G2365,AN2363,\"\")","v":""},{"$f":"IF(AO2364=$G2365,AO2363,\"\")","v":""},{"$f":"IF(AP2364=$G2365,AP2363,\"\")","v":""},{"$f":"IF(AQ2364=$G2365,AQ2363,\"\")","v":""},{"$f":"IF(AR2364=$G2365,AR2363,\"\")","v":""},{"$f":"IF(AS2364=$G2365,AS2363,\"\")","v":""},{"$f":"IF(AT2364=$G2365,AT2363,\"\")","v":""}]
[null,null,null,null,null,null,{"$f":"G2366&H2366&I2366&J2366&K2366&L2366&M2366&N2366&O2366&P2366&Q2366&R2366&S2366&T2366&U2366&V2366&W2366&X2366&Y2366&Z2366&AA2366&AB2366&AC2366&AD2366&AE2366&AF2366&AG2366&AH2366&AI2366&AJ2366&AK2366&AL2366&AM2366&AN2366&AO2366&AP2366&AQ2366&AR2366&AS2366&AT2366","v":""},null,null,null,null,null,null,null,null,null,null,null,null,null,null,null,null,null,null,null,null,null,null,null,null,null,null,null,null,null,null,null,null,null,null,null,null,null,null,null,null,null,null,null,null,null,null,null,null,null,null,null,null,null,null,null,null,null,null,null,null,null,null,null,null,null,null,null,"Primo Blocco",null,null,null,null,null,{"$f":"G2367","v":""},{"$f":"CC2368+CC2373+CC2378","v":0},null,"Quintali",null,"N° Blocco"]
[null,null,null,null,null,null,{"$f":"G2365","v":0},null,null,null,null,null,null,null,null,null,null,null,null,null,null,null,null,null,null,null,null,null,null,null,null,null,null,null,null,null,null,null,null,null,null,null,null,null,null,null,null,null,null,null,null,null,null,null,null,null,null,null,null,null,null,null,null,null,null,null,null,null,null,null,null,null,null,null,null,null,null,null,null,null,{"$f":"G2365","v":0},null,null,{"$f":"IF(CC2368=0,\"\",CC2368)","v":""},null,{"$f":"IF(CF2368=\"\",\"\",CC2367)","v":""}]
[null,null,null,null,null,null,{"$f":"IF(G2370=\"\",\"\",IF(G2370=G2364,G2363,\"\"))","v":""},{"$f":"IF(H2370=\"\",\"\",IF(H2370=H2364,H2363,\"\"))","v":""},{"$f":"IF(I2370=\"\",\"\",IF(I2370=I2364,I2363,\"\"))","v":""},{"$f":"IF(J2370=\"\",\"\",IF(J2370=J2364,J2363,\"\"))","v":""},{"$f":"IF(K2370=\"\",\"\",IF(K2370=K2364,K2363,\"\"))","v":""},{"$f":"IF(L2370=\"\",\"\",IF(L2370=L2364,L2363,\"\"))","v":""},{"$f":"IF(M2370=\"\",\"\",IF(M2370=M2364,M2363,\"\"))","v":""},{"$f":"IF(N2370=\"\",\"\",IF(N2370=N2364,N2363,\"\"))","v":""},{"$f":"IF(O2370=\"\",\"\",IF(O2370=O2364,O2363,\"\"))","v":""},{"$f":"IF(P2370=\"\",\"\",IF(P2370=P2364,P2363,\"\"))","v":""},{"$f":"IF(Q2370=\"\",\"\",IF(Q2370=Q2364,Q2363,\"\"))","v":""},{"$f":"IF(R2370=\"\",\"\",IF(R2370=R2364,R2363,\"\"))","v":""},{"$f":"IF(S2370=\"\",\"\",IF(S2370=S2364,S2363,\"\"))","v":""},{"$f":"IF(T2370=\"\",\"\",IF(T2370=T2364,T2363,\"\"))","v":""},{"$f":"IF(U2370=\"\",\"\",IF(U2370=U2364,U2363,\"\"))","v":""},{"$f":"IF(V2370=\"\",\"\",IF(V2370=V2364,V2363,\"\"))","v":""},{"$f":"IF(W2370=\"\",\"\",IF(W2370=W2364,W2363,\"\"))","v":""},{"$f":"IF(X2370=\"\",\"\",IF(X2370=X2364,X2363,\"\"))","v":""},{"$f":"IF(Y2370=\"\",\"\",IF(Y2370=Y2364,Y2363,\"\"))","v":""},{"$f":"IF(Z2370=\"\",\"\",IF(Z2370=Z2364,Z2363,\"\"))","v":""},{"$f":"IF(AA2370=\"\",\"\",IF(AA2370=AA2364,AA2363,\"\"))","v":""},{"$f":"IF(AB2370=\"\",\"\",IF(AB2370=AB2364,AB2363,\"\"))","v":""},{"$f":"IF(AC2370=\"\",\"\",IF(AC2370=AC2364,AC2363,\"\"))","v":""},{"$f":"IF(AD2370=\"\",\"\",IF(AD2370=AD2364,AD2363,\"\"))","v":""},{"$f":"IF(AE2370=\"\",\"\",IF(AE2370=AE2364,AE2363,\"\"))","v":""},{"$f":"IF(AF2370=\"\",\"\",IF(AF2370=AF2364,AF2363,\"\"))","v":""},{"$f":"IF(AG2370=\"\",\"\",IF(AG2370=AG2364,AG2363,\"\"))","v":""},{"$f":"IF(AH2370=\"\",\"\",IF(AH2370=AH2364,AH2363,\"\"))","v":""},{"$f":"IF(AI2370=\"\",\"\",IF(AI2370=AI2364,AI2363,\"\"))","v":""},{"$f":"IF(AJ2370=\"\",\"\",IF(AJ2370=AJ2364,AJ2363,\"\"))","v":""},{"$f":"IF(AK2370=\"\",\"\",IF(AK2370=AK2364,AK2363,\"\"))","v":""},{"$f":"IF(AL2370=\"\",\"\",IF(AL2370=AL2364,AL2363,\"\"))","v":""},{"$f":"IF(AM2370=\"\",\"\",IF(AM2370=AM2364,AM2363,\"\"))","v":""},{"$f":"IF(AN2370=\"\",\"\",IF(AN2370=AN2364,AN2363,\"\"))","v":""},{"$f":"IF(AO2370=\"\",\"\",IF(AO2370=AO2364,AO2363,\"\"))","v":""},{"$f":"IF(AP2370=\"\",\"\",IF(AP2370=AP2364,AP2363,\"\"))","v":""},{"$f":"IF(AQ2370=\"\",\"\",IF(AQ2370=AQ2364,AQ2363,\"\"))","v":""},{"$f":"IF(AR2370=\"\",\"\",IF(AR2370=AR2364,AR2363,\"\"))","v":""},{"$f":"IF(AS2370=\"\",\"\",IF(AS2370=AS2364,AS2363,\"\"))","v":""},{"$f":"IF(AT2370=\"\",\"\",IF(AT2370=AT2364,AT2363,\"\"))","v":""},null,null,null,null,null,null,null,null,null,null,null,null,null,null,null,null,null,null,null,null,null,null,null,null,null,null,null,null,null,null,null,null,null,null,null,null,null,{"$f":"IF(CC2373=0,\"\",CC2373)","v":""},null,{"$f":"IF(CF2369=\"\",\"\",CC2372)","v":""}]
[null,null,"DISPONIBILI",null,null,null,{"$f":"IF(G2364=$G2365,\"\",G2364)","v":""},{"$f":"IF(H2364=$G2365,\"\",H2364)","v":""},{"$f":"IF(I2364=$G2365,\"\",I2364)","v":""},{"$f":"IF(J2364=$G2365,\"\",J2364)","v":""},{"$f":"IF(K2364=$G2365,\"\",K2364)","v":""},{"$f":"IF(L2364=$G2365,\"\",L2364)","v":""},{"$f":"IF(M2364=$G2365,\"\",M2364)","v":""},{"$f":"IF(N2364=$G2365,\"\",N2364)","v":""},{"$f":"IF(O2364=$G2365,\"\",O2364)","v":""},{"$f":"IF(P2364=$G2365,\"\",P2364)","v":""},{"$f":"IF(Q2364=$G2365,\"\",Q2364)","v":""},{"$f":"IF(R2364=$G2365,\"\",R2364)","v":""},{"$f":"IF(S2364=$G2365,\"\",S2364)","v":""},{"$f":"IF(T2364=$G2365,\"\",T2364)","v":""},{"$f":"IF(U2364=$G2365,\"\",U2364)","v":""},{"$f":"IF(V2364=$G2365,\"\",V2364)","v":""},{"$f":"IF(W2364=$G2365,\"\",W2364)","v":""},{"$f":"IF(X2364=$G2365,\"\",X2364)","v":""},{"$f":"IF(Y2364=$G2365,\"\",Y2364)","v":""},{"$f":"IF(Z2364=$G2365,\"\",Z2364)","v":""},{"$f":"IF(AA2364=$G2365,\"\",AA2364)","v":""},{"$f":"IF(AB2364=$G2365,\"\",AB2364)","v":""},{"$f":"IF(AC2364=$G2365,\"\",AC2364)","v":""},{"$f":"IF(AD2364=$G2365,\"\",AD2364)","v":""},{"$f":"IF(AE2364=$G2365,\"\",AE2364)","v":""},{"$f":"IF(AF2364=$G2365,\"\",AF2364)","v":""},{"$f":"IF(AG2364=$G2365,\"\",AG2364)","v":""},{"$f":"IF(AH2364=$G2365,\"\",AH2364)","v":""},{"$f":"IF(AI2364=$G2365,\"\",AI2364)","v":""},{"$f":"IF(AJ2364=$G2365,\"\",AJ2364)","v":""},{"$f":"IF(AK2364=$G2365,\"\",AK2364)","v":""},{"$f":"IF(AL2364=$G2365,\"\",AL2364)","v":""},{"$f":"IF(AM2364=$G2365,\"\",AM2364)","v":""},{"$f":"IF(AN2364=$G2365,\"\",AN2364)","v":""},{"$f":"IF(AO2364=$G2365,\"\",AO2364)","v":""},{"$f":"IF(AP2364=$G2365,\"\",AP2364)","v":""},{"$f":"IF(AQ2364=$G2365,\"\",AQ2364)","v":""},{"$f":"IF(AR2364=$G2365,\"\",AR2364)","v":""},{"$f":"IF(AS2364=$G2365,\"\",AS2364)","v":""},{"$f":"IF(AT2364=$G2365,\"\",AT2364)","v":""},null,null,null,null,null,null,null,null,null,null,null,null,null,null,null,null,null,null,null,null,null,null,null,null,null,null,null,null,null,null,null,null,null,null,null,null,null,{"$f":"IF(CC2378=0,\"\",CC2378)","v":""},null,{"$f":"IF(CF2370=\"\",\"\",CC2377)","v":""}]
[null,null,null,null,null,null,null,null,null,null,null,null,null,null,null,null,null,null,null,null,null,null,null,null,null,null,null,null,null,null,null,null,null,null,null,null,null,null,null,null,null,null,null,null,null,null,null,null,null,null,null,null,null,null,null,null,null,null,null,null,null,null,null,null,null,null,null,null,null,null,null,null,null,null,null,null,null,null,null,null,null,null,null,"NUMERO TIR"]
[null,null,"Portata                Max.               TIR",1,{"$f":"IF(F2372<>\"\",F2372+G$126,\"\")","v":""},{"$f":"G2370","v":""},{"$f":"IF(F2372=\"\",\"\",IF(E2372<=$C$74,\"X\",\"\"))","v":""},{"$f":"IF(G2372=\"X\",F2372,\"\")","v":""},{"$f":"MAX(H2372:H2411)","v":0},{"$f":"IF(J2373=G2370,G2369,\"\")","v":""},{"$f":"IF(K2373=H2370,H2369,\"\")","v":""},{"$f":"IF(L2373=I2370,I2369,\"\")","v":""},{"$f":"IF(M2373=J2370,J2369,\"\")","v":""},{"$f":"IF(N2373=K2370,K2369,\"\")","v":""},{"$f":"IF(O2373=L2370,L2369,\"\")","v":""},{"$f":"IF(P2373=M2370,M2369,\"\")","v":""},{"$f":"IF(Q2373=N2370,N2369,\"\")","v":""},{"$f":"IF(R2373=O2370,O2369,\"\")","v":""},{"$f":"IF(S2373=P2370,P2369,\"\")","v":""},{"$f":"IF(T2373=Q2370,Q2369,\"\")","v":""},{"$f":"IF(U2373=R2370,R2369,\"\")","v":""},{"$f":"IF(V2373=S2370,S2369,\"\")","v":""},{"$f":"IF(W2373=T2370,T2369,\"\")","v":""},{"$f":"IF(X2373=U2370,U2369,\"\")","v":""},{"$f":"IF(Y2373=V2370,V2369,\"\")","v":""},{"$f":"IF(Z2373=W2370,W2369,\"\")","v":""},{"$f":"IF(AA2373=X2370,X2369,\"\")","v":""},{"$f":"IF(AB2373=Y2370,Y2369,\"\")","v":""},{"$f":"IF(AC2373=Z2370,Z2369,\"\")","v":""},{"$f":"IF(AD2373=AA2370,AA2369,\"\")","v":""},{"$f":"IF(AE2373=AB2370,AB2369,\"\")","v":""},{"$f":"IF(AF2373=AC2370,AC2369,\"\")","v":""},{"$f":"IF(AG2373=AD2370,AD2369,\"\")","v":""},{"$f":"IF(AH2373=AE2370,AE2369,\"\")","v":""},{"$f":"IF(AI2373=AF2370,AF2369,\"\")","v":""},{"$f":"IF(AJ2373=AG2370,AG2369,\"\")","v":""},{"$f":"IF(AK2373=AH2370,AH2369,\"\")","v":""},{"$f":"IF(AL2373=AI2370,AI2369,\"\")","v":""},{"$f":"IF(AM2373=AJ2370,AJ2369,\"\")","v":""},{"$f":"IF(AN2373=AK2370,AK2369,\"\")","v":""},{"$f":"IF(AO2373=AL2370,AL2369,\"\")","v":""},{"$f":"IF(AP2373=AM2370,AM2369,\"\")","v":""},{"$f":"IF(AQ2373=AN2370,AN2369,\"\")","v":""},{"$f":"IF(AR2373=AO2370,AO2369,\"\")","v":""},{"$f":"IF(AS2373=AP2370,AP2369,\"\")","v":""},{"$f":"IF(AT2373=AQ2370,AQ2369,\"\")","v":""},{"$f":"IF(AU2373=AR2370,AR2369,\"\")","v":""},{"$f":"IF(AV2373=AS2370,AS2369,\"\")","v":""},{"$f":"IF(AW2373=AT2370,AT2369,\"\")","v":""},null,null,null,null,null,null,null,null,null,null,null,null,null,null,null,null,null,null,null,null,null,null,null,null,null,"Secondo Blocco",null,null,null,null,null,{"$f":"J2372&K2372&L2372&M2372&N2372&O2372&P2372&Q2372&R2372&S2372&T2372&U2372&V2372&W2372&X2372&Y2372&Z2372&AA2372&AB2372&AC2372&AD2372&AE2372&AF2372&AG2372&AH2372&AI2372&AJ2372&AK2372&AL2372&AM2372&AN2372&AO2372&AP2372&AQ2372&AR2372&AS2372&AT2372&AU2372&AV2372&AW2372","v":""}]
[null,null,null,2,"",{"$f":"H2370","v":""},{"$f":"IF(F2373=\"\",\"\",IF(E2373<=$C$74,\"X\",\"\"))","v":""},"",null,{"$f":"IF($J2374=G2370,G2370,\"\")","v":""},{"$f":"IF($J2374=H2370,H2370,\"\")","v":""},{"$f":"IF($J2374=I2370,I2370,\"\")","v":""},{"$f":"IF($J2374=J2370,J2370,\"\")","v":""},{"$f":"IF($J2374=K2370,K2370,\"\")","v":""},{"$f":"IF($J2374=L2370,L2370,\"\")","v":""},{"$f":"IF($J2374=M2370,M2370,\"\")","v":""},{"$f":"IF($J2374=N2370,N2370,\"\")","v":""},{"$f":"IF($J2374=O2370,O2370,\"\")","v":""},{"$f":"IF($J2374=P2370,P2370,\"\")","v":""},{"$f":"IF($J2374=Q2370,Q2370,\"\")","v":""},{"$f":"IF($J2374=R2370,R2370,\"\")","v":""},{"$f":"IF($J2374=S2370,S2370,\"\")","v":""},{"$f":"IF($J2374=T2370,T2370,\"\")","v":""},{"$f":"IF($J2374=U2370,U2370,\"\")","v":""},{"$f":"IF($J2374=V2370,V2370,\"\")","v":""},{"$f":"IF($J2374=W2370,W2370,\"\")","v":""},{"$f":"IF($J2374=X2370,X2370,\"\")","v":""},{"$f":"IF($J2374=Y2370,Y2370,\"\")","v":""},{"$f":"IF($J2374=Z2370,Z2370,\"\")","v":""},{"$f":"IF($J2374=AA2370,AA2370,\"\")","v":""},{"$f":"IF($J2374=AB2370,AB2370,\"\")","v":""},{"$f":"IF($J2374=AC2370,AC2370,\"\")","v":""},{"$f":"IF($J2374=AD2370,AD2370,\"\")","v":""},{"$f":"IF($J2374=AE2370,AE2370,\"\")","v":""},{"$f":"IF($J2374=AF2370,AF2370,\"\")","v":""},{"$f":"IF($J2374=AG2370,AG2370,\"\")","v":""},{"$f":"IF($J2374=AH2370,AH2370,\"\")","v":""},{"$f":"IF($J2374=AI2370,AI2370,\"\")","v":""},{"$f":"IF($J2374=AJ2370,AJ2370,\"\")","v":""},{"$f":"IF($J2374=AK2370,AK2370,\"\")","v":""},{"$f":"IF($J2374=AL2370,AL2370,\"\")","v":""},{"$f":"IF($J2374=AM2370,AM2370,\"\")","v":""},{"$f":"IF($J2374=AN2370,AN2370,\"\")","v":""},{"$f":"IF($J2374=AO2370,AO2370,\"\")","v":""},{"$f":"IF($J2374=AP2370,AP2370,\"\")","v":""},{"$f":"IF($J2374=AQ2370,AQ2370,\"\")","v":""},{"$f":"IF($J2374=AR2370,AR2370,\"\")","v":""},{"$f":"IF($J2374=AS2370,AS2370,\"\")","v":""},{"$f":"IF($J2374=AT2370,AT2370,\"\")","v":""},null,null,null,null,null,null,null,null,null,null,null,null,null,null,null,null,null,null,null,null,null,null,null,null,null,null,null,null,null,null,null,{"$f":"J2374","v":0}]
[null,null,null,3,"",{"$f":"I2370","v":""},"","",null,{"$f":"I2372","v":0}]
[null,null,{"$f":"$P$3","v":200},4,"",{"$f":"J2370","v":""},"","",null,null,null,null,null,null,null,null,null,null,null,null,null,null,null,null,null,null,null,null,null,null,null,null,null,null,null,null,null,null,null,null,null,null,null,null,null,null,null,null,null,null,null,null,null,null,null,null,null,null,null,null,null,null,null,null,null,null,null,null,null,null,null,null,null,null,null,null,null,null,null,null,null,null,null,{"$f":"IF(CD2367>0,CF2316+1,\"\")","v":""}]
[null,null,null,5,"",{"$f":"K2370","v":""},"","",null,null,null,null,null,{"$f":"IF(N2377=G2370,G2369,\"\")","v":""},{"$f":"IF(O2377=H2370,H2369,\"\")","v":""},{"$f":"IF(P2377=I2370,I2369,\"\")","v":""},{"$f":"IF(Q2377=J2370,J2369,\"\")","v":""},{"$f":"IF(R2377=K2370,K2369,\"\")","v":""},{"$f":"IF(S2377=L2370,L2369,\"\")","v":""},{"$f":"IF(T2377=M2370,M2369,\"\")","v":""},{"$f":"IF(U2377=N2370,N2369,\"\")","v":""},{"$f":"IF(V2377=O2370,O2369,\"\")","v":""},{"$f":"IF(W2377=P2370,P2369,\"\")","v":""},{"$f":"IF(X2377=Q2370,Q2369,\"\")","v":""},{"$f":"IF(Y2377=R2370,R2369,\"\")","v":""},{"$f":"IF(Z2377=S2370,S2369,\"\")","v":""},{"$f":"IF(AA2377=T2370,T2369,\"\")","v":""},{"$f":"IF(AB2377=U2370,U2369,\"\")","v":""},{"$f":"IF(AC2377=V2370,V2369,\"\")","v":""},{"$f":"IF(AD2377=W2370,W2369,\"\")","v":""},{"$f":"IF(AE2377=X2370,X2369,\"\")","v":""},{"$f":"IF(AF2377=Y2370,Y2369,\"\")","v":""},{"$f":"IF(AG2377=Z2370,Z2369,\"\")","v":""},{"$f":"IF(AH2377=AA2370,AA2369,\"\")","v":""},{"$f":"IF(AI2377=AB2370,AB2369,\"\")","v":""},{"$f":"IF(AJ2377=AC2370,AC2369,\"\")","v":""},{"$f":"IF(AK2377=AD2370,AD2369,\"\")","v":""},{"$f":"IF(AL2377=AE2370,AE2369,\"\")","v":""},{"$f":"IF(AM2377=AF2370,AF2369,\"\")","v":""},{"$f":"IF(AN2377=AG2370,AG2369,\"\")","v":""},{"$f":"IF(AO2377=AH2370,AH2369,\"\")","v":""},{"$f":"IF(AP2377=AI2370,AI2369,\"\")","v":""},{"$f":"IF(AQ2377=AJ2370,AJ2369,\"\")","v":""},{"$f":"IF(AR2377=AK2370,AK2369,\"\")","v":""},{"$f":"IF(AS2377=AL2370,AL2369,\"\")","v":""},{"$f":"IF(AT2377=AM2370,AM2369,\"\")","v":""},{"$f":"IF(AU2377=AN2370,AN2369,\"\")","v":""},{"$f":"IF(AV2377=AO2370,AO2369,\"\")","v":""},{"$f":"IF(AW2377=AP2370,AP2369,\"\")","v":""},{"$f":"IF(AX2377=AQ2370,AQ2369,\"\")","v":""},{"$f":"IF(AY2377=AR2370,AR2369,\"\")","v":""},{"$f":"IF(AZ2377=AS2370,AS2369,\"\")","v":""},{"$f":"IF(BA2377=AT2370,AT2369,\"\")","v":""}]
[null,null,null,6,"",{"$f":"L2370","v":""},"","",null,"DISPONIBILI",null,null,null,{"$f":"IF(G2370=\"\",\"\",IF(G2370=J2373,\"\",G2370))","v":""},{"$f":"IF(H2370=\"\",\"\",IF(H2370=K2373,\"\",H2370))","v":""},{"$f":"IF(I2370=\"\",\"\",IF(I2370=L2373,\"\",I2370))","v":""},{"$f":"IF(J2370=\"\",\"\",IF(J2370=M2373,\"\",J2370))","v":""},{"$f":"IF(K2370=\"\",\"\",IF(K2370=N2373,\"\",K2370))","v":""},{"$f":"IF(L2370=\"\",\"\",IF(L2370=O2373,\"\",L2370))","v":""},{"$f":"IF(M2370=\"\",\"\",IF(M2370=P2373,\"\",M2370))","v":""},{"$f":"IF(N2370=\"\",\"\",IF(N2370=Q2373,\"\",N2370))","v":""},{"$f":"IF(O2370=\"\",\"\",IF(O2370=R2373,\"\",O2370))","v":""},{"$f":"IF(P2370=\"\",\"\",IF(P2370=S2373,\"\",P2370))","v":""},{"$f":"IF(Q2370=\"\",\"\",IF(Q2370=T2373,\"\",Q2370))","v":""},{"$f":"IF(R2370=\"\",\"\",IF(R2370=U2373,\"\",R2370))","v":""},{"$f":"IF(S2370=\"\",\"\",IF(S2370=V2373,\"\",S2370))","v":""},{"$f":"IF(T2370=\"\",\"\",IF(T2370=W2373,\"\",T2370))","v":""},{"$f":"IF(U2370=\"\",\"\",IF(U2370=X2373,\"\",U2370))","v":""},{"$f":"IF(V2370=\"\",\"\",IF(V2370=Y2373,\"\",V2370))","v":""},{"$f":"IF(W2370=\"\",\"\",IF(W2370=Z2373,\"\",W2370))","v":""},{"$f":"IF(X2370=\"\",\"\",IF(X2370=AA2373,\"\",X2370))","v":""},{"$f":"IF(Y2370=\"\",\"\",IF(Y2370=AB2373,\"\",Y2370))","v":""},{"$f":"IF(Z2370=\"\",\"\",IF(Z2370=AC2373,\"\",Z2370))","v":""},{"$f":"IF(AA2370=\"\",\"\",IF(AA2370=AD2373,\"\",AA2370))","v":""},{"$f":"IF(AB2370=\"\",\"\",IF(AB2370=AE2373,\"\",AB2370))","v":""},{"$f":"IF(AC2370=\"\",\"\",IF(AC2370=AF2373,\"\",AC2370))","v":""},{"$f":"IF(AD2370=\"\",\"\",IF(AD2370=AG2373,\"\",AD2370))","v":""},{"$f":"IF(AE2370=\"\",\"\",IF(AE2370=AH2373,\"\",AE2370))","v":""},{"$f":"IF(AF2370=\"\",\"\",IF(AF2370=AI2373,\"\",AF2370))","v":""},{"$f":"IF(AG2370=\"\",\"\",IF(AG2370=AJ2373,\"\",AG2370))","v":""},{"$f":"IF(AH2370=\"\",\"\",IF(AH2370=AK2373,\"\",AH2370))","v":""},{"$f":"IF(AI2370=\"\",\"\",IF(AI2370=AL2373,\"\",AI2370))","v":""},{"$f":"IF(AJ2370=\"\",\"\",IF(AJ2370=AM2373,\"\",AJ2370))","v":""},{"$f":"IF(AK2370=\"\",\"\",IF(AK2370=AN2373,\"\",AK2370))","v":""},{"$f":"IF(AL2370=\"\",\"\",IF(AL2370=AO2373,\"\",AL2370))","v":""},{"$f":"IF(AM2370=\"\",\"\",IF(AM2370=AP2373,\"\",AM2370))","v":""},{"$f":"IF(AN2370=\"\",\"\",IF(AN2370=AQ2373,\"\",AN2370))","v":""},{"$f":"IF(AO2370=\"\",\"\",IF(AO2370=AR2373,\"\",AO2370))","v":""},{"$f":"IF(AP2370=\"\",\"\",IF(AP2370=AS2373,\"\",AP2370))","v":""},{"$f":"IF(AQ2370=\"\",\"\",IF(AQ2370=AT2373,\"\",AQ2370))","v":""},{"$f":"IF(AR2370=\"\",\"\",IF(AR2370=AU2373,\"\",AR2370))","v":""},{"$f":"IF(AS2370=\"\",\"\",IF(AS2370=AV2373,\"\",AS2370))","v":""},{"$f":"IF(AT2370=\"\",\"\",IF(AT2370=AW2373,\"\",AT2370))","v":""},null,null,null,null,null,null,null,null,null,null,null,null,null,null,null,null,null,null,null,null,null,"Terzo Blocco",null,null,null,null,null,{"$f":"P2379&Q2379&R2379&S2379&T2379&U2379&V2379&W2379&X2379&Y2379&Z2379&AA2379&AB2379&AC2379&AD2379&AE2379&AF2379&AG2379&AH2379&AI2379&AJ2379&AK2379&AL2379&AM2379&AN2379&AO2379&AP2379&AQ2379&AR2379&AS2379&AT2379&AU2379&AV2379&AW2379&AX2379&AY2379&AZ2379&BA2379&BB2379&BC2379","v":""}]
[null,null,null,7,"",{"$f":"M2370","v":""},"","",null,null,null,null,null,null,null,null,null,null,null,null,null,null,null,null,null,null,null,null,null,null,null,null,null,null,null,null,null,null,null,null,null,null,null,null,null,null,null,null,null,null,null,null,null,null,null,null,null,null,null,null,null,null,1,2,null,null,null,null,null,null,null,null,null,null,null,null,null,null,null,null,{"$f":"P2381","v":0}]
[null,null,null,8,"",{"$f":"N2370","v":""},"","",null,1,{"$f":"IF(L2379<>\"\",BK2379+BL2379+L2379,\"\")","v":""},{"$f":"N2377","v":""},{"$f":"IF(L2379=\"\",\"\",IF(K2379<=$C$74,\"X\",\"\"))","v":""},{"$f":"IF(M2379=\"X\",L2379,\"\")","v":""},{"$f":"MAX(N2379:N2398)","v":0},{"$f":"IF(P2380=N2377,N2376,\"\")","v":""},{"$f":"IF(Q2380=O2377,O2376,\"\")","v":""},{"$f":"IF(R2380=P2377,P2376,\"\")","v":""},{"$f":"IF(S2380=Q2377,Q2376,\"\")","v":""},{"$f":"IF(T2380=R2377,R2376,\"\")","v":""},{"$f":"IF(U2380=S2377,S2376,\"\")","v":""},{"$f":"IF(V2380=T2377,T2376,\"\")","v":""},{"$f":"IF(W2380=U2377,U2376,\"\")","v":""},{"$f":"IF(X2380=V2377,V2376,\"\")","v":""},{"$f":"IF(Y2380=W2377,W2376,\"\")","v":""},{"$f":"IF(Z2380=X2377,X2376,\"\")","v":""},{"$f":"IF(AA2380=Y2377,Y2376,\"\")","v":""},{"$f":"IF(AB2380=Z2377,Z2376,\"\")","v":""},{"$f":"IF(AC2380=AA2377,AA2376,\"\")","v":""},{"$f":"IF(AD2380=AB2377,AB2376,\"\")","v":""},{"$f":"IF(AE2380=AC2377,AC2376,\"\")","v":""},{"$f":"IF(AF2380=AD2377,AD2376,\"\")","v":""},{"$f":"IF(AG2380=AE2377,AE2376,\"\")","v":""},{"$f":"IF(AH2380=AF2377,AF2376,\"\")","v":""},{"$f":"IF(AI2380=AG2377,AG2376,\"\")","v":""},{"$f":"IF(AJ2380=AH2377,AH2376,\"\")","v":""},{"$f":"IF(AK2380=AI2377,AI2376,\"\")","v":""},{"$f":"IF(AL2380=AJ2377,AJ2376,\"\")","v":""},{"$f":"IF(AM2380=AK2377,AK2376,\"\")","v":""},{"$f":"IF(AN2380=AL2377,AL2376,\"\")","v":""},{"$f":"IF(AO2380=AM2377,AM2376,\"\")","v":""},{"$f":"IF(AP2380=AN2377,AN2376,\"\")","v":""},{"$f":"IF(AQ2380=AO2377,AO2376,\"\")","v":""},{"$f":"IF(AR2380=AP2377,AP2376,\"\")","v":""},{"$f":"IF(AS2380=AQ2377,AQ2376,\"\")","v":""},{"$f":"IF(AT2380=AR2377,AR2376,\"\")","v":""},{"$f":"IF(AU2380=AS2377,AS2376,\"\")","v":""},{"$f":"IF(AV2380=AT2377,AT2376,\"\")","v":""},{"$f":"IF(AW2380=AU2377,AU2376,\"\")","v":""},{"$f":"IF(AX2380=AV2377,AV2376,\"\")","v":""},{"$f":"IF(AY2380=AW2377,AW2376,\"\")","v":""},{"$f":"IF(AZ2380=AX2377,AX2376,\"\")","v":""},{"$f":"IF(BA2380=AY2377,AY2376,\"\")","v":""},{"$f":"IF(BB2380=AZ2377,AZ2376,\"\")","v":""},{"$f":"IF(BC2380=BA2377,BA2376,\"\")","v":""},null,null,null,null,null,null,1,{"$f":"CC2368","v":0},{"$f":"CC2373","v":0}]
[null,null,null,9,"",{"$f":"O2370","v":""},"","",null,2,"",{"$f":"O2377","v":""},{"$f":"IF(L2380=\"\",\"\",IF(K2380<=$C$74,\"X\",\"\"))","v":""},{"$f":"IF(M2380=\"X\",L2380,\"\")","v":""},null,{"$f":"IF($P2381=N2377,N2377,\"\")","v":""},{"$f":"IF($P2381=O2377,O2377,\"\")","v":""},{"$f":"IF($P2381=P2377,P2377,\"\")","v":""},{"$f":"IF($P2381=Q2377,Q2377,\"\")","v":""},{"$f":"IF($P2381=R2377,R2377,\"\")","v":""},{"$f":"IF($P2381=S2377,S2377,\"\")","v":""},{"$f":"IF($P2381=T2377,T2377,\"\")","v":""},{"$f":"IF($P2381=U2377,U2377,\"\")","v":""},{"$f":"IF($P2381=V2377,V2377,\"\")","v":""},{"$f":"IF($P2381=W2377,W2377,\"\")","v":""},{"$f":"IF($P2381=X2377,X2377,\"\")","v":""},{"$f":"IF($P2381=Y2377,Y2377,\"\")","v":""},{"$f":"IF($P2381=Z2377,Z2377,\"\")","v":""},{"$f":"IF($P2381=AA2377,AA2377,\"\")","v":""},{"$f":"IF($P2381=AB2377,AB2377,\"\")","v":""},{"$f":"IF($P2381=AC2377,AC2377,\"\")","v":""},{"$f":"IF($P2381=AD2377,AD2377,\"\")","v":""},{"$f":"IF($P2381=AE2377,AE2377,\"\")","v":""},{"$f":"IF($P2381=AF2377,AF2377,\"\")","v":""},{"$f":"IF($P2381=AG2377,AG2377,\"\")","v":""},{"$f":"IF($P2381=AH2377,AH2377,\"\")","v":""},{"$f":"IF($P2381=AI2377,AI2377,\"\")","v":""},{"$f":"IF($P2381=AJ2377,AJ2377,\"\")","v":""},{"$f":"IF($P2381=AK2377,AK2377,\"\")","v":""},{"$f":"IF($P2381=AL2377,AL2377,\"\")","v":""},{"$f":"IF($P2381=AM2377,AM2377,\"\")","v":""},{"$f":"IF($P2381=AN2377,AN2377,\"\")","v":""},{"$f":"IF($P2381=AO2377,AO2377,\"\")","v":""},{"$f":"IF($P2381=AP2377,AP2377,\"\")","v":""},{"$f":"IF($P2381=AQ2377,AQ2377,\"\")","v":""},{"$f":"IF($P2381=AR2377,AR2377,\"\")","v":""},{"$f":"IF($P2381=AS2377,AS2377,\"\")","v":""},{"$f":"IF($P2381=AT2377,AT2377,\"\")","v":""},{"$f":"IF($P2381=AU2377,AU2377,\"\")","v":""},{"$f":"IF($P2381=AV2377,AV2377,\"\")","v":""},{"$f":"IF($P2381=AW2377,AW2377,\"\")","v":""},{"$f":"IF($P2381=AX2377,AX2377,\"\")","v":""},{"$f":"IF($P2381=AY2377,AY2377,\"\")","v":""},{"$f":"IF($P2381=AZ2377,AZ2377,\"\")","v":""},{"$f":"IF($P2381=BA2377,BA2377,\"\")","v":""},null,null,null,null,null,null,2,{"$f":"BK2379","v":0},{"$f":"BL2379","v":0}]
[null,null,null,10,"",{"$f":"P2370","v":""},"","",null,3,"",{"$f":"P2377","v":""},"","",null,{"$f":"O2379","v":0},null,null,null,null,null,null,null,null,null,null,null,null,null,null,null,null,null,null,null,null,null,null,null,null,null,null,null,null,null,null,null,null,null,null,null,null,null,null,null,null,null,null,null,null,null,3,{"$f":"BK2380","v":0},0,null,null,null,null,null,null,null,null,null,null,null,null,null,null,null,"MASSIMO CARICO",null,null,null,null,{"$f":"C2375","v":200}]
[null,null,null,11,"",{"$f":"Q2370","v":""},"","",null,4,"",{"$f":"Q2377","v":""},"","",null,null,null,null,null,null,null,null,null,null,null,null,null,null,null,null,null,null,null,null,null,null,null,null,null,null,null,null,null,null,null,null,null,null,null,null,null,null,null,null,null,null,null,null,null,null,null,4,{"$f":"BK2381","v":0},0]
[null,null,null,12,"",{"$f":"R2370","v":""},"","",null,5,"",{"$f":"R2377","v":""},"","",null,null,null,null,null,null,null,null,null,null,null,null,null,null,null,null,null,null,null,null,null,null,null,null,null,null,null,null,null,null,null,null,null,null,null,null,null,null,null,null,null,null,null,null,null,null,null,5,{"$f":"BK2382","v":0},0,null,null,null,null,null,null,null,null,null,null,null,null,null,null,null,"RIMANE",null,null,null,null,{"$f":"CG2381-CD2367","v":200}]
[null,null,null,13,"",{"$f":"S2370","v":""},"","",null,6,"",{"$f":"S2377","v":""},"","",null,null,null,null,null,null,null,null,null,null,null,null,null,null,null,null,null,null,null,null,null,null,null,null,null,null,null,null,null,null,null,null,null,null,null,null,null,null,null,null,null,null,null,null,null,null,null,6,{"$f":"BK2383","v":0},0]
[null,null,null,14,"",{"$f":"T2370","v":""},"","",null,7,"",{"$f":"T2377","v":""},"","",null,null,null,null,null,null,null,null,null,null,null,null,null,null,null,null,null,null,null,null,null,null,null,null,null,null,null,null,null,null,null,null,null,null,null,null,null,null,null,null,null,null,null,null,null,null,null,7,{"$f":"BK2384","v":0},0]
[null,null,null,15,"",{"$f":"U2370","v":""},"",{"$f":"IF(G2386=\"X\",F2386,\"\")","v":""},null,8,"",{"$f":"U2377","v":""},"","",null,null,null,null,null,null,null,null,null,null,null,null,null,null,null,null,null,null,null,null,null,null,null,null,null,null,null,null,null,null,null,null,null,null,null,null,null,null,null,null,null,null,null,null,null,null,null,8,{"$f":"BK2385","v":0},0]
[null,null,null,16,"",{"$f":"V2370","v":""},"","",null,9,"",{"$f":"V2377","v":""},"","",null,null,null,null,null,null,null,null,null,null,null,null,null,null,null,null,null,null,null,null,null,null,null,null,null,null,null,null,null,null,null,null,null,null,null,null,null,null,null,null,null,null,null,null,null,null,null,9,{"$f":"BK2386","v":0},0]
[null,null,null,17,"",{"$f":"W2370","v":""},"","",null,10,"",{"$f":"W2377","v":""},"","",null,null,null,null,null,null,null,null,null,null,null,null,null,null,null,null,null,null,null,null,null,null,null,null,null,null,null,null,null,null,null,null,null,null,null,null,null,null,null,null,null,null,null,null,null,null,null,10,{"$f":"BK2387","v":0},0]
[null,null,null,18,"",{"$f":"X2370","v":""},"","",null,11,"",{"$f":"X2377","v":""},"","",null,null,null,null,null,null,null,null,null,null,null,null,null,null,null,null,null,null,null,null,null,null,null,null,null,null,null,null,null,null,null,null,null,null,null,null,null,null,null,null,null,null,null,null,null,null,null,11,{"$f":"BK2388","v":0},0]
[null,null,null,19,"",{"$f":"Y2370","v":""},"","",null,12,"",{"$f":"Y2377","v":""},"","",null,null,null,null,null,null,null,null,null,null,null,null,null,null,null,null,null,null,null,null,null,null,null,null,null,null,null,null,null,null,null,null,null,null,null,null,null,null,null,null,null,null,null,null,null,null,null,12,{"$f":"BK2389","v":0},0]
[null,null,null,20,"",{"$f":"Z2370","v":""},"","",null,13,"",{"$f":"Z2377","v":""},"","",null,null,null,null,null,null,null,null,null,null,null,null,null,null,null,null,null,null,null,null,null,null,null,null,null,null,null,null,null,null,null,null,null,null,null,null,null,null,null,null,null,null,null,null,null,null,null,13,{"$f":"BK2390","v":0},0]
[null,null,null,21,{"$f":"IF(F2392<>\"\",F2392+G$126,\"\")","v":""},{"$f":"AA2370","v":""},"","",null,14,"",{"$f":"AA2377","v":""},"","",null,null,null,null,null,null,null,null,null,null,null,null,null,null,null,null,null,null,null,null,null,null,null,null,null,null,null,null,null,null,null,null,null,null,null,null,null,null,null,null,null,null,null,null,null,null,null,14,{"$f":"BK2391","v":0},0]
[null,null,null,22,"",{"$f":"AB2370","v":""},"","",null,15,"",{"$f":"AB2377","v":""},"","",null,"RIMASTI A DISPOSIZIONE",null,null,null,null,null,null,null,null,null,null,null,null,null,null,null,null,null,null,null,null,null,null,null,null,null,null,null,null,null,null,null,null,null,null,null,null,null,null,null,null,null,null,null,null,null,15,{"$f":"BK2392","v":0},0]
[null,null,null,23,"",{"$f":"AC2370","v":""},"","",null,16,"",{"$f":"AC2377","v":""},"","",null,null,null,null,null,null,null,null,null,null,null,null,null,null,null,null,null,null,null,null,null,null,null,null,null,null,null,null,null,null,null,null,null,null,null,null,null,null,null,null,null,null,null,null,null,null,null,16,{"$f":"BK2393","v":0},0]
[null,null,null,24,"",{"$f":"AD2370","v":""},"","",null,17,"",{"$f":"AD2377","v":""},"","",null,1,2,3,4,5,6,7,8,9,10,11,12,13,14,15,16,17,18,19,20,21,22,23,24,25,26,27,28,29,30,31,32,33,34,35,36,37,38,39,40,null,null,null,null,null,null,17,{"$f":"BK2394","v":0},0]
[null,null,null,25,"",{"$f":"AE2370","v":""},"","",null,18,"",{"$f":"AE2377","v":""},"","",null,{"$f":"IF(P2397=\"\",\"\",IF(P2397=G2364,G2363,\"\"))","v":""},{"$f":"IF(Q2397=\"\",\"\",IF(Q2397=H2364,H2363,\"\"))","v":""},{"$f":"IF(R2397=\"\",\"\",IF(R2397=I2364,I2363,\"\"))","v":""},{"$f":"IF(S2397=\"\",\"\",IF(S2397=J2364,J2363,\"\"))","v":""},{"$f":"IF(T2397=\"\",\"\",IF(T2397=K2364,K2363,\"\"))","v":""},{"$f":"IF(U2397=\"\",\"\",IF(U2397=L2364,L2363,\"\"))","v":""},{"$f":"IF(V2397=\"\",\"\",IF(V2397=M2364,M2363,\"\"))","v":""},{"$f":"IF(W2397=\"\",\"\",IF(W2397=N2364,N2363,\"\"))","v":""},{"$f":"IF(X2397=\"\",\"\",IF(X2397=O2364,O2363,\"\"))","v":""},{"$f":"IF(Y2397=\"\",\"\",IF(Y2397=P2364,P2363,\"\"))","v":""},{"$f":"IF(Z2397=\"\",\"\",IF(Z2397=Q2364,Q2363,\"\"))","v":""},{"$f":"IF(AA2397=\"\",\"\",IF(AA2397=R2364,R2363,\"\"))","v":""},{"$f":"IF(AB2397=\"\",\"\",IF(AB2397=S2364,S2363,\"\"))","v":""},{"$f":"IF(AC2397=\"\",\"\",IF(AC2397=T2364,T2363,\"\"))","v":""},{"$f":"IF(AD2397=\"\",\"\",IF(AD2397=U2364,U2363,\"\"))","v":""},{"$f":"IF(AE2397=\"\",\"\",IF(AE2397=V2364,V2363,\"\"))","v":""},{"$f":"IF(AF2397=\"\",\"\",IF(AF2397=W2364,W2363,\"\"))","v":""},{"$f":"IF(AG2397=\"\",\"\",IF(AG2397=X2364,X2363,\"\"))","v":""},{"$f":"IF(AH2397=\"\",\"\",IF(AH2397=Y2364,Y2363,\"\"))","v":""},{"$f":"IF(AI2397=\"\",\"\",IF(AI2397=Z2364,Z2363,\"\"))","v":""},{"$f":"IF(AJ2397=\"\",\"\",IF(AJ2397=AA2364,AA2363,\"\"))","v":""},{"$f":"IF(AK2397=\"\",\"\",IF(AK2397=AB2364,AB2363,\"\"))","v":""},{"$f":"IF(AL2397=\"\",\"\",IF(AL2397=AC2364,AC2363,\"\"))","v":""},{"$f":"IF(AM2397=\"\",\"\",IF(AM2397=AD2364,AD2363,\"\"))","v":""},{"$f":"IF(AN2397=\"\",\"\",IF(AN2397=AE2364,AE2363,\"\"))","v":""},{"$f":"IF(AO2397=\"\",\"\",IF(AO2397=AF2364,AF2363,\"\"))","v":""},{"$f":"IF(AP2397=\"\",\"\",IF(AP2397=AG2364,AG2363,\"\"))","v":""},{"$f":"IF(AQ2397=\"\",\"\",IF(AQ2397=AH2364,AH2363,\"\"))","v":""},{"$f":"IF(AR2397=\"\",\"\",IF(AR2397=AI2364,AI2363,\"\"))","v":""},{"$f":"IF(AS2397=\"\",\"\",IF(AS2397=AJ2364,AJ2363,\"\"))","v":""},{"$f":"IF(AT2397=\"\",\"\",IF(AT2397=AK2364,AK2363,\"\"))","v":""},{"$f":"IF(AU2397=\"\",\"\",IF(AU2397=AL2364,AL2363,\"\"))","v":""},{"$f":"IF(AV2397=\"\",\"\",IF(AV2397=AM2364,AM2363,\"\"))","v":""},{"$f":"IF(AW2397=\"\",\"\",IF(AW2397=AN2364,AN2363,\"\"))","v":""},{"$f":"IF(AX2397=\"\",\"\",IF(AX2397=AO2364,AO2363,\"\"))","v":""},{"$f":"IF(AY2397=\"\",\"\",IF(AY2397=AP2364,AP2363,\"\"))","v":""},{"$f":"IF(AZ2397=\"\",\"\",IF(AZ2397=AQ2364,AQ2363,\"\"))","v":""},{"$f":"IF(BA2397=\"\",\"\",IF(BA2397=AR2364,AR2363,\"\"))","v":""},{"$f":"IF(BB2397=\"\",\"\",IF(BB2397=AS2364,AS2363,\"\"))","v":""},{"$f":"IF(BC2397=\"\",\"\",IF(BC2397=AT2364,AT2363,\"\"))","v":""},null,null,null,null,null,null,18,{"$f":"BK2395","v":0},0]
[null,null,null,26,"",{"$f":"AF2370","v":""},"","",null,19,"",{"$f":"AF2377","v":""},"","",null,{"$f":"IF(G2364=$P2381,\"\",IF(G2364=$J2374,\"\",IF(G2364=$G2365,\"\",G2364)))","v":""},{"$f":"IF(H2364=$P2381,\"\",IF(H2364=$J2374,\"\",IF(H2364=$G2365,\"\",H2364)))","v":""},{"$f":"IF(I2364=$P2381,\"\",IF(I2364=$J2374,\"\",IF(I2364=$G2365,\"\",I2364)))","v":""},{"$f":"IF(J2364=$P2381,\"\",IF(J2364=$J2374,\"\",IF(J2364=$G2365,\"\",J2364)))","v":""},{"$f":"IF(K2364=$P2381,\"\",IF(K2364=$J2374,\"\",IF(K2364=$G2365,\"\",K2364)))","v":""},{"$f":"IF(L2364=$P2381,\"\",IF(L2364=$J2374,\"\",IF(L2364=$G2365,\"\",L2364)))","v":""},{"$f":"IF(M2364=$P2381,\"\",IF(M2364=$J2374,\"\",IF(M2364=$G2365,\"\",M2364)))","v":""},{"$f":"IF(N2364=$P2381,\"\",IF(N2364=$J2374,\"\",IF(N2364=$G2365,\"\",N2364)))","v":""},{"$f":"IF(O2364=$P2381,\"\",IF(O2364=$J2374,\"\",IF(O2364=$G2365,\"\",O2364)))","v":""},{"$f":"IF(P2364=$P2381,\"\",IF(P2364=$J2374,\"\",IF(P2364=$G2365,\"\",P2364)))","v":""},{"$f":"IF(Q2364=$P2381,\"\",IF(Q2364=$J2374,\"\",IF(Q2364=$G2365,\"\",Q2364)))","v":""},{"$f":"IF(R2364=$P2381,\"\",IF(R2364=$J2374,\"\",IF(R2364=$G2365,\"\",R2364)))","v":""},{"$f":"IF(S2364=$P2381,\"\",IF(S2364=$J2374,\"\",IF(S2364=$G2365,\"\",S2364)))","v":""},{"$f":"IF(T2364=$P2381,\"\",IF(T2364=$J2374,\"\",IF(T2364=$G2365,\"\",T2364)))","v":""},{"$f":"IF(U2364=$P2381,\"\",IF(U2364=$J2374,\"\",IF(U2364=$G2365,\"\",U2364)))","v":""},{"$f":"IF(V2364=$P2381,\"\",IF(V2364=$J2374,\"\",IF(V2364=$G2365,\"\",V2364)))","v":""},{"$f":"IF(W2364=$P2381,\"\",IF(W2364=$J2374,\"\",IF(W2364=$G2365,\"\",W2364)))","v":""},{"$f":"IF(X2364=$P2381,\"\",IF(X2364=$J2374,\"\",IF(X2364=$G2365,\"\",X2364)))","v":""},{"$f":"IF(Y2364=$P2381,\"\",IF(Y2364=$J2374,\"\",IF(Y2364=$G2365,\"\",Y2364)))","v":""},{"$f":"IF(Z2364=$P2381,\"\",IF(Z2364=$J2374,\"\",IF(Z2364=$G2365,\"\",Z2364)))","v":""},{"$f":"IF(AA2364=$P2381,\"\",IF(AA2364=$J2374,\"\",IF(AA2364=$G2365,\"\",AA2364)))","v":""},{"$f":"IF(AB2364=$P2381,\"\",IF(AB2364=$J2374,\"\",IF(AB2364=$G2365,\"\",AB2364)))","v":""},{"$f":"IF(AC2364=$P2381,\"\",IF(AC2364=$J2374,\"\",IF(AC2364=$G2365,\"\",AC2364)))","v":""},{"$f":"IF(AD2364=$P2381,\"\",IF(AD2364=$J2374,\"\",IF(AD2364=$G2365,\"\",AD2364)))","v":""},{"$f":"IF(AE2364=$P2381,\"\",IF(AE2364=$J2374,\"\",IF(AE2364=$G2365,\"\",AE2364)))","v":""},{"$f":"IF(AF2364=$P2381,\"\",IF(AF2364=$J2374,\"\",IF(AF2364=$G2365,\"\",AF2364)))","v":""},{"$f":"IF(AG2364=$P2381,\"\",IF(AG2364=$J2374,\"\",IF(AG2364=$G2365,\"\",AG2364)))","v":""},{"$f":"IF(AH2364=$P2381,\"\",IF(AH2364=$J2374,\"\",IF(AH2364=$G2365,\"\",AH2364)))","v":""},{"$f":"IF(AI2364=$P2381,\"\",IF(AI2364=$J2374,\"\",IF(AI2364=$G2365,\"\",AI2364)))","v":""},{"$f":"IF(AJ2364=$P2381,\"\",IF(AJ2364=$J2374,\"\",IF(AJ2364=$G2365,\"\",AJ2364)))","v":""},{"$f":"IF(AK2364=$P2381,\"\",IF(AK2364=$J2374,\"\",IF(AK2364=$G2365,\"\",AK2364)))","v":""},{"$f":"IF(AL2364=$P2381,\"\",IF(AL2364=$J2374,\"\",IF(AL2364=$G2365,\"\",AL2364)))","v":""},{"$f":"IF(AM2364=$P2381,\"\",IF(AM2364=$J2374,\"\",IF(AM2364=$G2365,\"\",AM2364)))","v":""},{"$f":"IF(AN2364=$P2381,\"\",IF(AN2364=$J2374,\"\",IF(AN2364=$G2365,\"\",AN2364)))","v":""},{"$f":"IF(AO2364=$P2381,\"\",IF(AO2364=$J2374,\"\",IF(AO2364=$G2365,\"\",AO2364)))","v":""},{"$f":"IF(AP2364=$P2381,\"\",IF(AP2364=$J2374,\"\",IF(AP2364=$G2365,\"\",AP2364)))","v":""},{"$f":"IF(AQ2364=$P2381,\"\",IF(AQ2364=$J2374,\"\",IF(AQ2364=$G2365,\"\",AQ2364)))","v":""},{"$f":"IF(AR2364=$P2381,\"\",IF(AR2364=$J2374,\"\",IF(AR2364=$G2365,\"\",AR2364)))","v":""},{"$f":"IF(AS2364=$P2381,\"\",IF(AS2364=$J2374,\"\",IF(AS2364=$G2365,\"\",AS2364)))","v":""},{"$f":"IF(AT2364=$P2381,\"\",IF(AT2364=$J2374,\"\",IF(AT2364=$G2365,\"\",AT2364)))","v":""},null,null,null,null,null,null,19,{"$f":"BK2396","v":0},0]
[null,null,null,27,"",{"$f":"AG2370","v":""},"","",null,20,"",{"$f":"AG2377","v":""},"","",null,null,null,null,null,null,null,null,null,null,null,null,null,null,null,null,null,null,null,null,null,null,null,null,null,null,null,null,null,null,null,null,null,null,null,null,null,null,null,null,null,null,null,null,null,null,null,20,{"$f":"BK2397","v":0},0]
[null,null,null,28,"",{"$f":"AH2370","v":""},"","",null,21,{"$f":"IF(L2399<>\"\",BK2399+BL2399+L2399,\"\")","v":""},{"$f":"AH2377","v":""},"","",null,null,null,null,null,null,null,null,null,null,null,null,null,null,null,null,null,null,null,null,null,null,null,null,null,null,null,null,null,null,null,null,null,null,null,null,null,null,null,null,null,null,null,null,null,null,null,21,{"$f":"BK2398","v":0},0]
[null,null,null,29,"",{"$f":"AI2370","v":""},"","",null,22,"",{"$f":"AI2377","v":""},"","",null,null,null,null,null,null,null,null,null,null,null,null,null,null,null,null,null,null,null,null,null,null,null,null,null,null,null,null,null,null,null,null,null,null,null,null,null,null,null,null,null,null,null,null,null,null,null,22,{"$f":"BK2399","v":0},0]
[null,null,null,30,"",{"$f":"AJ2370","v":""},"","",null,23,"",{"$f":"AJ2377","v":""},"","",null,null,null,null,null,null,null,null,null,null,null,null,null,null,null,null,null,null,null,null,null,null,null,null,null,null,null,null,null,null,null,null,null,null,null,null,null,null,null,null,null,null,null,null,null,null,null,23,{"$f":"BK2400","v":0},0]
[null,null,null,31,"",{"$f":"AK2370","v":""},"","",null,24,"",{"$f":"AK2377","v":""},"","",null,null,null,null,null,null,null,null,null,null,null,null,null,null,null,null,null,null,null,null,null,null,null,null,null,null,null,null,null,null,null,null,null,null,null,null,null,null,null,null,null,null,null,null,null,null,null,24,{"$f":"BK2401","v":0},0]
[null,null,null,32,"",{"$f":"AL2370","v":""},"","",null,25,"",{"$f":"AL2377","v":""},"","",null,null,null,null,null,null,null,null,null,null,null,null,null,null,null,null,null,null,null,null,null,null,null,null,null,null,null,null,null,null,null,null,null,null,null,null,null,null,null,null,null,null,null,null,null,null,null,25,{"$f":"BK2402","v":0},0]
[null,null,null,33,"",{"$f":"AM2370","v":""},"","",null,26,"",{"$f":"AM2377","v":""},"","",null,null,null,null,null,null,null,null,null,null,null,null,null,null,null,null,null,null,null,null,null,null,null,null,null,null,null,null,null,null,null,null,null,null,null,null,null,null,null,null,null,null,null,null,null,null,null,26,{"$f":"BK2403","v":0},0]
[null,null,null,34,"",{"$f":"AN2370","v":""},"","",null,27,"",{"$f":"AN2377","v":""},"","",null,null,null,null,null,null,null,null,null,null,null,null,null,null,null,null,null,null,null,null,null,null,null,null,null,null,null,null,null,null,null,null,null,null,null,null,null,null,null,null,null,null,null,null,null,null,null,27,{"$f":"BK2404","v":0},0]
[null,null,null,35,"",{"$f":"AO2370","v":""},"","",null,28,"",{"$f":"AO2377","v":""},"","",null,null,null,null,null,null,null,null,null,null,null,null,null,null,null,null,null,null,null,null,null,null,null,null,null,null,null,null,null,null,null,null,null,null,null,null,null,null,null,null,null,null,null,null,null,null,null,28,{"$f":"BK2405","v":0},0]
[null,null,null,36,"",{"$f":"AP2370","v":""},"","",null,29,"",{"$f":"AP2377","v":""},"","",null,null,null,null,null,null,null,null,null,null,null,null,null,null,null,null,null,null,null,null,null,null,null,null,null,null,null,null,null,null,null,null,null,null,null,null,null,null,null,null,null,null,null,null,null,null,null,29,{"$f":"BK2406","v":0},0]
[null,null,null,37,"",{"$f":"AQ2370","v":""},"","",null,30,"",{"$f":"AQ2377","v":""},"","",null,null,null,null,null,null,null,null,null,null,null,null,null,null,null,null,null,null,null,null,null,null,null,null,null,null,null,null,null,null,null,null,null,null,null,null,null,null,null,null,null,null,null,null,null,null,null,30,{"$f":"BK2407","v":0},0]
[null,null,null,38,"",{"$f":"AR2370","v":""},"","",null,31,"",{"$f":"AR2377","v":""},"","",null,null,null,null,null,null,null,null,null,null,null,null,null,null,null,null,null,null,null,null,null,null,null,null,null,null,null,null,null,null,null,null,null,null,null,null,null,null,null,null,null,null,null,null,null,null,null,31,{"$f":"BK2408","v":0},0]
[null,null,null,39,"",{"$f":"AS2370","v":""},"","",null,32,"",{"$f":"AS2377","v":""},"","",null,null,null,null,null,null,null,null,null,null,null,null,null,null,null,null,null,null,null,null,null,null,null,null,null,null,null,null,null,null,null,null,null,null,null,null,null,null,null,null,null,null,null,null,null,null,null,32,{"$f":"BK2409","v":0},0]
[null,null,null,40,"",{"$f":"AT2370","v":""},"","",null,33,"",{"$f":"AT2377","v":""},"","",null,null,null,null,null,null,null,null,null,null,null,null,null,null,null,null,null,null,null,null,null,null,null,null,null,null,null,null,null,null,null,null,null,null,null,null,null,null,null,null,null,null,null,null,null,null,null,33,{"$f":"BK2410","v":0},0]
[null,null,null,null,null,null,null,null,null,34,"",{"$f":"AU2377","v":""},"","",null,null,null,null,null,null,null,null,null,null,null,null,null,null,null,null,null,null,null,null,null,null,null,null,null,null,null,null,null,null,null,null,null,null,null,null,null,null,null,null,null,null,null,null,null,null,null,34,{"$f":"BK2411","v":0},0]
[null,null,null,null,null,null,null,null,null,35,"",{"$f":"AV2377","v":""},"","",null,null,null,null,null,null,null,null,null,null,null,null,null,null,null,null,null,null,null,null,null,null,null,null,null,null,null,null,null,null,null,null,null,null,null,null,null,null,null,null,null,null,null,null,null,null,null,35,{"$f":"BK2412","v":0},0]
[null,null,null,null,null,null,null,null,null,36,"",{"$f":"AW2377","v":""},"","",null,null,null,null,null,null,null,null,null,null,null,null,null,null,null,null,null,null,null,null,null,null,null,null,null,null,null,null,null,null,null,null,null,null,null,null,null,null,null,null,null,null,null,null,null,null,null,36,{"$f":"BK2413","v":0},0]
[null,null,null,null,null,null,null,null,null,37,"",{"$f":"AX2377","v":""},"","",null,null,null,null,null,null,null,null,null,null,null,null,null,null,null,null,null,null,null,null,null,null,null,null,null,null,null,null,null,null,null,null,null,null,null,null,null,null,null,null,null,null,null,null,null,null,null,37,{"$f":"BK2414","v":0},0]
[null,null,null,null,null,null,null,null,null,38,"",{"$f":"AY2377","v":""},"","",null,null,null,null,null,null,null,null,null,null,null,null,null,null,null,null,null,null,null,null,null,null,null,null,null,null,null,null,null,null,null,null,null,null,null,null,null,null,null,null,null,null,null,null,null,null,null,38,{"$f":"BK2415","v":0},0]
[null,null,null,null,null,null,null,null,null,39,"",{"$f":"AZ2377","v":""},"","",null,null,null,null,null,null,null,null,null,null,null,null,null,null,null,null,null,null,null,null,null,null,null,null,null,null,null,null,null,null,null,null,null,null,null,null,null,null,null,null,null,null,null,null,null,null,null,39,{"$f":"BK2416","v":0},0]
[null,null,null,null,null,null,null,null,null,40,"",{"$f":"BA2377","v":""},"","",null,null,null,null,null,null,null,null,null,null,null,null,null,null,null,null,null,null,null,null,null,null,null,null,null,null,null,null,null,null,null,null,null,null,null,null,null,null,null,null,null,null,null,null,null,null,null,40,{"$f":"BK2417","v":0},0]

{"sheet":"Interroga","index":1,"n_rows":75,"n_cols":31,"rows_kept":75,"cut":false,"hidden":false,"merged":[[28,1,30,2],[33,2,35,2],[33,3,35,3],[52,21,52,28],[53,21,53,28],[54,21,54,28],[14,2,17,2],[14,3,17,3],[20,2,22,2],[20,3,22,3],[24,2,26,2],[24,3,26,3],[28,3,30,3],[43,19,45,19],[34,18,36,18],[37,18,39,18],[43,13,45,13],[13,16,15,16],[13,17,15,17],[13,18,15,18],[16,13,18,13],[16,14,18,14],[31,19,33,19],[19,24,21,24],[60,20,68,30],[67,6,67,19],[68,6,68,19],[57,21,57,28],[28,13,30,13],[25,18,27,18],[28,18,30,18],[31,13,33,13],[31,14,33,14],[31,15,33,15],[37,15,39,15],[34,13,36,13],[37,19,39,19],[43,14,45,14],[43,15,45,15],[40,18,42,18],[40,15,42,15],[32,9,45,10],[37,13,39,13],[37,14,39,14],[43,20,45,20],[31,25,33,25],[34,23,36,23],[34,24,36,24],[69,6,69,19],[52,6,52,19],[53,6,53,19],[54,6,54,19],[55,6,55,19],[56,6,56,19],[57,6,57,19],[58,6,58,19],[66,6,66,19],[62,6,62,19],[63,6,63,19],[64,6,64,19],[65,6,65,19],[61,6,61,19],[59,6,59,19],[60,6,60,19],[1,9,1,22],[22,13,24,13],[3,5,4,8],[3,9,4,9],[3,10,4,10],[3,16,4,17],[3,18,4,18],[3,20,4,21],[3,22,4,22],[3,14,4,14],[3,11,4,13],[3,15,4,15],[3,19,4,19],[13,5,15,6],[16,5,22,6],[23,5,25,5],[23,6,25,6],[16,15,18,15],[19,13,21,13],[13,21,15,21],[13,22,15,22],[22,14,24,14],[22,20,24,20],[1,27,1,30],[1,5,1,8],[40,28,42,28],[40,29,42,29],[40,30,42,30],[43,28,45,28],[43,29,45,29],[43,30,45,30],[31,28,33,28],[31,29,33,29],[31,30,33,30],[34,28,36,28],[34,29,36,29],[34,30,36,30],[37,28,39,28],[37,29,39,29],[37,30,39,30],[22,28,24,28],[22,29,24,29],[40,23,42,23],[40,24,42,24],[40,25,42,25],[40,19,42,19],[43,18,45,18],[19,25,21,25],[22,23,24,23],[22,24,24,24],[28,28,30,28],[28,29,30,29],[28,30,30,30],[13,7,15,7],[13,8,15,8],[13,26,15,26],[13,27,15,27],[22,15,24,15],[13,20,15,20],[13,19,15,19],[16,20,18,20],[19,20,21,20],[16,19,18,19],[19,19,21,19],[22,18,24,18],[19,14,21,14],[19,15,21,15],[28,20,30,20],[25,25,27,25],[28,25,30,25],[34,25,36,25],[37,23,39,23],[25,14,27,14],[25,15,27,15],[40,14,42,14],[25,23,27,23],[25,24,27,24],[28,23,30,23],[28,24,30,24],[31,23,33,23],[31,24,33,24],[25,19,27,19],[25,20,27,20],[28,14,30,14],[43,24,45,24],[43,25,45,25],[31,18,33,18],[34,19,36,19],[34,14,36,14],[34,15,36,15],[40,20,42,20],[3,30,4,30],[3,27,4,29],[6,27,7,29],[6,30,7,30],[10,27,11,29],[10,30,11,30],[22,25,24,25],[13,28,15,28],[13,29,15,29],[13,30,15,30],[16,28,18,28],[16,29,18,29],[16,30,18,30],[19,28,21,28],[19,29,21,29],[19,30,21,30],[22,30,24,30],[12,2,13,2],[12,3,13,3],[51,6,51,9],[51,10,51,19],[70,6,70,19],[71,6,71,19],[72,6,72,19],[73,6,73,19],[3,26,4,26],[3,24,4,25],[58,21,59,29],[43,23,45,23],[6,5,6,6],[7,5,7,6],[10,5,10,6],[11,5,11,6],[41,5,45,8],[13,9,15,10],[37,24,39,24],[37,25,39,25],[31,20,33,20],[34,20,36,20],[13,23,15,23],[13,24,15,24],[74,6,74,19],[46,5,46,30],[13,11,15,11],[13,12,15,12],[25,13,27,13],[40,13,42,13],[51,20,51,30],[28,19,30,19],[22,19,24,19],[13,13,15,13],[13,14,15,14],[16,18,18,18],[19,18,21,18],[13,15,15,15],[37,20,39,20],[28,15,30,15],[19,23,21,23],[25,30,27,30],[13,25,15,25],[16,23,18,23],[16,24,18,24],[16,25,18,25],[25,28,27,28],[25,29,27,29]]}
[]
[null,null,null,null,null,"Nome Ditta",null,null,null,"OTTIMIZZA IL CARICO DEI TIR PER IL TRASPORTO DI BLOCCHI DI MARMO    --   SONO GESTIBILI 40 TIR"]
[]
[null,null,"adesso",null,null,"MAX. PORTATA  TIR                                                                         IMPOSTA",null,null,null,200,0,"% IN PIU'                                                                                          DI CARICO ACCETTATO",null,null,{"$f":"J4*K4+J4","v":200},{"$f":"A!DF117","v":"NESSUNO"},"MINIMO                                                                                     PESO BLOCCO                       IN TRASPORTO ",null,{"$f":"A!AW63","v":20},{"$f":"A!DF58","v":"NESSUNO"},"MASSIMO                                                                                               PESO BLOCCO                                                IN TRASPORTO",null,{"$f":"A!AY63","v":100},null,"TOTALE                                                                                    PESO BLOCCHI                                           IN TRASPORTO",null,{"$f":"(SUM(L17:L46))+(SUM(Q17:Q46))+(SUM(V17:V46))+(SUM(AA17:AA46))","v":210.1},"NUMERO TEORICO DI TIR NECESSARI PER TRASPORTO",null,null,{"$f":"IF(AA4>0,IF(AA4<O4,1,AA4/O4),0)","v":1.0505}]
[null,null,{"$f":"NOW()","v":"2013-05-01T18:12:24.100"}]
[null,null,null,null,null,null,null,1,2,3,4,5,6,7,8,9,10,11,12,13,14,15,16,17,18,19,20]
[null,null,null,null,null,"Numero del Blocco",null,"1","2","3","4","5",null,null,null,null,null,null,null,null,null,null,null,null,null,null,null,"NUMERO EFFETTIVO DI TIR NECESSARI PER TRASPORTO",null,null,{"$f":"N49","v":2}]
[null,"Scade","2013-05-10",{"$f":"IF(C5>C8,0,IF(D12>D13,0,IF(D34=1,0,1)))","v":1},null,"Peso del Blocco",null,100,70,20.100000000000001,220,20]
[null,null,null,null,null,null,null,{"$f":"A!$DF$58","v":"NESSUNO"},{"$f":"A!$DF$58","v":"NESSUNO"},{"$f":"A!$DF$58","v":"NESSUNO"},{"$f":"A!$DF$58","v":"NESSUNO"},{"$f":"A!$DF$58","v":"NESSUNO"},{"$f":"A!$DF$58","v":"NESSUNO"},{"$f":"A!$DF$58","v":"NESSUNO"},{"$f":"A!$DF$58","v":"NESSUNO"},{"$f":"A!$DF$58","v":"NESSUNO"},{"$f":"A!$DF$58","v":"NESSUNO"},175,{"$f":"A!$DF$58","v":"NESSUNO"},123,{"$f":"A!$DF$58","v":"NESSUNO"},{"$f":"A!$DF$58","v":"NESSUNO"},{"$f":"A!$DF$58","v":"NESSUNO"},{"$f":"A!$DF$58","v":"NESSUNO"},{"$f":"A!$DF$58","v":"NESSUNO"},{"$f":"A!$DF$58","v":"NESSUNO"},{"$f":"A!$DF$58","v":"NESSUNO"}]
[null,null,null,null,null,null,null,1,2,3,4,5,6,7,8,9,10,11,12,13,14,15,16,17,18,19,20]
[null,null,null,null,null,"Numero del Blocco",null,null,null,null,null,null,null,null,null,null,null,null,null,null,null,null,null,null,null,null,null,"PERCENTUALE DI SFRUTTAMENTO CARICO",null,null,{"$f":"IF(AA4>0,(AA4/(O4*AE7)),\"NC\")","v":0.52524999999999999}]
[null,null,"Controllo",{"$f":"D15","v":0},null,"Peso del Blocco"]
[null,null,"Numero Permesso",10,null,null,null,{"$f":"A!$DF$58","v":"NESSUNO"},{"$f":"A!$DF$58","v":"NESSUNO"},{"$f":"A!$DF$58","v":"NESSUNO"},{"$f":"A!$DF$58","v":"NESSUNO"},{"$f":"A!$DF$58","v":"NESSUNO"},{"$f":"A!$DF$58","v":"NESSUNO"},{"$f":"A!$DF$58","v":"NESSUNO"},{"$f":"A!$DF$58","v":"NESSUNO"},{"$f":"A!$DF$58","v":"NESSUNO"},{"$f":"A!$DF$58","v":"NESSUNO"},{"$f":"A!$DF$58","v":"NESSUNO"},{"$f":"A!$DF$58","v":"NESSUNO"},{"$f":"A!$DF$58","v":"NESSUNO"},{"$f":"A!$DF$58","v":"NESSUNO"},{"$f":"A!$DF$58","v":"NESSUNO"},{"$f":"A!$DF$58","v":"NESSUNO"},{"$f":"A!$DF$58","v":"NESSUNO"},{"$f":"A!$DF$58","v":"NESSUNO"},{"$f":"A!$DF$58","v":"NESSUNO"},{"$f":"A!$DF$58","v":"NESSUNO"}]
[null,null,null,null,null,"BLOCCHI                                                                                               DA  TAGLIARE   ",null,"Peso                             Blocco                         Q.li","Numero                                 di                                  Blocco","BLOCCHI IN CARICO                                                                                      A UNO  /    A DUE   /   A  TRE",null,"Peso                             Blocco                         Q.li","Numero                                 di                                  Blocco","Peso                             Totale                                 Q.li","Ancora                             Caricabili                            Q.li","Numero                        TIR","Peso                             Blocco                         Q.li","Numero                                 di                                  Blocco","Peso                             Totale                                 Q.li","Ancora                             Caricabili                            Q.li","Numero                        TIR","Peso                             Blocco                         Q.li","Numero                                 di                                  Blocco","Peso                             Totale                                 Q.li","Ancora                             Caricabili                            Q.li","Numero                        TIR","Peso                             Blocco                         Q.li","Numero                                 di                                  Blocco","Peso                             Totale                                 Q.li","Ancora                             Caricabili                            Q.li","Numero                        TIR"]
[null,null,"Controllo                                  numero volte                                     in uso",{"$f":"D29","v":0}]
[]
[null,null,null,null,null,null,null,{"$f":"IF(A!CY24=0,\"\",A!CY24)","v":""},{"$f":"IF(A!CZ24=0,\"\",A!CZ24)","v":""},null,null,{"$f":"A!CF67","v":100},{"$f":"A!CH67","v":"1"},{"$f":"IF(SUM(L17:L19)=0,\"\",SUM(L17:L19))","v":190.1},{"$f":"A!CG82","v":9.9000000000000057},{"$f":"A!CF74","v":1},{"$f":"A!CF657","v":""},{"$f":"A!CH657","v":""},{"$f":"IF(SUM(Q17:Q19)=0,\"\",SUM(Q17:Q19))","v":""},{"$f":"A!CG672","v":200},{"$f":"A!CF664","v":""},{"$f":"A!CF1247","v":""},{"$f":"A!CH1247","v":""},{"$f":"IF(SUM(V17:V19)=0,\"\",SUM(V17:V19))","v":""},{"$f":"A!CG1262","v":200},{"$f":"A!CF1254","v":""},{"$f":"A!CF1837","v":""},{"$f":"A!CH1837","v":""},{"$f":"IF(SUM(AA17:AA19)=0,\"\",SUM(AA17:AA19))","v":""},{"$f":"A!CG1852","v":200},{"$f":"A!CF1844","v":""}]
[null,null,null,null,null,null,null,{"$f":"IF(A!CY25=0,\"\",A!CY25)","v":""},{"$f":"IF(A!CZ25=0,\"\",A!CZ25)","v":""},null,null,{"$f":"A!CF68","v":70},{"$f":"A!CH68","v":"2"},null,null,null,{"$f":"A!CF658","v":""},{"$f":"A!CH658","v":""},null,null,null,{"$f":"A!CF1248","v":""},{"$f":"A!CH1248","v":""},null,null,null,{"$f":"A!CF1838","v":""},{"$f":"A!CH1838","v":""}]
[null,null,null,null,null,null,null,{"$f":"IF(A!CY26=0,\"\",A!CY26)","v":""},{"$f":"IF(A!CZ26=0,\"\",A!CZ26)","v":""},null,null,{"$f":"A!CF69","v":20.100000000000001},{"$f":"A!CH69","v":"3"},null,null,null,{"$f":"A!CF659","v":""},{"$f":"A!CH659","v":""},null,null,null,{"$f":"A!CF1249","v":""},{"$f":"A!CH1249","v":""},null,null,null,{"$f":"A!CF1839","v":""},{"$f":"A!CH1839","v":""}]
[null,null,null,null,null,null,null,{"$f":"IF(A!CY27=0,\"\",A!CY27)","v":""},{"$f":"IF(A!CZ27=0,\"\",A!CZ27)","v":""},null,null,{"$f":"A!CF126","v":20},{"$f":"A!CH126","v":"5"},{"$f":"IF(SUM(L20:L22)=0,\"\",SUM(L20:L22))","v":20},{"$f":"A!CG141","v":180},{"$f":"A!CF133","v":2},{"$f":"A!CF716","v":""},{"$f":"A!CH716","v":""},{"$f":"IF(SUM(Q20:Q22)=0,\"\",SUM(Q20:Q22))","v":""},{"$f":"A!CG731","v":200},{"$f":"A!CF723","v":""},{"$f":"A!CF1306","v":""},{"$f":"A!CH1306","v":""},{"$f":"IF(SUM(V20:V22)=0,\"\",SUM(V20:V22))","v":""},{"$f":"A!CG1321","v":200},{"$f":"A!CF1313","v":""},{"$f":"A!CF1896","v":""},{"$f":"A!CH1896","v":""},{"$f":"IF(SUM(AA20:AA22)=0,\"\",SUM(AA20:AA22))","v":""},{"$f":"A!CG1911","v":200},{"$f":"A!CF1903","v":""}]
[null,null,"OGNI STAMPA SCRIVI    1",null,null,null,null,{"$f":"IF(A!CY28=0,\"\",A!CY28)","v":""},{"$f":"IF(A!CZ28=0,\"\",A!CZ28)","v":""},null,null,{"$f":"A!CF127","v":""},{"$f":"A!CH127","v":""},null,null,null,{"$f":"A!CF717","v":""},{"$f":"A!CH717","v":""},null,null,null,{"$f":"A!CF1307","v":""},{"$f":"A!CH1307","v":""},null,null,null,{"$f":"A!CF1897","v":""},{"$f":"A!CH1897","v":""}]
[null,null,null,null,null,null,null,{"$f":"IF(A!CY29=0,\"\",A!CY29)","v":""},{"$f":"IF(A!CZ29=0,\"\",A!CZ29)","v":""},null,null,{"$f":"A!CF128","v":""},{"$f":"A!CH128","v":""},null,null,null,{"$f":"A!CF718","v":""},{"$f":"A!CH718","v":""},null,null,null,{"$f":"A!CF1308","v":""},{"$f":"A!CH1308","v":""},null,null,null,{"$f":"A!CF1898","v":""},{"$f":"A!CH1898","v":""}]
[null,null,null,null,null,null,null,{"$f":"IF(A!CY30=0,\"\",A!CY30)","v":""},{"$f":"IF(A!CZ30=0,\"\",A!CZ30)","v":""},null,null,{"$f":"A!CF185","v":""},{"$f":"A!CH185","v":""},{"$f":"IF(SUM(L23:L25)=0,\"\",SUM(L23:L25))","v":""},{"$f":"A!CG200","v":200},{"$f":"A!CF192","v":""},{"$f":"A!CF775","v":""},{"$f":"A!CH775","v":""},{"$f":"IF(SUM(Q23:Q25)=0,\"\",SUM(Q23:Q25))","v":""},{"$f":"A!CG790","v":200},{"$f":"A!CF782","v":""},{"$f":"A!CF1365","v":""},{"$f":"A!CH1365","v":""},{"$f":"IF(SUM(V23:V25)=0,\"\",SUM(V23:V25))","v":""},{"$f":"A!CG1380","v":200},{"$f":"A!CF1372","v":""},{"$f":"A!CF1955","v":""},{"$f":"A!CH1955","v":""},{"$f":"IF(SUM(AA23:AA25)=0,\"\",SUM(AA23:AA25))","v":""},{"$f":"A!CG1970","v":200},{"$f":"A!CF1962","v":""}]
[null,null,null,null,null,"Peso                             Blocco                         Q.li","Numero                                 di                                  Blocco",{"$f":"IF(A!CY31=0,\"\",A!CY31)","v":""},{"$f":"IF(A!CZ31=0,\"\",A!CZ31)","v":""},null,null,{"$f":"A!CF186","v":""},{"$f":"A!CH186","v":""},null,null,null,{"$f":"A!CF776","v":""},{"$f":"A!CH776","v":""},null,null,null,{"$f":"A!CF1366","v":""},{"$f":"A!CH1366","v":""},null,null,null,{"$f":"A!CF1956","v":""},{"$f":"A!CH1956","v":""}]
[null,null,"CONTA NUMERO STAMPE",{"$f":"D15+D21","v":0},null,null,null,{"$f":"IF(A!CY32=0,\"\",A!CY32)","v":""},{"$f":"IF(A!CZ32=0,\"\",A!CZ32)","v":""},null,null,{"$f":"A!CF187","v":""},{"$f":"A!CH187","v":""},null,null,null,{"$f":"A!CF777","v":""},{"$f":"A!CH777","v":""},null,null,null,{"$f":"A!CF1367","v":""},{"$f":"A!CH1367","v":""},null,null,null,{"$f":"A!CF1957","v":""},{"$f":"A!CH1957","v":""}]
[null,null,null,null,null,null,null,{"$f":"IF(A!CY33=0,\"\",A!CY33)","v":""},{"$f":"IF(A!CZ33=0,\"\",A!CZ33)","v":""},null,null,{"$f":"A!CF244","v":""},{"$f":"A!CH244","v":""},{"$f":"IF(SUM(L26:L28)=0,\"\",SUM(L26:L28))","v":""},{"$f":"A!CG259","v":200},{"$f":"A!CF251","v":""},{"$f":"A!CF834","v":""},{"$f":"A!CH834","v":""},{"$f":"IF(SUM(Q26:Q28)=0,\"\",SUM(Q26:Q28))","v":""},{"$f":"A!CG849","v":200},{"$f":"A!CF841","v":""},{"$f":"A!CF1424","v":""},{"$f":"A!CH1424","v":""},{"$f":"IF(SUM(V26:V28)=0,\"\",SUM(V26:V28))","v":""},{"$f":"A!CG1439","v":200},{"$f":"A!CF1431","v":""},{"$f":"A!CF2014","v":""},{"$f":"A!CH2014","v":""},{"$f":"IF(SUM(AA26:AA28)=0,\"\",SUM(AA26:AA28))","v":""},{"$f":"A!CG2029","v":200},{"$f":"A!CF2021","v":""}]
[null,null,null,null,null,{"$f":"IF(A!CY9=0,\"\",A!CY9)","v":220},{"$f":"IF(A!CZ9=0,\"\",A!CZ9)","v":"4"},{"$f":"IF(A!CY34=0,\"\",A!CY34)","v":""},{"$f":"IF(A!CZ34=0,\"\",A!CZ34)","v":""},null,null,{"$f":"A!CF245","v":""},{"$f":"A!CH245","v":""},null,null,null,{"$f":"A!CF835","v":""},{"$f":"A!CH835","v":""},null,null,null,{"$f":"A!CF1425","v":""},{"$f":"A!CH1425","v":""},null,null,null,{"$f":"A!CF2015","v":""},{"$f":"A!CH2015","v":""}]
[null,null,null,null,null,{"$f":"IF(A!CY10=0,\"\",A!CY10)","v":""},{"$f":"IF(A!CZ10=0,\"\",A!CZ10)","v":""},{"$f":"IF(A!CY35=0,\"\",A!CY35)","v":""},{"$f":"IF(A!CZ35=0,\"\",A!CZ35)","v":""},null,null,{"$f":"A!CF246","v":""},{"$f":"A!CH246","v":""},null,null,null,{"$f":"A!CF836","v":""},{"$f":"A!CH836","v":""},null,null,null,{"$f":"A!CF1426","v":""},{"$f":"A!CH1426","v":""},null,null,null,{"$f":"A!CF2016","v":""},{"$f":"A!CH2016","v":""}]
[null,"INCOLLA NUMERO STAMPE",null,null,null,{"$f":"IF(A!CY11=0,\"\",A!CY11)","v":""},{"$f":"IF(A!CZ11=0,\"\",A!CZ11)","v":""},{"$f":"IF(A!CY36=0,\"\",A!CY36)","v":""},{"$f":"IF(A!CZ36=0,\"\",A!CZ36)","v":""},null,null,{"$f":"A!CF303","v":""},{"$f":"A!CH303","v":""},{"$f":"IF(SUM(L29:L31)=0,\"\",SUM(L29:L31))","v":""},{"$f":"A!CG318","v":200},{"$f":"A!CF310","v":""},{"$f":"A!CF893","v":""},{"$f":"A!CH893","v":""},{"$f":"IF(SUM(Q29:Q31)=0,\"\",SUM(Q29:Q31))","v":""},{"$f":"A!CG908","v":200},{"$f":"A!CF900","v":""},{"$f":"A!CF1483","v":""},{"$f":"A!CH1483","v":""},{"$f":"IF(SUM(V29:V31)=0,\"\",SUM(V29:V31))","v":""},{"$f":"A!CG1498","v":200},{"$f":"A!CF1490","v":""},{"$f":"A!CF2073","v":""},{"$f":"A!CH2073","v":""},{"$f":"IF(SUM(AA29:AA31)=0,\"\",SUM(AA29:AA31))","v":""},{"$f":"A!CG2088","v":200},{"$f":"A!CF2080","v":""}]
[null,null,null,null,null,{"$f":"IF(A!CY12=0,\"\",A!CY12)","v":""},{"$f":"IF(A!CZ12=0,\"\",A!CZ12)","v":""},{"$f":"IF(A!CY37=0,\"\",A!CY37)","v":""},{"$f":"IF(A!CZ37=0,\"\",A!CZ37)","v":""},null,null,{"$f":"A!CF304","v":""},{"$f":"A!CH304","v":""},null,null,null,{"$f":"A!CF894","v":""},{"$f":"A!CH894","v":""},null,null,null,{"$f":"A!CF1484","v":""},{"$f":"A!CH1484","v":""},null,null,null,{"$f":"A!CF2074","v":""},{"$f":"A!CH2074","v":""}]
[null,null,null,null,null,{"$f":"IF(A!CY13=0,\"\",A!CY13)","v":""},{"$f":"IF(A!CZ13=0,\"\",A!CZ13)","v":""},{"$f":"IF(A!CY38=0,\"\",A!CY38)","v":""},{"$f":"IF(A!CZ38=0,\"\",A!CZ38)","v":""},null,null,{"$f":"A!CF305","v":""},{"$f":"A!CH305","v":""},null,null,null,{"$f":"A!CF895","v":""},{"$f":"A!CH895","v":""},null,null,null,{"$f":"A!CF1485","v":""},{"$f":"A!CH1485","v":""},null,null,null,{"$f":"A!CF2075","v":""},{"$f":"A!CH2075","v":""}]
[null,null,null,null,null,{"$f":"IF(A!CY14=0,\"\",A!CY14)","v":""},{"$f":"IF(A!CZ14=0,\"\",A!CZ14)","v":""},{"$f":"IF(A!CY39=0,\"\",A!CY39)","v":""},{"$f":"IF(A!CZ39=0,\"\",A!CZ39)","v":""},null,null,{"$f":"A!CF362","v":""},{"$f":"A!CH362","v":""},{"$f":"IF(SUM(L32:L34)=0,\"\",SUM(L32:L34))","v":""},{"$f":"A!CG377","v":200},{"$f":"A!CF369","v":""},{"$f":"A!CF952","v":""},{"$f":"A!CH952","v":""},{"$f":"IF(SUM(Q32:Q34)=0,\"\",SUM(Q32:Q34))","v":""},{"$f":"A!CG967","v":200},{"$f":"A!CF959","v":""},{"$f":"A!CF1542","v":""},{"$f":"A!CH1542","v":""},{"$f":"IF(SUM(V32:V34)=0,\"\",SUM(V32:V34))","v":""},{"$f":"A!CG1557","v":200},{"$f":"A!CF1549","v":""},{"$f":"A!CF2132","v":""},{"$f":"A!CH2132","v":""},{"$f":"IF(SUM(AA32:AA34)=0,\"\",SUM(AA32:AA34))","v":""},{"$f":"A!CG2147","v":200},{"$f":"A!CF2139","v":""}]
[null,null,null,null,null,{"$f":"IF(A!CY15=0,\"\",A!CY15)","v":""},{"$f":"IF(A!CZ15=0,\"\",A!CZ15)","v":""},{"$f":"IF(A!CY40=0,\"\",A!CY40)","v":""},{"$f":"IF(A!CZ40=0,\"\",A!CZ40)","v":""},"A fianco gli accoppiamenti di Blocchi tali da ottenere la migliore Ottimizzazione  del Carico Il software gestisce UNO o DUE o TRE Blocchi  per Carico.",null,{"$f":"A!CF363","v":""},{"$f":"A!CH363","v":""},null,null,null,{"$f":"A!CF953","v":""},{"$f":"A!CH953","v":""},null,null,null,{"$f":"A!CF1543","v":""},{"$f":"A!CH1543","v":""},null,null,null,{"$f":"A!CF2133","v":""},{"$f":"A!CH2133","v":""}]
[null,null,"CARICA                   SECONDA VOLTA",{"$f":"IF(D12>D13,1,0)","v":0},null,{"$f":"IF(A!CY16=0,\"\",A!CY16)","v":""},{"$f":"IF(A!CZ16=0,\"\",A!CZ16)","v":""},{"$f":"IF(A!CY41=0,\"\",A!CY41)","v":""},{"$f":"IF(A!CZ41=0,\"\",A!CZ41)","v":""},null,null,{"$f":"A!CF364","v":""},{"$f":"A!CH364","v":""},null,null,null,{"$f":"A!CF954","v":""},{"$f":"A!CH954","v":""},null,null,null,{"$f":"A!CF1544","v":""},{"$f":"A!CH1544","v":""},null,null,null,{"$f":"A!CF2134","v":""},{"$f":"A!CH2134","v":""}]
[null,null,null,null,null,{"$f":"IF(A!CY17=0,\"\",A!CY17)","v":""},{"$f":"IF(A!CZ17=0,\"\",A!CZ17)","v":""},{"$f":"IF(A!CY42=0,\"\",A!CY42)","v":""},{"$f":"IF(A!CZ42=0,\"\",A!CZ42)","v":""},null,null,{"$f":"A!CF421","v":""},{"$f":"A!CH421","v":""},{"$f":"IF(SUM(L35:L37)=0,\"\",SUM(L35:L37))","v":""},{"$f":"A!CG436","v":200},{"$f":"A!CF428","v":""},{"$f":"A!CF1011","v":""},{"$f":"A!CH1011","v":""},{"$f":"IF(SUM(Q35:Q37)=0,\"\",SUM(Q35:Q37))","v":""},{"$f":"A!CG1026","v":200},{"$f":"A!CF1018","v":""},{"$f":"A!CF1601","v":""},{"$f":"A!CH1601","v":""},{"$f":"IF(SUM(V35:V37)=0,\"\",SUM(V35:V37))","v":""},{"$f":"A!CG1616","v":200},{"$f":"A!CF1608","v":""},{"$f":"A!CF2191","v":""},{"$f":"A!CH2191","v":""},{"$f":"IF(SUM(AA35:AA37)=0,\"\",SUM(AA35:AA37))","v":""},{"$f":"A!CG2206","v":200},{"$f":"A!CF2198","v":""}]
[null,null,null,null,null,{"$f":"IF(A!CY18=0,\"\",A!CY18)","v":""},{"$f":"IF(A!CZ18=0,\"\",A!CZ18)","v":""},{"$f":"IF(A!CY43=0,\"\",A!CY43)","v":""},{"$f":"IF(A!CZ43=0,\"\",A!CZ43)","v":""},null,null,{"$f":"A!CF422","v":""},{"$f":"A!CH422","v":""},null,null,null,{"$f":"A!CF1012","v":""},{"$f":"A!CH1012","v":""},null,null,null,{"$f":"A!CF1602","v":""},{"$f":"A!CH1602","v":""},null,null,null,{"$f":"A!CF2192","v":""},{"$f":"A!CH2192","v":""}]
[null,null,null,null,null,{"$f":"IF(A!CY19=0,\"\",A!CY19)","v":""},{"$f":"IF(A!CZ19=0,\"\",A!CZ19)","v":""},{"$f":"IF(A!CY44=0,\"\",A!CY44)","v":""},{"$f":"IF(A!CZ44=0,\"\",A!CZ44)","v":""},null,null,{"$f":"A!CF423","v":""},{"$f":"A!CH423","v":""},null,null,null,{"$f":"A!CF1013","v":""},{"$f":"A!CH1013","v":""},null,null,null,{"$f":"A!CF1603","v":""},{"$f":"A!CH1603","v":""},null,null,null,{"$f":"A!CF2193","v":""},{"$f":"A!CH2193","v":""}]
[null,null,null,null,null,{"$f":"IF(A!CY20=0,\"\",A!CY20)","v":""},{"$f":"IF(A!CZ20=0,\"\",A!CZ20)","v":""},{"$f":"IF(A!CY45=0,\"\",A!CY45)","v":""},{"$f":"IF(A!CZ45=0,\"\",A!CZ45)","v":""},null,null,{"$f":"A!CF480","v":""},{"$f":"A!CH480","v":""},{"$f":"IF(SUM(L38:L40)=0,\"\",SUM(L38:L40))","v":""},{"$f":"A!CG495","v":200},{"$f":"A!CF487","v":""},{"$f":"A!CF1070","v":""},{"$f":"A!CH1070","v":""},{"$f":"IF(SUM(Q38:Q40)=0,\"\",SUM(Q38:Q40))","v":""},{"$f":"A!CG1085","v":200},{"$f":"A!CF1077","v":""},{"$f":"A!CF1660","v":""},{"$f":"A!CH1660","v":""},{"$f":"IF(SUM(V38:V40)=0,\"\",SUM(V38:V40))","v":""},{"$f":"A!CG1675","v":200},{"$f":"A!CF1667","v":""},{"$f":"A!CF2250","v":""},{"$f":"A!CH2250","v":""},{"$f":"IF(SUM(AA38:AA40)=0,\"\",SUM(AA38:AA40))","v":""},{"$f":"A!CG2265","v":200},{"$f":"A!CF2257","v":""}]
[null,null,null,null,null,{"$f":"IF(A!CY21=0,\"\",A!CY21)","v":""},{"$f":"IF(A!CZ21=0,\"\",A!CZ21)","v":""},{"$f":"IF(A!CY46=0,\"\",A!CY46)","v":""},{"$f":"IF(A!CZ46=0,\"\",A!CZ46)","v":""},null,null,{"$f":"A!CF481","v":""},{"$f":"A!CH481","v":""},null,null,null,{"$f":"A!CF1071","v":""},{"$f":"A!CH1071","v":""},null,null,null,{"$f":"A!CF1661","v":""},{"$f":"A!CH1661","v":""},null,null,null,{"$f":"A!CF2251","v":""},{"$f":"A!CH2251","v":""}]
[null,null,null,null,null,{"$f":"IF(A!CY22=0,\"\",A!CY22)","v":""},{"$f":"IF(A!CZ22=0,\"\",A!CZ22)","v":""},{"$f":"IF(A!CY47=0,\"\",A!CY47)","v":""},{"$f":"IF(A!CZ47=0,\"\",A!CZ47)","v":""},null,null,{"$f":"A!CF482","v":""},{"$f":"A!CH482","v":""},null,null,null,{"$f":"A!CF1072","v":""},{"$f":"A!CH1072","v":""},null,null,null,{"$f":"A!CF1662","v":""},{"$f":"A!CH1662","v":""},null,null,null,{"$f":"A!CF2252","v":""},{"$f":"A!CH2252","v":""}]
[null,null,null,null,null,{"$f":"IF(A!CY23=0,\"\",A!CY23)","v":""},{"$f":"IF(A!CZ23=0,\"\",A!CZ23)","v":""},{"$f":"IF(A!CY48=0,\"\",A!CY48)","v":""},{"$f":"IF(A!CZ48=0,\"\",A!CZ48)","v":""},null,null,{"$f":"A!CF539","v":""},{"$f":"A!CH539","v":""},{"$f":"IF(SUM(L41:L43)=0,\"\",SUM(L41:L43))","v":""},{"$f":"A!CG554","v":200},{"$f":"A!CF546","v":""},{"$f":"A!CF1129","v":""},{"$f":"A!CH1129","v":""},{"$f":"IF(SUM(Q41:Q43)=0,\"\",SUM(Q41:Q43))","v":""},{"$f":"A!CG1144","v":200},{"$f":"A!CF1136","v":""},{"$f":"A!CF1719","v":""},{"$f":"A!CH1719","v":""},{"$f":"IF(SUM(V41:V43)=0,\"\",SUM(V41:V43))","v":""},{"$f":"A!CG1734","v":200},{"$f":"A!CF1726","v":""},{"$f":"A!CF2309","v":""},{"$f":"A!CH2309","v":""},{"$f":"IF(SUM(AA41:AA43)=0,\"\",SUM(AA41:AA43))","v":""},{"$f":"A!CG2324","v":200},{"$f":"A!CF2316","v":""}]
[null,null,null,null,null,"I Blocchi presenti in questo elenco   hanno un Peso superiore alla  Portata Max. del TIR pertanto  per poter essere trasportati devono essere tagliati.",null,null,null,null,null,{"$f":"A!CF540","v":""},{"$f":"A!CH540","v":""},null,null,null,{"$f":"A!CF1130","v":""},{"$f":"A!CH1130","v":""},null,null,null,{"$f":"A!CF1720","v":""},{"$f":"A!CH1720","v":""},null,null,null,{"$f":"A!CF2310","v":""},{"$f":"A!CH2310","v":""}]
[null,null,null,null,null,null,null,null,null,null,null,{"$f":"A!CF541","v":""},{"$f":"A!CH541","v":""},null,null,null,{"$f":"A!CF1131","v":""},{"$f":"A!CH1131","v":""},null,null,null,{"$f":"A!CF1721","v":""},{"$f":"A!CH1721","v":""},null,null,null,{"$f":"A!CF2311","v":""},{"$f":"A!CH2311","v":""}]
[null,null,null,null,null,null,null,null,null,null,null,{"$f":"A!CF598","v":""},{"$f":"A!CH598","v":""},{"$f":"IF(SUM(L44:L46)=0,\"\",SUM(L44:L46))","v":""},{"$f":"A!CG613","v":200},{"$f":"A!CF605","v":""},{"$f":"A!CF1188","v":""},{"$f":"A!CH1188","v":""},{"$f":"IF(SUM(Q44:Q46)=0,\"\",SUM(Q44:Q46))","v":""},{"$f":"A!CG1203","v":200},{"$f":"A!CF1195","v":""},{"$f":"A!CF1778","v":""},{"$f":"A!CH1778","v":""},{"$f":"IF(SUM(V44:V46)=0,\"\",SUM(V44:V46))","v":""},{"$f":"A!CG1793","v":200},{"$f":"A!CF1785","v":""},{"$f":"A!CF2368","v":""},{"$f":"A!CH2368","v":""},{"$f":"IF(SUM(AA44:AA46)=0,\"\",SUM(AA44:AA46))","v":""},{"$f":"A!CG2383","v":200},{"$f":"A!CF2375","v":""}]
[null,null,null,null,null,null,null,null,null,null,null,{"$f":"A!CF599","v":""},{"$f":"A!CH599","v":""},null,null,null,{"$f":"A!CF1189","v":""},{"$f":"A!CH1189","v":""},null,null,null,{"$f":"A!CF1779","v":""},{"$f":"A!CH1779","v":""},null,null,null,{"$f":"A!CF2369","v":""},{"$f":"A!CH2369","v":""}]
[null,null,null,null,null,null,null,null,null,null,null,{"$f":"A!CF600","v":""},{"$f":"A!CH600","v":""},null,null,null,{"$f":"A!CF1190","v":""},{"$f":"A!CH1190","v":""},null,null,null,{"$f":"A!CF1780","v":""},{"$f":"A!CH1780","v":""},null,null,null,{"$f":"A!CF2370","v":""},{"$f":"A!CH2370","v":""}]
[null,null,null,null,null,"Tempi&Metodi di Giorgio Andreani    www.tempiemetodi.it   info@tempiemetodi.it   cell.  329 3510098   Servizi di Controllo e di Organizzazione dei Processi Produttivi - Rev 5   130120"]
[]
[null,null,null,null,null,null,null,null,null,null,null,null,null,{"$f":"MAX(P49:AE49)","v":2},null,{"$f":"MAX(P17:P46)","v":2},null,null,null,null,{"$f":"MAX(U17:U46)","v":0},null,null,null,null,{"$f":"MAX(Z17:Z46)","v":0},null,null,null,null,{"$f":"MAX(AE17:AE46)","v":0}]
[]
[]
[null,null,null,null,null,null,"Note per l'Utilizzo",null,null,null,"ATTENZIONE LA LICENZA E' SCADUTA",null,null,null,null,null,null,null,null,null,"QUESTO SOFTWARE GRATUITO CONSENTE  10 PROVE "]
[null,null,null,null,null,"OP 1","Inserire nella   Casella  J 4   il valore in Quintali della portata massima (peso netto) del carico blocchi marmo es: 200",null,null,null,null,null,null,null,null,null,null,null,null,null,null,"SCARTO OTTIMALE TRA CARICO POSSIBILE E CARICO EFFETTIVO ",null,null,null,null,null,null,null,2]
[null,null,null,null,null,"Nota 1a","Nella   Casella  O 4  comparirà il valore massimo carico netto consentito per TIR, al quale il Software farà riferimento    ",null,null,null,null,null,null,null,null,null,null,null,null,null,null,"SCARTO ACCETTATO TRA CARICO POSSIBILE E CARICO EFFETTIVO ",null,null,null,null,null,null,null,20]
[null,null,null,null,null,"Nota 1b","Il Peso di Riferimento Casella  O 4  potrà essere modificato inserendo una percentuale nella Casella  K 4  ",null,null,null,null,null,null,null,null,null,null,null,null,null,null,"SCARTO NON ACCETTAO TRA CARICO POSSIBILE E CARICO EFFETTIVO         --      SE   >      DI ",null,null,null,null,null,null,null,{"$f":"AD54","v":20}]
[null,null,null,null,null,"OP 2","Inserire nella Casella  H 7  un numero identificativo di un blocco e appena sotto Casella  H 8 il suo peso in Q.li",null,null,null,null,null,null,null,null,null,null,null,null,null,null,"I VALORI DI SCARTO SI RIFERISCONO AL CARICO DI UN SOLO TIR"]
[null,null,null,null,null,"Es:op2","Esempio  :  numero  110     e    peso     120"]
[null,null,null,null,null,"OP 3","Ripetere  Operaz. 2 nelle caselle successive stesse righe fino all'ultima  . . . Caselle  AA 7    e AA 8",null,null,null,null,null,null,null,null,null,null,null,null,null,null,"PERCENTUALE  MINIMA IMPOSTA PER L'ACCETTAZIONE DEL CONVOGLIO",null,null,null,null,null,null,null,0.85]
[null,null,null,null,null,"Nota 3a","Se compilate tutte le caselle utili di Righe  7 e 8  avremo inserito i dati necessari per gestire 20 blocchi",null,null,null,null,null,null,null,null,null,null,null,null,null,null,"E' POSSIBILE INSERIRE E QUINDI IMPORRE DEI VALORI DI RIFERIMENTO                                                                                     NELLE CASELLE   AD52, AD54, AD57"]
[null,null,null,null,null,"OP 4","Ripetere  (se necessario)  Operaz. 2 nelle caselle di   Righe  11 e  12  "]
[null,null,null,null,null,"Nota 4a","Se compilate tutte le caselle utili di   Righe  11 e 12  avremo inserito i dati necessari per gestire 40 blocchi",null,null,null,null,null,null,null,null,null,null,null,null,null,"Mano a mano che vengono inseriti i Blocchi, altre Caselle mostrano dei numeri che aiuteranno a gestire i carichi:  il significato delle Caselle  W4, AA4, AE4 e AE7 sono riportati a fianco delle stesse; una nota particolare necessita la Casella  AE 11 che riporta la % di sfruttamento del Convoglio (inteso come: tutti i TIR necessari per il trasporto dei blocchi in spedizione) e che ha questo significato . . .  Se i TIR del convoglio non sono tutti a pieno Carico, cosa impossibile da ottenere per il tipo di merce che viene gestita, significa che il costo del viaggio non viene diviso per i Q.li possibili da trasportare, ma per i Q.li trasportati e di conseguenza più la % di questa casella si abbassa, più sarà alto il costo del trasporto sul singolo Q.le.                                                                                                                     Il Software da la possibilità di inserire la % minima di accettazione del Convoglio, nella Casella  AD 58.                                                                                                                                                                                                              Allo stesso tempo da la possibilità di inserire anche le % Ottimali di scarto per ogni TIR; che non sono altro che il rapporto tra il Peso Caricato e il Peso Trasportabile; ognuno potrà fissare queste % nelle Caselle  AD 53 e AD 54, la AD 55 viene di conseguenza"]
[null,null,null,null,null,"OP 5","Provate allora ad inserire i valori di tre Blocchi: numeri in H7=1;  I7=2; J7=3      e     pesi in  H8=100; I8=70; J8=20"]
[null,null,null,null,null,"Nota 5a","Nella Casella P 17 comparira il numero  1  ( primo TIR )  necessario per trasportare   190 Q.li "]
[null,null,null,null,null,"Nota 5b","Nella Casella O 17 comparira il numero    10   corrispondente ai Q.li ancora caricabili"]
[null,null,null,null,null,"Nota 5c","Nelle Caselle  L 17, L18, L19  e  M17, M18, M19  compariranno i pesi e i numeri dei Blocchi  del  carico "]
[null,null,null,null,null,"Nota 5d","Cliccando sulla \" STAMPA -- OTTIMIZZA TIR \"  IN  X2  . . .   AA 2,   si otterrà la Stampa del foglio Note per Carico"]
[null,null,null,null,null,"Nota 5e","Nell'esempio sono stati inseriti tre Blocchi, ma riempiendo le righe fino in fondo si potranno gestire 40 Blocchi"]
[null,null,null,null,null,"OP 6","Provate ad inserire il blocco numero  4 che pesa  q.li 220"]
[null,null,null,null,null,"Nota 6a","Vedrete che la casella contenete il peso 220 si colora di rosso, perché è superato il peso massimo consentito "]
[null,null,null,null,null,"Nota 6b","Vedrete anche alimentarsi le Caselle F 27 e G 27 della tabella contenente i blocchi che dovranno essere tagliati per il trasporto"]
[null,null,null,null,null,"OP 7","Provate ad inserire il blocco numero  5 che ha peso q.li  20 uguale al blocco n 3 già inserito"]
[null,null,null,null,null,"Nota 7a","Vedrete che le casella peso dei blocchi n 3 e 5  si coloreranno di rosso"]
[null,null,null,null,null,"Nota 7b","Basterà modificare di pochissimo uno dei due pesi es. il n 3  q.li 20 diventera q.li 20,1"]
[null,null,null,null,null,"OP 8","Inserite di seguito per errore ancora il blocco n 5"]
[null,null,null,null,null,"Nota 8a","Vedrete colorarsi di rosso le caselle inizio righe "]

{"sheet":"StampaCarico","index":2,"n_rows":130,"n_cols":17,"rows_kept":130,"cut":false,"hidden":false,"merged":[[1,8,1,10],[1,11,1,16],[7,8,8,9],[7,10,8,10],[7,16,9,16],[103,16,105,16],[106,16,108,16],[109,16,111,16],[112,16,114,16],[22,16,24,16],[25,16,27,16],[28,16,30,16],[31,16,33,16],[34,16,36,16],[37,16,39,16],[40,16,42,16],[43,16,45,16],[46,16,48,16],[8,12,8,14],[4,12,4,13],[5,12,5,13],[6,12,6,13],[10,16,12,16],[13,16,15,16],[49,16,51,16],[52,16,54,16],[55,16,57,16],[58,16,60,16],[61,16,63,16],[64,16,66,16],[67,16,69,16],[70,16,72,16],[73,16,75,16],[121,16,123,16],[124,16,126,16],[127,16,129,16],[76,16,78,16],[79,16,81,16],[82,16,84,16],[85,16,87,16],[88,16,90,16],[91,16,93,16],[94,16,96,16],[97,16,99,16],[100,16,102,16],[115,16,117,16],[118,16,120,16],[16,16,18,16],[19,16,21,16],[8,15,9,15],[4,14,6,15],[4,16,6,16],[43,13,45,13],[43,14,45,14],[43,15,45,15],[10,15,12,15],[34,15,36,15],[13,15,15,15],[16,15,18,15],[19,13,21,13],[19,14,21,14],[19,15,21,15],[4,8,6,9],[2,8,2,15],[127,8,129,8],[127,9,129,9],[127,13,129,13],[127,14,129,14],[127,15,129,15],[124,8,126,8],[124,9,126,9],[124,13,126,13],[124,14,126,14],[124,15,126,15],[121,8,123,8],[121,9,123,9],[121,13,123,13],[121,14,123,14],[121,15,123,15],[118,8,120,8],[118,9,120,9],[118,13,120,13],[118,14,120,14],[118,15,120,15],[115,8,117,8],[115,9,117,9],[115,13,117,13],[115,14,117,14],[115,15,117,15],[112,8,114,8],[112,9,114,9],[112,13,114,13],[112,14,114,14],[112,15,114,15],[109,8,111,8],[109,9,111,9],[109,13,111,13],[109,14,111,14],[109,15,111,15],[106,8,108,8],[106,9,108,9],[106,13,108,13],[106,14,108,14],[106,15,108,15],[103,8,105,8],[103,9,105,9],[103,13,105,13],[103,14,105,14],[103,15,105,15],[100,8,102,8],[100,9,102,9],[100,13,102,13],[100,14,102,14],[100,15,102,15],[97,8,99,8],[97,9,99,9],[97,13,99,13],[97,14,99,14],[97,15,99,15],[94,8,96,8],[94,9,96,9],[94,13,96,13],[94,14,96,14],[94,15,96,15],[91,8,93,8],[91,9,93,9],[91,13,93,13],[91,14,93,14],[91,15,93,15],[88,8,90,8],[88,9,90,9],[88,13,90,13],[88,14,90,14],[88,15,90,15],[85,8,87,8],[85,9,87,9],[85,13,87,13],[85,14,87,14],[85,15,87,15],[82,8,84,8],[82,9,84,9],[82,13,84,13],[82,14,84,14],[82,15,84,15],[79,8,81,8],[79,9,81,9],[79,13,81,13],[79,14,81,14],[79,15,81,15],[76,8,78,8],[76,9,78,9],[76,13,78,13],[76,14,78,14],[76,15,78,15],[73,8,75,8],[73,9,75,9],[73,13,75,13],[73,14,75,14],[73,15,75,15],[70,8,72,8],[70,9,72,9],[70,13,72,13],[70,14,72,14],[70,15,72,15],[67,8,69,8],[67,9,69,9],[67,13,69,13],[67,14,69,14],[67,15,69,15],[64,8,66,8],[64,9,66,9],[64,13,66,13],[64,14,66,14],[64,15,66,15],[61,8,63,8],[61,9,63,9],[61,13,63,13],[61,14,63,14],[61,15,63,15],[49,13,51,13],[49,14,51,14],[49,15,51,15],[52,8,54,8],[52,9,54,9],[52,13,54,13],[52,14,54,14],[52,15,54,15],[58,15,60,15],[55,15,57,15],[49,8,51,8],[49,9,51,9],[58,8,60,8],[58,9,60,9],[55,8,57,8],[46,8,48,8],[46,9,48,9],[46,13,48,13],[46,14,48,14],[46,15,48,15],[37,13,39,13],[37,14,39,14],[37,15,39,15],[40,8,42,8],[40,9,42,9],[40,13,42,13],[40,14,42,14],[40,15,42,15],[37,8,39,8],[37,9,39,9],[43,8,45,8],[43,9,45,9],[10,9,12,9],[10,8,12,8],[34,9,36,9],[34,8,36,8],[10,13,12,13],[10,14,12,14],[34,13,36,13],[34,14,36,14],[58,13,60,13],[58,14,60,14],[55,9,57,9],[55,13,57,13],[55,14,57,14],[25,9,27,9],[13,8,15,8],[13,9,15,9],[13,13,15,13],[13,14,15,14],[16,8,18,8],[16,9,18,9],[16,13,18,13],[16,14,18,14],[19,8,21,8],[19,9,21,9],[22,8,24,8],[22,9,24,9],[22,13,24,13],[22,14,24,14],[22,15,24,15],[25,8,27,8],[25,13,27,13],[25,14,27,14],[25,15,27,15],[28,8,30,8],[28,9,30,9],[28,13,30,13],[28,14,30,14],[28,15,30,15],[31,8,33,8],[31,9,33,9],[31,13,33,13],[31,14,33,14],[31,15,33,15]]}
[]
[{"$f":"Interroga!D8","v":1},null,null,null,null,null,null,null,"Nome Ditta",null,null,"NOTE DI CARICO CONVOGLIO"]
[null,null,null,null,null,null,null,null,"Ottimizzazione  carico T.I.R. - Massimo Carico Imposto Q.li",null,null,null,null,null,null,null,{"$f":"Interroga!O4","v":200}]
[]
[null,null,null,null,null,null,null,null,"ANCORA DISPONIBILI                             AL  CARICO                               SINGOLO   TIR ",null,"FINO A  Q.LI",{"$f":"Interroga!AD53","v":2},"OTTIMO",null,"Percentuale di sfruttamento Convoglio",null,{"$f":"Interroga!AE11","v":0.52524999999999999}]
[null,null,null,null,null,null,null,null,null,null,"FINO A  Q.LI",{"$f":"Interroga!AD54","v":20},"ACCETTATO"]
[null,null,null,null,null,null,null,null,null,null,"MAGGIORE  Q.LI",{"$f":"Interroga!AD55","v":20},"NON ACCETTATO"]
[null,null,null,null,null,null,null,null,"% MNIMA  SFRUTTAMENTO CONVOGLIO",null,{"$f":"Interroga!AD58","v":0.85},null,null,null,null,null,{"$f":"IF(Q5=\"nc\",\"NC\",IF(Q5>K8,\"CONVOGLIO ACCETTATO\",\"CONVOGLIO NON ACCETTATO\"))","v":"CONVOGLIO NON ACCETTATO"}]
[null,null,null,null,null,null,null,null,null,null,null,null,"Peso in Quintali",null,null,"%   TIR  Sfruttamento"]
[null,null,null,"Sigla","Peso q.li",null,null,null,null,null,null,"Sigla","Blocco","TIR","Disponibili"]
[null,null,{"$f":"IF(D11=\"\",0,1)","v":1},{"$f":"Interroga!M17","v":"1"},{"$f":"Interroga!L17","v":100},{"$f":"IF((C11+C12+C13)>0,1,\"\")","v":1},null,null,"T.I.R.                N°",{"$f":"IF(F11=\"\",\"\",F11)","v":1},"Carico",{"$f":"D11","v":"1"},{"$f":"E11","v":100},{"$f":"SUM(M11:M13)","v":190.1},{"$f":"Q$3-N11","v":9.9000000000000057},{"$f":"IF(N11>0,N11/Q$3,\"NC\")","v":0.95050000000000001},{"$f":"IF(O11<=L$5,M$5,IF(O11<=L$6,M$6,IF(O11>L$7,M$7)))","v":"ACCETTATO"}]
[null,null,{"$f":"IF(D12=\"\",0,1)","v":1},{"$f":"Interroga!M18","v":"2"},{"$f":"Interroga!L18","v":70},{"$f":"IF((C11+C12+C13)>0,1,\"\")","v":1},null,null,null,null,null,{"$f":"D12","v":"2"},{"$f":"E12","v":70}]
[null,null,1,{"$f":"Interroga!M19","v":"3"},{"$f":"Interroga!L19","v":20.100000000000001},{"$f":"IF((C11+C12+C13)>0,1,\"\")","v":1},null,null,null,null,null,"3",20.100000000000001]
[null,null,1,{"$f":"Interroga!M20","v":"5"},{"$f":"Interroga!L20","v":20},{"$f":"IF((C14+C15+C16)>0,1+F11,\"\")","v":2},null,null,"T.I.R.                N°",{"$f":"IF(F14=\"\",\"\",F14)","v":2},"Carico",{"$f":"D14","v":"5"},{"$f":"E14","v":20},{"$f":"SUM(M14:M16)","v":20},{"$f":"Q$3-N14","v":180},{"$f":"IF(N14>0,N14/Q$3,\"NC\")","v":0.1},{"$f":"IF(O14<=L$5,M$5,IF(O14<=L$6,M$6,IF(O14>L$7,M$7)))","v":"NON ACCETTATO"}]
[null,null,0,{"$f":"Interroga!M21","v":""},{"$f":"Interroga!L21","v":""},{"$f":"IF((C14+C15+C16)>0,1+F11,\"\")","v":2},null,null,null,null,null,{"$f":"D15","v":""},{"$f":"E15","v":""}]
[null,null,0,{"$f":"Interroga!M22","v":""},{"$f":"Interroga!L22","v":""},{"$f":"IF((C14+C15+C16)>0,1+F11,\"\")","v":2},null,null,null,null,null,"",""]
[null,null,0,{"$f":"Interroga!M23","v":""},{"$f":"Interroga!L23","v":""},{"$f":"IF((C17+C18+C19)>0,1+F14,\"\")","v":""},null,null,"T.I.R.                N°",{"$f":"IF(F17=\"\",\"\",F17)","v":""},"Carico",{"$f":"D17","v":""},{"$f":"E17","v":""},{"$f":"SUM(M17:M19)","v":0},{"$f":"Q$3-N17","v":200},{"$f":"IF(N17>0,N17/Q$3,\"NC\")","v":"NC"},{"$f":"IF(O17<=L$5,M$5,IF(O17<=L$6,M$6,IF(O17>L$7,M$7)))","v":"NON ACCETTATO"}]
[null,null,0,{"$f":"Interroga!M24","v":""},{"$f":"Interroga!L24","v":""},{"$f":"IF((C17+C18+C19)>0,1+F14,\"\")","v":""},null,null,null,null,null,{"$f":"D18","v":""},{"$f":"E18","v":""}]
[null,null,0,{"$f":"Interroga!M25","v":""},{"$f":"Interroga!L25","v":""},{"$f":"IF((C17+C18+C19)>0,1+F14,\"\")","v":""},null,null,null,null,null,"",""]
[null,null,0,{"$f":"Interroga!M26","v":""},{"$f":"Interroga!L26","v":""},{"$f":"IF((C20+C21+C22)>0,1+F17,\"\")","v":""},null,null,"T.I.R.                N°",{"$f":"IF(F20=\"\",\"\",F20)","v":""},"Carico",{"$f":"D20","v":""},{"$f":"E20","v":""},{"$f":"SUM(M20:M22)","v":0},{"$f":"Q$3-N20","v":200},{"$f":"IF(N20>0,N20/Q$3,\"NC\")","v":"NC"},{"$f":"IF(O20<=L$5,M$5,IF(O20<=L$6,M$6,IF(O20>L$7,M$7)))","v":"NON ACCETTATO"}]
[null,null,0,{"$f":"Interroga!M27","v":""},{"$f":"Interroga!L27","v":""},{"$f":"IF((C20+C21+C22)>0,1+F17,\"\")","v":""},null,null,null,null,null,{"$f":"D21","v":""},{"$f":"E21","v":""}]
[null,null,0,{"$f":"Interroga!M28","v":""},{"$f":"Interroga!L28","v":""},{"$f":"IF((C20+C21+C22)>0,1+F17,\"\")","v":""},null,null,null,null,null,"",""]
[null,null,0,{"$f":"Interroga!M29","v":""},{"$f":"Interroga!L29","v":""},{"$f":"IF((C23+C24+C25)>0,1+F20,\"\")","v":""},null,null,"T.I.R.                N°",{"$f":"IF(F23=\"\",\"\",F23)","v":""},"Carico",{"$f":"D23","v":""},{"$f":"E23","v":""},{"$f":"SUM(M23:M25)","v":0},{"$f":"Q$3-N23","v":200},{"$f":"IF(N23>0,N23/Q$3,\"NC\")","v":"NC"},{"$f":"IF(O23<=L$5,M$5,IF(O23<=L$6,M$6,IF(O23>L$7,M$7)))","v":"NON ACCETTATO"}]
[null,null,0,{"$f":"Interroga!M30","v":""},{"$f":"Interroga!L30","v":""},{"$f":"IF((C23+C24+C25)>0,1+F20,\"\")","v":""},null,null,null,null,null,{"$f":"D24","v":""},{"$f":"E24","v":""}]
[null,null,0,{"$f":"Interroga!M31","v":""},{"$f":"Interroga!L31","v":""},{"$f":"IF((C23+C24+C25)>0,1+F20,\"\")","v":""},null,null,null,null,null,"",""]
[null,null,0,{"$f":"Interroga!M32","v":""},{"$f":"Interroga!L32","v":""},{"$f":"IF((C26+C27+C28)>0,1+F23,\"\")","v":""},null,null,"T.I.R.                N°",{"$f":"IF(F26=\"\",\"\",F26)","v":""},"Carico",{"$f":"D26","v":""},{"$f":"E26","v":""},{"$f":"SUM(M26:M28)","v":0},{"$f":"Q$3-N26","v":200},{"$f":"IF(N26>0,N26/Q$3,\"NC\")","v":"NC"},{"$f":"IF(O26<=L$5,M$5,IF(O26<=L$6,M$6,IF(O26>L$7,M$7)))","v":"NON ACCETTATO"}]
[null,null,0,{"$f":"Interroga!M33","v":""},{"$f":"Interroga!L33","v":""},{"$f":"IF((C26+C27+C28)>0,1+F23,\"\")","v":""},null,null,null,null,null,{"$f":"D27","v":""},{"$f":"E27","v":""}]
[null,null,0,{"$f":"Interroga!M34","v":""},{"$f":"Interroga!L34","v":""},{"$f":"IF((C26+C27+C28)>0,1+F23,\"\")","v":""},null,null,null,null,null,"",""]
[null,null,0,{"$f":"Interroga!M35","v":""},{"$f":"Interroga!L35","v":""},{"$f":"IF((C29+C30+C31)>0,1+F26,\"\")","v":""},null,null,"T.I.R.                N°",{"$f":"IF(F29=\"\",\"\",F29)","v":""},"Carico",{"$f":"D29","v":""},{"$f":"E29","v":""},{"$f":"SUM(M29:M31)","v":0},{"$f":"Q$3-N29","v":200},{"$f":"IF(N29>0,N29/Q$3,\"NC\")","v":"NC"},{"$f":"IF(O29<=L$5,M$5,IF(O29<=L$6,M$6,IF(O29>L$7,M$7)))","v":"NON ACCETTATO"}]
[null,null,0,{"$f":"Interroga!M36","v":""},{"$f":"Interroga!L36","v":""},{"$f":"IF((C29+C30+C31)>0,1+F26,\"\")","v":""},null,null,null,null,null,{"$f":"D30","v":""},{"$f":"E30","v":""}]
[null,null,0,{"$f":"Interroga!M37","v":""},{"$f":"Interroga!L37","v":""},{"$f":"IF((C29+C30+C31)>0,1+F26,\"\")","v":""},null,null,null,null,null,"",""]
[null,null,0,{"$f":"Interroga!M38","v":""},{"$f":"Interroga!L38","v":""},{"$f":"IF((C32+C33+C34)>0,1+F29,\"\")","v":""},null,null,"T.I.R.                N°",{"$f":"IF(F32=\"\",\"\",F32)","v":""},"Carico",{"$f":"D32","v":""},{"$f":"E32","v":""},{"$f":"SUM(M32:M34)","v":0},{"$f":"Q$3-N32","v":200},{"$f":"IF(N32>0,N32/Q$3,\"NC\")","v":"NC"},{"$f":"IF(O32<=L$5,M$5,IF(O32<=L$6,M$6,IF(O32>L$7,M$7)))","v":"NON ACCETTATO"}]
[null,null,0,{"$f":"Interroga!M39","v":""},{"$f":"Interroga!L39","v":""},{"$f":"IF((C32+C33+C34)>0,1+F29,\"\")","v":""},null,null,null,null,null,{"$f":"D33","v":""},{"$f":"E33","v":""}]
[null,null,0,{"$f":"Interroga!M40","v":""},{"$f":"Interroga!L40","v":""},{"$f":"IF((C32+C33+C34)>0,1+F29,\"\")","v":""},null,null,null,null,null,"",""]
[null,null,0,{"$f":"Interroga!M41","v":""},{"$f":"Interroga!L41","v":""},{"$f":"IF((C35+C36+C37)>0,1+F32,\"\")","v":""},null,null,"T.I.R.                N°",{"$f":"IF(F35=\"\",\"\",F35)","v":""},"Carico",{"$f":"D35","v":""},{"$f":"E35","v":""},{"$f":"SUM(M35:M37)","v":0},{"$f":"Q$3-N35","v":200},{"$f":"IF(N35>0,N35/Q$3,\"NC\")","v":"NC"},{"$f":"IF(O35<=L$5,M$5,IF(O35<=L$6,M$6,IF(O35>L$7,M$7)))","v":"NON ACCETTATO"}]
[null,null,0,{"$f":"Interroga!M42","v":""},{"$f":"Interroga!L42","v":""},{"$f":"IF((C35+C36+C37)>0,1+F32,\"\")","v":""},null,null,null,null,null,{"$f":"D36","v":""},{"$f":"E36","v":""}]
[null,null,0,{"$f":"Interroga!M43","v":""},{"$f":"Interroga!L43","v":""},{"$f":"IF((C35+C36+C37)>0,1+F32,\"\")","v":""},null,null,null,null,null,"",""]
[null,null,0,{"$f":"Interroga!M44","v":""},{"$f":"Interroga!L44","v":""},{"$f":"IF((C38+C39+C40)>0,1+F35,\"\")","v":""},null,null,"T.I.R.                N°",{"$f":"IF(F38=\"\",\"\",F38)","v":""},"Carico",{"$f":"D38","v":""},{"$f":"E38","v":""},{"$f":"SUM(M38:M40)","v":0},{"$f":"Q$3-N38","v":200},{"$f":"IF(N38>0,N38/Q$3,\"NC\")","v":"NC"},{"$f":"IF(O38<=L$5,M$5,IF(O38<=L$6,M$6,IF(O38>L$7,M$7)))","v":"NON ACCETTATO"}]
[null,null,0,{"$f":"Interroga!M45","v":""},{"$f":"Interroga!L45","v":""},{"$f":"IF((C38+C39+C40)>0,1+F35,\"\")","v":""},null,null,null,null,null,{"$f":"D39","v":""},{"$f":"E39","v":""}]
[null,null,0,{"$f":"Interroga!M46","v":""},{"$f":"Interroga!L46","v":""},{"$f":"IF((C38+C39+C40)>0,1+F35,\"\")","v":""},null,null,null,null,null,"",""]
[null,null,0,{"$f":"Interroga!R17","v":""},{"$f":"Interroga!Q17","v":""},{"$f":"IF((C41+C42+C43)>0,1+F38,\"\")","v":""},null,null,"T.I.R.                N°",{"$f":"IF(F41=\"\",\"\",F41)","v":""},"Carico",{"$f":"D41","v":""},{"$f":"E41","v":""},{"$f":"SUM(M41:M43)","v":0},{"$f":"Q$3-N41","v":200},{"$f":"IF(N41>0,N41/Q$3,\"NC\")","v":"NC"},{"$f":"IF(O41<=L$5,M$5,IF(O41<=L$6,M$6,IF(O41>L$7,M$7)))","v":"NON ACCETTATO"}]
[null,null,0,{"$f":"Interroga!R18","v":""},{"$f":"Interroga!Q18","v":""},{"$f":"IF((C41+C42+C43)>0,1+F38,\"\")","v":""},null,null,null,null,null,{"$f":"D42","v":""},{"$f":"E42","v":""}]
[null,null,0,{"$f":"Interroga!R19","v":""},{"$f":"Interroga!Q19","v":""},{"$f":"IF((C41+C42+C43)>0,1+F38,\"\")","v":""},null,null,null,null,null,"",""]
[null,null,0,{"$f":"Interroga!R20","v":""},{"$f":"Interroga!Q20","v":""},{"$f":"IF((C44+C45+C46)>0,1+F41,\"\")","v":""},null,null,"T.I.R.                N°",{"$f":"IF(F44=\"\",\"\",F44)","v":""},"Carico",{"$f":"D44","v":""},{"$f":"E44","v":""},{"$f":"SUM(M44:M46)","v":0},{"$f":"Q$3-N44","v":200},{"$f":"IF(N44>0,N44/Q$3,\"NC\")","v":"NC"},{"$f":"IF(O44<=L$5,M$5,IF(O44<=L$6,M$6,IF(O44>L$7,M$7)))","v":"NON ACCETTATO"}]
[null,null,0,{"$f":"Interroga!R21","v":""},{"$f":"Interroga!Q21","v":""},{"$f":"IF((C44+C45+C46)>0,1+F41,\"\")","v":""},null,null,null,null,null,{"$f":"D45","v":""},{"$f":"E45","v":""}]
[null,null,0,{"$f":"Interroga!R22","v":""},{"$f":"Interroga!Q22","v":""},{"$f":"IF((C44+C45+C46)>0,1+F41,\"\")","v":""},null,null,null,null,null,"",""]
[null,null,0,{"$f":"Interroga!R23","v":""},{"$f":"Interroga!Q23","v":""},{"$f":"IF((C47+C48+C49)>0,1+F44,\"\")","v":""},null,null,"T.I.R.                N°",{"$f":"IF(F47=\"\",\"\",F47)","v":""},"Carico",{"$f":"D47","v":""},{"$f":"E47","v":""},{"$f":"SUM(M47:M49)","v":0},{"$f":"Q$3-N47","v":200},{"$f":"IF(N47>0,N47/Q$3,\"NC\")","v":"NC"},{"$f":"IF(O47<=L$5,M$5,IF(O47<=L$6,M$6,IF(O47>L$7,M$7)))","v":"NON ACCETTATO"}]
[null,null,0,{"$f":"Interroga!R24","v":""},{"$f":"Interroga!Q24","v":""},{"$f":"IF((C47+C48+C49)>0,1+F44,\"\")","v":""},null,null,null,null,null,{"$f":"D48","v":""},{"$f":"E48","v":""}]
[null,null,0,{"$f":"Interroga!R25","v":""},{"$f":"Interroga!Q25","v":""},{"$f":"IF((C47+C48+C49)>0,1+F44,\"\")","v":""},null,null,null,null,null,"",""]
[null,null,0,{"$f":"Interroga!R26","v":""},{"$f":"Interroga!Q26","v":""},{"$f":"IF((C50+C51+C52)>0,1+F47,\"\")","v":""},null,null,"T.I.R.                N°",{"$f":"IF(F50=\"\",\"\",F50)","v":""},"Carico",{"$f":"D50","v":""},{"$f":"E50","v":""},{"$f":"SUM(M50:M52)","v":0},{"$f":"Q$3-N50","v":200},{"$f":"IF(N50>0,N50/Q$3,\"NC\")","v":"NC"},{"$f":"IF(O50<=L$5,M$5,IF(O50<=L$6,M$6,IF(O50>L$7,M$7)))","v":"NON ACCETTATO"}]
[null,null,0,{"$f":"Interroga!R27","v":""},{"$f":"Interroga!Q27","v":""},{"$f":"IF((C50+C51+C52)>0,1+F47,\"\")","v":""},null,null,null,null,null,{"$f":"D51","v":""},{"$f":"E51","v":""}]
[null,null,0,{"$f":"Interroga!R28","v":""},{"$f":"Interroga!Q28","v":""},{"$f":"IF((C50+C51+C52)>0,1+F47,\"\")","v":""},null,null,null,null,null,"",""]
[null,null,0,{"$f":"Interroga!R29","v":""},{"$f":"Interroga!Q29","v":""},{"$f":"IF((C53+C54+C55)>0,1+F50,\"\")","v":""},null,null,"T.I.R.                N°",{"$f":"IF(F53=\"\",\"\",F53)","v":""},"Carico",{"$f":"D53","v":""},{"$f":"E53","v":""},{"$f":"SUM(M53:M55)","v":0},{"$f":"Q$3-N53","v":200},{"$f":"IF(N53>0,N53/Q$3,\"NC\")","v":"NC"},{"$f":"IF(O53<=L$5,M$5,IF(O53<=L$6,M$6,IF(O53>L$7,M$7)))","v":"NON ACCETTATO"}]
[null,null,0,{"$f":"Interroga!R30","v":""},{"$f":"Interroga!Q30","v":""},{"$f":"IF((C53+C54+C55)>0,1+F50,\"\")","v":""},null,null,null,null,null,{"$f":"D54","v":""},{"$f":"E54","v":""}]
[null,null,0,{"$f":"Interroga!R31","v":""},{"$f":"Interroga!Q31","v":""},{"$f":"IF((C53+C54+C55)>0,1+F50,\"\")","v":""},null,null,null,null,null,"",""]
[null,null,0,{"$f":"Interroga!R32","v":""},{"$f":"Interroga!Q32","v":""},{"$f":"IF((C56+C57+C58)>0,1+F53,\"\")","v":""},null,null,"T.I.R.                N°",{"$f":"IF(F56=\"\",\"\",F56)","v":""},"Carico",{"$f":"D56","v":""},{"$f":"E56","v":""},{"$f":"SUM(M56:M58)","v":0},{"$f":"Q$3-N56","v":200},{"$f":"IF(N56>0,N56/Q$3,\"NC\")","v":"NC"},{"$f":"IF(O56<=L$5,M$5,IF(O56<=L$6,M$6,IF(O56>L$7,M$7)))","v":"NON ACCETTATO"}]
[null,null,0,{"$f":"Interroga!R33","v":""},{"$f":"Interroga!Q33","v":""},{"$f":"IF((C56+C57+C58)>0,1+F53,\"\")","v":""},null,null,null,null,null,{"$f":"D57","v":""},{"$f":"E57","v":""}]
[null,null,0,{"$f":"Interroga!R34","v":""},{"$f":"Interroga!Q34","v":""},{"$f":"IF((C56+C57+C58)>0,1+F53,\"\")","v":""},null,null,null,null,null,"",""]
[null,null,0,{"$f":"Interroga!R35","v":""},{"$f":"Interroga!Q35","v":""},{"$f":"IF((C59+C60+C61)>0,1+F56,\"\")","v":""},null,null,"T.I.R.                N°",{"$f":"IF(F59=\"\",\"\",F59)","v":""},"Carico",{"$f":"D59","v":""},{"$f":"E59","v":""},{"$f":"SUM(M59:M61)","v":0},{"$f":"Q$3-N59","v":200},{"$f":"IF(N59>0,N59/Q$3,\"NC\")","v":"NC"},{"$f":"IF(O59<=L$5,M$5,IF(O59<=L$6,M$6,IF(O59>L$7,M$7)))","v":"NON ACCETTATO"}]
[null,null,0,{"$f":"Interroga!R36","v":""},{"$f":"Interroga!Q36","v":""},{"$f":"IF((C59+C60+C61)>0,1+F56,\"\")","v":""},null,null,null,null,null,{"$f":"D60","v":""},{"$f":"E60","v":""}]
[null,null,0,{"$f":"Interroga!R37","v":""},{"$f":"Interroga!Q37","v":""},{"$f":"IF((C59+C60+C61)>0,1+F56,\"\")","v":""},null,null,null,null,null,"",""]
[null,null,0,{"$f":"Interroga!R38","v":""},{"$f":"Interroga!Q38","v":""},{"$f":"IF((C62+C63+C64)>0,1+F59,\"\")","v":""},null,null,"T.I.R.                N°",{"$f":"IF(F62=\"\",\"\",F62)","v":""},"Carico",{"$f":"D62","v":""},{"$f":"E62","v":""},{"$f":"SUM(M62:M64)","v":0},{"$f":"Q$3-N62","v":200},{"$f":"IF(N62>0,N62/Q$3,\"NC\")","v":"NC"},{"$f":"IF(O62<=L$5,M$5,IF(O62<=L$6,M$6,IF(O62>L$7,M$7)))","v":"NON ACCETTATO"}]
[null,null,0,{"$f":"Interroga!R39","v":""},{"$f":"Interroga!Q39","v":""},{"$f":"IF((C62+C63+C64)>0,1+F59,\"\")","v":""},null,null,null,null,null,{"$f":"D63","v":""},{"$f":"E63","v":""}]
[null,null,0,{"$f":"Interroga!R40","v":""},{"$f":"Interroga!Q40","v":""},{"$f":"IF((C62+C63+C64)>0,1+F59,\"\")","v":""},null,null,null,null,null,"",""]
[null,null,0,{"$f":"Interroga!R41","v":""},{"$f":"Interroga!Q41","v":""},{"$f":"IF((C65+C66+C67)>0,1+F62,\"\")","v":""},null,null,"T.I.R.                N°",{"$f":"IF(F65=\"\",\"\",F65)","v":""},"Carico",{"$f":"D65","v":""},{"$f":"E65","v":""},{"$f":"SUM(M65:M67)","v":0},{"$f":"Q$3-N65","v":200},{"$f":"IF(N65>0,N65/Q$3,\"NC\")","v":"NC"},{"$f":"IF(O65<=L$5,M$5,IF(O65<=L$6,M$6,IF(O65>L$7,M$7)))","v":"NON ACCETTATO"}]
[null,null,0,{"$f":"Interroga!R42","v":""},{"$f":"Interroga!Q42","v":""},{"$f":"IF((C65+C66+C67)>0,1+F62,\"\")","v":""},null,null,null,null,null,{"$f":"D66","v":""},{"$f":"E66","v":""}]
[null,null,0,{"$f":"Interroga!R43","v":""},{"$f":"Interroga!Q43","v":""},{"$f":"IF((C65+C66+C67)>0,1+F62,\"\")","v":""},null,null,null,null,null,"",""]
[null,null,0,{"$f":"Interroga!R44","v":""},{"$f":"Interroga!Q44","v":""},{"$f":"IF((C68+C69+C70)>0,1+F65,\"\")","v":""},null,null,"T.I.R.                N°",{"$f":"IF(F68=\"\",\"\",F68)","v":""},"Carico",{"$f":"D68","v":""},{"$f":"E68","v":""},{"$f":"SUM(M68:M70)","v":0},{"$f":"Q$3-N68","v":200},{"$f":"IF(N68>0,N68/Q$3,\"NC\")","v":"NC"},{"$f":"IF(O68<=L$5,M$5,IF(O68<=L$6,M$6,IF(O68>L$7,M$7)))","v":"NON ACCETTATO"}]
[null,null,0,{"$f":"Interroga!R45","v":""},{"$f":"Interroga!Q45","v":""},{"$f":"IF((C68+C69+C70)>0,1+F65,\"\")","v":""},null,null,null,null,null,{"$f":"D69","v":""},{"$f":"E69","v":""}]
[null,null,0,{"$f":"Interroga!R46","v":""},{"$f":"Interroga!Q46","v":""},{"$f":"IF((C68+C69+C70)>0,1+F65,\"\")","v":""},null,null,null,null,null,"",""]
[null,null,0,{"$f":"Interroga!W17","v":""},{"$f":"Interroga!V17","v":""},{"$f":"IF((C71+C72+C73)>0,1+F68,\"\")","v":""},null,null,"T.I.R.                N°",{"$f":"IF(F71=\"\",\"\",F71)","v":""},"Carico",{"$f":"D71","v":""},{"$f":"E71","v":""},{"$f":"SUM(M71:M73)","v":0},{"$f":"Q$3-N71","v":200},{"$f":"IF(N71>0,N71/Q$3,\"NC\")","v":"NC"},{"$f":"IF(O71<=L$5,M$5,IF(O71<=L$6,M$6,IF(O71>L$7,M$7)))","v":"NON ACCETTATO"}]
[null,null,0,{"$f":"Interroga!W18","v":""},{"$f":"Interroga!V18","v":""},{"$f":"IF((C71+C72+C73)>0,1+F68,\"\")","v":""},null,null,null,null,null,{"$f":"D72","v":""},{"$f":"E72","v":""}]
[null,null,0,{"$f":"Interroga!W19","v":""},{"$f":"Interroga!V19","v":""},{"$f":"IF((C71+C72+C73)>0,1+F68,\"\")","v":""},null,null,null,null,null,"",""]
[null,null,0,{"$f":"Interroga!W20","v":""},{"$f":"Interroga!V20","v":""},{"$f":"IF((C74+C75+C76)>0,1+F71,\"\")","v":""},null,null,"T.I.R.                N°",{"$f":"IF(F74=\"\",\"\",F74)","v":""},"Carico",{"$f":"D74","v":""},{"$f":"E74","v":""},{"$f":"SUM(M74:M76)","v":0},{"$f":"Q$3-N74","v":200},{"$f":"IF(N74>0,N74/Q$3,\"NC\")","v":"NC"},{"$f":"IF(O74<=L$5,M$5,IF(O74<=L$6,M$6,IF(O74>L$7,M$7)))","v":"NON ACCETTATO"}]
[null,null,0,{"$f":"Interroga!W21","v":""},{"$f":"Interroga!V21","v":""},{"$f":"IF((C74+C75+C76)>0,1+F71,\"\")","v":""},null,null,null,null,null,{"$f":"D75","v":""},{"$f":"E75","v":""}]
[null,null,{"$f":"IF(D76=\"\",0,1)","v":0},{"$f":"Interroga!W22","v":""},{"$f":"Interroga!V22","v":""},{"$f":"IF((C74+C75+C76)>0,1+F71,\"\")","v":""},null,null,null,null,null,"",""]
[null,null,0,{"$f":"Interroga!W23","v":""},{"$f":"Interroga!V23","v":""},{"$f":"IF((C77+C78+C79)>0,1+F74,\"\")","v":""},null,null,"T.I.R.                N°",{"$f":"IF(F77=\"\",\"\",F77)","v":""},"Carico",{"$f":"D77","v":""},{"$f":"E77","v":""},{"$f":"SUM(M77:M79)","v":0},{"$f":"Q$3-N77","v":200},{"$f":"IF(N77>0,N77/Q$3,\"NC\")","v":"NC"},{"$f":"IF(O77<=L$5,M$5,IF(O77<=L$6,M$6,IF(O77>L$7,M$7)))","v":"NON ACCETTATO"}]
[null,null,0,{"$f":"Interroga!W24","v":""},{"$f":"Interroga!V24","v":""},{"$f":"IF((C77+C78+C79)>0,1+F74,\"\")","v":""},null,null,null,null,null,{"$f":"D78","v":""},{"$f":"E78","v":""}]
[null,null,0,{"$f":"Interroga!W25","v":""},{"$f":"Interroga!V25","v":""},{"$f":"IF((C77+C78+C79)>0,1+F74,\"\")","v":""},null,null,null,null,null,"",""]
[null,null,0,{"$f":"Interroga!W26","v":""},{"$f":"Interroga!V26","v":""},{"$f":"IF((C80+C81+C82)>0,1+F77,\"\")","v":""},null,null,"T.I.R.                N°",{"$f":"IF(F80=\"\",\"\",F80)","v":""},"Carico",{"$f":"D80","v":""},{"$f":"E80","v":""},{"$f":"SUM(M80:M82)","v":0},{"$f":"Q$3-N80","v":200},{"$f":"IF(N80>0,N80/Q$3,\"NC\")","v":"NC"},{"$f":"IF(O80<=L$5,M$5,IF(O80<=L$6,M$6,IF(O80>L$7,M$7)))","v":"NON ACCETTATO"}]
[null,null,0,{"$f":"Interroga!W27","v":""},{"$f":"Interroga!V27","v":""},{"$f":"IF((C80+C81+C82)>0,1+F77,\"\")","v":""},null,null,null,null,null,{"$f":"D81","v":""},{"$f":"E81","v":""}]
[null,null,0,{"$f":"Interroga!W28","v":""},{"$f":"Interroga!V28","v":""},{"$f":"IF((C80+C81+C82)>0,1+F77,\"\")","v":""},null,null,null,null,null,"",""]
[null,null,0,{"$f":"Interroga!W29","v":""},{"$f":"Interroga!V29","v":""},{"$f":"IF((C83+C84+C85)>0,1+F80,\"\")","v":""},null,null,"T.I.R.                N°",{"$f":"IF(F83=\"\",\"\",F83)","v":""},"Carico",{"$f":"D83","v":""},{"$f":"E83","v":""},{"$f":"SUM(M83:M85)","v":0},{"$f":"Q$3-N83","v":200},{"$f":"IF(N83>0,N83/Q$3,\"NC\")","v":"NC"},{"$f":"IF(O83<=L$5,M$5,IF(O83<=L$6,M$6,IF(O83>L$7,M$7)))","v":"NON ACCETTATO"}]
[null,null,0,{"$f":"Interroga!W30","v":""},{"$f":"Interroga!V30","v":""},{"$f":"IF((C83+C84+C85)>0,1+F80,\"\")","v":""},null,null,null,null,null,{"$f":"D84","v":""},{"$f":"E84","v":""}]
[null,null,0,{"$f":"Interroga!W31","v":""},{"$f":"Interroga!V31","v":""},{"$f":"IF((C83+C84+C85)>0,1+F80,\"\")","v":""},null,null,null,null,null,"",""]
[null,null,0,{"$f":"Interroga!W32","v":""},{"$f":"Interroga!V32","v":""},{"$f":"IF((C86+C87+C88)>0,1+F83,\"\")","v":""},null,null,"T.I.R.                N°",{"$f":"IF(F86=\"\",\"\",F86)","v":""},"Carico",{"$f":"D86","v":""},{"$f":"E86","v":""},{"$f":"SUM(M86:M88)","v":0},{"$f":"Q$3-N86","v":200},{"$f":"IF(N86>0,N86/Q$3,\"NC\")","v":"NC"},{"$f":"IF(O86<=L$5,M$5,IF(O86<=L$6,M$6,IF(O86>L$7,M$7)))","v":"NON ACCETTATO"}]
[null,null,0,{"$f":"Interroga!W33","v":""},{"$f":"Interroga!V33","v":""},{"$f":"IF((C86+C87+C88)>0,1+F83,\"\")","v":""},null,null,null,null,null,{"$f":"D87","v":""},{"$f":"E87","v":""}]
[null,null,0,{"$f":"Interroga!W34","v":""},{"$f":"Interroga!V34","v":""},{"$f":"IF((C86+C87+C88)>0,1+F83,\"\")","v":""},null,null,null,null,null,"",""]
[null,null,0,{"$f":"Interroga!W35","v":""},{"$f":"Interroga!V35","v":""},{"$f":"IF((C89+C90+C91)>0,1+F86,\"\")","v":""},null,null,"T.I.R.                N°",{"$f":"IF(F89=\"\",\"\",F89)","v":""},"Carico",{"$f":"D89","v":""},{"$f":"E89","v":""},{"$f":"SUM(M89:M91)","v":0},{"$f":"Q$3-N89","v":200},{"$f":"IF(N89>0,N89/Q$3,\"NC\")","v":"NC"},{"$f":"IF(O89<=L$5,M$5,IF(O89<=L$6,M$6,IF(O89>L$7,M$7)))","v":"NON ACCETTATO"}]
[null,null,0,{"$f":"Interroga!W36","v":""},{"$f":"Interroga!V36","v":""},{"$f":"IF((C89+C90+C91)>0,1+F86,\"\")","v":""},null,null,null,null,null,{"$f":"D90","v":""},{"$f":"E90","v":""}]
[null,null,0,{"$f":"Interroga!W37","v":""},{"$f":"Interroga!V37","v":""},{"$f":"IF((C89+C90+C91)>0,1+F86,\"\")","v":""},null,null,null,null,null,"",""]
[null,null,0,{"$f":"Interroga!W38","v":""},{"$f":"Interroga!V38","v":""},{"$f":"IF((C92+C93+C94)>0,1+F89,\"\")","v":""},null,null,"T.I.R.                N°",{"$f":"IF(F92=\"\",\"\",F92)","v":""},"Carico",{"$f":"D92","v":""},{"$f":"E92","v":""},{"$f":"SUM(M92:M94)","v":0},{"$f":"Q$3-N92","v":200},{"$f":"IF(N92>0,N92/Q$3,\"NC\")","v":"NC"},{"$f":"IF(O92<=L$5,M$5,IF(O92<=L$6,M$6,IF(O92>L$7,M$7)))","v":"NON ACCETTATO"}]
[null,null,0,{"$f":"Interroga!W39","v":""},{"$f":"Interroga!V39","v":""},{"$f":"IF((C92+C93+C94)>0,1+F89,\"\")","v":""},null,null,null,null,null,{"$f":"D93","v":""},{"$f":"E93","v":""}]
[null,null,0,{"$f":"Interroga!W40","v":""},{"$f":"Interroga!V40","v":""},{"$f":"IF((C92+C93+C94)>0,1+F89,\"\")","v":""},null,null,null,null,null,"",""]
[null,null,0,{"$f":"Interroga!W41","v":""},{"$f":"Interroga!V41","v":""},{"$f":"IF((C95+C96+C97)>0,1+F92,\"\")","v":""},null,null,"T.I.R.                N°",{"$f":"IF(F95=\"\",\"\",F95)","v":""},"Carico",{"$f":"D95","v":""},{"$f":"E95","v":""},{"$f":"SUM(M95:M97)","v":0},{"$f":"Q$3-N95","v":200},{"$f":"IF(N95>0,N95/Q$3,\"NC\")","v":"NC"},{"$f":"IF(O95<=L$5,M$5,IF(O95<=L$6,M$6,IF(O95>L$7,M$7)))","v":"NON ACCETTATO"}]
[null,null,0,{"$f":"Interroga!W42","v":""},{"$f":"Interroga!V42","v":""},{"$f":"IF((C95+C96+C97)>0,1+F92,\"\")","v":""},null,null,null,null,null,{"$f":"D96","v":""},{"$f":"E96","v":""}]
[null,null,0,{"$f":"Interroga!W43","v":""},{"$f":"Interroga!V43","v":""},{"$f":"IF((C95+C96+C97)>0,1+F92,\"\")","v":""},null,null,null,null,null,"",""]
[null,null,0,{"$f":"Interroga!W44","v":""},{"$f":"Interroga!V44","v":""},{"$f":"IF((C98+C99+C100)>0,1+F95,\"\")","v":""},null,null,"T.I.R.                N°",{"$f":"IF(F98=\"\",\"\",F98)","v":""},"Carico",{"$f":"D98","v":""},{"$f":"E98","v":""},{"$f":"SUM(M98:M100)","v":0},{"$f":"Q$3-N98","v":200},{"$f":"IF(N98>0,N98/Q$3,\"NC\")","v":"NC"},{"$f":"IF(O98<=L$5,M$5,IF(O98<=L$6,M$6,IF(O98>L$7,M$7)))","v":"NON ACCETTATO"}]
[null,null,0,{"$f":"Interroga!W45","v":""},{"$f":"Interroga!V45","v":""},{"$f":"IF((C98+C99+C100)>0,1+F95,\"\")","v":""},null,null,null,null,null,{"$f":"D99","v":""},{"$f":"E99","v":""}]
[null,null,0,{"$f":"Interroga!W46","v":""},{"$f":"Interroga!V46","v":""},{"$f":"IF((C98+C99+C100)>0,1+F95,\"\")","v":""},null,null,null,null,null,"",""]
[null,null,0,{"$f":"Interroga!AB17","v":""},{"$f":"Interroga!AA17","v":""},{"$f":"IF((C101+C102+C103)>0,1+F98,\"\")","v":""},null,null,"T.I.R.                N°",{"$f":"IF(F101=\"\",\"\",F101)","v":""},"Carico",{"$f":"D101","v":""},{"$f":"E101","v":""},{"$f":"SUM(M101:M103)","v":0},{"$f":"Q$3-N101","v":200},{"$f":"IF(N101>0,N101/Q$3,\"NC\")","v":"NC"},{"$f":"IF(O101<=L$5,M$5,IF(O101<=L$6,M$6,IF(O101>L$7,M$7)))","v":"NON ACCETTATO"}]
[null,null,0,{"$f":"Interroga!AB18","v":""},{"$f":"Interroga!AA18","v":""},{"$f":"IF((C101+C102+C103)>0,1+F98,\"\")","v":""},null,null,null,null,null,{"$f":"D102","v":""},{"$f":"E102","v":""}]
[null,null,0,{"$f":"Interroga!AB19","v":""},{"$f":"Interroga!AA19","v":""},{"$f":"IF((C101+C102+C103)>0,1+F98,\"\")","v":""},null,null,null,null,null,"",""]
[null,null,0,{"$f":"Interroga!AB20","v":""},{"$f":"Interroga!AA20","v":""},{"$f":"IF((C104+C105+C106)>0,1+F101,\"\")","v":""},null,null,"T.I.R.                N°",{"$f":"IF(F104=\"\",\"\",F104)","v":""},"Carico",{"$f":"D104","v":""},{"$f":"E104","v":""},{"$f":"SUM(M104:M106)","v":0},{"$f":"Q$3-N104","v":200},{"$f":"IF(N104>0,N104/Q$3,\"NC\")","v":"NC"},{"$f":"IF(O104<=L$5,M$5,IF(O104<=L$6,M$6,IF(O104>L$7,M$7)))","v":"NON ACCETTATO"}]
[null,null,0,{"$f":"Interroga!AB21","v":""},{"$f":"Interroga!AA21","v":""},{"$f":"IF((C104+C105+C106)>0,1+F101,\"\")","v":""},null,null,null,null,null,{"$f":"D105","v":""},{"$f":"E105","v":""}]
[null,null,0,{"$f":"Interroga!AB22","v":""},{"$f":"Interroga!AA22","v":""},{"$f":"IF((C104+C105+C106)>0,1+F101,\"\")","v":""},null,null,null,null,null,"",""]
[null,null,0,{"$f":"Interroga!AB23","v":""},{"$f":"Interroga!AA23","v":""},{"$f":"IF((C107+C108+C109)>0,1+F104,\"\")","v":""},null,null,"T.I.R.                N°",{"$f":"IF(F107=\"\",\"\",F107)","v":""},"Carico",{"$f":"D107","v":""},{"$f":"E107","v":""},{"$f":"SUM(M107:M109)","v":0},{"$f":"Q$3-N107","v":200},{"$f":"IF(N107>0,N107/Q$3,\"NC\")","v":"NC"},{"$f":"IF(O107<=L$5,M$5,IF(O107<=L$6,M$6,IF(O107>L$7,M$7)))","v":"NON ACCETTATO"}]
[null,null,0,{"$f":"Interroga!AB24","v":""},{"$f":"Interroga!AA24","v":""},{"$f":"IF((C107+C108+C109)>0,1+F104,\"\")","v":""},null,null,null,null,null,{"$f":"D108","v":""},{"$f":"E108","v":""}]
[null,null,0,{"$f":"Interroga!AB25","v":""},{"$f":"Interroga!AA25","v":""},{"$f":"IF((C107+C108+C109)>0,1+F104,\"\")","v":""},null,null,null,null,null,"",""]
[null,null,0,{"$f":"Interroga!AB26","v":""},{"$f":"Interroga!AA26","v":""},{"$f":"IF((C110+C111+C112)>0,1+F107,\"\")","v":""},null,null,"T.I.R.                N°",{"$f":"IF(F110=\"\",\"\",F110)","v":""},"Carico",{"$f":"D110","v":""},{"$f":"E110","v":""},{"$f":"SUM(M110:M112)","v":0},{"$f":"Q$3-N110","v":200},{"$f":"IF(N110>0,N110/Q$3,\"NC\")","v":"NC"},{"$f":"IF(O110<=L$5,M$5,IF(O110<=L$6,M$6,IF(O110>L$7,M$7)))","v":"NON ACCETTATO"}]
[null,null,0,{"$f":"Interroga!AB27","v":""},{"$f":"Interroga!AA27","v":""},{"$f":"IF((C110+C111+C112)>0,1+F107,\"\")","v":""},null,null,null,null,null,{"$f":"D111","v":""},{"$f":"E111","v":""}]
[null,null,0,{"$f":"Interroga!AB28","v":""},{"$f":"Interroga!AA28","v":""},{"$f":"IF((C110+C111+C112)>0,1+F107,\"\")","v":""},null,null,null,null,null,"",""]
[null,null,0,{"$f":"Interroga!AB29","v":""},{"$f":"Interroga!AA29","v":""},{"$f":"IF((C113+C114+C115)>0,1+F110,\"\")","v":""},null,null,"T.I.R.                N°",{"$f":"IF(F113=\"\",\"\",F113)","v":""},"Carico",{"$f":"D113","v":""},{"$f":"E113","v":""},{"$f":"SUM(M113:M115)","v":0},{"$f":"Q$3-N113","v":200},{"$f":"IF(N113>0,N113/Q$3,\"NC\")","v":"NC"},{"$f":"IF(O113<=L$5,M$5,IF(O113<=L$6,M$6,IF(O113>L$7,M$7)))","v":"NON ACCETTATO"}]
[null,null,0,{"$f":"Interroga!AB30","v":""},{"$f":"Interroga!AA30","v":""},{"$f":"IF((C113+C114+C115)>0,1+F110,\"\")","v":""},null,null,null,null,null,{"$f":"D114","v":""},{"$f":"E114","v":""}]
[null,null,0,{"$f":"Interroga!AB31","v":""},{"$f":"Interroga!AA31","v":""},{"$f":"IF((C113+C114+C115)>0,1+F110,\"\")","v":""},null,null,null,null,null,"",""]
[null,null,0,{"$f":"Interroga!AB32","v":""},{"$f":"Interroga!AA32","v":""},{"$f":"IF((C116+C117+C118)>0,1+F113,\"\")","v":""},null,null,"T.I.R.                N°",{"$f":"IF(F116=\"\",\"\",F116)","v":""},"Carico",{"$f":"D116","v":""},{"$f":"E116","v":""},{"$f":"SUM(M116:M118)","v":0},{"$f":"Q$3-N116","v":200},{"$f":"IF(N116>0,N116/Q$3,\"NC\")","v":"NC"},{"$f":"IF(O116<=L$5,M$5,IF(O116<=L$6,M$6,IF(O116>L$7,M$7)))","v":"NON ACCETTATO"}]
[null,null,0,{"$f":"Interroga!AB33","v":""},{"$f":"Interroga!AA33","v":""},{"$f":"IF((C116+C117+C118)>0,1+F113,\"\")","v":""},null,null,null,null,null,{"$f":"D117","v":""},{"$f":"E117","v":""}]
[null,null,0,{"$f":"Interroga!AB34","v":""},{"$f":"Interroga!AA34","v":""},{"$f":"IF((C116+C117+C118)>0,1+F113,\"\")","v":""},null,null,null,null,null,"",""]
[null,null,0,{"$f":"Interroga!AB35","v":""},{"$f":"Interroga!AA35","v":""},{"$f":"IF((C119+C120+C121)>0,1+F116,\"\")","v":""},null,null,"T.I.R.                N°",{"$f":"IF(F119=\"\",\"\",F119)","v":""},"Carico",{"$f":"D119","v":""},{"$f":"E119","v":""},{"$f":"SUM(M119:M121)","v":0},{"$f":"Q$3-N119","v":200},{"$f":"IF(N119>0,N119/Q$3,\"NC\")","v":"NC"},{"$f":"IF(O119<=L$5,M$5,IF(O119<=L$6,M$6,IF(O119>L$7,M$7)))","v":"NON ACCETTATO"}]
[null,null,0,{"$f":"Interroga!AB36","v":""},{"$f":"Interroga!AA36","v":""},{"$f":"IF((C119+C120+C121)>0,1+F116,\"\")","v":""},null,null,null,null,null,{"$f":"D120","v":""},{"$f":"E120","v":""}]
[null,null,0,{"$f":"Interroga!AB37","v":""},{"$f":"Interroga!AA37","v":""},{"$f":"IF((C119+C120+C121)>0,1+F116,\"\")","v":""},null,null,null,null,null,"",""]
[null,null,0,{"$f":"Interroga!AB38","v":""},{"$f":"Interroga!AA38","v":""},{"$f":"IF((C122+C123+C124)>0,1+F119,\"\")","v":""},null,null,"T.I.R.                N°",{"$f":"IF(F122=\"\",\"\",F122)","v":""},"Carico",{"$f":"D122","v":""},{"$f":"E122","v":""},{"$f":"SUM(M122:M124)","v":0},{"$f":"Q$3-N122","v":200},{"$f":"IF(N122>0,N122/Q$3,\"NC\")","v":"NC"},{"$f":"IF(O122<=L$5,M$5,IF(O122<=L$6,M$6,IF(O122>L$7,M$7)))","v":"NON ACCETTATO"}]
[null,null,0,{"$f":"Interroga!AB39","v":""},{"$f":"Interroga!AA39","v":""},{"$f":"IF((C122+C123+C124)>0,1+F119,\"\")","v":""},null,null,null,null,null,{"$f":"D123","v":""},{"$f":"E123","v":""}]
[null,null,0,{"$f":"Interroga!AB40","v":""},{"$f":"Interroga!AA40","v":""},{"$f":"IF((C122+C123+C124)>0,1+F119,\"\")","v":""},null,null,null,null,null,"",""]
[null,null,0,{"$f":"Interroga!AB41","v":""},{"$f":"Interroga!AA41","v":""},{"$f":"IF((C125+C126+C127)>0,1+F122,\"\")","v":""},null,null,"T.I.R.                N°",{"$f":"IF(F125=\"\",\"\",F125)","v":""},"Carico",{"$f":"D125","v":""},{"$f":"E125","v":""},{"$f":"SUM(M125:M127)","v":0},{"$f":"Q$3-N125","v":200},{"$f":"IF(N125>0,N125/Q$3,\"NC\")","v":"NC"},{"$f":"IF(O125<=L$5,M$5,IF(O125<=L$6,M$6,IF(O125>L$7,M$7)))","v":"NON ACCETTATO"}]
[null,null,0,{"$f":"Interroga!AB42","v":""},{"$f":"Interroga!AA42","v":""},{"$f":"IF((C125+C126+C127)>0,1+F122,\"\")","v":""},null,null,null,null,null,{"$f":"D126","v":""},{"$f":"E126","v":""}]
[null,null,0,{"$f":"Interroga!AB43","v":""},{"$f":"Interroga!AA43","v":""},{"$f":"IF((C125+C126+C127)>0,1+F122,\"\")","v":""},null,null,null,null,null,"",""]
[null,null,0,{"$f":"Interroga!AB44","v":""},{"$f":"Interroga!AA44","v":""},{"$f":"IF((C128+C129+C130)>0,1+F125,\"\")","v":""},null,null,"T.I.R.                N°",{"$f":"IF(F128=\"\",\"\",F128)","v":""},"Carico",{"$f":"D128","v":""},{"$f":"E128","v":""},{"$f":"SUM(M128:M130)","v":0},{"$f":"Q$3-N128","v":200},{"$f":"IF(N128>0,N128/Q$3,\"NC\")","v":"NC"},{"$f":"IF(O128<=L$5,M$5,IF(O128<=L$6,M$6,IF(O128>L$7,M$7)))","v":"NON ACCETTATO"}]
[null,null,0,{"$f":"Interroga!AB45","v":""},{"$f":"Interroga!AA45","v":""},{"$f":"IF((C128+C129+C130)>0,1+F125,\"\")","v":""},null,null,null,null,null,{"$f":"D129","v":""},{"$f":"E129","v":""}]
[null,null,0,{"$f":"Interroga!AB46","v":""},{"$f":"Interroga!AA46","v":""},{"$f":"IF((C128+C129+C130)>0,1+F125,\"\")","v":""},null,null,null,null,null,"",""]